Workbook
Name Hedging_Positions_through_Futures_AS_ON_MMMM_DD__YYYY___NIL: #REF!
Name Hedging_Positions_through_Futures_AS_ON_MMMM_DD__YYYY___NIL: #REF!
Name JPM_Footer_disp: #REF!
Name JPM_Footer_disp: #REF!
Name JPM_Footer_disp12: #REF!
Name JPM_Footer_disp12: #REF!

Sheet Scheme master
A1: DB code | B1: System concatenate | C1: RTA concatenate | D1: AMFI code | E1: ISIN | F1: Scheme code | G1: Scheme name | H1: Scheme type | I1: Plan code | J1: Plan name | K1: Plan type | L1: RTA scheme | M1: RTA scheme 1 | N1: RTA plan | O1: RTA plan 1 | P1: Scheme category (for uploadable) | Q1: Face value | R1: Status | S1: Allotment date | T1: Maturity date | U1: AMFI name | V1: Covered in HY port | W1: Covered in HY financials | X1: Covered in annual financials | Y1: Cluster | Z1: MPC plan code | AA1: MPC plan name | AB1: Remark
A2: NA | B2: =F2&I2 -> NANA | C2: =O2 -> NA | D2: 115203 | F2: NA | G2: LIC MF Index Fund | H2: Index | I2: NA | J2: NA | K2: NA | L2: NA | M2: NA | N2: NA | O2: NA | P2: Open Ended Equity Fund | Q2: 10 | R2: Not in use | S2: 37574 | U2: LIC NOMURA MF Index Fund | V2: No | W2: No | X2: No | Y2: NA | Z2: NA | AA2: NA | AB2: Ignore, not in SCB
A3: NA | B3: =F3&I3 -> LEGOLDG | C3: =O3 -> 193GP | D3: 151961 | E3: INF397L01554 | F3: LEGOLD | G3: LIC MF Gold Exchange Traded Fund | H3: Gold ETF | I3: G | J3: Growth Option | K3: Regular | L3: GE | M3: 193 | N3: GEGP | O3: 193GP | P3: Open Ended Gold ETF | Q3: 100 | R3: Live | S3: 40835 | U3: LIC MF Gold Exchange Traded Fund | V3: Yes | W3: Yes | X3: Yes | Y3: Cluster 6 | Z3: G | AA3: Growth Option | AB3: Erstwhile IDBI Gold ETF Fund
A4: NA | B4: =F4&I4 -> LEGOLDNA | C4: =O4 -> 193G1 | D4: 151962 | F4: LEGOLD | G4: LIC MF Gold Exchange Traded Fund | H4: Gold ETF | I4: NA | J4: NA | K4: Direct | L4: GE | M4: 193 | N4: GEG1 | O4: 193G1 | P4: Open Ended Gold ETF | Q4: 100 | R4: Live | S4: 40835 | U4: IDBI Gold Exchange Traded Fund Direct | V4: No | W4: No | X4: No | Y4: Cluster 6 | Z4: DG | AA4: Direct Plan - Growth Option | AB4: Erstwhile IDBI Gold ETF Fund
A5: LIC89 | B5: =F5&I5 -> LSPLUSG | C5: =O5 -> NA | D5: NA | E5: NA | F5: LSPLUS | G5: LIC MF Special Unit Scheme | H5: NA | I5: G | J5: Growth Option | K5: NA | L5: NA | M5: 89 | N5: NA | O5: NA | P5: NA | Q5: 10 | R5: Live | S5: NA | U5: NA | V5: No | W5: No | X5: Yes | Y5: NA | Z5: NA | AA5: NA
A6: LIC139 | B6: =F6&I6 -> LUNCLFURM | C6: =O6 -> 139GR | D6: NA | E6: NA | F6: LUNCLF | G6: LIC MF Unclaimed Redemption & Div Fund | H6: Unclaimed | I6: URM | J6: Unclaimed Redemption more than 3 yrs | K6: Unclaimed | L6: UC | M6: 139 | N6: UCGR | O6: 139GR | P6: NA | Q6: 10 | R6: Live | S6: NA | U6: NA | V6: No | W6: No | X6: No | Y6: NA | Z6: NA | AA6: NA
A7: LIC139 | B7: =F7&I7 -> LUNCLFUDL | C7: =O7 -> 139LD | D7: NA | E7: NA | F7: LUNCLF | G7: LIC MF Unclaimed Redemption & Div Fund | H7: Unclaimed | I7: UDL | J7: Unclaimed IDCW less than 3 yrs | K7: Unclaimed | L7: UC | M7: 139 | N7: UCLD | O7: 139LD | P7: NA | Q7: 10 | R7: Live | S7: NA | U7: NA | V7: No | W7: No | X7: No | Y7: NA | Z7: NA | AA7: NA
A8: LIC139 | B8: =F8&I8 -> LUNCLFUDM | C8: =O8 -> 139GD | D8: NA | E8: NA | F8: LUNCLF | G8: LIC MF Unclaimed Redemption & Div Fund | H8: Unclaimed | I8: UDM | J8: Unclaimed IDCW more than 3 yrs | K8: Unclaimed | L8: UC | M8: 139 | N8: UCGD | O8: 139GD | P8: NA | Q8: 10 | R8: Live | S8: NA | U8: NA | V8: No | W8: No | X8: No | Y8: NA | Z8: NA | AA8: NA
A9: LIC139 | B9: =F9&I9 -> LUNCLFURL | C9: =O9 -> 139LR | D9: NA | E9: NA | F9: LUNCLF | G9: LIC MF Unclaimed Redemption & Div Fund | H9: Unclaimed | I9: URL | J9: Unclaimed Redemption less than 3 yrs | K9: Unclaimed | L9: UC | M9: 139 | N9: UCLR | O9: 139LR | P9: NA | Q9: 10 | R9: Live | S9: NA | U9: NA | V9: No | W9: No | X9: No | Y9: NA | Z9: NA | AA9: NA
A10: LIC02 | B10: =F10&I10 -> LEULISRD | C10: =O10 -> 02VS | D10: 100325 | E10: INF767K01964 | F10: LEULIS | G10: LIC MF Unit Linked Insurance Scheme (ULIS) | H10: ELSS | I10: RD | J10: Regular Plan IDCW Option | K10: Regular | L10: UL | M10: 02 | N10: ULVS | O10: 02VS | P10: Open Ended Equity Fund | Q10: 10 | R10: Live | S10: 32678 | U10: LIC MF ULIS (5 Yrs. Single Premium)-Regular Plan-IDCW Reinvestment | V10: Yes | W10: Yes | X10: Yes | Y10: Cluster 1 | Z10: RD | AA10: Regular Plan - IDCW Option
A11: LIC02 | B11: =F11&I11 -> LEULISDDP | C11: =O11 -> 02V4 | D11: 120259 | E11: INF767K01DO9 | F11: LEULIS | G11: LIC MF Unit Linked Insurance Scheme (ULIS) | H11: ELSS | I11: DDP | J11: Direct Plan IDCW Option | K11: Direct | L11: UL | M11: 02 | N11: ULV4 | O11: 02V4 | P11: Open Ended Equity Fund | Q11: 10 | R11: Live | S11: 41334 | U11: LIC MF ULIS (5 Yrs. Single Premium)-Direct Plan-IDCW Reinvestment | V11: Yes | W11: Yes | X11: Yes | Y11: Cluster 1 | Z11: DD | AA11: Direct Plan - IDCW Option
A12: LIC02 | B12: =F12&I12 -> LEULISRD | C12: =O12 -> 02TS | D12: 134846 | E12: INF767K01972 | F12: LEULIS | G12: LIC MF Unit Linked Insurance Scheme (ULIS) | H12: ELSS | I12: RD | J12: Regular Plan IDCW Option | K12: Regular | L12: UL | M12: 02 | N12: ULTS | O12: 02TS | P12: Open Ended Equity Fund | Q12: 10 | R12: Live | S12: 32678 | U12: LIC MF ULIS (10 Yrs. Single Premium)-Regular Plan-IDCW Reinvestment | V12: Yes | W12: Yes | X12: Yes | Y12: Cluster 1 | Z12: RD | AA12: Regular Plan - IDCW Option
A13: LIC02 | B13: =F13&I13 -> LEULISRD | C13: =O13 -> 02TM | D13: 134847 | E13: INF767K01980 | F13: LEULIS | G13: LIC MF Unit Linked Insurance Scheme (ULIS) | H13: ELSS | I13: RD | J13: Regular Plan IDCW Option | K13: Regular | L13: UL | M13: 02 | N13: ULTM | O13: 02TM | P13: Open Ended Equity Fund | Q13: 10 | R13: Live | S13: 32678 | U13: LIC MF ULIS (10 Yrs. Regular Premium Reducing Cover Monthly)-Regular Plan-IDCW Reinvestment | V13: Yes | W13: Yes | X13: Yes | Y13: Cluster 1 | Z13: RD | AA13: Regular Plan - IDCW Option
A14: LIC02 | B14: =F14&I14 -> LEULISRD | C14: =O14 -> 02XM | D14: 134863 | E14: INF767K01AB2 | F14: LEULIS | G14: LIC MF Unit Linked Insurance Scheme (ULIS) | H14: ELSS | I14: RD | J14: Regular Plan IDCW Option | K14: Regular | L14: UL | M14: 02 | N14: ULXM | O14: 02XM | P14: Open Ended Equity Fund | Q14: 10 | R14: Live | S14: 32678 | U14: LIC MF ULIS (10 Yrs. Regular Premium Uniform Cover Monthly)-Regular Plan-IDCW Reinvestment | V14: Yes | W14: Yes | X14: Yes | Y14: Cluster 1 | Z14: RD | AA14: Regular Plan - IDCW Option
A15: LIC02 | B15: =F15&I15 -> LEULISRD | C15: =O15 -> 02TY | D15: 134864 | E15: INF767K01AA4 | F15: LEULIS | G15: LIC MF Unit Linked Insurance Scheme (ULIS) | H15: ELSS | I15: RD | J15: Regular Plan IDCW Option | K15: Regular | L15: UL | M15: 02 | N15: ULTY | O15: 02TY | P15: Open Ended Equity Fund | Q15: 10 | R15: Live | S15: 32678 | U15: LIC MF ULIS (10 Yrs. Regular Premium Reducing Cover Yearly)-Regular Plan-IDCW Reinvestment | V15: Yes | W15: Yes | X15: Yes | Y15: Cluster 1 | Z15: RD | AA15: Regular Plan - IDCW Option
A16: LIC02 | B16: =F16&I16 -> LEULISRD | C16: =O16 -> 02TH | D16: 134865 | E16: INF767K01998 | F16: LEULIS | G16: LIC MF Unit Linked Insurance Scheme (ULIS) | H16: ELSS | I16: RD | J16: Regular Plan IDCW Option | K16: Regular | L16: UL | M16: 02 | N16: ULTH | O16: 02TH | P16: Open Ended Equity Fund | Q16: 10 | R16: Live | S16: 32678 | U16: LIC MF ULIS (10 Yrs. Regular Premium Reducing Cover Half-Yearly)-Regular Plan-IDCW Reinvestment | V16: Yes | W16: Yes | X16: Yes | Y16: Cluster 1 | Z16: RD | AA16: Regular Plan - IDCW Option
A17: LIC02 | B17: =F17&I17 -> LEULISRD | C17: =O17 -> 02XH | D17: 134867 | E17: INF767K01AC0 | F17: LEULIS | G17: LIC MF Unit Linked Insurance Scheme (ULIS) | H17: ELSS | I17: RD | J17: Regular Plan IDCW Option | K17: Regular | L17: UL | M17: 02 | N17: ULXH | O17: 02XH | P17: Open Ended Equity Fund | Q17: 10 | R17: Live | S17: 32678 | U17: LIC MF ULIS (10 Yrs. Regular Premium Uniform Cover Half-Yearly)-Regular Plan-IDCW Reinvestment | V17: Yes | W17: Yes | X17: Yes | Y17: Cluster 1 | Z17: RD | AA17: Regular Plan - IDCW Option
A18: LIC02 | B18: =F18&I18 -> LEULISRD | C18: =O18 -> 02XY | D18: 134868 | E18: INF767K01AD8 | F18: LEULIS | G18: LIC MF Unit Linked Insurance Scheme (ULIS) | H18: ELSS | I18: RD | J18: Regular Plan IDCW Option | K18: Regular | L18: UL | M18: 02 | N18: ULXY | O18: 02XY | P18: Open Ended Equity Fund | Q18: 10 | R18: Live | S18: 32678 | U18: LIC MF ULIS (10 Yrs. Regular Premium Uniform Cover Yearly)-Regular Plan-IDCW Reinvestment | V18: Yes | W18: Yes | X18: Yes | Y18: Cluster 1 | Z18: RD | AA18: Regular Plan - IDCW Option
A19: LIC02 | B19: =F19&I19 -> LEULISRD | C19: =O19 -> 02FM | D19: 134869 | E19: INF767K01AE6 | F19: LEULIS | G19: LIC MF Unit Linked Insurance Scheme (ULIS) | H19: ELSS | I19: RD | J19: Regular Plan IDCW Option | K19: Regular | L19: UL | M19: 02 | N19: ULFM | O19: 02FM | P19: Open Ended Equity Fund | Q19: 10 | R19: Live | S19: 32678 | U19: LIC MF ULIS (15 Yrs. Regular Premium Reducing Cover Monthly)-Regular Plan-IDCW Reinvestment | V19: Yes | W19: Yes | X19: Yes | Y19: Cluster 1 | Z19: RD | AA19: Regular Plan - IDCW Option
A20: LIC02 | B20: =F20&I20 -> LEULISRD | C20: =O20 -> 02FH | D20: 134870 | E20: INF767K01AF3 | F20: LEULIS | G20: LIC MF Unit Linked Insurance Scheme (ULIS) | H20: ELSS | I20: RD | J20: Regular Plan IDCW Option | K20: Regular | L20: UL | M20: 02 | N20: ULFH | O20: 02FH | P20: Open Ended Equity Fund | Q20: 10 | R20: Live | S20: 32678 | U20: LIC MF ULIS (15 Yrs. Regular Premium Reducing Cover Half-Yearly)-Regular Plan-IDCW Reinvestment | V20: Yes | W20: Yes | X20: Yes | Y20: Cluster 1 | Z20: RD | AA20: Regular Plan - IDCW Option
A21: LIC02 | B21: =F21&I21 -> LEULISRD | C21: =O21 -> 02FY | D21: 134871 | E21: INF767K01AG1 | F21: LEULIS | G21: LIC MF Unit Linked Insurance Scheme (ULIS) | H21: ELSS | I21: RD | J21: Regular Plan IDCW Option | K21: Regular | L21: UL | M21: 02 | N21: ULFY | O21: 02FY | P21: Open Ended Equity Fund | Q21: 10 | R21: Live | S21: 32678 | U21: LIC MF ULIS (15 Yrs. Regular Premium Reducing Cover Yearly)-Regular Plan-IDCW Reinvestment | V21: Yes | W21: Yes | X21: Yes | Y21: Cluster 1 | Z21: RD | AA21: Regular Plan - IDCW Option
... A45: LIC02 | B45: =F45&I45 -> LEULISRD | C45: =O45 -> 02XQ | D45: 135983 | E45: INF767K01PA2 | F45: LEULIS | G45: LIC MF Unit Linked Insurance Scheme (ULIS) | H45: ELSS | I45: RD | J45: Regular Plan IDCW Option | K45: Regular | L45: UL | M45: 02 | N45: ULXQ | O45: 02XQ | P45: Open Ended Equity Fund | Q45: 10 | R45: Live | S45: 32678 | U45: LIC MF ULIS (10 Yrs. Regular Premium Uniform Cover Quarterly)-Regular Plan-IDCW Reinvestment | V45: Yes | W45: Yes | X45: Yes | Y45: Cluster 1 | Z45: RD | AA45: Regular Plan - IDCW Option
A46: LIC08 | B46: =F46&I46 -> LEBALFRG | C46: =O46 -> 08GP | D46: 100323 | E46: INF767K01030 | F46: LEBALF | G46: LIC MF Aggressive Hybrid Fund | H46: Hybrid | I46: RG | J46: Regular Plan Growth Option | K46: Regular | L46: BL | M46: 08 | N46: BLGP | O46: 08GP | P46: Open Ended Equity Fund | Q46: 10 | R46: Live | S46: 33239 | U46: LIC MF Aggressive Hybrid Fund-Regular Plan-Growth | V46: Yes | W46: Yes | X46: Yes | Y46: Cluster 2 | Z46: RG | AA46: Regular Plan - Growth Option | AB46: Erstwhile LIC MF Equity Hybrid Fund, Erstwhile LIC MF Balanced Fund
A47: LIC08 | B47: =F47&I47 -> LEBALFRD | C47: =O47 -> 08DP | D47: 100321 | E47: INF767K01022INF767K01014 | F47: LEBALF | G47: LIC MF Aggressive Hybrid Fund | H47: Hybrid | I47: RD | J47: Regular Plan IDCW Option | K47: Regular | L47: BL | M47: 08 | N47: BLDP | O47: 08DP | P47: Open Ended Equity Fund | Q47: 10 | R47: Live | S47: 33239 | U47: LIC MF Aggressive Hybrid Fund-Regular Plan-IDCW | V47: Yes | W47: Yes | X47: Yes | Y47: Cluster 2 | Z47: RD | AA47: Regular Plan - IDCW Option | AB47: Erstwhile LIC MF Equity Hybrid Fund, Erstwhile LIC MF Balanced Fund
A48: LIC08 | B48: =F48&I48 -> LEBALFGDP | C48: =O48 -> 08G1 | D48: 120261 | E48: INF767K01ED0 | F48: LEBALF | G48: LIC MF Aggressive Hybrid Fund | H48: Hybrid | I48: GDP | J48: Direct Plan Growth Option | K48: Direct | L48: BL | M48: 08 | N48: BLG1 | O48: 08G1 | P48: Open Ended Equity Fund | Q48: 10 | R48: Live | S48: 41277 | U48: LIC MF Aggressive Hybrid Fund-Direct Plan-Growth | V48: Yes | W48: Yes | X48: Yes | Y48: Cluster 2 | Z48: DG | AA48: Direct Plan - Growth Option | AB48: Erstwhile LIC MF Equity Hybrid Fund, Erstwhile LIC MF Balanced Fund
A49: LIC08 | B49: =F49&I49 -> LEBALFDDP | C49: =O49 -> 08D1 | D49: 120260 | E49: INF767K01EC2INF767K01EE8 | F49: LEBALF | G49: LIC MF Aggressive Hybrid Fund | H49: Hybrid | I49: DDP | J49: Direct Plan IDCW Option | K49: Direct | L49: BL | M49: 08 | N49: BLD1 | O49: 08D1 | P49: Open Ended Equity Fund | Q49: 10 | R49: Live | S49: 41277 | U49: LIC MF Aggressive Hybrid Fund-Direct Plan-IDCW | V49: Yes | W49: Yes | X49: Yes | Y49: Cluster 2 | Z49: DD | AA49: Direct Plan - IDCW Option | AB49: Erstwhile LIC MF Equity Hybrid Fund, Erstwhile LIC MF Balanced Fund
A50: LIC08 | B50: =F50&I50 -> LEBALFNA | C50: =O50 -> NA | D50: 100322 | F50: LEBALF | G50: LIC MF Aggressive Hybrid Fund | H50: Hybrid | I50: NA | J50: NA | K50: NA | L50: BL | M50: 08 | N50: NA | O50: NA | P50: Open Ended Equity Fund | Q50: 10 | R50: Not in use | S50: 33239 | U50: LICMF Balanced Fund-Growth | V50: Yes | W50: Yes | X50: Yes | Y50: Cluster 2 | Z50: NA | AA50: NA | AB50: Erstwhile LIC MF Equity Hybrid Fund, Erstwhile LIC MF Balanced Fund
A51: LIC08 | B51: =F51&I51 -> LEBALFNA | C51: =O51 -> NA | D51: 115198 | F51: LEBALF | G51: LIC MF Aggressive Hybrid Fund | H51: Hybrid | I51: NA | J51: NA | K51: NA | L51: BL | M51: 08 | N51: NA | O51: NA | P51: Open Ended Equity Fund | Q51: 10 | R51: Not in use | S51: 33239 | U51: LIC NOMURA MF Balanced Fund-Dividend | V51: Yes | W51: Yes | X51: Yes | Y51: Cluster 2 | Z51: NA | AA51: NA | AB51: Erstwhile LIC MF Equity Hybrid Fund, Erstwhile LIC MF Balanced Fund
A52: LIC17 | B52: =F52&I52 -> LEEQTFRG | C52: =O52 -> 17GP | D52: 100313 | E52: INF767K01071 | F52: LEEQTF | G52: LIC MF Flexi Cap Fund | H52: Equity | I52: RG | J52: Regular Plan Growth Option | K52: Regular | L52: EF | M52: 17 | N52: EFGP | O52: 17GP | P52: Open Ended Equity Fund | Q52: 10 | R52: Live | S52: 34074 | U52: LIC MF Flexi Cap Fund-Regular Plan-Growth | V52: Yes | W52: Yes | X52: Yes | Y52: Cluster 2 | Z52: RG | AA52: Regular Plan - Growth Option | AB52: Erstwhile LIC MF Multicap Fund
A53: LIC17 | B53: =F53&I53 -> LEEQTFRD | C53: =O53 -> 17DP | D53: 100312 | E53: INF767K01063INF767K01055 | F53: LEEQTF | G53: LIC MF Flexi Cap Fund | H53: Equity | I53: RD | J53: Regular Plan IDCW Option | K53: Regular | L53: EF | M53: 17 | N53: EFDP | O53: 17DP | P53: Open Ended Equity Fund | Q53: 10 | R53: Live | S53: 34074 | U53: LIC MF Flexi Cap Fund-Regular Plan-IDCW | V53: Yes | W53: Yes | X53: Yes | Y53: Cluster 2 | Z53: RD | AA53: Regular Plan - IDCW Option | AB53: Erstwhile LIC MF Multicap Fund
A54: LIC17 | B54: =F54&I54 -> LEEQTFGDP | C54: =O54 -> 17G1 | D54: 120264 | E54: INF767K01EG3 | F54: LEEQTF | G54: LIC MF Flexi Cap Fund | H54: Equity | I54: GDP | J54: Direct Plan Growth Option | K54: Direct | L54: EF | M54: 17 | N54: EFG1 | O54: 17G1 | P54: Open Ended Equity Fund | Q54: 10 | R54: Live | S54: 41275 | U54: LIC MF Flexi Cap Fund-Direct Plan-Growth | V54: Yes | W54: Yes | X54: Yes | Y54: Cluster 2 | Z54: DG | AA54: Direct Plan - Growth Option | AB54: Erstwhile LIC MF Multicap Fund
A55: LIC17 | B55: =F55&I55 -> LEEQTFDDP | C55: =O55 -> 17D1 | D55: 120263 | E55: INF767K01EF5INF767K01EH1 | F55: LEEQTF | G55: LIC MF Flexi Cap Fund | H55: Equity | I55: DDP | J55: Direct Plan IDCW Option | K55: Direct | L55: EF | M55: 17 | N55: EFD1 | O55: 17D1 | P55: Open Ended Equity Fund | Q55: 10 | R55: Live | S55: 41275 | U55: LIC MF Flexi Cap Fund-Direct Plan-IDCW | V55: Yes | W55: Yes | X55: Yes | Y55: Cluster 2 | Z55: DD | AA55: Direct Plan - IDCW Option | AB55: Erstwhile LIC MF Multicap Fund
A56: LIC19 | B56: =F56&I56 -> LEGROWRG | C56: =O56 -> 19GP | D56: 106871 | E56: INF767K01105 | F56: LEGROW | G56: LIC MF Large Cap Fund | H56: Equity | I56: RG | J56: Regular Plan Growth Option | K56: Regular | L56: GF | M56: 19 | N56: GFGP | O56: 19GP | P56: Open Ended Equity Fund | Q56: 10 | R56: Live | S56: 34578 | U56: LIC MF Large Cap Fund-Regular Plan-Growth | V56: Yes | W56: Yes | X56: Yes | Y56: Cluster 2 | Z56: RG | AA56: Regular Plan - Growth Option | AB56: Erstwhile LIC MF Growth Fund
A57: LIC19 | B57: =F57&I57 -> LEGROWRD | C57: =O57 -> 19DP | D57: 100332 | E57: INF767K01097INF767K01089 | F57: LEGROW | G57: LIC MF Large Cap Fund | H57: Equity | I57: RD | J57: Regular Plan IDCW Option | K57: Regular | L57: GF | M57: 19 | N57: GFDP | O57: 19DP | P57: Open Ended Equity Fund | Q57: 10 | R57: Live | S57: 34578 | U57: LIC MF Large Cap Fund-Regular Plan-IDCW | V57: Yes | W57: Yes | X57: Yes | Y57: Cluster 2 | Z57: RD | AA57: Regular Plan - IDCW Option | AB57: Erstwhile LIC MF Growth Fund
A58: LIC19 | B58: =F58&I58 -> LEGROWGDP | C58: =O58 -> 19G1 | D58: 120267 | E58: INF767K01EJ7 | F58: LEGROW | G58: LIC MF Large Cap Fund | H58: Equity | I58: GDP | J58: Direct Plan Growth Option | K58: Direct | L58: GF | M58: 19 | N58: GFG1 | O58: 19G1 | P58: Open Ended Equity Fund | Q58: 10 | R58: Live | S58: 41275 | U58: LIC MF Large Cap Fund-Direct Plan-Growth | V58: Yes | W58: Yes | X58: Yes | Y58: Cluster 2 | Z58: DG | AA58: Direct Plan - Growth Option | AB58: Erstwhile LIC MF Growth Fund
A59: LIC19 | B59: =F59&I59 -> LEGROWDDP | C59: =O59 -> 19D1 | D59: 120268 | E59: INF767K01EI9INF767K01EK5 | F59: LEGROW | G59: LIC MF Large Cap Fund | H59: Equity | I59: DDP | J59: Direct Plan IDCW Option | K59: Direct | L59: GF | M59: 19 | N59: GFD1 | O59: 19D1 | P59: Open Ended Equity Fund | Q59: 10 | R59: Live | S59: 41275 | U59: LIC MF Large Cap Fund-Direct Plan-IDCW | V59: Yes | W59: Yes | X59: Yes | Y59: Cluster 2 | Z59: DD | AA59: Direct Plan - IDCW Option | AB59: Erstwhile LIC MF Growth Fund
A60: LIC19 | B60: =F60&I60 -> LEGROWNA | C60: =O60 -> NA | D60: 115201 | F60: LEGROW | G60: LIC MF Large Cap Fund | H60: Equity | I60: NA | J60: NA | K60: NA | L60: GF | M60: 19 | N60: NA | O60: NA | P60: Open Ended Equity Fund | Q60: 10 | R60: Not in use | S60: 34578 | U60: LIC NOMURA MF Growth Fund | V60: Yes | W60: Yes | X60: Yes | Y60: Cluster 2 | Z60: NA | AA60: NA | AB60: Erstwhile LIC MF Growth Fund
A61: LIC28 | B61: =F61&I61 -> LETAXPRG | C61: =O61 -> 28GP | D61: 100865 | E61: INF767K01956 | F61: LETAXP | G61: LIC MF ELSS Tax Saver | H61: ELSS | I61: RG | J61: Regular Plan Growth Option | K61: Regular | L61: TP | M61: 28 | N61: TPGP | O61: 28GP | P61: Open Ended Equity Fund | Q61: 10 | R61: Live | S61: 35520 | U61: LIC MF ELSS Tax Saver-Regular Plan-Growth | V61: Yes | W61: Yes | X61: Yes | Y61: Cluster 2 | Z61: RG | AA61: Regular Plan - Growth Option | AB61: Erstwhile LIC MF ELSS, Erstwhile LIC MF Tax Plan
A62: LIC28 | B62: =F62&I62 -> LETAXPRD | C62: =O62 -> 28DP | D62: 100864 | E62: INF767K01931INF767K01949 | F62: LETAXP | G62: LIC MF ELSS Tax Saver | H62: ELSS | I62: RD | J62: Regular Plan IDCW Option | K62: Regular | L62: TP | M62: 28 | N62: TPDP | O62: 28DP | P62: Open Ended Equity Fund | Q62: 10 | R62: Live | S62: 35520 | U62: LIC MF ELSS Tax Saver-Regular Plan-IDCW | V62: Yes | W62: Yes | X62: Yes | Y62: Cluster 2 | Z62: RD | AA62: Regular Plan - IDCW Option | AB62: Erstwhile LIC MF ELSS, Erstwhile LIC MF Tax Plan
A63: LIC28 | B63: =F63&I63 -> LETAXPGDP | C63: =O63 -> 28G1 | D63: 120270 | E63: INF767K01EM1 | F63: LETAXP | G63: LIC MF ELSS Tax Saver | H63: ELSS | I63: GDP | J63: Direct Plan Growth Option | K63: Direct | L63: TP | M63: 28 | N63: TPG1 | O63: 28G1 | P63: Open Ended Equity Fund | Q63: 10 | R63: Live | S63: 41275 | U63: LIC MF ELSS Tax Saver-Direct Plan-Growth | V63: Yes | W63: Yes | X63: Yes | Y63: Cluster 2 | Z63: DG | AA63: Direct Plan - Growth Option | AB63: Erstwhile LIC MF ELSS, Erstwhile LIC MF Tax Plan
...

Sheet PHY rollback
A1: Concatenate | B1: SCHEME | C1: SCHCLASS | D1: TRAN_TYPE | E1: VALUE_DATE | F1: NAV | G1: TRADES_UNI | H1: TRADES_AMO | I1: LOAD | J1: UPR_AMT | K1: EQ_AMT | L1: TDS | M1: STTAMT | N1: TRANSFEE | O1: SCH_LOAD | P1: BCLOSEDT | Q1: CGS_TAX | R1: SGS_TAX | S1: IGS_TAX | T1: GAINAMT
A2: =INDEX('Scheme master'!B:B,MATCH(B2&C2,'Scheme master'!C:C,0),0) -> #N/A
A3: =INDEX('Scheme master'!B:B,MATCH(B3&C3,'Scheme master'!C:C,0),0) -> #N/A
A4: =INDEX('Scheme master'!B:B,MATCH(B4&C4,'Scheme master'!C:C,0),0) -> #N/A
A5: =INDEX('Scheme master'!B:B,MATCH(B5&C5,'Scheme master'!C:C,0),0) -> #N/A

Sheet PHY simnav
A2: Concatenate | B2: HY plan code | C2: Face value | D2: Unit capital | E2: Rollback | F2: Net asset | G2: NAV per unit | H2: Check | I2: Status | J2: Fund_ID_Share_Type | K2: Fund_ID | L2: Share_Type | M2: Outstanding_Units | N2: Plan_Level_Net_Assets | O2: Unrounded_NAV | P2: Total_Net_Assets | Q2: Net_Asset_Per_Units | R2: Nav_Date | S2: Amfi_Code | T2: RNT_Code | U2: RNT_Scheme_Code | V2: Press_Code | W2: Benchmark_Index | X2: Fund_Type | Y2: Sub_Price | Z2: Red_Price | AA2: Sec_ID | AB2: Fund_Desc | AC2: Share_Class_Desc | AD2: Per_Nav_Date | AE2: Net_Asset_Per_Unit_Pre_Rounded | AF2: Net_Asset_Per_Unit_Pre_UnRounded | AG2: Movement_Rounded_Nav | AH2: Per_Movement_rounded | AI2: Annual_Return_Rounded | AJ2: Movement_UnRounded_Nav | AK2: Per_Movement_UnRounded | AL2: Annualised_Return_Unrounded | AM2: IN_FA_FF_10 | AN2: IN_FA_FF_11 | AO2: IN_FA_FF_12 | AP2: IN_FA_FF_01 | AQ2: IN_FA_FF_02 | AR2: IN_FA_FF_03 | AS2: IN_FA_FF_09 | AT2: ClientID | AU2: AMC_Group
A3: =K3&B3 -> LEGFOFDG | B3: =VLOOKUP(J3,'Scheme master'!B:AA,25,0) -> DG | C3: =VLOOKUP(J3,'Scheme master'!B:Q,16,0) -> 10 | D3: =(M3+E3)*C3/10000000 -> 7.967057 | E3: =SUMIF('PHY rollback'!A:A,J3,'PHY rollback'!G:G) -> 0 | F3: =N3/10000000 -> 16.878716 | G3: =IF(M3<=0,0,Q3) -> 21.1856 | H3: =SUMIF(K:K,K3,F:F)-P3/10000000 -> 0 | I3: =VLOOKUP(K3,'Scheme master'!F:R,13,0) -> Live | J3: LEGFOFGDP | K3: LEGFOF | L3: GDP | M3: 7967057 | N3: 1.6878716e+08 | O3: 21.185634 | P3: 6.3792807e+08 | Q3: 21.1856 | R3: 45565 | S3: 151974 | T3: 194G1 | U3: 194 | W3: 10 | X3: EQTY | Y3: 21.1856 | Z3: 21.1856 | AA3: 159660 | AB3: LIC MF Gold ETF Fund of Fund | AC3: Direct Plan Growth Option | AD3: 45564 | AE3: 21.0265 | AF3: 21.026472 | AG3: 0.1591 | AH3: 0.75666421 | AI3: 276.1824 | AJ3: 0.15916259 | AK3: 0.7569629 | AL3: 276.2915 | AM3: LIC MF Gold ETF Fund of Fund | AN3: LIC194 | AP3: Direct | AT3: 30 | AU3: LIC
A4: =K4&B4 -> LEGFOFRG | B4: =VLOOKUP(J4,'Scheme master'!B:AA,25,0) -> RG | C4: =VLOOKUP(J4,'Scheme master'!B:Q,16,0) -> 10 | D4: =(M4+E4)*C4/10000000 -> 23.263639 | E4: =SUMIF('PHY rollback'!A:A,J4,'PHY rollback'!G:G) -> 0 | F4: =N4/10000000 -> 46.914091 | G4: =IF(M4<=0,0,Q4) -> 20.1663 | H4: =SUMIF(K:K,K4,F:F)-P4/10000000 -> 0 | I4: =VLOOKUP(K4,'Scheme master'!F:R,13,0) -> Live | J4: LEGFOFRG | K4: LEGFOF | L4: RG | M4: 23263639 | N4: 4.6914091e+08 | O4: 20.166273 | P4: 6.3792807e+08 | Q4: 20.1663 | R4: 45565 | S4: 151973 | T4: 194GP | U4: 194 | W4: 10 | X4: EQTY | Y4: 20.1663 | Z4: 20.1663 | AA4: 159659 | AB4: LIC MF Gold ETF Fund of Fund | AC4: Regular Plan Growth Option | AD4: 45564 | AE4: 20.015 | AF4: 20.014994 | AG4: 0.1513 | AH4: 0.75593305 | AI4: 275.9156 | AJ4: 0.1512798 | AK4: 0.75583236 | AL4: 275.8788 | AM4: LIC MF Gold ETF Fund of Fund | AN4: LIC194 | AP4: Regular | AT4: 30 | AU4: LIC
A5: =K5&B5 -> LEGROWDD | B5: =VLOOKUP(J5,'Scheme master'!B:AA,25,0) -> DD | C5: =VLOOKUP(J5,'Scheme master'!B:Q,16,0) -> 10 | D5: =(M5+E5)*C5/10000000 -> 0.62563213 | E5: =SUMIF('PHY rollback'!A:A,J5,'PHY rollback'!G:G) -> 0 | F5: =N5/10000000 -> 2.5920446 | G5: =IF(M5<=0,0,Q5) -> 41.4308 | H5: =SUMIF(K:K,K5,F:F)-P5/10000000 -> 0 | I5: =VLOOKUP(K5,'Scheme master'!F:R,13,0) -> Live | J5: LEGROWDDP | K5: LEGROW | L5: DDP | M5: 625632.13 | N5: 25920446 | O5: 41.430811 | P5: 1.5882787e+10 | Q5: 41.4308 | R5: 45565 | S5: 120268 | T5: 19D1 | U5: 19 | V5: LI174 | W5: 10 | X5: EQTY | Y5: 41.4308 | Z5: 41.0165 | AA5: 84352 | AB5: LIC MF Large Cap Fund | AC5: Direct Plan IDCW Option | AD5: 45564 | AE5: 41.9194 | AF5: 41.9194 | AG5: -0.4886 | AH5: -1.1655701 | AI5: -425.4331 | AJ5: -0.48858837 | AK5: -1.1655424 | AL5: -425.423 | AM5: LIC MF Large Cap Fund | AN5: LIC19 | AP5: Direct | AQ5: INF767K01EI9/INF767K01EK5 | AT5: 30 | AU5: LIC
A6: =K6&B6 -> LEMIDFRD | B6: =VLOOKUP(J6,'Scheme master'!B:AA,25,0) -> RD | C6: =VLOOKUP(J6,'Scheme master'!B:Q,16,0) -> 10 | D6: =(M6+E6)*C6/10000000 -> 10.407792 | E6: =SUMIF('PHY rollback'!A:A,J6,'PHY rollback'!G:G) -> 0 | F6: =N6/10000000 -> 34.113423 | G6: =IF(M6<=0,0,Q6) -> 32.7768 | H6: =SUMIF(K:K,K6,F:F)-P6/10000000 -> 0 | I6: =VLOOKUP(K6,'Scheme master'!F:R,13,0) -> Live | J6: LEMIDFRD | K6: LEMIDF | L6: RD | M6: 10407792 | N6: 3.4113423e+08 | O6: 32.77681 | P6: 3.234879e+10 | Q6: 32.7768 | R6: 45565 | S6: 133712 | T6: 170DP | U6: 170 | V6: LI416 | W6: 10 | X6: EQTY | Y6: 32.7768 | Z6: 32.449 | AA6: 84335 | AB6: LIC MF Large & Mid Cap Fund | AC6: Regular Plan IDCW Option | AD6: 45564 | AE6: 32.9902 | AF6: 32.990178 | AG6: -0.2134 | AH6: -0.64685876 | AI6: -236.1034 | AJ6: -0.21336724 | AK6: -0.64675991 | AL6: -236.0674 | AM6: LIC MF Large & Mid Cap Fund | AN6: LIC170 | AP6: Regular | AQ6: INF767K01NA7/INF767K01NC3 | AT6: 30 | AU6: LIC
A7: =K7&B7 -> LEMIDFRG | B7: =VLOOKUP(J7,'Scheme master'!B:AA,25,0) -> RG | C7: =VLOOKUP(J7,'Scheme master'!B:Q,16,0) -> 10 | D7: =(M7+E7)*C7/10000000 -> 631.89897 | E7: =SUMIF('PHY rollback'!A:A,J7,'PHY rollback'!G:G) -> 0 | F7: =N7/10000000 -> 2558.091 | G7: =IF(M7<=0,0,Q7) -> 40.4826 | H7: =SUMIF(K:K,K7,F:F)-P7/10000000 -> 0 | I7: =VLOOKUP(K7,'Scheme master'!F:R,13,0) -> Live | J7: LEMIDFRG | K7: LEMIDF | L7: RG | M7: 6.3189897e+08 | N7: 2.558091e+10 | O7: 40.482594 | P7: 3.234879e+10 | Q7: 40.4826 | R7: 45565 | S7: 133711 | T7: 170GP | U7: 170 | V7: LI417 | W7: 10 | X7: EQTY | Y7: 40.4826 | Z7: 40.0778 | AA7: 84336 | AB7: LIC MF Large & Mid Cap Fund | AC7: Regular Plan Growth Option | AD7: 45564 | AE7: 40.7461 | AF7: 40.746124 | AG7: -0.2635 | AH7: -0.64668766 | AI7: -236.041 | AJ7: -0.26352938 | AK7: -0.64675938 | AL7: -236.0672 | AM7: LIC MF Large & Mid Cap Fund | AN7: LIC170 | AP7: Regular | AQ7: INF767K01NB5 | AT7: 30 | AU7: LIC
A8: =K8&B8 -> LEMUCFDD | B8: =VLOOKUP(J8,'Scheme master'!B:AA,25,0) -> DD | C8: =VLOOKUP(J8,'Scheme master'!B:Q,16,0) -> 10 | D8: =(M8+E8)*C8/10000000 -> 0.19832353 | E8: =SUMIF('PHY rollback'!A:A,J8,'PHY rollback'!G:G) -> 0 | F8: =N8/10000000 -> 0.36114485 | G8: =IF(M8<=0,0,Q8) -> 18.2099 | H8: =SUMIF(K:K,K8,F:F)-P8/10000000 -> 0 | I8: =VLOOKUP(K8,'Scheme master'!F:R,13,0) -> Live | J8: LEMUCFDDP | K8: LEMUCF | L8: DDP | M8: 198323.53 | N8: 3611448.5 | O8: 18.209884 | P8: 1.4039425e+10 | Q8: 18.2099 | R8: 45565 | S8: 150660 | T8: 184D1 | U8: 184 | W8: 10 | X8: EQTY | Y8: 18.2099 | Z8: 18.2099 | AA8: 149559 | AB8: LIC MF Multi Cap Fund | AC8: Direct Plan IDCW Option | AD8: 45564 | AE8: 18.2184 | AF8: 18.218438 | AG8: -0.0085 | AH8: -0.046656128 | AI8: -17.0295 | AJ8: -0.0085542042 | AK8: -0.046953555 | AL8: -17.138 | AM8: LIC MF Multi Cap Fund | AN8: LIC184 | AP8: Direct | AT8: 30 | AU8: LIC
A9: =K9&B9 -> LEMUCFDG | B9: =VLOOKUP(J9,'Scheme master'!B:AA,25,0) -> DG | C9: =VLOOKUP(J9,'Scheme master'!B:Q,16,0) -> 10 | D9: =(M9+E9)*C9/10000000 -> 60.67191 | E9: =SUMIF('PHY rollback'!A:A,J9,'PHY rollback'!G:G) -> 0 | F9: =N9/10000000 -> 110.48277 | G9: =IF(M9<=0,0,Q9) -> 18.2099 | H9: =SUMIF(K:K,K9,F:F)-P9/10000000 -> 0 | I9: =VLOOKUP(K9,'Scheme master'!F:R,13,0) -> Live | J9: LEMUCFGDP | K9: LEMUCF | L9: GDP | M9: 60671910 | N9: 1.1048277e+09 | O9: 18.209873 | P9: 1.4039425e+10 | Q9: 18.2099 | R9: 45565 | S9: 150659 | T9: 184G1 | U9: 184 | W9: 10 | X9: EQTY | Y9: 18.2099 | Z9: 18.2099 | AA9: 149560 | AB9: LIC MF Multi Cap Fund | AC9: Direct Plan Growth Option | AD9: 45564 | AE9: 18.2184 | AF9: 18.218423 | AG9: -0.0085 | AH9: -0.046656128 | AI9: -17.0295 | AJ9: -0.0085501505 | AK9: -0.046931343 | AL9: -17.1299 | AM9: LIC MF Multi Cap Fund | AN9: LIC184 | AP9: Direct | AT9: 30 | AU9: LIC
A10: =K10&B10 -> LEMUCFRD | B10: =VLOOKUP(J10,'Scheme master'!B:AA,25,0) -> RD | C10: =VLOOKUP(J10,'Scheme master'!B:Q,16,0) -> 10 | D10: =(M10+E10)*C10/10000000 -> 2.0805469 | E10: =SUMIF('PHY rollback'!A:A,J10,'PHY rollback'!G:G) -> 0 | F10: =N10/10000000 -> 3.6663788 | G10: =IF(M10<=0,0,Q10) -> 17.6222 | H10: =SUMIF(K:K,K10,F:F)-P10/10000000 -> 0 | I10: =VLOOKUP(K10,'Scheme master'!F:R,13,0) -> Live | J10: LEMUCFRD | K10: LEMUCF | L10: RD | M10: 2080546.9 | N10: 36663788 | O10: 17.622188 | P10: 1.4039425e+10 | Q10: 17.6222 | R10: 45565 | S10: 150662 | T10: 184DP | U10: 184 | W10: 10 | X10: EQTY | Y10: 17.6222 | Z10: 17.6222 | AA10: 149557 | AB10: LIC MF Multi Cap Fund | AC10: Regular Plan IDCW Option | AD10: 45564 | AE10: 17.6314 | AF10: 17.631363 | AG10: -0.0092 | AH10: -0.052179634 | AI10: -19.0456 | AJ10: -0.0091751657 | AK10: -0.05203889 | AL10: -18.9942 | AM10: LIC MF Multi Cap Fund | AN10: LIC184 | AP10: Regular | AT10: 30 | AU10: LIC
A11: =K11&B11 -> LEMUCFRG | B11: =VLOOKUP(J11,'Scheme master'!B:AA,25,0) -> RG | C11: =VLOOKUP(J11,'Scheme master'!B:Q,16,0) -> 10 | D11: =(M11+E11)*C11/10000000 -> 731.70703 | E11: =SUMIF('PHY rollback'!A:A,J11,'PHY rollback'!G:G) -> 0 | F11: =N11/10000000 -> 1289.4322 | G11: =IF(M11<=0,0,Q11) -> 17.6222 | H11: =SUMIF(K:K,K11,F:F)-P11/10000000 -> 0 | I11: =VLOOKUP(K11,'Scheme master'!F:R,13,0) -> Live | J11: LEMUCFRG | K11: LEMUCF | L11: RG | M11: 7.3170703e+08 | N11: 1.2894322e+10 | O11: 17.622248 | P11: 1.4039425e+10 | Q11: 17.6222 | R11: 45565 | S11: 150661 | T11: 184GP | U11: 184 | W11: 10 | X11: EQTY | Y11: 17.6222 | Z11: 17.6222 | AA11: 149558 | AB11: LIC MF Multi Cap Fund | AC11: Regular Plan Growth Option | AD11: 45564 | AE11: 17.6313 | AF11: 17.631322 | AG11: -0.0091 | AH11: -0.051612757 | AI11: -18.8387 | AJ11: -0.0090746759 | AK11: -0.051469061 | AL11: -18.7862 | AM11: LIC MF Multi Cap Fund | AN11: LIC184 | AP11: Regular | AT11: 30 | AU11: LIC
A12: =K12&B12 -> LENI50DD | B12: =VLOOKUP(J12,'Scheme master'!B:AA,25,0) -> DD | C12: =VLOOKUP(J12,'Scheme master'!B:Q,16,0) -> 10 | D12: =(M12+E12)*C12/10000000 -> 0.20693607 | E12: =SUMIF('PHY rollback'!A:A,J12,'PHY rollback'!G:G) -> 0 | F12: =N12/10000000 -> 1.2902941 | G12: =IF(M12<=0,0,Q12) -> 62.3523 | H12: =SUMIF(K:K,K12,F:F)-P12/10000000 -> 0 | I12: =VLOOKUP(K12,'Scheme master'!F:R,13,0) -> Live | J12: LENI50DDP | K12: LENI50 | L12: DDP | M12: 206936.07 | N12: 12902941 | O12: 62.352305 | P12: 1.014782e+09 | Q12: 62.3523 | R12: 45565 | S12: 151938 | T12: 192D1 | U12: 192 | W12: 10 | X12: EQTY | Y12: 62.3523 | Z12: 62.3523 | AA12: 159653 | AB12: LIC MF Nifty Next 50 Index Fund | AC12: Direct Plan IDCW Option | AD12: 45564 | AE12: 62.9292 | AF12: 62.929162 | AG12: -0.5769 | AH12: -0.91674453 | AI12: -334.6118 | AJ12: -0.57685742 | AK12: -0.91667742 | AL12: -334.5873 | AM12: LIC MF Nifty Next 50 Index Fund | AN12: LIC192 | AP12: Direct | AT12: 30 | AU12: LIC
A13: =K13&B13 -> LENI50DG | B13: =VLOOKUP(J13,'Scheme master'!B:AA,25,0) -> DG | C13: =VLOOKUP(J13,'Scheme master'!B:Q,16,0) -> 10 | D13: =(M13+E13)*C13/10000000 -> 5.2645455 | E13: =SUMIF('PHY rollback'!A:A,J13,'PHY rollback'!G:G) -> 0 | F13: =N13/10000000 -> 32.825697 | G13: =IF(M13<=0,0,Q13) -> 62.3524 | H13: =SUMIF(K:K,K13,F:F)-P13/10000000 -> 0 | I13: =VLOOKUP(K13,'Scheme master'!F:R,13,0) -> Live | J13: LENI50GDP | K13: LENI50 | L13: GDP | M13: 5264545.5 | N13: 3.2825697e+08 | O13: 62.352387 | P13: 1.014782e+09 | Q13: 62.3524 | R13: 45565 | S13: 151937 | T13: 192G1 | U13: 192 | W13: 10 | X13: EQTY | Y13: 62.3524 | Z13: 62.3524 | AA13: 159654 | AB13: LIC MF Nifty Next 50 Index Fund | AC13: Direct Plan Growth Option | AD13: 45564 | AE13: 62.9292 | AF13: 62.929245 | AG13: -0.5768 | AH13: -0.91658562 | AI13: -334.5538 | AJ13: -0.57685813 | AK13: -0.91667734 | AL13: -334.5872 | AM13: LIC MF Nifty Next 50 Index Fund | AN13: LIC192 | AP13: Direct | AT13: 30 | AU13: LIC
A14: =K14&B14 -> LENI50RD | B14: =VLOOKUP(J14,'Scheme master'!B:AA,25,0) -> RD | C14: =VLOOKUP(J14,'Scheme master'!B:Q,16,0) -> 10 | D14: =(M14+E14)*C14/10000000 -> 1.0997206 | E14: =SUMIF('PHY rollback'!A:A,J14,'PHY rollback'!G:G) -> 0 | F14: =N14/10000000 -> 6.2794262 | G14: =IF(M14<=0,0,Q14) -> 57.1002 | H14: =SUMIF(K:K,K14,F:F)-P14/10000000 -> 0 | I14: =VLOOKUP(K14,'Scheme master'!F:R,13,0) -> Live | J14: LENI50RD | K14: LENI50 | L14: RD | M14: 1099720.6 | N14: 62794262 | O14: 57.100197 | P14: 1.014782e+09 | Q14: 57.1002 | R14: 45565 | S14: 151936 | T14: 192DP | U14: 192 | W14: 10 | X14: EQTY | Y14: 57.1002 | Z14: 57.1002 | AA14: 159651 | AB14: LIC MF Nifty Next 50 Index Fund | AC14: Regular Plan IDCW Option | AD14: 45564 | AE14: 57.6294 | AF14: 57.62938 | AG14: -0.5292 | AH14: -0.91828129 | AI14: -335.1727 | AJ14: -0.52918281 | AK14: -0.91825178 | AL14: -335.1619 | AM14: LIC MF Nifty Next 50 Index Fund | AN14: LIC192 | AP14: Regular | AT14: 30 | AU14: LIC
A15: =K15&B15 -> LENI50RG | B15: =VLOOKUP(J15,'Scheme master'!B:AA,25,0) -> RG | C15: =VLOOKUP(J15,'Scheme master'!B:Q,16,0) -> 10 | D15: =(M15+E15)*C15/10000000 -> 10.697474 | E15: =SUMIF('PHY rollback'!A:A,J15,'PHY rollback'!G:G) -> 0 | F15: =N15/10000000 -> 61.082785 | G15: =IF(M15<=0,0,Q15) -> 57.1002 | H15: =SUMIF(K:K,K15,F:F)-P15/10000000 -> 0 | I15: =VLOOKUP(K15,'Scheme master'!F:R,13,0) -> Live | J15: LENI50RG | K15: LENI50 | L15: RG | M15: 10697474 | N15: 6.1082785e+08 | O15: 57.100194 | P15: 1.014782e+09 | Q15: 57.1002 | R15: 45565 | S15: 151935 | T15: 192GP | U15: 192 | W15: 10 | X15: EQTY | Y15: 57.1002 | Z15: 57.1002 | AA15: 159652 | AB15: LIC MF Nifty Next 50 Index Fund | AC15: Regular Plan Growth Option | AD15: 45564 | AE15: 57.6294 | AF15: 57.629376 | AG15: -0.5292 | AH15: -0.91828129 | AI15: -335.1727 | AJ15: -0.52918263 | AK15: -0.91825153 | AL15: -335.1618 | AM15: LIC MF Nifty Next 50 Index Fund | AN15: LIC192 | AP15: Regular | AT15: 30 | AU15: LIC
A16: =K16&B16 -> LET100G | B16: =VLOOKUP(J16,'Scheme master'!B:AA,25,0) -> G | C16: =VLOOKUP(J16,'Scheme master'!B:Q,16,0) -> 10 | D16: =(M16+E16)*C16/10000000 -> 26.644242 | E16: =SUMIF('PHY rollback'!A:A,J16,'PHY rollback'!G:G) -> 0 | F16: =N16/10000000 -> 772.62752 | G16: =IF(M16<=0,0,Q16) -> 289.9792 | H16: =SUMIF(K:K,K16,F:F)-P16/10000000 -> 0 | I16: =VLOOKUP(K16,'Scheme master'!F:R,13,0) -> Live | J16: LET100G | K16: LET100 | L16: G | M16: 26644242 | N16: 7.7262752e+09 | O16: 289.97917 | P16: 7.7262752e+09 | Q16: 289.9792 | R16: 45565 | S16: 136473 | T16: 177GP | U16: 177 | V16: LI438 | W16: 10 | X16: EQTY | Y16: 289.9792 | Z16: 289.9792 | AA16: 84345 | AB16: LIC MF Nifty 100 ETF | AC16: Growth Option | AD16: 45564 | AE16: 293.891 | AF16: 293.89103 | AG16: -3.9118 | AH16: -1.3310377 | AI16: -485.8288 | AJ16: -3.911859 | AK16: -1.3310576 | AL16: -485.836 | AM16: LIC MF Nifty 100 ETF | AN16: LIC177 | AP16: Growth | AQ16: INF767K01PC8 | AR16: 539784 | AS16: LICNFNHGP | AT16: 30 | AU16: LIC
A17: =K17&B17 -> LETAXPDD | B17: =VLOOKUP(J17,'Scheme master'!B:AA,25,0) -> DD | C17: =VLOOKUP(J17,'Scheme master'!B:Q,16,0) -> 10 | D17: =(M17+E17)*C17/10000000 -> 1.2801316 | E17: =SUMIF('PHY rollback'!A:A,J17,'PHY rollback'!G:G) -> 0 | F17: =N17/10000000 -> 5.0779278 | G17: =IF(M17<=0,0,Q17) -> 39.6672 | H17: =SUMIF(K:K,K17,F:F)-P17/10000000 -> 0 | I17: =VLOOKUP(K17,'Scheme master'!F:R,13,0) -> Live | J17: LETAXPDDP | K17: LETAXP | L17: DDP | M17: 1280131.6 | N17: 50779278 | O17: 39.667232 | P17: 1.2094387e+10 | Q17: 39.6672 | R17: 45565 | S17: 120269 | T17: 28D1 | U17: 28 | V17: LI180 | W17: 10 | X17: EQTY | Y17: 39.6672 | Z17: 39.6672 | AA17: 84348 | AB17: LIC MF ELSS Tax Saver | AC17: Direct Plan IDCW Option | AD17: 45564 | AE17: 39.9964 | AF17: 39.996354 | AG17: -0.3292 | AH17: -0.82307408 | AI17: -300.422 | AJ17: -0.32912208 | AK17: -0.8228802 | AL17: -300.3513 | AM17: LIC MF ELSS Tax Saver | AN17: LIC28 | AP17: Direct | AQ17: INF767K01EL3/INF767K01EN9 | AT17: 30 | AU17: LIC
A18: =K18&B18 -> LETAXPDG | B18: =VLOOKUP(J18,'Scheme master'!B:AA,25,0) -> DG | C18: =VLOOKUP(J18,'Scheme master'!B:Q,16,0) -> 10 | D18: =(M18+E18)*C18/10000000 -> 6.0804269 | E18: =SUMIF('PHY rollback'!A:A,J18,'PHY rollback'!G:G) -> 0 | F18: =N18/10000000 -> 109.19895 | G18: =IF(M18<=0,0,Q18) -> 179.5909 | H18: =SUMIF(K:K,K18,F:F)-P18/10000000 -> 0 | I18: =VLOOKUP(K18,'Scheme master'!F:R,13,0) -> Live | J18: LETAXPGDP | K18: LETAXP | L18: GDP | M18: 6080426.9 | N18: 1.0919895e+09 | O18: 179.59093 | P18: 1.2094387e+10 | Q18: 179.5909 | R18: 45565 | S18: 120270 | T18: 28G1 | U18: 28 | V18: LI181 | W18: 10 | X18: EQTY | Y18: 179.5909 | Z18: 179.5909 | AA18: 84349 | AB18: LIC MF ELSS Tax Saver | AC18: Direct Plan Growth Option | AD18: 45564 | AE18: 181.0809 | AF18: 181.08093 | AG18: -1.49 | AH18: -0.82283664 | AI18: -300.3354 | AJ18: -1.4899985 | AK18: -0.82283566 | AL18: -300.335 | AM18: LIC MF ELSS Tax Saver | AN18: LIC28 | AP18: Direct | AQ18: INF767K01EM1 | AT18: 30 | AU18: LIC
A19: =K19&B19 -> LETAXPRD | B19: =VLOOKUP(J19,'Scheme master'!B:AA,25,0) -> RD | C19: =VLOOKUP(J19,'Scheme master'!B:Q,16,0) -> 10 | D19: =(M19+E19)*C19/10000000 -> 22.411779 | E19: =SUMIF('PHY rollback'!A:A,J19,'PHY rollback'!G:G) -> 0 | F19: =N19/10000000 -> 74.504396 | G19: =IF(M19<=0,0,Q19) -> 33.2434 | H19: =SUMIF(K:K,K19,F:F)-P19/10000000 -> 0 | I19: =VLOOKUP(K19,'Scheme master'!F:R,13,0) -> Live | J19: LETAXPRD | K19: LETAXP | L19: RD | M19: 22411779 | N19: 7.4504396e+08 | O19: 33.24341 | P19: 1.2094387e+10 | Q19: 33.2434 | R19: 45565 | S19: 100864 | T19: 28DP | U19: 28 | V19: LI031 | W19: 10 | X19: EQTY | Y19: 33.2434 | Z19: 33.2434 | AA19: 84346 | AB19: LIC MF ELSS Tax Saver | AC19: Regular Plan IDCW Option | AD19: 45564 | AE19: 33.5203 | AF19: 33.520298 | AG19: -0.2769 | AH19: -0.82606659 | AI19: -301.5143 | AJ19: -0.27688838 | AK19: -0.82603198 | AL19: -301.5017 | AM19: LIC MF ELSS Tax Saver | AN19: LIC28 | AP19: Regular | AQ19: INF767K01931/INF767K01949 | AT19: 30 | AU19: LIC
A20: =K20&B20 -> LETAXPRG | B20: =VLOOKUP(J20,'Scheme master'!B:AA,25,0) -> RG | C20: =VLOOKUP(J20,'Scheme master'!B:Q,16,0) -> 10 | D20: =(M20+E20)*C20/10000000 -> 64.273552 | E20: =SUMIF('PHY rollback'!A:A,J20,'PHY rollback'!G:G) -> 0 | F20: =N20/10000000 -> 1020.6574 | G20: =IF(M20<=0,0,Q20) -> 158.799 | H20: =SUMIF(K:K,K20,F:F)-P20/10000000 -> 0 | I20: =VLOOKUP(K20,'Scheme master'!F:R,13,0) -> Live | J20: LETAXPRG | K20: LETAXP | L20: RG | M20: 64273552 | N20: 1.0206574e+10 | O20: 158.79898 | P20: 1.2094387e+10 | Q20: 158.799 | R20: 45565 | S20: 100865 | T20: 28GP | U20: 28 | V20: LI007 | W20: 10 | X20: EQTY | Y20: 158.799 | Z20: 158.799 | AA20: 84347 | AB20: LIC MF ELSS Tax Saver | AC20: Regular Plan Growth Option | AD20: 45564 | AE20: 160.1216 | AF20: 160.12163 | AG20: -1.3226 | AH20: -0.82599724 | AI20: -301.489 | AJ20: -1.322656 | AK20: -0.82603204 | AL20: -301.5017 | AM20: LIC MF ELSS Tax Saver | AN20: LIC28 | AP20: Regular | AQ20: INF767K01956 | AT20: 30 | AU20: LIC
A21: =K21&B21 -> LETF50G | B21: =VLOOKUP(J21,'Scheme master'!B:AA,25,0) -> G | C21: =VLOOKUP(J21,'Scheme master'!B:Q,16,0) -> 10 | D21: =(M21+E21)*C21/10000000 -> 31.085671 | E21: =SUMIF('PHY rollback'!A:A,J21,'PHY rollback'!G:G) -> 0 | F21: =N21/10000000 -> 881.59282 | G21: =IF(M21<=0,0,Q21) -> 283.601 | H21: =SUMIF(K:K,K21,F:F)-P21/10000000 -> 0 | I21: =VLOOKUP(K21,'Scheme master'!F:R,13,0) -> Live | J21: LETF50G | K21: LETF50 | L21: G | M21: 31085671 | N21: 8.8159282e+09 | O21: 283.60103 | P21: 8.8159282e+09 | Q21: 283.601 | R21: 45565 | S21: 135607 | T21: 175GP | U21: 175 | V21: LI436 | W21: 10 | X21: EQTY | Y21: 283.601 | Z21: 283.601 | AA21: 84343 | AB21: LIC MF Nifty 50 ETF | AC21: Growth Option | AD21: 45564 | AE21: 287.6132 | AF21: 287.61316 | AG21: -4.0122 | AH21: -1.3949986 | AI21: -509.1745 | AJ21: -4.0121314 | AK21: -1.3949749 | AL21: -509.1658 | AM21: LIC MF Nifty 50 ETF | AN21: LIC175 | AP21: Growth | AQ21: INF767K01OS7 | AR21: 539480 | AS21: LICNETFN50 | AT21: 30 | AU21: LIC
A22: =K22&B22 -> LETFSXG | B22: =VLOOKUP(J22,'Scheme master'!B:AA,25,0) -> G | C22: =VLOOKUP(J22,'Scheme master'!B:Q,16,0) -> 10 | D22: =(M22+E22)*C22/10000000 -> 9.366151 | E22: =SUMIF('PHY rollback'!A:A,J22,'PHY rollback'!G:G) -> 0 | F22: =N22/10000000 -> 874.60998 | G22: =IF(M22<=0,0,Q22) -> 933.7987 | H22: =SUMIF(K:K,K22,F:F)-P22/10000000 -> 0 | I22: =VLOOKUP(K22,'Scheme master'!F:R,13,0) -> Live | J22: LETFSXG | K22: LETFSX | L22: G | M22: 9366151 | N22: 8.7460998e+09 | O22: 933.79871 | P22: 8.7460998e+09 | Q22: 933.7987 | R22: 45565 | S22: 135672 | T22: 176GP | U22: 176 | V22: LI437 | W22: 10 | X22: EQTY | Y22: 933.7987 | Z22: 933.7987 | AA22: 84344 | AB22: LIC MF BSE Sensex ETF | AC22: Growth Option | AD22: 45564 | AE22: 947.855 | AF22: 947.85503 | AG22: -14.0563 | AH22: -1.4829589 | AI22: -541.28 | AJ22: -14.056313 | AK22: -1.4829603 | AL22: -541.2805 | AM22: LIC MF S & P BSE Sensex ETF | AN22: LIC176 | AP22: Growth | AQ22: INF767K01OT5 | AR22: 539487 | AS22: LICNETFSEN | AT22: 30 | AU22: LIC
A23: =K23&B23 -> LEULISDD | B23: =VLOOKUP(J23,'Scheme master'!B:AA,25,0) -> DD | C23: =VLOOKUP(J23,'Scheme master'!B:Q,16,0) -> 10 | D23: =(M23+E23)*C23/10000000 -> 4.940142 | E23: =SUMIF('PHY rollback'!A:A,J23,'PHY rollback'!G:G) -> 0 | F23: =N23/10000000 -> 20.313164 | G23: =IF(M23<=0,0,Q23) -> 41.1186 | H23: =SUMIF(K:K,K23,F:F)-P23/10000000 -> 0 | I23: =VLOOKUP(K23,'Scheme master'!F:R,13,0) -> Live | J23: LEULISDDP | K23: LEULIS | L23: DDP | M23: 4940142 | N23: 2.0313164e+08 | O23: 41.118583 | P23: 5.247387e+09 | Q23: 41.1186 | R23: 45565 | S23: 120259 | T23: 02V4 | U23: 2 | V23: LI182 | W23: 10 | X23: EQTY | Y23: 41.1186 | Z23: 41.1186 | AA23: 84318 | AB23: LIC MF Unit Linked Insurance Sch(ULIS) | AC23: Direct Plan IDCW Option | AD23: 45564 | AE23: 41.5073 | AF23: 41.507318 | AG23: -0.3887 | AH23: -0.93646178 | AI23: -341.8085 | AJ23: -0.38873487 | AK23: -0.93654539 | AL23: -341.8391 | AM23: LIC MF Unit Linked Insurance Scheme | AN23: LIC02 | AP23: Direct | AQ23: INF767K01DO9 | AT23: 30 | AU23: LIC
A24: =K24&B24 -> LEULISRD | B24: =VLOOKUP(J24,'Scheme master'!B:AA,25,0) -> RD | C24: =VLOOKUP(J24,'Scheme master'!B:Q,16,0) -> 10 | D24: =(M24+E24)*C24/10000000 -> 135.26165 | E24: =SUMIF('PHY rollback'!A:A,J24,'PHY rollback'!G:G) -> 0 | F24: =N24/10000000 -> 504.42554 | G24: =IF(M24<=0,0,Q24) -> 37.2926 | H24: =SUMIF(K:K,K24,F:F)-P24/10000000 -> 0 | I24: =VLOOKUP(K24,'Scheme master'!F:R,13,0) -> Live | J24: LEULISRD | K24: LEULIS | L24: RD | M24: 1.3526165e+08 | N24: 5.0442554e+09 | O24: 37.292576 | P24: 5.247387e+09 | Q24: 37.2926 | R24: 45565 | S24: 100325 | T24: 02VS | U24: 2 | V24: LI008 | W24: 10 | X24: EQTY | Y24: 37.2926 | Z24: 37.2926 | AA24: 84317 | AB24: LIC MF Unit Linked Insurance Sch(ULIS) | AC24: Regular Plan IDCW Option | AD24: 45564 | AE24: 37.6461 | AF24: 37.646088 | AG24: -0.3535 | AH24: -0.93900829 | AI24: -342.738 | AJ24: -0.35351288 | AK24: -0.93904279 | AL24: -342.7506 | AM24: LIC MF Unit Linked Insurance Scheme | AN24: LIC02 | AP24: Regular | AQ24: INF767K01964 | AT24: 30 | AU24: LIC
A25: =K25&B25 -> LLIQDFDDD | B25: =VLOOKUP(J25,'Scheme master'!B:AA,25,0) -> DDD | C25: =VLOOKUP(J25,'Scheme master'!B:Q,16,0) -> 1000 | D25: =(M25+E25)*C25/10000000 -> 90.749025 | E25: =SUMIF('PHY rollback'!A:A,J25,'PHY rollback'!G:G) -> 0 | F25: =N25/10000000 -> 93.777546 | G25: =IF(M25<=0,0,Q25) -> 1033.3725 | H25: =SUMIF(K:K,K25,F:F)-P25/10000000 -> 0 | I25: =VLOOKUP(K25,'Scheme master'!F:R,13,0) -> Live | J25: LLIQDFDDP | K25: LLIQDF | L25: DDP | M25: 907490.25 | N25: 9.3777546e+08 | O25: 1033.3725 | P25: 8.924064e+10 | Q25: 1033.3725 | R25: 45565 | S25: 120248 | T25: 36D1 | U25: 36 | V25: LI186 | W25: 1000 | X25: LIQD | Y25: 1033.3725 | Z25: 1033.3725 | AA25: 84376 | AB25: LIC MF Liquid Fund | AC25: Direct Plan IDCW Option | AD25: 45564 | AE25: 1033.3725 | AF25: 1033.3725 | AG25: 0 | AH25: 0 | AI25: 0 | AJ25: 8.16301e-09 | AK25: 7.89938e-10 | AL25: 0 | AM25: LIC MF Liquid Fund | AN25: LIC36 | AP25: Direct | AQ25: INF767K01DL5/INF767K01DM3 | AT25: 30 | AU25: LIC
A26: =K26&B26 -> LLIQDFDG | B26: =VLOOKUP(J26,'Scheme master'!B:AA,25,0) -> DG | C26: =VLOOKUP(J26,'Scheme master'!B:Q,16,0) -> 1000 | D26: =(M26+E26)*C26/10000000 -> 1705.7956 | E26: =SUMIF('PHY rollback'!A:A,J26,'PHY rollback'!G:G) -> 0 | F26: =N26/10000000 -> 7753.187 | G26: =IF(M26<=0,0,Q26) -> 4545.2029 | H26: =SUMIF(K:K,K26,F:F)-P26/10000000 -> 0 | I26: =VLOOKUP(K26,'Scheme master'!F:R,13,0) -> Live | J26: LLIQDFGDP | K26: LLIQDF | L26: GDP | M26: 17057956 | N26: 7.753187e+10 | O26: 4545.2029 | P26: 8.924064e+10 | Q26: 4545.2029 | R26: 45565 | S26: 120249 | T26: 36G1 | U26: 36 | V26: LI187 | W26: 1000 | X26: LIQD | Y26: 4545.2029 | Z26: 4545.2029 | AA26: 84377 | AB26: LIC MF Liquid Fund | AC26: Direct Plan Growth Option | AD26: 45564 | AE26: 4543.7332 | AF26: 4543.7332 | AG26: 1.4697 | AH26: 0.032345649 | AI26: 11.8062 | AJ26: 1.4696985 | AK26: 0.032345617 | AL26: 11.8062 | AM26: LIC MF Liquid Fund | AN26: LIC36 | AP26: Direct | AQ26: INF767K01DN1 | AT26: 30 | AU26: LIC
A27: =K27&B27 -> LLIQDFDDM | B27: =VLOOKUP(J27,'Scheme master'!B:AA,25,0) -> DDM | C27: =VLOOKUP(J27,'Scheme master'!B:Q,16,0) -> 1000 | D27: =(M27+E27)*C27/10000000 -> 0.1906715 | E27: =SUMIF('PHY rollback'!A:A,J27,'PHY rollback'!G:G) -> 0 | F27: =N27/10000000 -> 0.21037544 | G27: =IF(M27<=0,0,Q27) -> 1103.3397 | H27: =SUMIF(K:K,K27,F:F)-P27/10000000 -> 0 | I27: =VLOOKUP(K27,'Scheme master'!F:R,13,0) -> Live | J27: LLIQDFMDP | K27: LLIQDF | L27: MDP | M27: 1906.715 | N27: 2103754.4 | O27: 1103.3397 | P27: 8.924064e+10 | Q27: 1103.3397 | R27: 45565 | S27: 151930 | T27: 36M1 | U27: 36 | W27: 1000 | X27: LIQD | Y27: 1103.3397 | Z27: 1103.3397 | AA27: 160170 | AB27: LIC MF Liquid Fund | AC27: Direct Plan Monthly IDCW Option | AD27: 45564 | AE27: 1102.983 | AF27: 1102.983 | AG27: 0.3567 | AH27: 0.032339574 | AI27: 11.8039 | AJ27: 0.3567497 | AK27: 0.03234408 | AL27: 11.8056 | AM27: LIC MF Liquid Fund | AN27: LIC36 | AP27: Direct | AT27: 30 | AU27: LIC
A28: =K28&B28 -> LLIQDFRDD | B28: =VLOOKUP(J28,'Scheme master'!B:AA,25,0) -> RDD | C28: =VLOOKUP(J28,'Scheme master'!B:Q,16,0) -> 1000 | D28: =(M28+E28)*C28/10000000 -> 6.705978 | E28: =SUMIF('PHY rollback'!A:A,J28,'PHY rollback'!G:G) -> 0 | F28: =N28/10000000 -> 6.7071522 | G28: =IF(M28<=0,0,Q28) -> 1000.1751 | H28: =SUMIF(K:K,K28,F:F)-P28/10000000 -> 0 | I28: =VLOOKUP(K28,'Scheme master'!F:R,13,0) -> Live | J28: LLIQDFRDD | K28: LLIQDF | L28: RDD | M28: 67059.78 | N28: 67071522 | O28: 1000.1751 | P28: 8.924064e+10 | Q28: 1000.1751 | R28: 45565 | S28: 101184 | T28: 36DP | U28: 36 | V28: LI013 | W28: 1000 | X28: LIQD | Y28: 1000.1751 | Z28: 1000.1751 | AA28: 84374 | AB28: LIC MF Liquid Fund | AC28: Regular Daily IDCW Option | AD28: 45564 | AE28: 1000.1751 | AF28: 1000.1751 | AG28: 0 | AH28: 0 | AI28: 0 | AJ28: -1.193783e-07 | AK28: -1.193574e-08 | AL28: 0 | AM28: LIC MF Liquid Fund | AN28: LIC36 | AP28: Regular | AQ28: INF767K01IQ3/INF767K01IR1 | AT28: 30 | AU28: LIC
A29: =K29&B29 -> LLIQDFRG | B29: =VLOOKUP(J29,'Scheme master'!B:AA,25,0) -> RG | C29: =VLOOKUP(J29,'Scheme master'!B:Q,16,0) -> 1000 | D29: =(M29+E29)*C29/10000000 -> 238.34414 | E29: =SUMIF('PHY rollback'!A:A,J29,'PHY rollback'!G:G) -> 0 | F29: =N29/10000000 -> 1069.1098 | G29: =IF(M29<=0,0,Q29) -> 4485.5719 | H29: =SUMIF(K:K,K29,F:F)-P29/10000000 -> 0 | I29: =VLOOKUP(K29,'Scheme master'!F:R,13,0) -> Live | J29: LLIQDFRG | K29: LLIQDF | L29: RG | M29: 2383441.4 | N29: 1.0691098e+10 | O29: 4485.5719 | P29: 8.924064e+10 | Q29: 4485.5719 | R29: 45565 | S29: 101185 | T29: 36GP | U29: 36 | V29: LI014 | W29: 1000 | X29: LIQD | Y29: 4485.5719 | Z29: 4485.5719 | AA29: 84375 | AB29: LIC MF Liquid Fund | AC29: Regular Plan Growth Option | AD29: 45564 | AE29: 4484.1277 | AF29: 4484.1277 | AG29: 1.4442 | AH29: 0.032206933 | AI29: 11.7555 | AJ29: 1.4441924 | AK29: 0.032206763 | AL29: 11.7555 | AM29: LIC MF Liquid Fund | AN29: LIC36 | AP29: Regular | AQ29: INF767K01IS9 | AT29: 30 | AU29: LIC
A30: =K30&B30 -> LLIQDFRDM | B30: =VLOOKUP(J30,'Scheme master'!B:AA,25,0) -> RDM | C30: =VLOOKUP(J30,'Scheme master'!B:Q,16,0) -> 1000 | D30: =(M30+E30)*C30/10000000 -> 0.0867492 | E30: =SUMIF('PHY rollback'!A:A,J30,'PHY rollback'!G:G) -> 0 | F30: =N30/10000000 -> 0.094269094 | G30: =IF(M30<=0,0,Q30) -> 1086.6855 | H30: =SUMIF(K:K,K30,F:F)-P30/10000000 -> 0 | I30: =VLOOKUP(K30,'Scheme master'!F:R,13,0) -> Live | J30: LLIQDFRMD | K30: LLIQDF | L30: RMD | M30: 867.492 | N30: 942690.94 | O30: 1086.6855 | P30: 8.924064e+10 | Q30: 1086.6855 | R30: 45565 | S30: 151928 | T30: 36MD | U30: 36 | W30: 1000 | X30: LIQD | Y30: 1086.6855 | Z30: 1086.6855 | AA30: 160169 | AB30: LIC MF Liquid Fund | AC30: Regular Plan Monthly IDCW Option | AD30: 45564 | AE30: 1086.3356 | AF30: 1086.3356 | AG30: 0.3499 | AH30: 0.032209199 | AI30: 11.7564 | AJ30: 0.34986289 | AK30: 0.032205784 | AL30: 11.7551 | AM30: LIC MF Liquid Fund | AN30: LIC36 | AP30: Regular | AT30: 30 | AU30: LIC
A31: =K31&B31 -> LLIQDFRDW | B31: =VLOOKUP(J31,'Scheme master'!B:AA,25,0) -> RDW | C31: =VLOOKUP(J31,'Scheme master'!B:Q,16,0) -> 1000 | D31: =(M31+E31)*C31/10000000 -> 0.8503612 | E31: =SUMIF('PHY rollback'!A:A,J31,'PHY rollback'!G:G) -> 0 | F31: =N31/10000000 -> 0.85213093 | G31: =IF(M31<=0,0,Q31) -> 1002.0811 | H31: =SUMIF(K:K,K31,F:F)-P31/10000000 -> 0 | I31: =VLOOKUP(K31,'Scheme master'!F:R,13,0) -> Live | J31: LLIQDFRWD | K31: LLIQDF | L31: RWD | M31: 8503.612 | N31: 8521309.3 | O31: 1002.0811 | P31: 8.924064e+10 | Q31: 1002.0811 | R31: 45565 | S31: 151927 | T31: 36WD | U31: 36 | W31: 1000 | X31: LIQD | Y31: 1002.0811 | Z31: 1002.0811 | AA31: 160167 | AB31: LIC MF Liquid Fund | AC31: Regular Plan Weekly IDCW Option | AD31: 45564 | AE31: 1001.7585 | AF31: 1001.7585 | AG31: 0.3226 | AH31: 0.03220337 | AI31: 11.7542 | AJ31: 0.32263349 | AK31: 0.032206713 | AL31: 11.7555 | AM31: LIC MF Liquid Fund | AN31: LIC36 | AP31: Regular | AT31: 30 | AU31: LIC
A32: =K32&B32 -> LLIQDFDDW | B32: =VLOOKUP(J32,'Scheme master'!B:AA,25,0) -> DDW | C32: =VLOOKUP(J32,'Scheme master'!B:Q,16,0) -> 1000 | D32: =(M32+E32)*C32/10000000 -> 0.1236994 | E32: =SUMIF('PHY rollback'!A:A,J32,'PHY rollback'!G:G) -> 0 | F32: =N32/10000000 -> 0.12570836 | G32: =IF(M32<=0,0,Q32) -> 1016.2407 | H32: =SUMIF(K:K,K32,F:F)-P32/10000000 -> 0 | I32: =VLOOKUP(K32,'Scheme master'!F:R,13,0) -> Live | J32: LLIQDFWDP | K32: LLIQDF | L32: WDP | M32: 1236.994 | N32: 1257083.6 | O32: 1016.2407 | P32: 8.924064e+10 | Q32: 1016.2407 | R32: 45565 | S32: 151932 | T32: 36W1 | U32: 36 | W32: 1000 | X32: LIQD | Y32: 1016.2407 | Z32: 1016.2407 | AA32: 160168 | AB32: LIC MF Liquid Fund | AC32: Direct Plan Weekly IDCW Option | AD32: 45564 | AE32: 1015.9121 | AF32: 1015.9121 | AG32: 0.3286 | AH32: 0.032345318 | AI32: 11.806 | AJ32: 0.3285788 | AK32: 0.032343232 | AL32: 11.8053 | AM32: LIC MF Liquid Fund | AN32: LIC36 | AP32: Direct | AT32: 30 | AU32: LIC
A33: =K33&B33 -> LEGOLDG | B33: =VLOOKUP(J33,'Scheme master'!B:AA,25,0) -> G | C33: =VLOOKUP(J33,'Scheme master'!B:Q,16,0) -> 100 | D33: =(M33+E33)*C33/10000000 -> 2.18976 | E33: =SUMIF('PHY rollback'!A:A,J33,'PHY rollback'!G:G) -> 0 | F33: =N33/10000000 -> 150.51937 | G33: =IF(M33<=0,0,Q33) -> 6873.7838 | H33: =SUMIF(K:K,K33,F:F)-P33/10000000 -> 0 | I33: =VLOOKUP(K33,'Scheme master'!F:R,13,0) -> Live | J33: LEGOLDG | K33: LEGOLD | L33: G | M33: 218976 | N33: 1.5051937e+09 | O33: 6873.7838 | P33: 1.5051937e+09 | Q33: 6873.7838 | R33: 45565 | S33: 151961 | T33: 193GP | U33: 193 | V33: 0 | W33: 1000 | X33: EQTY | Y33: 0 | Z33: 0 | AA33: 0 | AB33: LIC MF Gold Exchange Traded Fund | AC33: Growth Option | AD33: 45564 | AE33: 6889.9049 | AF33: 6889.9049 | AG33: 0 | AH33: 0 | AI33: 0 | AJ33: 0 | AK33: 0 | AL33: 0 | AM33: LIC MF Gold Exchange Traded Fund | AP33: Regular | AR33: 0 | AS33: 0 | AU33: LIC
A34: =K34&B34 -> LEDDYFDD | B34: =VLOOKUP(J34,'Scheme master'!B:AA,25,0) -> DD | C34: =VLOOKUP(J34,'Scheme master'!B:Q,16,0) -> 10 | D34: =(M34+E34)*C34/10000000 -> 0.62955268 | E34: =SUMIF('PHY rollback'!A:A,J34,'PHY rollback'!G:G) -> 0 | F34: =N34/10000000 -> 2.19594 | G34: =IF(M34<=0,0,Q34) -> 34.881 | H34: =SUMIF(K:K,K34,F:F)-P34/10000000 -> 0 | I34: =VLOOKUP(K34,'Scheme master'!F:R,13,0) -> Live | J34: LEDDYFDDP | K34: LEDDYF | L34: DDP | M34: 629552.68 | N34: 21959400 | O34: 34.880957 | P34: 4.361081e+09 | Q34: 34.881 | R34: 45565 | S34: 152021 | T34: 185D1 | U34: 185 | W34: 10 | X34: EQTY | Y34: 34.881 | Z34: 34.881 | AA34: 159545 | AB34: LIC MF Dividend Yield Fund | AC34: Direct Plan IDCW Option | AD34: 45564 | AE34: 34.9952 | AF34: 34.995211 | AG34: -0.1142 | AH34: -0.32633047 | AI34: -119.1106 | AJ34: -0.11425485 | AK34: -0.32648711 | AL34: -119.1678 | AM34: LIC MF Dividend Yield Fund | AN34: LIC185 | AP34: Direct | AT34: 30 | AU34: LIC
A35: =K35&B35 -> LEDDYFDG | B35: =VLOOKUP(J35,'Scheme master'!B:AA,25,0) -> DG | C35: =VLOOKUP(J35,'Scheme master'!B:Q,16,0) -> 10 | D35: =(M35+E35)*C35/10000000 -> 9.4002252 | E35: =SUMIF('PHY rollback'!A:A,J35,'PHY rollback'!G:G) -> 0 | F35: =N35/10000000 -> 32.799283 | G35: =IF(M35<=0,0,Q35) -> 34.892 | H35: =SUMIF(K:K,K35,F:F)-P35/10000000 -> 0 | I35: =VLOOKUP(K35,'Scheme master'!F:R,13,0) -> Live | J35: LEDDYFGDP | K35: LEDDYF | L35: GDP | M35: 9400225.2 | N35: 3.2799283e+08 | O35: 34.892018 | P35: 4.361081e+09 | Q35: 34.892 | R35: 45565 | S35: 152022 | T35: 185G1 | U35: 185 | W35: 10 | X35: EQTY | Y35: 34.892 | Z35: 34.892 | AA35: 159546 | AB35: LIC MF Dividend Yield Fund | AC35: Direct Plan Growth Option | AD35: 45564 | AE35: 35.0063 | AF35: 35.006299 | AG35: -0.1143 | AH35: -0.32651266 | AI35: -119.1771 | AJ35: -0.11428138 | AK35: -0.32645948 | AL35: -119.1577 | AM35: LIC MF Dividend Yield Fund | AN35: LIC185 | AP35: Direct | AT35: 30 | AU35: LIC
A36: =K36&B36 -> LEDDYFRD | B36: =VLOOKUP(J36,'Scheme master'!B:AA,25,0) -> RD | C36: =VLOOKUP(J36,'Scheme master'!B:Q,16,0) -> 10 | D36: =(M36+E36)*C36/10000000 -> 2.5761768 | E36: =SUMIF('PHY rollback'!A:A,J36,'PHY rollback'!G:G) -> 0 | F36: =N36/10000000 -> 8.3976508 | G36: =IF(M36<=0,0,Q36) -> 32.5973 | H36: =SUMIF(K:K,K36,F:F)-P36/10000000 -> 0 | I36: =VLOOKUP(K36,'Scheme master'!F:R,13,0) -> Live | J36: LEDDYFRD | K36: LEDDYF | L36: RD | M36: 2576176.8 | N36: 83976508 | O36: 32.597338 | P36: 4.361081e+09 | Q36: 32.5973 | R36: 45565 | S36: 152020 | T36: 185DP | U36: 185 | W36: 10 | X36: EQTY | Y36: 32.5973 | Z36: 32.5973 | AA36: 159543 | AB36: LIC MF Dividend Yield Fund | AC36: Regular Plan IDCW Option | AD36: 45564 | AE36: 32.705 | AF36: 32.705036 | AG36: -0.1077 | AH36: -0.32930745 | AI36: -120.1972 | AJ36: -0.10769757 | AK36: -0.32929966 | AL36: -120.1944 | AM36: LIC MF Dividend Yield Fund | AN36: LIC185 | AP36: Regular | AT36: 30 | AU36: LIC
A37: =K37&B37 -> LEDDYFRG | B37: =VLOOKUP(J37,'Scheme master'!B:AA,25,0) -> RG | C37: =VLOOKUP(J37,'Scheme master'!B:Q,16,0) -> 10 | D37: =(M37+E37)*C37/10000000 -> 120.47266 | E37: =SUMIF('PHY rollback'!A:A,J37,'PHY rollback'!G:G) -> 0 | F37: =N37/10000000 -> 392.71522 | G37: =IF(M37<=0,0,Q37) -> 32.5979 | H37: =SUMIF(K:K,K37,F:F)-P37/10000000 -> 0 | I37: =VLOOKUP(K37,'Scheme master'!F:R,13,0) -> Live | J37: LEDDYFRG | K37: LEDDYF | L37: RG | M37: 1.2047266e+08 | N37: 3.9271522e+09 | O37: 32.597871 | P37: 4.361081e+09 | Q37: 32.5979 | R37: 45565 | S37: 152019 | T37: 185GP | U37: 185 | W37: 10 | X37: EQTY | Y37: 32.5979 | Z37: 32.5979 | AA37: 159544 | AB37: LIC MF Dividend Yield Fund | AC37: Regular Plan Growth Option | AD37: 45564 | AE37: 32.7056 | AF37: 32.705568 | AG37: -0.1077 | AH37: -0.3293014 | AI37: -120.195 | AJ37: -0.10769662 | AK37: -0.32929138 | AL37: -120.1914 | AM37: LIC MF Dividend Yield Fund | AN37: LIC185 | AP37: Regular | AT37: 30 | AU37: LIC
A38: =K38&B38 -> LEDHCFDD | B38: =VLOOKUP(J38,'Scheme master'!B:AA,25,0) -> DD | C38: =VLOOKUP(J38,'Scheme master'!B:Q,16,0) -> 10 | D38: =(M38+E38)*C38/10000000 -> 0.19563611 | E38: =SUMIF('PHY rollback'!A:A,J38,'PHY rollback'!G:G) -> 0 | F38: =N38/10000000 -> 0.62629184 | G38: =IF(M38<=0,0,Q38) -> 32.0131 | H38: =SUMIF(K:K,K38,F:F)-P38/10000000 -> 0 | I38: =VLOOKUP(K38,'Scheme master'!F:R,13,0) -> Live | J38: LEDHCFDDP | K38: LEDHCF | L38: DDP | M38: 195636.11 | N38: 6262918.4 | O38: 32.013101 | P38: 7.5049484e+08 | Q38: 32.0131 | R38: 45565 | S38: 152023 | T38: 188D1 | U38: 188 | W38: 10 | X38: EQTY | Y38: 32.0131 | Z38: 32.0131 | AA38: 159571 | AB38: LIC MF Healthcare Fund | AC38: Direct Plan IDCW Option | AD38: 45564 | AE38: 32.1276 | AF38: 32.1276 | AG38: -0.1145 | AH38: -0.35639139 | AI38: -130.0829 | AJ38: -0.11449972 | AK38: -0.35639052 | AL38: -130.0825 | AM38: LIC MF Healthcare Fund | AN38: LIC188 | AP38: Direct | AT38: 30 | AU38: LIC
A39: =K39&B39 -> LEDHCFDG | B39: =VLOOKUP(J39,'Scheme master'!B:AA,25,0) -> DG | C39: =VLOOKUP(J39,'Scheme master'!B:Q,16,0) -> 10 | D39: =(M39+E39)*C39/10000000 -> 3.0234514 | E39: =SUMIF('PHY rollback'!A:A,J39,'PHY rollback'!G:G) -> 0 | F39: =N39/10000000 -> 9.6805126 | G39: =IF(M39<=0,0,Q39) -> 32.0181 | H39: =SUMIF(K:K,K39,F:F)-P39/10000000 -> 0 | I39: =VLOOKUP(K39,'Scheme master'!F:R,13,0) -> Live | J39: LEDHCFGDP | K39: LEDHCF | L39: GDP | M39: 3023451.4 | N39: 96805126 | O39: 32.018086 | P39: 7.5049484e+08 | Q39: 32.0181 | R39: 45565 | S39: 152024 | T39: 188G1 | U39: 188 | W39: 10 | X39: EQTY | Y39: 32.0181 | Z39: 32.0181 | AA39: 159572 | AB39: LIC MF Healthcare Fund | AC39: Direct Plan Growth Option | AD39: 45564 | AE39: 32.1326 | AF39: 32.132593 | AG39: -0.1145 | AH39: -0.35633593 | AI39: -130.0626 | AJ39: -0.11450745 | AK39: -0.3563592 | AL39: -130.0711 | AM39: LIC MF Healthcare Fund | AN39: LIC188 | AP39: Direct | AT39: 30 | AU39: LIC
A40: =K40&B40 -> LEDHCFRD | B40: =VLOOKUP(J40,'Scheme master'!B:AA,25,0) -> RD | C40: =VLOOKUP(J40,'Scheme master'!B:Q,16,0) -> 10 | D40: =(M40+E40)*C40/10000000 -> 0.42158225 | E40: =SUMIF('PHY rollback'!A:A,J40,'PHY rollback'!G:G) -> 0 | F40: =N40/10000000 -> 1.2488574 | G40: =IF(M40<=0,0,Q40) -> 29.6231 | H40: =SUMIF(K:K,K40,F:F)-P40/10000000 -> 0 | I40: =VLOOKUP(K40,'Scheme master'!F:R,13,0) -> Live | J40: LEDHCFRD | K40: LEDHCF | L40: RD | M40: 421582.25 | N40: 12488574 | O40: 29.623101 | P40: 7.5049484e+08 | Q40: 29.6231 | R40: 45565 | S40: 152026 | T40: 188DP | U40: 188 | W40: 10 | X40: EQTY | Y40: 29.6231 | Z40: 29.6231 | AA40: 159569 | AB40: LIC MF Healthcare Fund | AC40: Regular Plan IDCW Option | AD40: 45564 | AE40: 29.73 | AF40: 29.730046 | AG40: -0.1069 | AH40: -0.35956946 | AI40: -131.2429 | AJ40: -0.10694511 | AK40: -0.35972063 | AL40: -131.298 | AM40: LIC MF Healthcare Fund | AN40: LIC188 | AP40: Regular | AT40: 30 | AU40: LIC
A41: =K41&B41 -> LEDHCFRG | B41: =VLOOKUP(J41,'Scheme master'!B:AA,25,0) -> RG | C41: =VLOOKUP(J41,'Scheme master'!B:Q,16,0) -> 10 | D41: =(M41+E41)*C41/10000000 -> 21.434172 | E41: =SUMIF('PHY rollback'!A:A,J41,'PHY rollback'!G:G) -> 0 | F41: =N41/10000000 -> 63.493822 | G41: =IF(M41<=0,0,Q41) -> 29.6227 | H41: =SUMIF(K:K,K41,F:F)-P41/10000000 -> 0 | I41: =VLOOKUP(K41,'Scheme master'!F:R,13,0) -> Live | J41: LEDHCFRG | K41: LEDHCF | L41: RG | M41: 21434172 | N41: 6.3493822e+08 | O41: 29.622708 | P41: 7.5049484e+08 | Q41: 29.6227 | R41: 45565 | S41: 152025 | T41: 188GP | U41: 188 | W41: 10 | X41: EQTY | Y41: 29.6227 | Z41: 29.6227 | AA41: 159570 | AB41: LIC MF Healthcare Fund | AC41: Regular Plan Growth Option | AD41: 45564 | AE41: 29.7297 | AF41: 29.729652 | AG41: -0.107 | AH41: -0.35990945 | AI41: -131.3669 | AJ41: -0.1069437 | AK41: -0.35972066 | AL41: -131.298 | AM41: LIC MF Healthcare Fund | AN41: LIC188 | AP41: Regular | AT41: 30 | AU41: LIC
...

Sheet CHY rollback
A1: Concatenate | B1: SCHEME | C1: SCHCLASS | D1: TRAN_TYPE | E1: VALUE_DATE | F1: NAV | G1: TRADES_UNI | H1: TRADES_AMO | I1: LOAD | J1: UPR_AMT | K1: EQ_AMT | L1: TDS | M1: STTAMT | N1: TRANSFEE | O1: SCH_LOAD | P1: BCLOSEDT | Q1: CGS_TAX | R1: SGS_TAX | S1: IGS_TAX | T1: GAINAMT
A2: =INDEX('Scheme master'!B:B,MATCH(B2&C2,'Scheme master'!C:C,0),0) -> #N/A
A3: =INDEX('Scheme master'!B:B,MATCH(B3&C3,'Scheme master'!C:C,0),0) -> #N/A
A4: =INDEX('Scheme master'!B:B,MATCH(B4&C4,'Scheme master'!C:C,0),0) -> #N/A
A5: =INDEX('Scheme master'!B:B,MATCH(B5&C5,'Scheme master'!C:C,0),0) -> #N/A

Sheet CHY simnav
