Workbook
Name Hedging_Positions_through_Futures_AS_ON_MMMM_DD__YYYY___NIL: #REF!
Name Hedging_Positions_through_Futures_AS_ON_MMMM_DD__YYYY___NIL: #REF!
Name JPM_Footer_disp: #REF!
Name JPM_Footer_disp: #REF!
Name JPM_Footer_disp12: #REF!
Name JPM_Footer_disp12: #REF!

Sheet Scheme master
A1: System concatenate | B1: RTA concatenate | C1: AMFI code | D1: Scheme code | E1: Scheme name | F1: Plan code | G1: Plan name | H1: RTA code | I1: RTA code 1 | J1: Plan type | K1: Face value | L1: Status | M1: HY plan | N1: HY plan name | O1: DB code
A2: =D2&F2 -> LSPLUSG | B2: =I2 -> 89 | D2: LSPLUS | E2: LIC MF Special Unit Scheme | F2: G | G2: Growth Option | I2: 89 | J2: Growth | K2: 10 | L2: Live | M2: RG | N2: Growth Option | O2: 0
A3: =D3&F3 -> LUNCLFURM | B3: =I3 -> 139GR | D3: LUNCLF | E3: LIC MF Unclaimed Redemption & Div Fund | F3: URM | G3: Redemption more than 3 yrs | H3: UCGR | I3: 139GR | J3: Unclaimed | K3: 10 | L3: Live | M3: UMR | N3: Unclaimed Redemption more than 3 yrs | O3: 0
A4: =D4&F4 -> LUNCLFUDL | B4: =I4 -> 139LD | D4: LUNCLF | E4: LIC MF Unclaimed Redemption & Div Fund | F4: UDL | G4: Dividend less than 3 yrs | H4: UCLD | I4: 139LD | J4: Unclaimed | K4: 10 | L4: Live | M4: ULD | N4: Unclaimed Dividend less than 3 yrs | O4: 0
A5: =D5&F5 -> LUNCLFUDM | B5: =I5 -> 139GD | D5: LUNCLF | E5: LIC MF Unclaimed Redemption & Div Fund | F5: UDM | G5: Dividend more than 3 yrs | H5: UCGD | I5: 139GD | J5: Unclaimed | K5: 10 | L5: Live | M5: UMD | N5: Unclaimed Dividend more than 3 yrs | O5: 0
A6: =D6&F6 -> LUNCLFURL | B6: =I6 -> 139LR | D6: LUNCLF | E6: LIC MF Unclaimed Redemption & Div Fund | F6: URL | G6: Redemption less than 3 yrs | H6: UCLR | I6: 139LR | J6: Unclaimed | K6: 10 | L6: Live | M6: ULR | N6: Unclaimed Redemption less than 3 yrs | O6: 0
A7: =D7&F7 -> LEULISRD | B7: =I7 -> 02VS | C7: 100325 | D7: LEULIS | E7: LIC MF Unit Linked Insurance Scheme (ULIS) | F7: RD | G7: Dividend Option | H7: ULVS | I7: 02VS | J7: Regular | K7: 10 | L7: Live | M7: RD | N7: Regular Plan - Dividend Option | O7: LIC02
A8: =D8&F8 -> LEULISDDP | B8: =I8 -> 02V4 | C8: 120259 | D8: LEULIS | E8: LIC MF Unit Linked Insurance Scheme (ULIS) | F8: DDP | G8: Dividend Option | H8: ULV4 | I8: 02V4 | J8: Direct | K8: 10 | L8: Live | M8: DD | N8: Direct Plan - Dividend Option | O8: LIC02
A9: =D9&F9 -> LEULISRD | B9: =I9 -> 02TS | C9: 134846 | D9: LEULIS | E9: LIC MF Unit Linked Insurance Scheme (ULIS) | F9: RD | G9: Dividend Option | H9: ULTS | I9: 02TS | J9: Regular | K9: 10 | L9: Live | M9: RD | N9: Regular Plan - Dividend Option | O9: LIC02
A10: =D10&F10 -> LEULISRD | B10: =I10 -> 02TM | C10: 134847 | D10: LEULIS | E10: LIC MF Unit Linked Insurance Scheme (ULIS) | F10: RD | G10: Dividend Option | H10: ULTM | I10: 02TM | J10: Regular | K10: 10 | L10: Live | M10: RD | N10: Regular Plan - Dividend Option | O10: LIC02
A11: =D11&F11 -> LEULISRD | B11: =I11 -> 02XM | C11: 134863 | D11: LEULIS | E11: LIC MF Unit Linked Insurance Scheme (ULIS) | F11: RD | G11: Dividend Option | H11: ULXM | I11: 02XM | J11: Regular | K11: 10 | L11: Live | M11: RD | N11: Regular Plan - Dividend Option | O11: LIC02
A12: =D12&F12 -> LEULISRD | B12: =I12 -> 02TY | C12: 134864 | D12: LEULIS | E12: LIC MF Unit Linked Insurance Scheme (ULIS) | F12: RD | G12: Dividend Option | H12: ULTY | I12: 02TY | J12: Regular | K12: 10 | L12: Live | M12: RD | N12: Regular Plan - Dividend Option | O12: LIC02
A13: =D13&F13 -> LEULISRD | B13: =I13 -> 02TH | C13: 134865 | D13: LEULIS | E13: LIC MF Unit Linked Insurance Scheme (ULIS) | F13: RD | G13: Dividend Option | H13: ULTH | I13: 02TH | J13: Regular | K13: 10 | L13: Live | M13: RD | N13: Regular Plan - Dividend Option | O13: LIC02
A14: =D14&F14 -> LEULISRD | B14: =I14 -> 02XH | C14: 134867 | D14: LEULIS | E14: LIC MF Unit Linked Insurance Scheme (ULIS) | F14: RD | G14: Dividend Option | H14: ULXH | I14: 02XH | J14: Regular | K14: 10 | L14: Live | M14: RD | N14: Regular Plan - Dividend Option | O14: LIC02
A15: =D15&F15 -> LEULISRD | B15: =I15 -> 02XY | C15: 134868 | D15: LEULIS | E15: LIC MF Unit Linked Insurance Scheme (ULIS) | F15: RD | G15: Dividend Option | H15: ULXY | I15: 02XY | J15: Regular | K15: 10 | L15: Live | M15: RD | N15: Regular Plan - Dividend Option | O15: LIC02
A16: =D16&F16 -> LEULISRD | B16: =I16 -> 02FM | C16: 134869 | D16: LEULIS | E16: LIC MF Unit Linked Insurance Scheme (ULIS) | F16: RD | G16: Dividend Option | H16: ULFM | I16: 02FM | J16: Regular | K16: 10 | L16: Live | M16: RD | N16: Regular Plan - Dividend Option | O16: LIC02
A17: =D17&F17 -> LEULISRD | B17: =I17 -> 02FH | C17: 134870 | D17: LEULIS | E17: LIC MF Unit Linked Insurance Scheme (ULIS) | F17: RD | G17: Dividend Option | H17: ULFH | I17: 02FH | J17: Regular | K17: 10 | L17: Live | M17: RD | N17: Regular Plan - Dividend Option | O17: LIC02
A18: =D18&F18 -> LEULISRD | B18: =I18 -> 02FY | C18: 134871 | D18: LEULIS | E18: LIC MF Unit Linked Insurance Scheme (ULIS) | F18: RD | G18: Dividend Option | H18: ULFY | I18: 02FY | J18: Regular | K18: 10 | L18: Live | M18: RD | N18: Regular Plan - Dividend Option | O18: LIC02
... A164: =D164&F164 -> LDUSTFMDP | B164: =I164 -> 181M1 | C164: 147773 | D164: LDUSTF | E164: LIC MF Ultra Short Term Fund | F164: MDP | G164: Monthly Dividend Option | H164: USM1 | I164: 181M1 | J164: Direct | K164: 1000 | L164: Live | M164: DDM | N164: Direct Plan - Monthly Dividend Option | O164: LIC181

Sheet PHY rollback
A1: Concatenate | B1: SCHEME | C1: SCHCLASS | D1: TRAN_TYPE | E1: VALUE_DATE | F1: NAV | G1: TRADES_UNI | H1: TRADES_AMO | I1: LOAD | J1: UPR_AMT | K1: EQ_AMT | L1: TDS | M1: STTAMT | N1: TRANSFEE | O1: SCH_LOAD | P1: BCLOSEDT | Q1: CGS_TAX | R1: SGS_TAX | S1: IGS_TAX | T1: GAINAMT
A2: =INDEX('Scheme master'!A:A,MATCH(B2&C2,'Scheme master'!B:B,0),0) -> #N/A
A3: =INDEX('Scheme master'!A:A,MATCH(B3&C3,'Scheme master'!B:B,0),0) -> #N/A
A4: =INDEX('Scheme master'!A:A,MATCH(B4&C4,'Scheme master'!B:B,0),0) -> #N/A
A5: =INDEX('Scheme master'!A:A,MATCH(B5&C5,'Scheme master'!B:B,0),0) -> #N/A
A6: =INDEX('Scheme master'!A:A,MATCH(B6&C6,'Scheme master'!B:B,0),0) -> #N/A
A7: =INDEX('Scheme master'!A:A,MATCH(B7&C7,'Scheme master'!B:B,0),0) -> #N/A
A8: =INDEX('Scheme master'!A:A,MATCH(B8&C8,'Scheme master'!B:B,0),0) -> #N/A
A9: =INDEX('Scheme master'!A:A,MATCH(B9&C9,'Scheme master'!B:B,0),0) -> #N/A
A10: =INDEX('Scheme master'!A:A,MATCH(B10&C10,'Scheme master'!B:B,0),0) -> #N/A
A11: =INDEX('Scheme master'!A:A,MATCH(B11&C11,'Scheme master'!B:B,0),0) -> #N/A
A12: =INDEX('Scheme master'!A:A,MATCH(B12&C12,'Scheme master'!B:B,0),0) -> #N/A
A13: =INDEX('Scheme master'!A:A,MATCH(B13&C13,'Scheme master'!B:B,0),0) -> #N/A
... A439: =INDEX('Scheme master'!A:A,MATCH(B439&C439,'Scheme master'!B:B,0),0) -> #N/A

Sheet PHY simnav
J1: STANDARD CHARTERED BANK REGIONAL FUND ADMINISTRATION SERVICE | K1: PLAN LEVEL NAV REPORT FROM 31/03/2021 TO 31/03/2021
A2: Concatenate | B2: HY plan code | C2: Face value | D2: Unit capital | E2: Rollback | F2: Net asset | G2: NAV per unit | H2: Check | I2: Status | J2: Fund_ID_Share_Type | K2: Fund_ID | L2: Share_Type | M2: Outstanding_Units | N2: Plan_Level_Net_Assets | O2: Unrounded_NAV | P2: Total_Net_Assets | Q2: Net_Asset_Per_Units | R2: Nav_Date | S2: Amfi_Code | T2: RNT_Code | U2: RNT_Scheme_Code | V2: Press_Code | W2: Benchmark_Index | X2: Fund_Type | Y2: Sub_Price | Z2: Red_Price | AA2: Sec_ID | AB2: Fund_Desc | AC2: Share_Class_Desc | AD2: Per_Nav_Date | AE2: Net_Asset_Per_Unit_Pre_Rounded | AF2: Net_Asset_Per_Unit_Pre_UnRounded | AG2: Movement_Rounded_Nav | AH2: Per_Movement_rounded | AI2: Annual_Return_Rounded | AJ2: Movement_UnRounded_Nav | AK2: Per_Movement_UnRounded | AL2: Annualised_Return_Unrounded | AM2: IN_FA_FF_10 | AN2: IN_FA_FF_11 | AO2: IN_FA_FF_12 | AP2: IN_FA_FF_01 | AQ2: IN_FA_FF_02 | AR2: IN_FA_FF_03 | AS2: IN_FA_FF_09 | AT2: ClientID | AU2: AMC_Group
A3: =K3&B3 -> LDSAPFRG | B3: =VLOOKUP(J3,'Scheme master'!A:M,13,0) -> RG | C3: =VLOOKUP(J3,'Scheme master'!A:K,11,0) -> 10 | D3: =(M3+E3)*C3/10000000 -> 133.35636 | E3: =SUMIF('PHY rollback'!A:A,J3,'PHY rollback'!G:G) -> 0 | F3: =N3/10000000 -> 418.18138 | G3: =IF(M3<=0,0,Q3) -> 31.3582 | H3: =SUMIF(K:K,K3,F:F)-P3/10000000 -> 0 | I3: =VLOOKUP(K3,'Scheme master'!D:L,9,0) -> Live | J3: LDSAPFRG | K3: LDSAPF | L3: RG | M3: 1.3335636e+08 | N3: 4.1818138e+09 | O3: 31.358188 | P3: 8.4473015e+09 | Q3: 31.3582 | R3: 44286 | S3: 101830 | T3: 40GP | U3: 40 | V3: LI022 | W3: 10 | X3: DEBT | Y3: 31.3582 | Z3: 31.3582 | AA3: 84281 | AB3: LIC MF Savings Fund | AC3: Regular Plan Growth Option | AD3: 44285 | AE3: 31.3494 | AF3: 31.349357 | AG3: 0.0088 | AH3: 0.028070713 | AI3: 10.2458 | AJ3: 0.0088304904 | AK3: 0.028168011 | AL3: 10.2813 | AM3: LIC MF Savings Fund | AN3: LIC40 | AP3: Regular | AQ3: INF767K01AO5 | AT3: 30 | AU3: LIC
A4: =K4&B4 -> LDSAPFRDD | B4: =VLOOKUP(J4,'Scheme master'!A:M,13,0) -> RDD | C4: =VLOOKUP(J4,'Scheme master'!A:K,11,0) -> 10 | D4: =(M4+E4)*C4/10000000 -> 24.045787 | E4: =SUMIF('PHY rollback'!A:A,J4,'PHY rollback'!G:G) -> 0 | F4: =N4/10000000 -> 25.139148 | G4: =IF(M4<=0,0,Q4) -> 10.4547 | H4: =SUMIF(K:K,K4,F:F)-P4/10000000 -> 0 | I4: =VLOOKUP(K4,'Scheme master'!D:L,9,0) -> Live | J4: LDSAPFRDD | K4: LDSAPF | L4: RDD | M4: 24045787 | N4: 2.5139148e+08 | O4: 10.4547 | P4: 8.4473015e+09 | Q4: 10.4547 | R4: 44286 | S4: 111676 | T4: 40DD | U4: 40 | V4: LI152 | W4: 10 | X4: DEBT | Y4: 10.4547 | Z4: 10.4547 | AA4: 84278 | AB4: LIC MF Savings Fund | AC4: Regular Daily Dividend Option | AD4: 44285 | AE4: 10.4547 | AF4: 10.4547 | AG4: 0 | AH4: 0 | AI4: 0 | AJ4: -1.90051e-09 | AK4: -1.8178522e-08 | AL4: 0 | AM4: LIC MF Savings Fund | AN4: LIC40 | AP4: Regular | AQ4: INF767K01AK3/INF767K01AL1 | AT4: 30 | AU4: LIC
A5: =K5&B5 -> LDSAPFDDM | B5: =VLOOKUP(J5,'Scheme master'!A:M,13,0) -> DDM | C5: =VLOOKUP(J5,'Scheme master'!A:K,11,0) -> 10 | D5: =(M5+E5)*C5/10000000 -> 0.17160186 | E5: =SUMIF('PHY rollback'!A:A,J5,'PHY rollback'!G:G) -> 0 | F5: =N5/10000000 -> 0.29700923 | G5: =IF(M5<=0,0,Q5) -> 17.308 | H5: =SUMIF(K:K,K5,F:F)-P5/10000000 -> 0 | I5: =VLOOKUP(K5,'Scheme master'!D:L,9,0) -> Live | J5: LDSAPFMDP | K5: LDSAPF | L5: MDP | M5: 171601.86 | N5: 2970092.4 | O5: 17.308043 | P5: 8.4473015e+09 | Q5: 17.308 | R5: 44286 | S5: 120317 | T5: 40M1 | U5: 40 | V5: LI198 | W5: 10 | X5: DEBT | Y5: 17.308 | Z5: 17.308 | AA5: 84284 | AB5: LIC MF Savings Fund | AC5: Direct Plan Monthly Dividend Option | AD5: 44285 | AE5: 17.3029 | AF5: 17.302917 | AG5: 0.0051 | AH5: 0.029474828 | AI5: 10.7583 | AJ5: 0.0051258769 | AK5: 0.029624351 | AL5: 10.8129 | AM5: LIC MF Savings Fund | AN5: LIC40 | AP5: Direct | AQ5: INF767K01FP1/INF767K01FO4 | AT5: 30 | AU5: LIC
A6: =K6&B6 -> LEEQTFDD | B6: =VLOOKUP(J6,'Scheme master'!A:M,13,0) -> DD | C6: =VLOOKUP(J6,'Scheme master'!A:K,11,0) -> 10 | D6: =(M6+E6)*C6/10000000 -> 0.4074136 | E6: =SUMIF('PHY rollback'!A:A,J6,'PHY rollback'!G:G) -> 0 | F6: =N6/10000000 -> 0.90797673 | G6: =IF(M6<=0,0,Q6) -> 22.2864 | H6: =SUMIF(K:K,K6,F:F)-P6/10000000 -> 0 | I6: =VLOOKUP(K6,'Scheme master'!D:L,9,0) -> Live | J6: LEEQTFDDP | K6: LEEQTF | L6: DDP | M6: 407413.6 | N6: 9079767.3 | O6: 22.286363 | P6: 3.5897607e+09 | Q6: 22.2864 | R6: 44286 | S6: 120263 | T6: 17D1 | U6: 17 | V6: LI176 | W6: 10 | X6: EQTY | Y6: 22.2864 | Z6: 22.0635 | AA6: 84333 | AB6: LIC MF Flexi Cap Fund | AC6: Direct Plan Dividend Option | AD6: 44285 | AE6: 22.4112 | AF6: 22.411189 | AG6: -0.1248 | AH6: -0.55686442 | AI6: -203.2555 | AJ6: -0.1248267 | AK6: -0.55698383 | AL6: -203.2991 | AM6: LIC MF Flexi Cap Fund | AN6: LIC17 | AP6: Direct | AQ6: INF767K01EF5/INF767K01EH1 | AT6: 30 | AU6: LIC
A7: =K7&B7 -> LEEQTFDG | B7: =VLOOKUP(J7,'Scheme master'!A:M,13,0) -> DG | C7: =VLOOKUP(J7,'Scheme master'!A:K,11,0) -> 10 | D7: =(M7+E7)*C7/10000000 -> 3.3361112 | E7: =SUMIF('PHY rollback'!A:A,J7,'PHY rollback'!G:G) -> 0 | F7: =N7/10000000 -> 20.289636 | G7: =IF(M7<=0,0,Q7) -> 60.8182 | H7: =SUMIF(K:K,K7,F:F)-P7/10000000 -> 0 | I7: =VLOOKUP(K7,'Scheme master'!D:L,9,0) -> Live | J7: LEEQTFGDP | K7: LEEQTF | L7: GDP | M7: 3336111.2 | N7: 2.0289636e+08 | O7: 60.818222 | P7: 3.5897607e+09 | Q7: 60.8182 | R7: 44286 | S7: 120264 | T7: 17G1 | U7: 17 | V7: LI177 | W7: 10 | X7: EQTY | Y7: 60.8182 | Z7: 60.21 | AA7: 84334 | AB7: LIC MF Flexi Cap Fund | AC7: Direct Plan Growth Option | AD7: 44285 | AE7: 61.1588 | AF7: 61.158783 | AG7: -0.3406 | AH7: -0.55691086 | AI7: -203.2725 | AJ7: -0.34056025 | AK7: -0.55684602 | AL7: -203.2488 | AM7: LIC MF Flexi Cap Fund | AN7: LIC17 | AP7: Direct | AQ7: INF767K01EG3 | AT7: 30 | AU7: LIC
A8: =K8&B8 -> LEEQTFRD | B8: =VLOOKUP(J8,'Scheme master'!A:M,13,0) -> RD | C8: =VLOOKUP(J8,'Scheme master'!A:K,11,0) -> 10 | D8: =(M8+E8)*C8/10000000 -> 13.474917 | E8: =SUMIF('PHY rollback'!A:A,J8,'PHY rollback'!G:G) -> 0 | F8: =N8/10000000 -> 25.300344 | G8: =IF(M8<=0,0,Q8) -> 18.7759 | H8: =SUMIF(K:K,K8,F:F)-P8/10000000 -> 0 | I8: =VLOOKUP(K8,'Scheme master'!D:L,9,0) -> Live | J8: LEEQTFRD | K8: LEEQTF | L8: RD | M8: 13474917 | N8: 2.5300344e+08 | O8: 18.775882 | P8: 3.5897607e+09 | Q8: 18.7759 | R8: 44286 | S8: 100312 | T8: 17DP | U8: 17 | V8: LI030 | W8: 10 | X8: EQTY | Y8: 18.7759 | Z8: 18.5881 | AA8: 84331 | AB8: LIC MF Flexi Cap Fund | AC8: Regular Plan Dividend Option | AD8: 44285 | AE8: 18.8815 | AF8: 18.881527 | AG8: -0.1056 | AH8: -0.5592776 | AI8: -204.1363 | AJ8: -0.1056455 | AK8: -0.55951779 | AL8: -204.224 | AM8: LIC MF Flexi Cap Fund | AN8: LIC17 | AP8: Regular | AQ8: INF767K01063/INF767K01055 | AT8: 30 | AU8: LIC
A9: =K9&B9 -> LEEQTFRG | B9: =VLOOKUP(J9,'Scheme master'!A:M,13,0) -> RG | C9: =VLOOKUP(J9,'Scheme master'!A:K,11,0) -> 10 | D9: =(M9+E9)*C9/10000000 -> 54.467391 | E9: =SUMIF('PHY rollback'!A:A,J9,'PHY rollback'!G:G) -> 0 | F9: =N9/10000000 -> 312.47811 | G9: =IF(M9<=0,0,Q9) -> 57.3698 | H9: =SUMIF(K:K,K9,F:F)-P9/10000000 -> 0 | I9: =VLOOKUP(K9,'Scheme master'!D:L,9,0) -> Live | J9: LEEQTFRG | K9: LEEQTF | L9: RG | M9: 54467391 | N9: 3.1247811e+09 | O9: 57.36976 | P9: 3.5897607e+09 | Q9: 57.3698 | R9: 44286 | S9: 100313 | T9: 17GP | U9: 17 | V9: LI004 | W9: 10 | X9: EQTY | Y9: 57.3698 | Z9: 56.7961 | AA9: 84332 | AB9: LIC MF Flexi Cap Fund | AC9: Regular Plan Growth Option | AD9: 44285 | AE9: 57.6926 | AF9: 57.692567 | AG9: -0.3228 | AH9: -0.55951717 | AI9: -204.2238 | AJ9: -0.32280742 | AK9: -0.55953034 | AL9: -204.2286 | AM9: LIC MF Flexi Cap Fund | AN9: LIC17 | AP9: Regular | AQ9: INF767K01071 | AT9: 30 | AU9: LIC
A10: =K10&B10 -> LEGROWDD | B10: =VLOOKUP(J10,'Scheme master'!A:M,13,0) -> DD | C10: =VLOOKUP(J10,'Scheme master'!A:K,11,0) -> 10 | D10: =(M10+E10)*C10/10000000 -> 0.3243801 | E10: =SUMIF('PHY rollback'!A:A,J10,'PHY rollback'!G:G) -> 0 | F10: =N10/10000000 -> 0.7805626 | G10: =IF(M10<=0,0,Q10) -> 24.0632 | H10: =SUMIF(K:K,K10,F:F)-P10/10000000 -> 0 | I10: =VLOOKUP(K10,'Scheme master'!D:L,9,0) -> Live | J10: LEGROWDDP | K10: LEGROW | L10: DDP | M10: 324380.1 | N10: 7805626 | O10: 24.063208 | P10: 5.0161801e+09 | Q10: 24.0632 | R10: 44286 | S10: 120268 | T10: 19D1 | U10: 19 | V10: LI174 | W10: 10 | X10: EQTY | Y10: 24.0632 | Z10: 23.8226 | AA10: 84352 | AB10: LIC MF Large Cap Fund | AC10: Direct Plan Dividend Option | AD10: 44285 | AE10: 24.2273 | AF10: 24.227253 | AG10: -0.1641 | AH10: -0.67733507 | AI10: -247.2273 | AJ10: -0.16404464 | AK10: -0.67710787 | AL10: -247.1444 | AM10: LIC MF Large Cap Fund | AN10: LIC19 | AP10: Direct | AQ10: INF767K01EI9/INF767K01EK5 | AT10: 30 | AU10: LIC
A11: =K11&B11 -> LEGROWDG | B11: =VLOOKUP(J11,'Scheme master'!A:M,13,0) -> DG | C11: =VLOOKUP(J11,'Scheme master'!A:K,11,0) -> 10 | D11: =(M11+E11)*C11/10000000 -> 32.392008 | E11: =SUMIF('PHY rollback'!A:A,J11,'PHY rollback'!G:G) -> 0 | F11: =N11/10000000 -> 118.20258 | G11: =IF(M11<=0,0,Q11) -> 36.4913 | H11: =SUMIF(K:K,K11,F:F)-P11/10000000 -> 0 | I11: =VLOOKUP(K11,'Scheme master'!D:L,9,0) -> Live | J11: LEGROWGDP | K11: LEGROW | L11: GDP | M11: 32392008 | N11: 1.1820258e+09 | O11: 36.49128 | P11: 5.0161801e+09 | Q11: 36.4913 | R11: 44286 | S11: 120267 | T11: 19G1 | U11: 19 | V11: LI175 | W11: 10 | X11: EQTY | Y11: 36.4913 | Z11: 36.1264 | AA11: 84353 | AB11: LIC MF Large Cap Fund | AC11: Direct Plan Growth Option | AD11: 44285 | AE11: 36.7401 | AF11: 36.74005 | AG11: -0.2488 | AH11: -0.67718923 | AI11: -247.1741 | AJ11: -0.24876972 | AK11: -0.67710773 | AL11: -247.1443 | AM11: LIC MF Large Cap Fund | AN11: LIC19 | AP11: Direct | AQ11: INF767K01EJ7 | AT11: 30 | AU11: LIC
A12: =K12&B12 -> LEGROWRD | B12: =VLOOKUP(J12,'Scheme master'!A:M,13,0) -> RD | C12: =VLOOKUP(J12,'Scheme master'!A:K,11,0) -> 10 | D12: =(M12+E12)*C12/10000000 -> 3.3764049 | E12: =SUMIF('PHY rollback'!A:A,J12,'PHY rollback'!G:G) -> 0 | F12: =N12/10000000 -> 6.8909371 | G12: =IF(M12<=0,0,Q12) -> 20.4091 | H12: =SUMIF(K:K,K12,F:F)-P12/10000000 -> 0 | I12: =VLOOKUP(K12,'Scheme master'!D:L,9,0) -> Live | J12: LEGROWRD | K12: LEGROW | L12: RD | M12: 3376404.9 | N12: 68909371 | O12: 20.409096 | P12: 5.0161801e+09 | Q12: 20.4091 | R12: 44286 | S12: 100332 | T12: 19DP | U12: 19 | V12: LI003 | W12: 10 | X12: EQTY | Y12: 20.4091 | Z12: 20.205 | AA12: 84350 | AB12: LIC MF Large Cap Fund | AC12: Regular Plan Dividend Option | AD12: 44285 | AE12: 20.5492 | AF12: 20.549153 | AG12: -0.1401 | AH12: -0.68177837 | AI12: -248.8491 | AJ12: -0.14005711 | AK12: -0.68157122 | AL12: -248.7735 | AM12: LIC MF Large Cap Fund | AN12: LIC19 | AP12: Regular | AQ12: INF767K01097/INF767K01089 | AT12: 30 | AU12: LIC
A13: =K13&B13 -> LEGROWRG | B13: =VLOOKUP(J13,'Scheme master'!A:M,13,0) -> RG | C13: =VLOOKUP(J13,'Scheme master'!A:K,11,0) -> 10 | D13: =(M13+E13)*C13/10000000 -> 111.18521 | E13: =SUMIF('PHY rollback'!A:A,J13,'PHY rollback'!G:G) -> 0 | F13: =N13/10000000 -> 375.74393 | G13: =IF(M13<=0,0,Q13) -> 33.7944 | H13: =SUMIF(K:K,K13,F:F)-P13/10000000 -> 0 | I13: =VLOOKUP(K13,'Scheme master'!D:L,9,0) -> Live | J13: LEGROWRG | K13: LEGROW | L13: RG | M13: 1.1118521e+08 | N13: 3.7574393e+09 | O13: 33.794416 | P13: 5.0161801e+09 | Q13: 33.7944 | R13: 44286 | S13: 106871 | T13: 19GP | U13: 19 | V13: LI115 | W13: 10 | X13: EQTY | Y13: 33.7944 | Z13: 33.4565 | AA13: 84351 | AB13: LIC MF Large Cap Fund | AC13: Regular Plan Growth Option | AD13: 44285 | AE13: 34.0263 | AF13: 34.02634 | AG13: -0.2319 | AH13: -0.68153164 | AI13: -248.759 | AJ13: -0.23192354 | AK13: -0.68160003 | AL13: -248.784 | AM13: LIC MF Large Cap Fund | AN13: LIC19 | AP13: Regular | AQ13: INF767K01105 | AT13: 30 | AU13: LIC
A14: =K14&B14 -> LDSAPFDG | B14: =VLOOKUP(J14,'Scheme master'!A:M,13,0) -> DG | C14: =VLOOKUP(J14,'Scheme master'!A:K,11,0) -> 10 | D14: =(M14+E14)*C14/10000000 -> 118.06438 | E14: =SUMIF('PHY rollback'!A:A,J14,'PHY rollback'!G:G) -> 0 | F14: =N14/10000000 -> 391.08247 | G14: =IF(M14<=0,0,Q14) -> 33.1245 | H14: =SUMIF(K:K,K14,F:F)-P14/10000000 -> 0 | I14: =VLOOKUP(K14,'Scheme master'!D:L,9,0) -> Live | J14: LDSAPFGDP | K14: LDSAPF | L14: GDP | M14: 1.1806438e+08 | N14: 3.9108247e+09 | O14: 33.124511 | P14: 8.4473015e+09 | Q14: 33.1245 | R14: 44286 | S14: 120315 | T14: 40G1 | U14: 40 | V14: LI199 | W14: 10 | X14: DEBT | Y14: 33.1245 | Z14: 33.1245 | AA14: 84285 | AB14: LIC MF Savings Fund | AC14: Direct Plan Growth Option | AD14: 44285 | AE14: 33.1147 | AF14: 33.114694 | AG14: 0.0098 | AH14: 0.029594108 | AI14: 10.8018 | AJ14: 0.0098173626 | AK14: 0.029646545 | AL14: 10.821 | AM14: LIC MF Savings Fund | AN14: LIC40 | AP14: Direct | AQ14: INF767K01FM8 | AT14: 30 | AU14: LIC
A15: =K15&B15 -> LDSAPFDDD | B15: =VLOOKUP(J15,'Scheme master'!A:M,13,0) -> DDD | C15: =VLOOKUP(J15,'Scheme master'!A:K,11,0) -> 10 | D15: =(M15+E15)*C15/10000000 -> 4.7220729 | E15: =SUMIF('PHY rollback'!A:A,J15,'PHY rollback'!G:G) -> 0 | F15: =N15/10000000 -> 4.7692936 | G15: =IF(M15<=0,0,Q15) -> 10.1 | H15: =SUMIF(K:K,K15,F:F)-P15/10000000 -> 0 | I15: =VLOOKUP(K15,'Scheme master'!D:L,9,0) -> Live | J15: LDSAPFDPD | K15: LDSAPF | L15: DPD | M15: 4722072.9 | N15: 47692936 | O15: 10.1 | P15: 8.4473015e+09 | Q15: 10.1 | R15: 44286 | S15: 120316 | T15: 40D1 | U15: 40 | V15: LI200 | W15: 10 | X15: DEBT | Y15: 10.1 | Z15: 10.1 | AA15: 84282 | AB15: LIC MF Savings Fund | AC15: Direct Plan Daily Dividend Option | AD15: 44285 | AE15: 10.1 | AF15: 10.1 | AG15: 0 | AH15: 0 | AI15: 0 | AJ15: 7.6499e-10 | AK15: 7.574158e-09 | AL15: 0 | AM15: LIC MF Savings Fund | AN15: LIC40 | AP15: Direct | AQ15: INF767K01FL0/INF767K01FN6 | AT15: 30 | AU15: LIC
A16: =K16&B16 -> LDONTFDDW | B16: =VLOOKUP(J16,'Scheme master'!A:M,13,0) -> DDW | C16: =VLOOKUP(J16,'Scheme master'!A:K,11,0) -> 1000 | D16: =(M16+E16)*C16/10000000 -> 0.0104114 | E16: =SUMIF('PHY rollback'!A:A,J16,'PHY rollback'!G:G) -> 0 | F16: =N16/10000000 -> 0.010412384 | G16: =IF(M16<=0,0,Q16) -> 1000.0945 | H16: =SUMIF(K:K,K16,F:F)-P16/10000000 -> 0 | I16: =VLOOKUP(K16,'Scheme master'!D:L,9,0) -> Live | J16: LDONTFWDP | K16: LDONTF | L16: WDP | M16: 104.114 | N16: 104123.84 | O16: 1000.0945 | P16: 1.5496953e+09 | Q16: 1000.0945 | R16: 44286 | S16: 147514 | T16: 180W1 | U16: 180 | W16: 1000 | X16: LIQD | Y16: 1000.0945 | Z16: 1000.0945 | AA16: 108999 | AB16: LIC MF Overnight Fund | AC16: Direct Plan Weekly Dividend Option | AD16: 44285 | AE16: 1000 | AF16: 1000 | AG16: 0.0945 | AH16: 0.00945 | AI16: 3.4493 | AJ16: 0.094511785 | AK16: 0.0094511785 | AL16: 3.4497 | AM16: LIC MF Overnight Fund | AN16: LIC180 | AP16: Direct | AT16: 30 | AU16: LIC
A17: =K17&B17 -> LDONTFRDW | B17: =VLOOKUP(J17,'Scheme master'!A:M,13,0) -> RDW | C17: =VLOOKUP(J17,'Scheme master'!A:K,11,0) -> 1000 | D17: =(M17+E17)*C17/10000000 -> 0 | E17: =SUMIF('PHY rollback'!A:A,J17,'PHY rollback'!G:G) -> 0 | F17: =N17/10000000 -> 0 | G17: =IF(M17<=0,0,Q17) -> 0 | H17: =SUMIF(K:K,K17,F:F)-P17/10000000 -> 0 | I17: =VLOOKUP(K17,'Scheme master'!D:L,9,0) -> Live | J17: LDONTFRWD | K17: LDONTF | L17: RWD | M17: 0 | N17: 0 | O17: 1000 | P17: 1.5496953e+09 | Q17: 1000 | R17: 44286 | S17: 147518 | T17: 180WD | U17: 180 | W17: 1000 | X17: LIQD | Y17: 1000 | Z17: 1000 | AA17: 108995 | AB17: LIC MF Overnight Fund | AC17: Regular Plan Weekly Dividend Option | AD17: 44285 | AE17: 1000 | AF17: 1000 | AG17: 0 | AH17: 0 | AI17: 0 | AJ17: 0 | AK17: 0 | AL17: 0 | AM17: LIC MF Overnight Fund | AN17: LIC180 | AP17: Regular | AT17: 30 | AU17: LIC
A18: =K18&B18 -> LDONTFRG | B18: =VLOOKUP(J18,'Scheme master'!A:M,13,0) -> RG | C18: =VLOOKUP(J18,'Scheme master'!A:K,11,0) -> 1000 | D18: =(M18+E18)*C18/10000000 -> 33.378985 | E18: =SUMIF('PHY rollback'!A:A,J18,'PHY rollback'!G:G) -> 0 | F18: =N18/10000000 -> 35.521633 | G18: =IF(M18<=0,0,Q18) -> 1064.1915 | H18: =SUMIF(K:K,K18,F:F)-P18/10000000 -> 0 | I18: =VLOOKUP(K18,'Scheme master'!D:L,9,0) -> Live | J18: LDONTFRG | K18: LDONTF | L18: RG | M18: 333789.85 | N18: 3.5521633e+08 | O18: 1064.1915 | P18: 1.5496953e+09 | Q18: 1064.1915 | R18: 44286 | S18: 147519 | T18: 180GP | U18: 180 | W18: 1000 | X18: LIQD | Y18: 1064.1915 | Z18: 1064.1915 | AA18: 108996 | AB18: LIC MF Overnight Fund | AC18: Regular Plan Growth Option | AD18: 44285 | AE18: 1064.1005 | AF18: 1064.1005 | AG18: 0.091 | AH18: 0.0085518238 | AI18: 3.1214 | AJ18: 0.091034789 | AK18: 0.0085550933 | AL18: 3.1226 | AM18: LIC MF Overnight Fund | AN18: LIC180 | AP18: Regular | AT18: 30 | AU18: LIC
A19: =K19&B19 -> LDONTFRDD | B19: =VLOOKUP(J19,'Scheme master'!A:M,13,0) -> RDD | C19: =VLOOKUP(J19,'Scheme master'!A:K,11,0) -> 1000 | D19: =(M19+E19)*C19/10000000 -> 0.0011545 | E19: =SUMIF('PHY rollback'!A:A,J19,'PHY rollback'!G:G) -> 0 | F19: =N19/10000000 -> 0.0011545 | G19: =IF(M19<=0,0,Q19) -> 1000 | H19: =SUMIF(K:K,K19,F:F)-P19/10000000 -> 0 | I19: =VLOOKUP(K19,'Scheme master'!D:L,9,0) -> Live | J19: LDONTFRDD | K19: LDONTF | L19: RDD | M19: 11.545 | N19: 11545 | O19: 1000 | P19: 1.5496953e+09 | Q19: 1000 | R19: 44286 | S19: 147517 | T19: 180DD | U19: 180 | W19: 1000 | X19: LIQD | Y19: 1000 | Z19: 1000 | AA19: 108994 | AB19: LIC MF Overnight Fund | AC19: Regular Daily Dividend Option | AD19: 44285 | AE19: 1000 | AF19: 1000 | AG19: 0 | AH19: 0 | AI19: 0 | AJ19: 0 | AK19: 0 | AL19: 0 | AM19: LIC MF Overnight Fund | AN19: LIC180 | AP19: Regular | AT19: 30 | AU19: LIC
A20: =K20&B20 -> LDONTFRD | B20: =VLOOKUP(J20,'Scheme master'!A:M,13,0) -> RD | C20: =VLOOKUP(J20,'Scheme master'!A:K,11,0) -> 1000 | D20: =(M20+E20)*C20/10000000 -> 0.001 | E20: =SUMIF('PHY rollback'!A:A,J20,'PHY rollback'!G:G) -> 0 | F20: =N20/10000000 -> 0.001064545 | G20: =IF(M20<=0,0,Q20) -> 1064.545 | H20: =SUMIF(K:K,K20,F:F)-P20/10000000 -> 0 | I20: =VLOOKUP(K20,'Scheme master'!D:L,9,0) -> Live | J20: LDONTFRD | K20: LDONTF | L20: RD | M20: 10 | N20: 10645.45 | O20: 1064.545 | P20: 1.5496953e+09 | Q20: 1064.545 | R20: 44286 | S20: 147512 | T20: 180AD | U20: 180 | W20: 1000 | X20: LIQD | Y20: 1064.545 | Z20: 1064.545 | AA20: 108993 | AB20: LIC MF Overnight Fund | AC20: Regular Plan Dividend Option | AD20: 44285 | AE20: 1064.453 | AF20: 1064.453 | AG20: 0.092 | AH20: 0.0086429368 | AI20: 3.1547 | AJ20: 0.092 | AK20: 0.0086429368 | AL20: 3.1547 | AM20: LIC MF Overnight Fund | AN20: LIC180 | AP20: Regular | AT20: 30 | AU20: LIC
A21: =K21&B21 -> LDONTFDG | B21: =VLOOKUP(J21,'Scheme master'!A:M,13,0) -> DG | C21: =VLOOKUP(J21,'Scheme master'!A:K,11,0) -> 1000 | D21: =(M21+E21)*C21/10000000 -> 108.51654 | E21: =SUMIF('PHY rollback'!A:A,J21,'PHY rollback'!G:G) -> 0 | F21: =N21/10000000 -> 115.73895 | G21: =IF(M21<=0,0,Q21) -> 1066.5558 | H21: =SUMIF(K:K,K21,F:F)-P21/10000000 -> 0 | I21: =VLOOKUP(K21,'Scheme master'!D:L,9,0) -> Live | J21: LDONTFGDP | K21: LDONTF | L21: GDP | M21: 1085165.4 | N21: 1.1573895e+09 | O21: 1066.5558 | P21: 1.5496953e+09 | Q21: 1066.5558 | R21: 44286 | S21: 147515 | T21: 180G1 | U21: 180 | W21: 1000 | X21: LIQD | Y21: 1066.5558 | Z21: 1066.5558 | AA21: 109000 | AB21: LIC MF Overnight Fund | AC21: Direct Plan Growth Option | AD21: 44285 | AE21: 1066.4608 | AF21: 1066.4608 | AG21: 0.095 | AH21: 0.0089079692 | AI21: 3.2514 | AJ21: 0.09505151 | AK21: 0.0089127994 | AL21: 3.2532 | AM21: LIC MF Overnight Fund | AN21: LIC180 | AP21: Direct | AT21: 30 | AU21: LIC
A22: =K22&B22 -> LDONTFDDD | B22: =VLOOKUP(J22,'Scheme master'!A:M,13,0) -> DDD | C22: =VLOOKUP(J22,'Scheme master'!A:K,11,0) -> 1000 | D22: =(M22+E22)*C22/10000000 -> 0.0028429 | E22: =SUMIF('PHY rollback'!A:A,J22,'PHY rollback'!G:G) -> 0 | F22: =N22/10000000 -> 0.0028429 | G22: =IF(M22<=0,0,Q22) -> 1000 | H22: =SUMIF(K:K,K22,F:F)-P22/10000000 -> 0 | I22: =VLOOKUP(K22,'Scheme master'!D:L,9,0) -> Live | J22: LDONTFDPD | K22: LDONTF | L22: DPD | M22: 28.429 | N22: 28429 | O22: 1000 | P22: 1.5496953e+09 | Q22: 1000 | R22: 44286 | S22: 147516 | T22: 180D1 | U22: 180 | W22: 1000 | X22: LIQD | Y22: 1000 | Z22: 1000 | AA22: 108998 | AB22: LIC MF Overnight Fund | AC22: Direct Plan Daily Dividend Option | AD22: 44285 | AE22: 1000 | AF22: 1000 | AG22: 0 | AH22: 0 | AI22: 0 | AJ22: 0 | AK22: 0 | AL22: 0 | AM22: LIC MF Overnight Fund | AN22: LIC180 | AP22: Direct | AT22: 30 | AU22: LIC
A23: =K23&B23 -> LECHIDDG | B23: =VLOOKUP(J23,'Scheme master'!A:M,13,0) -> DG | C23: =VLOOKUP(J23,'Scheme master'!A:K,11,0) -> 10 | D23: =(M23+E23)*C23/10000000 -> 0.37841578 | E23: =SUMIF('PHY rollback'!A:A,J23,'PHY rollback'!G:G) -> 0 | F23: =N23/10000000 -> 0.85923671 | G23: =IF(M23<=0,0,Q23) -> 22.7062 | H23: =SUMIF(K:K,K23,F:F)-P23/10000000 -> 0 | I23: =VLOOKUP(K23,'Scheme master'!D:L,9,0) -> Live | J23: LECHIDGDP | K23: LECHID | L23: GDP | M23: 378415.78 | N23: 8592367.2 | O23: 22.706154 | P23: 1.3247662e+08 | Q23: 22.7062 | R23: 44286 | S23: 120285 | T23: 35G1 | U23: 35 | V23: LI185 | W23: 10 | X23: EQTY | Y23: 22.7062 | Z23: 22.7062 | AA23: 84355 | AB23: LIC MF Children’s Gift Fund | AC23: Direct Plan Growth Option | AD23: 44285 | AE23: 22.8458 | AF23: 22.845843 | AG23: -0.1396 | AH23: -0.61105324 | AI23: -223.0344 | AJ23: -0.13968872 | AK23: -0.61144041 | AL23: -223.1758 | AM23: LIC MF Children’s Gift Fund | AN23: LIC35 | AP23: Direct | AQ23: INF767K01FB1 | AT23: 30 | AU23: LIC
A24: =K24&B24 -> LECHIDRG | B24: =VLOOKUP(J24,'Scheme master'!A:M,13,0) -> RG | C24: =VLOOKUP(J24,'Scheme master'!A:K,11,0) -> 10 | D24: =(M24+E24)*C24/10000000 -> 5.8881691 | E24: =SUMIF('PHY rollback'!A:A,J24,'PHY rollback'!G:G) -> 0 | F24: =N24/10000000 -> 12.388425 | G24: =IF(M24<=0,0,Q24) -> 21.0395 | H24: =SUMIF(K:K,K24,F:F)-P24/10000000 -> 0 | I24: =VLOOKUP(K24,'Scheme master'!D:L,9,0) -> Live | J24: LECHIDRG | K24: LECHID | L24: RG | M24: 5888169.1 | N24: 1.2388425e+08 | O24: 21.03952 | P24: 1.3247662e+08 | Q24: 21.0395 | R24: 44286 | S24: 101271 | T24: 35GP | U24: 35 | V24: LI012 | W24: 10 | X24: EQTY | Y24: 21.0395 | Z24: 21.0395 | AA24: 84354 | AB24: LIC MF Children’s Gift Fund | AC24: Regular Plan Growth Option | AD24: 44285 | AE24: 21.1696 | AF24: 21.169558 | AG24: -0.1301 | AH24: -0.6145605 | AI24: -224.3146 | AJ24: -0.13003862 | AK24: -0.61427177 | AL24: -224.2092 | AM24: LIC MF Children’s Gift Fund | AN24: LIC35 | AP24: Regular | AQ24: INF767K01048 | AT24: 30 | AU24: LIC
A25: =K25&B25 -> LUNCLFUMR | B25: =VLOOKUP(J25,'Scheme master'!A:M,13,0) -> UMR | C25: =VLOOKUP(J25,'Scheme master'!A:K,11,0) -> 10 | D25: =(M25+E25)*C25/10000000 -> 9.7729831 | E25: =SUMIF('PHY rollback'!A:A,J25,'PHY rollback'!G:G) -> 0 | F25: =N25/10000000 -> 9.7729831 | G25: =IF(M25<=0,0,Q25) -> 10 | H25: =SUMIF(K:K,K25,F:F)-P25/10000000 -> 0 | I25: =VLOOKUP(K25,'Scheme master'!D:L,9,0) -> Live | J25: LUNCLFURM | K25: LUNCLF | L25: URM | M25: 9772983.1 | N25: 97729831 | O25: 10 | P25: 1.490687e+08 | Q25: 10 | R25: 44286 | S25: 0 | T25: 139GR | U25: 139 | V25: 0 | W25: 10 | X25: DEBT | Y25: 10 | Z25: 10 | AA25: 84309 | AB25: LIC MF Unclaimed Redemption & Div Fund | AC25: Unclaimed Redemption more than 3 yrs | AD25: 44285 | AE25: 10 | AF25: 10 | AG25: 0 | AH25: 0 | AI25: 0 | AJ25: -1.065285e-08 | AK25: -1.065285e-07 | AL25: 0 | AM25: LIC MF Unclaimed Redemption & Dividend Fund | AN25: LIC139 | AP25: Unclaimed | AT25: 30 | AU25: LIC
A26: =K26&B26 -> LUNCLFULR | B26: =VLOOKUP(J26,'Scheme master'!A:M,13,0) -> ULR | C26: =VLOOKUP(J26,'Scheme master'!A:K,11,0) -> 10 | D26: =(M26+E26)*C26/10000000 -> 0.96512356 | E26: =SUMIF('PHY rollback'!A:A,J26,'PHY rollback'!G:G) -> 0 | F26: =N26/10000000 -> 1.2601593 | G26: =IF(M26<=0,0,Q26) -> 13.057 | H26: =SUMIF(K:K,K26,F:F)-P26/10000000 -> 0 | I26: =VLOOKUP(K26,'Scheme master'!D:L,9,0) -> Live | J26: LUNCLFURL | K26: LUNCLF | L26: URL | M26: 965123.56 | N26: 12601593 | O26: 13.056974 | P26: 1.490687e+08 | Q26: 13.057 | R26: 44286 | S26: 0 | T26: 139LR | U26: 139 | V26: 0 | W26: 10 | X26: DEBT | Y26: 13.057 | Z26: 13.057 | AA26: 84307 | AB26: LIC MF Unclaimed Redemption & Div Fund | AC26: Unclaimed Redemption less than 3 yrs | AD26: 44285 | AE26: 13.0491 | AF26: 13.049148 | AG26: 0.0079 | AH26: 0.060540574 | AI26: 22.0973 | AJ26: 0.0078257923 | AK26: 0.059971672 | AL26: 21.8897 | AM26: LIC MF Unclaimed Redemption & Dividend Fund | AN26: LIC139 | AP26: Unclaimed | AT26: 30 | AU26: LIC
A27: =K27&B27 -> LUNCLFUMD | B27: =VLOOKUP(J27,'Scheme master'!A:M,13,0) -> UMD | C27: =VLOOKUP(J27,'Scheme master'!A:K,11,0) -> 10 | D27: =(M27+E27)*C27/10000000 -> 3.3948293 | E27: =SUMIF('PHY rollback'!A:A,J27,'PHY rollback'!G:G) -> 0 | F27: =N27/10000000 -> 3.3948293 | G27: =IF(M27<=0,0,Q27) -> 10 | H27: =SUMIF(K:K,K27,F:F)-P27/10000000 -> 0 | I27: =VLOOKUP(K27,'Scheme master'!D:L,9,0) -> Live | J27: LUNCLFUDM | K27: LUNCLF | L27: UDM | M27: 3394829.3 | N27: 33948293 | O27: 10 | P27: 1.490687e+08 | Q27: 10 | R27: 44286 | S27: 0 | T27: 139GD | U27: 139 | V27: 0 | W27: 10 | X27: DEBT | Y27: 10 | Z27: 10 | AA27: 84308 | AB27: LIC MF Unclaimed Redemption & Div Fund | AC27: Unclaimed Dividend more than 3 yrs | AD27: 44285 | AE27: 10 | AF27: 10 | AG27: 0 | AH27: 0 | AI27: 0 | AJ27: -2.9497e-09 | AK27: -2.9496999e-08 | AL27: 0 | AM27: LIC MF Unclaimed Redemption & Dividend Fund | AN27: LIC139 | AP27: Unclaimed | AT27: 30 | AU27: LIC
A28: =K28&B28 -> LUNCLFULD | B28: =VLOOKUP(J28,'Scheme master'!A:M,13,0) -> ULD | C28: =VLOOKUP(J28,'Scheme master'!A:K,11,0) -> 10 | D28: =(M28+E28)*C28/10000000 -> 0.36699425 | E28: =SUMIF('PHY rollback'!A:A,J28,'PHY rollback'!G:G) -> 0 | F28: =N28/10000000 -> 0.4788986 | G28: =IF(M28<=0,0,Q28) -> 13.0492 | H28: =SUMIF(K:K,K28,F:F)-P28/10000000 -> 0 | I28: =VLOOKUP(K28,'Scheme master'!D:L,9,0) -> Live | J28: LUNCLFUDL | K28: LUNCLF | L28: UDL | M28: 366994.25 | N28: 4788986 | O28: 13.049213 | P28: 1.490687e+08 | Q28: 13.0492 | R28: 44286 | S28: 0 | T28: 139LD | U28: 139 | V28: 0 | W28: 10 | X28: DEBT | Y28: 13.0492 | Z28: 13.0492 | AA28: 84306 | AB28: LIC MF Unclaimed Redemption & Div Fund | AC28: Unclaimed Dividend less than 3 yrs | AD28: 44285 | AE28: 13.0473 | AF28: 13.047325 | AG28: 0.0019 | AH28: 0.0145624 | AI28: 5.3153 | AJ28: 0.0018880568 | AK28: 0.014470835 | AL28: 5.2819 | AM28: LIC MF Unclaimed Redemption & Dividend Fund | AN28: LIC139 | AP28: Unclaimed | AT28: 30 | AU28: LIC
A29: =K29&B29 -> LSPLUSRG | B29: =VLOOKUP(J29,'Scheme master'!A:M,13,0) -> RG | C29: =VLOOKUP(J29,'Scheme master'!A:K,11,0) -> 10 | D29: =(M29+E29)*C29/10000000 -> 139.8337 | E29: =SUMIF('PHY rollback'!A:A,J29,'PHY rollback'!G:G) -> 0 | F29: =N29/10000000 -> 306.69112 | G29: =IF(M29<=0,0,Q29) -> 21.9326 | H29: =SUMIF(K:K,K29,F:F)-P29/10000000 -> 0 | I29: =VLOOKUP(K29,'Scheme master'!D:L,9,0) -> Live | J29: LSPLUSG | K29: LSPLUS | L29: G | M29: 1.398337e+08 | N29: 3.0669112e+09 | O29: 21.932562 | P29: 3.0669112e+09 | Q29: 21.9326 | R29: 44286 | S29: 0 | T29: 0 | U29: 89 | V29: 0 | W29: 10 | X29: DEBT | Y29: 21.9326 | Z29: 21.9326 | AA29: 84378 | AB29: LIC MF Special Unit Scheme | AC29: Growth Option | AD29: 44285 | AE29: 21.9205 | AF29: 21.920528 | AG29: 0.0121 | AH29: 0.055199471 | AI29: 20.1478 | AJ29: 0.012033566 | AK29: 0.054896333 | AL29: 20.0372 | AM29: LIC Special Unit Scheme | AN29: LIC89 | AP29: Growth | AT29: 30 | AU29: LIC
A30: =K30&B30 -> LLIQDFRG | B30: =VLOOKUP(J30,'Scheme master'!A:M,13,0) -> RG | C30: =VLOOKUP(J30,'Scheme master'!A:K,11,0) -> 1000 | D30: =(M30+E30)*C30/10000000 -> 468.97703 | E30: =SUMIF('PHY rollback'!A:A,J30,'PHY rollback'!G:G) -> 0 | F30: =N30/10000000 -> 1736.5602 | G30: =IF(M30<=0,0,Q30) -> 3702.8684 | H30: =SUMIF(K:K,K30,F:F)-P30/10000000 -> 0 | I30: =VLOOKUP(K30,'Scheme master'!D:L,9,0) -> Live | J30: LLIQDFRG | K30: LLIQDF | L30: RG | M30: 4689770.3 | N30: 1.7365602e+10 | O30: 3702.8684 | P30: 6.6578511e+10 | Q30: 3702.8684 | R30: 44286 | S30: 101185 | T30: 36GP | U30: 36 | V30: LI014 | W30: 1000 | X30: LIQD | Y30: 3702.8684 | Z30: 3702.8684 | AA30: 84375 | AB30: LIC MF Liquid Fund | AC30: Regular Plan Growth Option | AD30: 44285 | AE30: 3702.5285 | AF30: 3702.5285 | AG30: 0.3399 | AH30: 0.0091802129 | AI30: 3.3508 | AJ30: 0.33988556 | AK30: 0.0091798229 | AL30: 3.3506 | AM30: LIC MF Liquid Fund | AN30: LIC36 | AP30: Regular | AQ30: INF767K01IS9 | AT30: 30 | AU30: LIC
A31: =K31&B31 -> LLIQDFRDD | B31: =VLOOKUP(J31,'Scheme master'!A:M,13,0) -> RDD | C31: =VLOOKUP(J31,'Scheme master'!A:K,11,0) -> 1000 | D31: =(M31+E31)*C31/10000000 -> 36.292115 | E31: =SUMIF('PHY rollback'!A:A,J31,'PHY rollback'!G:G) -> 0 | F31: =N31/10000000 -> 39.848742 | G31: =IF(M31<=0,0,Q31) -> 1098 | H31: =SUMIF(K:K,K31,F:F)-P31/10000000 -> 0 | I31: =VLOOKUP(K31,'Scheme master'!D:L,9,0) -> Live | J31: LLIQDFRDD | K31: LLIQDF | L31: RDD | M31: 362921.15 | N31: 3.9848742e+08 | O31: 1098 | P31: 6.6578511e+10 | Q31: 1098 | R31: 44286 | S31: 101184 | T31: 36DP | U31: 36 | V31: LI013 | W31: 1000 | X31: LIQD | Y31: 1098 | Z31: 1098 | AA31: 84374 | AB31: LIC MF Liquid Fund | AC31: Regular Daily Dividend Option | AD31: 44285 | AE31: 1098 | AF31: 1098 | AG31: 0 | AH31: 0 | AI31: 0 | AJ31: -2.732329e-08 | AK31: -2.488459e-09 | AL31: 0 | AM31: LIC MF Liquid Fund | AN31: LIC36 | AP31: Regular | AQ31: INF767K01IQ3/INF767K01IR1 | AT31: 30 | AU31: LIC
A32: =K32&B32 -> LLIQDFDG | B32: =VLOOKUP(J32,'Scheme master'!A:M,13,0) -> DG | C32: =VLOOKUP(J32,'Scheme master'!A:K,11,0) -> 1000 | D32: =(M32+E32)*C32/10000000 -> 1288.6054 | E32: =SUMIF('PHY rollback'!A:A,J32,'PHY rollback'!G:G) -> 0 | F32: =N32/10000000 -> 4815.3604 | G32: =IF(M32<=0,0,Q32) -> 3736.8776 | H32: =SUMIF(K:K,K32,F:F)-P32/10000000 -> 0 | I32: =VLOOKUP(K32,'Scheme master'!D:L,9,0) -> Live | J32: LLIQDFGDP | K32: LLIQDF | L32: GDP | M32: 12886054 | N32: 4.8153604e+10 | O32: 3736.8776 | P32: 6.6578511e+10 | Q32: 3736.8776 | R32: 44286 | S32: 120249 | T32: 36G1 | U32: 36 | V32: LI187 | W32: 1000 | X32: LIQD | Y32: 3736.8776 | Z32: 3736.8776 | AA32: 84377 | AB32: LIC MF Liquid Fund | AC32: Direct Plan Growth Option | AD32: 44285 | AE32: 3736.5202 | AF32: 3736.5202 | AG32: 0.3574 | AH32: 0.0095650493 | AI32: 3.4912 | AJ32: 0.35734928 | AK32: 0.0095636919 | AL32: 3.4907 | AM32: LIC MF Liquid Fund | AN32: LIC36 | AP32: Direct | AQ32: INF767K01DN1 | AT32: 30 | AU32: LIC
A33: =K33&B33 -> LLIQDFDDD | B33: =VLOOKUP(J33,'Scheme master'!A:M,13,0) -> DDD | C33: =VLOOKUP(J33,'Scheme master'!A:K,11,0) -> 1000 | D33: =(M33+E33)*C33/10000000 -> 60.183732 | E33: =SUMIF('PHY rollback'!A:A,J33,'PHY rollback'!G:G) -> 0 | F33: =N33/10000000 -> 66.081737 | G33: =IF(M33<=0,0,Q33) -> 1098 | H33: =SUMIF(K:K,K33,F:F)-P33/10000000 -> 0 | I33: =VLOOKUP(K33,'Scheme master'!D:L,9,0) -> Live | J33: LLIQDFDDP | K33: LLIQDF | L33: DDP | M33: 601837.32 | N33: 6.6081737e+08 | O33: 1098 | P33: 6.6578511e+10 | Q33: 1098 | R33: 44286 | S33: 120248 | T33: 36D1 | U33: 36 | V33: LI186 | W33: 1000 | X33: LIQD | Y33: 1098 | Z33: 1098 | AA33: 84376 | AB33: LIC MF Liquid Fund | AC33: Direct Plan Dividend Option | AD33: 44285 | AE33: 1098 | AF33: 1098 | AG33: 0 | AH33: 0 | AI33: 0 | AJ33: 9.89634e-09 | AK33: 9.01306e-10 | AL33: 0 | AM33: LIC MF Liquid Fund | AN33: LIC36 | AP33: Direct | AQ33: INF767K01DL5/INF767K01DM3 | AT33: 30 | AU33: LIC
A34: =K34&B34 -> LEULISRD | B34: =VLOOKUP(J34,'Scheme master'!A:M,13,0) -> RD | C34: =VLOOKUP(J34,'Scheme master'!A:K,11,0) -> 10 | D34: =(M34+E34)*C34/10000000 -> 150.71273 | E34: =SUMIF('PHY rollback'!A:A,J34,'PHY rollback'!G:G) -> 0 | F34: =N34/10000000 -> 336.53548 | G34: =IF(M34<=0,0,Q34) -> 22.3296 | H34: =SUMIF(K:K,K34,F:F)-P34/10000000 -> 0 | I34: =VLOOKUP(K34,'Scheme master'!D:L,9,0) -> Live | J34: LEULISRD | K34: LEULIS | L34: RD | M34: 1.5071273e+08 | N34: 3.3653548e+09 | O34: 22.329599 | P34: 3.4681242e+09 | Q34: 22.3296 | R34: 44286 | S34: 100325 | T34: 02VS | U34: 2 | V34: LI008 | W34: 10 | X34: EQTY | Y34: 22.3296 | Z34: 22.3296 | AA34: 84317 | AB34: LIC MF Unit Linked Insurance Sch(ULIS) | AC34: Regular Plan Dividend Option | AD34: 44285 | AE34: 22.4249 | AF34: 22.424905 | AG34: -0.0953 | AH34: -0.42497402 | AI34: -155.1155 | AJ34: -0.095305556 | AK34: -0.42499871 | AL34: -155.1245 | AM34: LIC MF Unit Linked Insurance Scheme | AN34: LIC02 | AP34: Regular | AQ34: INF767K01964 | AT34: 30 | AU34: LIC
A35: =K35&B35 -> LEULISDD | B35: =VLOOKUP(J35,'Scheme master'!A:M,13,0) -> DD | C35: =VLOOKUP(J35,'Scheme master'!A:K,11,0) -> 10 | D35: =(M35+E35)*C35/10000000 -> 4.3110638 | E35: =SUMIF('PHY rollback'!A:A,J35,'PHY rollback'!G:G) -> 0 | F35: =N35/10000000 -> 10.276934 | G35: =IF(M35<=0,0,Q35) -> 23.8385 | H35: =SUMIF(K:K,K35,F:F)-P35/10000000 -> 0 | I35: =VLOOKUP(K35,'Scheme master'!D:L,9,0) -> Live | J35: LEULISDDP | K35: LEULIS | L35: DDP | M35: 4311063.8 | N35: 1.0276934e+08 | O35: 23.83851 | P35: 3.4681242e+09 | Q35: 23.8385 | R35: 44286 | S35: 120259 | T35: 02V4 | U35: 2 | V35: LI182 | W35: 10 | X35: EQTY | Y35: 23.8385 | Z35: 23.8385 | AA35: 84318 | AB35: LIC MF Unit Linked Insurance Sch(ULIS) | AC35: Direct Plan Dividend Option | AD35: 44285 | AE35: 23.9398 | AF35: 23.939784 | AG35: -0.1013 | AH35: -0.42314472 | AI35: -154.4478 | AJ35: -0.10127395 | AK35: -0.42303617 | AL35: -154.4082 | AM35: LIC MF Unit Linked Insurance Scheme | AN35: LIC02 | AP35: Direct | AQ35: INF767K01DO9 | AT35: 30 | AU35: LIC
A36: =K36&B36 -> LETFSXRG | B36: =VLOOKUP(J36,'Scheme master'!A:M,13,0) -> RG | C36: =VLOOKUP(J36,'Scheme master'!A:K,11,0) -> 10 | D36: =(M36+E36)*C36/10000000 -> 10.402513 | E36: =SUMIF('PHY rollback'!A:A,J36,'PHY rollback'!G:G) -> 0 | F36: =N36/10000000 -> 548.13544 | G36: =IF(M36<=0,0,Q36) -> 526.926 | H36: =SUMIF(K:K,K36,F:F)-P36/10000000 -> 0 | I36: =VLOOKUP(K36,'Scheme master'!D:L,9,0) -> Live | J36: LETFSXG | K36: LETFSX | L36: G | M36: 10402513 | N36: 5.4813544e+09 | O36: 526.92598 | P36: 5.4813544e+09 | Q36: 526.926 | R36: 44286 | S36: 135672 | T36: 176GP | U36: 176 | V36: LI437 | W36: 10 | X36: EQTY | Y36: 526.926 | Z36: 526.926 | AA36: 84344 | AB36: LIC MF ETF-Sensex | AC36: Growth Option | AD36: 44285 | AE36: 533.5919 | AF36: 533.59194 | AG36: -6.6659 | AH36: -1.2492506 | AI36: -455.9765 | AJ36: -6.6659546 | AK36: -1.2492607 | AL36: -455.9802 | AM36: LIC MF Exchange Traded Fund-Sensex | AN36: LIC176 | AP36: Growth | AQ36: INF767K01OT5 | AR36: 539487 | AS36: LICNETFSEN | AT36: 30 | AU36: LIC
A37: =K37&B37 -> LETF50RG | B37: =VLOOKUP(J37,'Scheme master'!A:M,13,0) -> RG | C37: =VLOOKUP(J37,'Scheme master'!A:K,11,0) -> 10 | D37: =(M37+E37)*C37/10000000 -> 42.935671 | E37: =SUMIF('PHY rollback'!A:A,J37,'PHY rollback'!G:G) -> 0 | F37: =N37/10000000 -> 666.8968 | G37: =IF(M37<=0,0,Q37) -> 155.3246 | H37: =SUMIF(K:K,K37,F:F)-P37/10000000 -> 0 | I37: =VLOOKUP(K37,'Scheme master'!D:L,9,0) -> Live | J37: LETF50G | K37: LETF50 | L37: G | M37: 42935671 | N37: 6.668968e+09 | O37: 155.32465 | P37: 6.668968e+09 | Q37: 155.3246 | R37: 44286 | S37: 135607 | T37: 175GP | U37: 175 | V37: LI436 | W37: 10 | X37: EQTY | Y37: 155.3246 | Z37: 155.3246 | AA37: 84343 | AB37: LIC MF ETF-Nifty 50 | AC37: Growth Option | AD37: 44285 | AE37: 156.972 | AF37: 156.97196 | AG37: -1.6474 | AH37: -1.0494865 | AI37: -383.0626 | AJ37: -1.6473108 | AK37: -1.04943 | AL37: -383.042 | AM37: LIC MF ETF-Nifty 50 | AN37: LIC175 | AP37: Growth | AQ37: INF767K01OS7 | AR37: 539480 | AS37: LICNETFN50 | AT37: 30 | AU37: LIC
A38: =K38&B38 -> LDMIPFDDA | B38: =VLOOKUP(J38,'Scheme master'!A:M,13,0) -> DDA | C38: =VLOOKUP(J38,'Scheme master'!A:K,11,0) -> 10 | D38: =(M38+E38)*C38/10000000 -> 0.029307338 | E38: =SUMIF('PHY rollback'!A:A,J38,'PHY rollback'!G:G) -> 0 | F38: =N38/10000000 -> 0.037539665 | G38: =IF(M38<=0,0,Q38) -> 12.809 | H38: =SUMIF(K:K,K38,F:F)-P38/10000000 -> 0 | I38: =VLOOKUP(K38,'Scheme master'!D:L,9,0) -> Live | J38: LDMIPFYDP | K38: LDMIPF | L38: YDP | M38: 29307.338 | N38: 375396.65 | O38: 12.808964 | P38: 8.0134944e+08 | Q38: 12.809 | R38: 44286 | S38: 120275 | T38: 31Y1 | U38: 31 | V38: LI195 | W38: 10 | X38: DEBT | Y38: 12.809 | Z38: 12.6809 | AA38: 84266 | AB38: LIC MF Debt Hybrid Fund | AC38: Direct Plan Annual Dividend Option | AD38: 44285 | AE38: 12.8402 | AF38: 12.840189 | AG38: -0.0312 | AH38: -0.24298687 | AI38: -88.6902 | AJ38: -0.031224262 | AK38: -0.24317604 | AL38: -88.7593 | AM38: LIC MF Debt Hybrid Fund | AN38: LIC31 | AP38: Direct | AQ38: INF767K01ER0/INF767K01EU4 | AT38: 30 | AU38: LIC
A39: =K39&B39 -> LDONTFDD | B39: =VLOOKUP(J39,'Scheme master'!A:M,13,0) -> DD | C39: =VLOOKUP(J39,'Scheme master'!A:K,11,0) -> 1000 | D39: =(M39+E39)*C39/10000000 -> 3.463797 | E39: =SUMIF('PHY rollback'!A:A,J39,'PHY rollback'!G:G) -> 0 | F39: =N39/10000000 -> 3.6934735 | G39: =IF(M39<=0,0,Q39) -> 1066.3077 | H39: =SUMIF(K:K,K39,F:F)-P39/10000000 -> 0 | I39: =VLOOKUP(K39,'Scheme master'!D:L,9,0) -> Live | J39: LDONTFDDP | K39: LDONTF | L39: DDP | M39: 34637.97 | N39: 36934735 | O39: 1066.3077 | P39: 1.5496953e+09 | Q39: 1066.3077 | R39: 44286 | S39: 147513 | T39: 180A1 | U39: 180 | W39: 1000 | X39: LIQD | Y39: 1066.3077 | Z39: 1066.3077 | AA39: 108997 | AB39: LIC MF Overnight Fund | AC39: Direct Plan Dividend Option | AD39: 44285 | AE39: 1066.2127 | AF39: 1066.2127 | AG39: 0.095 | AH39: 0.0089100421 | AI39: 3.2522 | AJ39: 0.095034438 | AK39: 0.008913272 | AL39: 3.2533 | AM39: LIC MF Overnight Fund | AN39: LIC180 | AP39: Direct | AT39: 30 | AU39: LIC
A40: =K40&B40 -> LEINFADD | B40: =VLOOKUP(J40,'Scheme master'!A:M,13,0) -> DD | C40: =VLOOKUP(J40,'Scheme master'!A:K,11,0) -> 10 | D40: =(M40+E40)*C40/10000000 -> 0.10075115 | E40: =SUMIF('PHY rollback'!A:A,J40,'PHY rollback'!G:G) -> 0 | F40: =N40/10000000 -> 0.18638451 | G40: =IF(M40<=0,0,Q40) -> 18.4995 | H40: =SUMIF(K:K,K40,F:F)-P40/10000000 -> 0 | I40: =VLOOKUP(K40,'Scheme master'!D:L,9,0) -> Live | J40: LEINFADDP | K40: LEINFA | L40: DDP | M40: 100751.14 | N40: 1863845.1 | O40: 18.499493 | P40: 6.2496044e+08 | Q40: 18.4995 | R40: 44286 | S40: 120350 | T40: 86D1 | U40: 86 | V40: LI221 | W40: 10 | X40: EQTY | Y40: 18.4995 | Z40: 18.3145 | AA40: 84366 | AB40: LIC MF Infrastructure Fund | AC40: Direct Plan Dividend Option | AD40: 44285 | AE40: 18.5242 | AF40: 18.524174 | AG40: -0.0247 | AH40: -0.13333909 | AI40: -48.6688 | AJ40: -0.024680895 | AK40: -0.13323615 | AL40: -48.6312 | AM40: LIC MF Infrastructure Fund | AN40: LIC86 | AP40: Direct | AQ40: INF767K01GV7/INF767K01GX3 | AT40: 30 | AU40: LIC
...

Sheet Mapping
B1: ACC_GRP | C1: ACC_GRP_DESC | D1: ACC_NO | E1: ACC_DESC | F1: HY financials mapping | G1: Expenses mapping | H1: AUM mapping
A2: =LEFT(D2,1) -> 1 | B2: 101000 | C2: COST EQUITIES | D2: 101100 | E2: Investment - Equities | F2: Ignore | G2: Ignore | H2: AUM
A3: =LEFT(D3,1) -> 1 | B3: 102000 | C3: COST BONDS | D3: 102110 | E3: Investment - Treasury Bills | F3: Ignore | G3: Ignore | H3: AUM
A4: =LEFT(D4,1) -> 1 | B4: 102000 | C4: COST BONDS | D4: 102120 | E4: Investment - Corp Bond/Debent. | F4: Ignore | G4: Ignore | H4: AUM
A5: =LEFT(D5,1) -> 1 | B5: 102000 | C5: COST BONDS | D5: 102130 | E5: Investment - Government Bonds | F5: Ignore | G5: Ignore | H5: AUM
A6: =LEFT(D6,1) -> 1 | B6: 102000 | C6: COST BONDS | D6: 102135 | E6: Investment - SDLs | F6: Ignore | G6: Ignore | H6: AUM
A7: =LEFT(D7,1) -> 1 | B7: 102000 | C7: COST BONDS | D7: 102145 | E7: Investment - Zero Coupon Bond | F7: Ignore | G7: Ignore | H7: AUM
A8: =LEFT(D8,1) -> 1 | B8: 102000 | C8: COST BONDS | D8: 102180 | E8: Investment - Commercial Paper | F8: Ignore | G8: Ignore | H8: AUM
A9: =LEFT(D9,1) -> 1 | B9: 102000 | C9: COST BONDS | D9: 102190 | E9: Investment - Cert of Deposits | F9: Ignore | G9: Ignore | H9: AUM
A10: =LEFT(D10,1) -> 1 | B10: 102000 | C10: COST BONDS | D10: 102230 | E10: Investment - Repo Deposit | F10: Ignore | G10: Ignore | H10: AUM
A11: =LEFT(D11,1) -> 1 | B11: 105000 | C11: COST FUNDS | D11: 105100 | E11: Investment Mutual Fund | F11: Ignore | G11: Ignore | H11: AUM
A12: =LEFT(D12,1) -> 1 | B12: 110000 | C12: DEPOSIT | D12: 102220 | E12: Investment - Fixed Deposit | F12: Ignore | G12: Ignore | H12: AUM
A13: =LEFT(D13,1) -> 1 | B13: 110000 | C13: DEPOSIT | D13: 110100 | E13: Investment - CBLO | F13: Ignore | G13: Ignore | H13: AUM
... A19: =LEFT(D19,1) -> 1 | B19: 110000 | C19: DEPOSIT | D19: 110123 | E19: Margin Deposit For Sec Segment | F19: Ignore | G19: Ignore | H19: AUM
A20: =LEFT(D20,1) -> 1 | B20: 110000 | C20: DEPOSIT | D20: 110125 | E20: Default Margin Deposit -Treps | F20: Ignore | G20: Ignore | H20: AUM | I20: Added in September 2021
A21: =LEFT(D21,1) -> 1 | B21: 110000 | C21: DEPOSIT | D21: 110126 | E21: Default Margin Dep For Sec Seg | F21: Ignore | G21: Ignore | H21: AUM | I21: Added in September 2021
A22: =LEFT(D22,1) -> 1 | B22: 110000 | C22: DEPOSIT | D22: 110247 | E22: Investment- TREPS | F22: Ignore | G22: Ignore | H22: AUM
A23: =LEFT(D23,1) -> 1 | B23: 132000 | C23: RECEIVABLES | D23: 110141 | E23: Red Rec - Floating Rate Notes | F23: Ignore | G23: Ignore | H23: AUM
A24: =LEFT(D24,1) -> 1 | B24: 132000 | C24: RECEIVABLES | D24: 110142 | E24: Red Receivable - Debentures | F24: Ignore | G24: Ignore | H24: AUM
A25: =LEFT(D25,1) -> 1 | B25: 132000 | C25: RECEIVABLES | D25: 132100 | E25: Dividend Receivable | F25: Ignore | G25: Ignore | H25: AUM
A26: =LEFT(D26,1) -> 1 | B26: 132000 | C26: RECEIVABLES | D26: 132113 | E26: Receivable From Karvy | F26: Ignore | G26: Ignore | H26: AUM
A27: =LEFT(D27,1) -> 1 | B27: 132000 | C27: RECEIVABLES | D27: 132121 | E27: Sub. Rec. Control Account | F27: Ignore | G27: Ignore | H27: AUM
A28: =LEFT(D28,1) -> 1 | B28: 132000 | C28: RECEIVABLES | D28: 132124 | E28: Switch in Receivable Ct | F28: Ignore | G28: Ignore | H28: AUM
A29: =LEFT(D29,1) -> 1 | B29: 132000 | C29: RECEIVABLES | D29: 132150 | E29: Due From Broker - Equities | F29: Ignore | G29: Ignore | H29: AUM
A30: =LEFT(D30,1) -> 1 | B30: 132000 | C30: RECEIVABLES | D30: 132160 | E30: Due From Broker - Bonds | F30: Ignore | G30: Ignore | H30: AUM
A31: =LEFT(D31,1) -> 1 | B31: 132000 | C31: RECEIVABLES | D31: 132166 | E31: Receivable from Issuer | F31: Ignore | G31: Ignore | H31: AUM
A32: =LEFT(D32,1) -> 1 | B32: 132000 | C32: RECEIVABLES | D32: 132170 | E32: Coupon Receivable | F32: Ignore | G32: Ignore | H32: AUM
A33: =LEFT(D33,1) -> 1 | B33: 132000 | C33: RECEIVABLES | D33: 132220 | E33: Other Receivable | F33: Ignore | G33: Ignore | H33: AUM
... A37: =LEFT(D37,1) -> 1 | B37: 140000 | C37: BANK & OTHER DEPOSITS | D37: 132237 | E37: CCIL Settlement A/C | F37: Ignore | G37: Ignore | H37: AUM
A38: =LEFT(D38,1) -> 1 | B38: 140000 | C38: BANK & OTHER DEPOSITS | D38: 140101 | E38: SBI Bank Collection A/c | F38: Ignore | G38: Ignore | H38: AUM | I38: Added in September 2020
A39: =LEFT(D39,1) -> 1 | B39: 140000 | C39: BANK & OTHER DEPOSITS | D39: 140122 | E39: SCB Collection A/c. | F39: Ignore | G39: Ignore | H39: AUM | I39: Added in September 2020
A40: =LEFT(D40,1) -> 1 | B40: 140000 | C40: BANK & OTHER DEPOSITS | D40: 140130 | E40: Cash in Bank | F40: Ignore | G40: Ignore | H40: AUM
A41: =LEFT(D41,1) -> 1 | B41: 140000 | C41: BANK & OTHER DEPOSITS | D41: 140166 | E41: Corporation Bank Collection | F41: Ignore | G41: Ignore | H41: AUM | I41: Added in September 2020
A42: =LEFT(D42,1) -> 1 | B42: 140000 | C42: BANK & OTHER DEPOSITS | D42: 140167 | E42: Saraswat Bank Collection A/c. | F42: Ignore | G42: Ignore | H42: AUM | I42: Added in September 2020
A43: =LEFT(D43,1) -> 1 | B43: 140000 | C43: BANK & OTHER DEPOSITS | D43: 140168 | E43: Punjab National Bank | F43: Ignore | G43: Ignore | H43: AUM | I43: Added in September 2020
A44: =LEFT(D44,1) -> 1 | B44: 140000 | C44: BANK & OTHER DEPOSITS | D44: 140183 | E44: Axis Collection | F44: Ignore | G44: Ignore | H44: AUM | I44: Added in September 2020
A45: =LEFT(D45,1) -> 1 | B45: 140000 | C45: BANK & OTHER DEPOSITS | D45: 140311 | E45: HDFC Bank Redemption A/C | F45: Ignore | G45: Ignore | H45: AUM | I45: Added in September 2020
A46: =LEFT(D46,1) -> 1 | B46: 140000 | C46: BANK & OTHER DEPOSITS | D46: 140317 | E46: Yes Bank Redemption A/C | F46: Ignore | G46: Ignore | H46: AUM | I46: Added in September 2021
A47: =LEFT(D47,1) -> 1 | B47: 140000 | C47: BANK & OTHER DEPOSITS | D47: 140330 | E47: HDFC Current Account | F47: Ignore | G47: Ignore | H47: AUM
A48: =LEFT(D48,1) -> 1 | B48: 140000 | C48: BANK & OTHER DEPOSITS | D48: 140366 | E48: HDFC BANK SIP COLLECTION ACC | F48: Ignore | G48: Ignore | H48: AUM | I48: Added in September 2020
...

Sheet TB
G1: TRIAL BALANCE MOVEMENT REPORT FROM 31-March-2021 TO 30-September-2021 | H1: Opening Date in | I1: 44469 | J1: Closing Date in | K1: 44287
A2: Concatenate | B2: Mapping | C2: Expense mapping | D2: Net amount | E2: Cl amount | F2: AUM | G2: NAV_GRP | H2: FUND_ID | I2: FUND_DESC | J2: ACC_GRP | K2: ACC_GRP_DESC | L2: ACC_NO | M2: ACC_SUFFIX | N2: ACC_DESC | O2: ACC_CURRENCY | P2: OP_BAL_DB | Q2: OP_BAL_CR | R2: MOVEMENT_DB | S2: MOVEMENT_CR | T2: CLO_BAL_DB | U2: CLO_BAL_CR | V2: OP_BAL_DB_FUND_CURR | W2: OP_BAL_CR_FUND_CURR | X2: MOVEMENT_DB_FUND_CURR | Y2: MOVEMENT_CR_FUND_CURR | Z2: CLO_BAL_DB_FUND_CURR | AA2: CLO_BAL_CR_FUND_CURR
A3: =H3&B3 -> LDBONDIgnore | B3: =VLOOKUP(L3,Mapping!D:F,3,0) -> Ignore | C3: =VLOOKUP(L3,Mapping!D:G,4,0) -> Ignore | D3: =(X3+Y3)/10000000 -> -54.928794 | E3: =(Z3+AA3)/10000000 -> -54.928794 | F3: =VLOOKUP(L3,Mapping!D:H,5,0) -> AUM | G3: LIC | H3: LDBOND | I3: LIC MF Bond Fund | J3: 102000 | K3: COST BONDS | L3: 102110 | M3: 0 | N3: Investment - Treasury Bills | O3: INR | P3: 0 | Q3: 0 | R3: -5.4928794e+08 | S3: 0 | T3: -5.4928794e+08 | U3: 0 | V3: 0 | W3: 0 | X3: -5.4928794e+08 | Y3: 0 | Z3: -5.4928794e+08 | AA3: 0
A4: =H4&B4 -> LDBONDIgnore | B4: =VLOOKUP(L4,Mapping!D:F,3,0) -> Ignore | C4: =VLOOKUP(L4,Mapping!D:G,4,0) -> Ignore | D4: =(X4+Y4)/10000000 -> -15.17626 | E4: =(Z4+AA4)/10000000 -> -15.17626 | F4: =VLOOKUP(L4,Mapping!D:H,5,0) -> AUM | G4: LIC | H4: LDBOND | I4: LIC MF Bond Fund | J4: 102000 | K4: COST BONDS | L4: 102120 | M4: 0 | N4: Investment - Corp Bond/Debent. | O4: INR | P4: 0 | Q4: 0 | R4: -151762604 | S4: 0 | T4: -151762604 | U4: 0 | V4: 0 | W4: 0 | X4: -151762604 | Y4: 0 | Z4: -151762604 | AA4: 0
A5: =H5&B5 -> LDBONDIgnore | B5: =VLOOKUP(L5,Mapping!D:F,3,0) -> Ignore | C5: =VLOOKUP(L5,Mapping!D:G,4,0) -> Ignore | D5: =(X5+Y5)/10000000 -> 109.85974 | E5: =(Z5+AA5)/10000000 -> -53.069176 | F5: =VLOOKUP(L5,Mapping!D:H,5,0) -> AUM | G5: LIC | H5: LDBOND | I5: LIC MF Bond Fund | J5: 102000 | K5: COST BONDS | L5: 102130 | M5: 0 | N5: Investment - Government Bonds | O5: INR | P5: -1.6292892e+09 | Q5: 0 | R5: 0 | S5: 1.0985974e+09 | T5: -5.3069176e+08 | U5: 0 | V5: -1.6292892e+09 | W5: 0 | X5: 0 | Y5: 1.0985974e+09 | Z5: -5.3069176e+08 | AA5: 0
A6: =H6&B6 -> LDBONDIgnore | B6: =VLOOKUP(L6,Mapping!D:F,3,0) -> Ignore | C6: =VLOOKUP(L6,Mapping!D:G,4,0) -> Ignore | D6: =(X6+Y6)/10000000 -> 0 | E6: =(Z6+AA6)/10000000 -> -0.538 | F6: =VLOOKUP(L6,Mapping!D:H,5,0) -> AUM | G6: LIC | H6: LDBOND | I6: LIC MF Bond Fund | J6: 102000 | K6: COST BONDS | L6: 102135 | M6: 0 | N6: Investment - SDLs | O6: INR | P6: -5380000 | Q6: 0 | R6: 0 | S6: 0 | T6: -5380000 | U6: 0 | V6: -5380000 | W6: 0 | X6: 0 | Y6: 0 | Z6: -5380000 | AA6: 0
A7: =H7&B7 -> LDBONDIgnore | B7: =VLOOKUP(L7,Mapping!D:F,3,0) -> Ignore | C7: =VLOOKUP(L7,Mapping!D:G,4,0) -> Ignore | D7: =(X7+Y7)/10000000 -> 0 | E7: =(Z7+AA7)/10000000 -> 6e-09 | F7: =VLOOKUP(L7,Mapping!D:H,5,0) -> AUM | G7: LIC | H7: LDBOND | I7: LIC MF Bond Fund | J7: 105000 | K7: COST FUNDS | L7: 105100 | M7: 0 | N7: Investment Mutual Fund | O7: INR | P7: 0 | Q7: 0.06 | R7: 0 | S7: 0 | T7: 0 | U7: 0.06 | V7: 0 | W7: 0.06 | X7: 0 | Y7: 0 | Z7: 0 | AA7: 0.06
A8: =H8&B8 -> LDBONDIgnore | B8: =VLOOKUP(L8,Mapping!D:F,3,0) -> Ignore | C8: =VLOOKUP(L8,Mapping!D:G,4,0) -> Ignore | D8: =(X8+Y8)/10000000 -> -0.077707353 | E8: =(Z8+AA8)/10000000 -> -0.12001169 | F8: =VLOOKUP(L8,Mapping!D:H,5,0) -> AUM | G8: LIC | H8: LDBOND | I8: LIC MF Bond Fund | J8: 110000 | K8: DEPOSIT | L8: 110116 | M8: 0 | N8: Margin Deposit For CCIL | O8: INR | P8: -423043.36 | Q8: 0 | R8: -777073.53 | S8: 0 | T8: -1200116.9 | U8: 0 | V8: -423043.36 | W8: 0 | X8: -777073.53 | Y8: 0 | Z8: -1200116.9 | AA8: 0
A9: =H9&B9 -> LDBONDIgnore | B9: =VLOOKUP(L9,Mapping!D:F,3,0) -> Ignore | C9: =VLOOKUP(L9,Mapping!D:G,4,0) -> Ignore | D9: =(X9+Y9)/10000000 -> 0.24051446 | E9: =(Z9+AA9)/10000000 -> -0.0979689 | F9: =VLOOKUP(L9,Mapping!D:H,5,0) -> AUM | G9: LIC | H9: LDBOND | I9: LIC MF Bond Fund | J9: 110000 | K9: DEPOSIT | L9: 110123 | M9: 0 | N9: Margin Deposit For Sec Segment | O9: INR | P9: -3384833.6 | Q9: 0 | R9: 0 | S9: 2405144.6 | T9: -979689 | U9: 0 | V9: -3384833.6 | W9: 0 | X9: 0 | Y9: 2405144.6 | Z9: -979689 | AA9: 0
A10: =H10&B10 -> LDBONDIgnore | B10: =VLOOKUP(L10,Mapping!D:F,3,0) -> Ignore | C10: =VLOOKUP(L10,Mapping!D:G,4,0) -> Ignore | D10: =(X10+Y10)/10000000 -> -0.020602943 | E10: =(Z10+AA10)/10000000 -> -0.020602943 | F10: =VLOOKUP(L10,Mapping!D:H,5,0) -> AUM | G10: LIC | H10: LDBOND | I10: LIC MF Bond Fund | J10: 110000 | K10: DEPOSIT | L10: 110125 | M10: 0 | N10: Default Margin Deposit -Treps | O10: INR | P10: 0 | Q10: 0 | R10: -206029.43 | S10: 0 | T10: -206029.43 | U10: 0 | V10: 0 | W10: 0 | X10: -206029.43 | Y10: 0 | Z10: -206029.43 | AA10: 0
A11: =H11&B11 -> LDBONDIgnore | B11: =VLOOKUP(L11,Mapping!D:F,3,0) -> Ignore | C11: =VLOOKUP(L11,Mapping!D:G,4,0) -> Ignore | D11: =(X11+Y11)/10000000 -> -0.002074341 | E11: =(Z11+AA11)/10000000 -> -0.002074341 | F11: =VLOOKUP(L11,Mapping!D:H,5,0) -> AUM | G11: LIC | H11: LDBOND | I11: LIC MF Bond Fund | J11: 110000 | K11: DEPOSIT | L11: 110126 | M11: 0 | N11: Default Margin Dep For Sec Seg | O11: INR | P11: 0 | Q11: 0 | R11: -20743.41 | S11: 0 | T11: -20743.41 | U11: 0 | V11: 0 | W11: 0 | X11: -20743.41 | Y11: 0 | Z11: -20743.41 | AA11: 0
A12: =H12&B12 -> LDBONDIgnore | B12: =VLOOKUP(L12,Mapping!D:F,3,0) -> Ignore | C12: =VLOOKUP(L12,Mapping!D:G,4,0) -> Ignore | D12: =(X12+Y12)/10000000 -> -16.58024 | E12: =(Z12+AA12)/10000000 -> -34.762841 | F12: =VLOOKUP(L12,Mapping!D:H,5,0) -> AUM | G12: LIC | H12: LDBOND | I12: LIC MF Bond Fund | J12: 110000 | K12: DEPOSIT | L12: 110247 | M12: 0 | N12: Investment- TREPS | O12: INR | P12: -1.8182601e+08 | Q12: 0 | R12: -1.658024e+08 | S12: 0 | T12: -3.4762841e+08 | U12: 0 | V12: -1.8182601e+08 | W12: 0 | X12: -1.658024e+08 | Y12: 0 | Z12: -3.4762841e+08 | AA12: 0
A13: =H13&B13 -> LDBONDIgnore | B13: =VLOOKUP(L13,Mapping!D:F,3,0) -> Ignore | C13: =VLOOKUP(L13,Mapping!D:G,4,0) -> Ignore | D13: =(X13+Y13)/10000000 -> -0.00242929 | E13: =(Z13+AA13)/10000000 -> -0.002528833 | F13: =VLOOKUP(L13,Mapping!D:H,5,0) -> AUM | G13: LIC | H13: LDBOND | I13: LIC MF Bond Fund | J13: 132000 | K13: RECEIVABLES | L13: 132121 | M13: 0 | N13: Sub. Rec. Control Account | O13: INR | P13: -995.43 | Q13: 0 | R13: -24292.9 | S13: 0 | T13: -25288.33 | U13: 0 | V13: -995.43 | W13: 0 | X13: -24292.9 | Y13: 0 | Z13: -25288.33 | AA13: 0
A14: =H14&B14 -> LDBONDIgnore | B14: =VLOOKUP(L14,Mapping!D:F,3,0) -> Ignore | C14: =VLOOKUP(L14,Mapping!D:G,4,0) -> Ignore | D14: =(X14+Y14)/10000000 -> 0.0001 | E14: =(Z14+AA14)/10000000 -> 0.000100053 | F14: =VLOOKUP(L14,Mapping!D:H,5,0) -> AUM | G14: LIC | H14: LDBOND | I14: LIC MF Bond Fund | J14: 132000 | K14: RECEIVABLES | L14: 132124 | M14: 0 | N14: Switch in Receivable Ct | O14: INR | P14: 0 | Q14: 0.53 | R14: 0 | S14: 1000 | T14: 0 | U14: 1000.53 | V14: 0 | W14: 0.53 | X14: 0 | Y14: 1000 | Z14: 0 | AA14: 1000.53
... A3162: =H3162&B3162 -> LUNCLF6.3 | B3162: =VLOOKUP(L3162,Mapping!D:F,3,0) -> 6.3 | C3162: =VLOOKUP(L3162,Mapping!D:G,4,0) -> Mirror | D3162: =(X3162+Y3162)/10000000 -> -2.5e-06 | E3162: =(Z3162+AA3162)/10000000 -> -2.5e-06 | F3162: =VLOOKUP(L3162,Mapping!D:H,5,0) -> 0 | G3162: LIC | H3162: LUNCLF | I3162: LIC MF Unclaimed Redemption & Div Fund | J3162: 550000 | K3162: FEES | L3162: 555204 | M3162: 0 | N3162: Printing & Stationary Exp | O3162: INR | P3162: 0 | Q3162: 0 | R3162: -25 | S3162: 0 | T3162: -25 | U3162: 0 | V3162: 0 | W3162: 0 | X3162: -25 | Y3162: 0 | Z3162: -25 | AA3162: 0
G3163: 44476 | H3163: 0.85143519 | I3163: 1

Sheet HY financials
C3: LIC Mutual Fund
C4: Unaudited half yearly financial results for the period ended
C5: September 30, 2021
C6: [Persuant to regulation 59 of Securities and Exchange Board of India
C7: (Mutual Funds) Regulations, 1996]
C9: Sr no | D9: Particulars | E9: LIC MF Unit Linked Insurance Scheme (ULIS) | F9: LIC MF Equity Hybrid Fund | G9: LIC MF Flexi Cap Fund | H9: LIC MF Large Cap Fund | I9: LIC MF Tax Plan | J9: LIC MF Debt Hybrid Fund | K9: LIC MF Bond Fund | L9: LIC MF Government Securities Fund | M9: LIC MF Children's Gift Fund | N9: LIC MF Liquid Fund | O9: LIC MF Index Fund - Sensex Plan | P9: LIC MF Index Fund - Nifty Plan | Q9: LIC MF Savings Fund | R9: LIC MF Banking & PSU Debt Fund | S9: LIC MF Infrastructure Fund | T9: LIC MF G-Sec Long Term Exchange Traded Fund | U9: LIC MF Large & Mid Cap Fund | V9: LIC MF Banking and Financial Services Fund | W9: LIC MF Exchange Traded Fund - Nifty 50 | X9: LIC MF Exchange Traded Fund - Sensex | Y9: LIC MF Exchange Traded Fund - Nifty 100 | Z9: LIC MF Arbitrage Fund | AA9: LIC MF Short Term Debt Fund | AB9: LIC MF Overnight Fund | AC9: LIC MF Ultra Short Term Fund
C10: 1.1 | D10: Unit capital at the beginning of the half year period [Rs. in crores] | E10: 155.02379 | F10: 111.78088 | G10: 71.685832 | H10: 147.278 | I10: 52.896084 | J10: 18.073739 | K10: 34.219681 | L10: 11.332442 | M10: 6.2665849 | N10: 1854.0582 | O10: 4.4174364 | P10: 5.7563999 | Q10: 285.22102 | R10: 771.65456 | S10: 35.960084 | T10: 218.57351 | U10: 525.63195 | V10: 46.640202 | W10: 42.935671 | X10: 10.402513 | Y10: 26.644242 | Z10: 29.928242 | AA10: 318.7415 | AB10: 145.37473 | AC10: 79.742859
