Workbook

Sheet Equity
A1: Dashboard as on 31/5/2025
A2: Scheme Name | B2: LIC MF Flexi Cap Fund | H2: LIC MF Large Cap Fund | N2: LIC MF Large & Mid Cap Fund | T2: LIC MF Banking & Financial Services Fund | Z2: LIC MF Infrastructure Fund | AF2: LIC MF Manufacturing Fund | AL2: LIC MF ELSS Tax Saver | AR2: LIC MF Multi Cap Fund | AX2: LIC MF Dividend Yield Fund | BD2: LIC MF Focused Fund | BJ2: LIC MF Midcap Fund | BP2: LIC MF Healthcare Fund | BV2: LIC MF Small Cap Fund | CB2: LIC MF Value Fund | CH2: LIC MF Unit Linked Insurance Scheme
A3: SEBI Code | B3: LICM/O/E/FCF/93/01/0002 | H3: LICM/O/E/LCF/94/07/0003 | N3: LICM/O/E/LMF/14/12/0016 | T3: LICM/O/E/SEC/15/01/0017 | Z3: LICM/O/E/THE/07/11/0014 | AF3: LICM/O/E/THE/24/09/0029 | AL3: LICM/O/E/ELS/97/01/0004 | AR3: LICM/O/E/MCF/22/07/0027 | AX3: LICM/O/E/DYF/18/09/0021 | BD3: LICM/O/E/FOC/17/09/0018 | BJ3: LICM/O/E/MIF/16/12/0016 | BP3: LICM/O/E/SEC/18/09/0022 | BV3: LICM/O/E/SCF/17/05/0017 | CB3: LICM/O/E/VAF/18/06/0020 | CH3: -
A4: Date of Allotment - Regular | B4: 15.04.1993 | H4: 01.09.1994 | N4: 25.02.2015 | T4: 27.03.2015 | Z4: 24.03.2008 | AF4: 11.10.2024 | AL4: 31.03.1997 | AR4: 31.10.2022 | AX4: 21.12.2018 | BD4: 17.11.2017 | BJ4: 25.01.2017 | BP4: 28.02.2019 | BV4: 21.06.2017 | CB4: 20.08.2018 | CH4: 19.06.1989
A5: Date of Allotment - Direct | B5: 01.01.2013 | H5: 01.01.2013 | N5: 25.02.2015 | T5: 27.03.2015 | Z5: 01.01.2013 | AF5: 11.10.2024 | AL5: 01.01.2013 | AR5: 31.10.2022 | AX5: 21.12.2018 | BD5: 17.11.2017 | BJ5: 25.01.2017 | BP5: 28.02.2019 | BV5: 21.06.2017 | CB5: 20.08.2018 | CH5: 01.01.2013
A7: AUM (in Rs. crore) | B7: 979.6 | H7: 1468.58 | N7: 3055.2 | T7: 273.27 | Z7: 1004.78 | AF7: 873.54 | AL7: 1113.04 | AR7: 1568.53 | AX7: 559.85 | BD7: 140.33 | BJ7: 334.51 | BP7: 84.19 | BV7: 575.56 | CB7: 164.56 | CH7: 493.17
A10: Investment Objective | B10: The main investment objective of the scheme is to provide capital growth by investing across Large, Mid & Small Cap stocks. The investment portfolio of the scheme will be constantly monitored and reviewed to optimise capital growth. There is no assurance that the investment objective of the Scheme will be achieved. | H10: To achieve long term capital appreciation by investing in diversified portfolio predominantly consisting of equity and equity related securities of Large Cap companies including derivatives. There is no assurance that the investment objective of the Scheme will be achieved. | N10: To generate long term capital appreciation by investing substantially in a portfolio of equity and equity linked instruments of large cap and midcap companies. There is no assurance that the investment objective of the Scheme will be achieved. | T10: The investment objective of the scheme is to generate long-term capital appreciation for unit holders from a portfolio that is invested substantially in equity and equity related securities of companies engaged in banking and financial services sector. There is no assurance that the investment objective of the Scheme will be achieved. | Z10: The investment objective of the scheme is to generate longterm growth from a portfolio of equity / equity related instruments of companies engaged either directly or indirectly in the infrastructure sector. There is no assurance that the investment objective of the Scheme will be achieved. | AF10: The investment objective of the scheme is to achieve long term capital appreciation by predominantly investing in equity and equity related instruments of companies following manufacturing theme. There is no assurance that the investment objective of the scheme will be achieved. | AL10: To provide capital growth along with tax rebate and tax relief to our investors through prudent investments in the stock markets. An open-ended equity linked tax saving Scheme which offers investors the opportunity to seek Tax rebate u/s 80C of the Income Tax Act 1961. There is no assurance that the investment objective of the Scheme will be achieved. | AR10: The investment objective of the scheme is to generate longterm capital appreciation by investing in a diversified portfolio of equity & equity related instruments across large cap, mid cap and small cap stocks. There is no assurance that the investment objective of the Scheme will be achieved. | AX10: The Investment objective of the Scheme is to provide long term capital appreciation and/or Income Distribution cum Capital Withdrawal (IDCW) distribution by investing predominantly in dividend yielding equity and equity related instruments. There is no assurance that the investment objective of the Scheme will be achieved. | BD10: The investment objective of the Scheme is to generate long term capital appreciation by investing in a concentrated portfolio of equity and equity related instruments of up to 30 companies across market capitalisation. There is no assurance or guarantee that the objective of the Scheme would be achieved. | BJ10: To provide investors with the opportunities for long-term capital appreciation by investing predominantly in Equity and Equity related instruments of Midcap Companies. There is no assurance that the investment objective of the Scheme will be achieved. | BP10: The objective of the Scheme is to achieve long term capital appreciation by predominantly investing in equity and equity related instruments of companies engaged in Healthcare and Allied sectors. There is no assurance that the investment objective of the Scheme will be achieved. | BV10: The Investment objective of the scheme is to provide investors with the opportunities for long-term capital appreciation by investing predominantly in Equity and Equity related instruments of Small Cap Companies. There is no assurance that the investment objective of the Scheme will be achieved. | CB10: The Investment Objective of the Scheme is to generate longterm capital appreciation along with regular income by investing predominantly in equity and equity related instruments by following value investing strategy. There is no assurance that the investment objective of the Scheme will be achieved. | CH10: An open ended scheme which seeks to generate long term capital appreciation and offer Tax benefits u/s 80C of the Income Tax Act as well as additional benefit of a life cover. There is no assurance that the investment objective of the Scheme will be achieved.
A12: Fund Manager | B12: Mr. Nikhil Rungta (Equity - managing since 01/07/24) & Mr. Jaiprakash Toshniwal (Equity - managing since 31/07/23) | H12: Mr. Nikhil Rungta (Equity - managing since 01/07/24) & Mr. Sumit Bhatnagar (Equity - managing since 03/10/23) | N12: Mr. Yogesh Patil (Equity - managing since 18/09/20) & Mr. Dikshit Mittal (Equity - managing since 01/06/23) | T12: Mr. Jaiprakash Toshniwal (Equity - managing since 06/09/21) | Z12: Mr. Yogesh Patil (Equity - managing since 18/09/20) & Mr. Mahesh Bendre (Equity - managing since 01/07/24) | AF12: Mr. Yogesh Patil (Equity - managing since 11/10/24) & Mr. Mahesh Bendre (Equity - managing since 11/10/24) | AL12: Mr. Yogesh Patil (Equity - managing since 01/07/24) & Mr. Dikshit Mittal (Equity - managing since 31/07/23) | AR12: Mr. Dikshit Mittal (Equity - managing since 01/12/22 ) & Mr. Yogesh Patil (Equity - managing since 31/10/22) | AX12: Mr. Dikshit Mittal (Equity - managing since 31/07/23) & Mr. Karan Doshi (Equity - managing since 01/07/24) | BD12: Mr. Jaiprakash Toshniwal (Equity - managing since 31/07/23) & Mr. Sumit Bhatnagar (Equity -, managing since 01/07/24) | BJ12: Mr. Karan Doshi (Equity - managing since 31/07/23) & Mr. Dikshit Mittal (Equity - managing since 31/07/23) | BP12: Mr. Karan Doshi (Equity - managing since 31/07/23) | BV12: Mr. Nikhil Rungta (Equity - managing since 01/07/24) & Mr. Mahesh Bendre (Equity - managing since 01/07/24) | CB12: Mr. Nikhil Rungta (Equity - managing since 01/07/24) & Mr. Mahesh Bendre (Equity - managing since 01/07/24) | CH12: Mr. Dikshit Mittal (Equity - managing since 06/09/21) / Mr. Karan Doshi (Equity - managing since 01/07/24) & Mr. Pratik Harish Shroff (Debt - managing since 26/09/23)
A14: Annual Portfolio Turnover Ratio (in times) | B14: 1.056706 | H14: 0.921983 | N14: 0.433329 | T14: 0.511103 | Z14: 0.445981 | AF14: NA | AL14: 0.139766 | AR14: 0.314558 | AX14: 0.614485 | BD14: 1.255612 | BJ14: 0.57278 | BP14: 0.443966 | BV14: 0.884332 | CB14: 1.418626 | CH14: 0.103301
A16: Total Expense Ratio
B17: Regular | E17: Direct | H17: Regular | K17: Direct | N17: Regular | Q17: Direct | T17: Regular | W17: Direct | Z17: Regular | AC17: Direct | AF17: Regular | AI17: Direct | AL17: Regular | AO17: Direct | AR17: Regular | AU17: Direct | AX17: Regular | BA17: Direct | BD17: Regular | BG17: Direct | BJ17: Regular | BM17: Direct | BP17: Regular | BS17: Direct | BV17: Regular | BY17: Direct | CB17: Regular | CE17: Direct | CH17: Regular | CK17: Direct
A18: Base TER (%)@ | B18: 2.07 | E18: 1.05 | H18: 1.96 | K18: 0.85 | N18: 1.8 | Q18: 0.49 | T18: 2.25 | W18: 0.88 | Z18: 2.06 | AC18: 0.43 | AF18: 2.11 | AI18: 0.35 | AL18: 2.03 | AO18: 0.86 | AR18: 1.95 | AU18: 0.44 | AX18: 2.22 | BA18: 0.54 | BD18: 2.25 | BG18: 1.35 | BJ18: 2.25 | BM18: 1.1 | BP18: 2.25 | BS18: 1.02 | BV18: 2.22 | BY18: 0.76 | CB18: 2.25 | CE18: 0.8 | CH18: 2.25 | CK18: 1.18
A19: Additional expense as per Regulation 52(6A)(b) (%)# | B19: 0 | E19: 0 | H19: 0 | K19: 0 | N19: 0 | Q19: 0 | T19: 0 | W19: 0 | Z19: 0 | AC19: 0 | AF19: 0 | AI19: 0 | AL19: 0 | AO19: 0 | AR19: 0 | AU19: 0 | AX19: 0 | BA19: 0 | BD19: 0 | BG19: 0 | BJ19: 0 | BM19: 0 | BP19: 0 | BS19: 0 | BV19: 0 | BY19: 0 | CB19: 0 | CE19: 0 | CH19: 0 | CK19: 0
A20: Additional expense as per Regulation 52(6A)(c) (%)$ | B20: 0.05 | E20: 0.05 | H20: 0.05 | K20: 0.05 | N20: 0.05 | Q20: 0.05 | T20: 0.05 | W20: 0.05 | Z20: 0.05 | AC20: 0.05 | AF20: 0.05 | AI20: 0.05 | AL20: 0 | AO20: 0 | AR20: 0.05 | AU20: 0.05 | AX20: 0.05 | BA20: 0.05 | BD20: 0.05 | BG20: 0.05 | BJ20: 0.05 | BM20: 0.05 | BP20: 0.05 | BS20: 0.05 | BV20: 0.05 | BY20: 0.05 | CB20: 0.05 | CE20: 0.05 | CH20: 0 | CK20: 0
A21: GST (%)^ | B21: 0.16 | E21: 0.16 | H21: 0.11 | K21: 0.11 | N21: 0.06 | Q21: 0.06 | T21: 0.12 | W21: 0.12 | Z21: 0.05 | AC21: 0.05 | AF21: 0.05 | AI21: 0.05 | AL21: 0.12 | AO21: 0.11 | AR21: 0.04 | AU21: 0.04 | AX21: 0.08 | BA21: 0.07 | BD21: 0.22 | BG21: 0.21 | BJ21: 0.18 | BM21: 0.18 | BP21: 0.15 | BS21: 0.15 | BV21: 0.11 | BY21: 0.11 | CB21: 0.11 | CE21: 0.11 | CH21: 0.12 | CK21: 0.11
A22: Total TER (%) | B22: =SUM(B18:D21) -> 2.28 | E22: =SUM(E18:G21) -> 1.26 | H22: =SUM(H18:J21) -> 2.12 | K22: =SUM(K18:M21) -> 1.01 | N22: =SUM(N18:P21) -> 1.91 | Q22: =SUM(Q18:S21) -> 0.6 | T22: =SUM(T18:V21) -> 2.42 | W22: =SUM(W18:Y21) -> 1.05 | Z22: =SUM(Z18:AB21) -> 2.16 | AC22: =SUM(AC18:AE21) -> 0.53 | AF22: =SUM(AF18:AH21) -> 2.21 | AI22: =SUM(AI18:AK21) -> 0.45 | AL22: =SUM(AL18:AN21) -> 2.15 | AO22: =SUM(AO18:AQ21) -> 0.97 | AR22: =SUM(AR18:AT21) -> 2.04 | AU22: =SUM(AU18:AW21) -> 0.53 | AX22: =SUM(AX18:AZ21) -> 2.35 | BA22: =SUM(BA18:BC21) -> 0.66 | BD22: =SUM(BD18:BF21) -> 2.52 | BG22: =SUM(BG18:BI21) -> 1.61 | BJ22: =SUM(BJ18:BL21) -> 2.48 | BM22: =SUM(BM18:BO21) -> 1.33 | BP22: =SUM(BP18:BR21) -> 2.45 | BS22: =SUM(BS18:BU21) -> 1.22 | BV22: =SUM(BV18:BX21) -> 2.38 | BY22: =SUM(BY18:CA21) -> 0.92 | CB22: =SUM(CB18:CD21) -> 2.41 | CE22: =SUM(CE18:CG21) -> 0.96 | CH22: =SUM(CH18:CJ21) -> 2.37 | CK22: =SUM(CK18:CM21) -> 1.29
A24: Portfolio (Top 10 Holdings) | B24: Name of the issuer | E24: % of Net Assets | H24: Name of the issuer | K24: % of Net Assets | N24: Name of the issuer | Q24: % of Net Assets | T24: Name of the issuer | W24: % of Net Assets | Z24: Name of the issuer | AC24: % of Net Assets | AF24: Name of the issuer | AI24: % of Net Assets | AL24: Name of the issuer | AO24: % of Net Assets | AR24: Name of the issuer | AU24: % of Net Assets | AX24: Name of the issuer | BA24: % of Net Assets | BD24: Name of the issuer | BG24: % of Net Assets | BJ24: Name of the issuer | BM24: % of Net Assets | BP24: Name of the issuer | BS24: % of Net Assets | BV24: Name of the issuer | BY24: % of Net Assets | CB24: Name of the issuer | CE24: % of Net Assets | CH24: Name of the issuer | CK24: % of Net Assets
B25: HDFC Bank Ltd. | E25: 4.7778 | H25: HDFC Bank Ltd. | K25: 9.6013 | N25: ICICI Bank Ltd. | Q25: 5.2256 | T25: HDFC Bank Ltd. | W25: 19.9469 | Z25: Garware Hi-Tech Films Ltd. | AC25: 4.4071 | AF25: Garware Hi-Tech Films Ltd. | AI25: 4.4232 | AL25: HDFC Bank Ltd. | AO25: 8.0066 | AR25: Garware Hi-Tech Films Ltd. | AU25: 3.6765 | AX25: HDFC Bank Ltd. | BA25: 4.8786 | BD25: Kotak Mahindra Bank Ltd. | BG25: 7.2222 | BJ25: Shakti Pumps (India) Ltd. | BM25: 3.6859 | BP25: Sun Pharmaceutical Industries Ltd. | BS25: 10.7301 | BV25: Sanathan Textiles Ltd. | BY25: 3.1565 | CB25: Axis Bank Ltd. | CE25: 4.1 | CH25: ICICI Bank Ltd. | CK25: 8.3416
B26: JTL Industries Ltd. | E26: 3.2804 | H26: ICICI Bank Ltd. | K26: 7.3857 | N26: HDFC Bank Ltd. | Q26: 5.1862 | T26: ICICI Bank Ltd. | W26: 12.7974 | Z26: Shakti Pumps (India) Ltd. | AC26: 3.858 | AF26: Manorama Industries Ltd. | AI26: 3.7977 | AL26: ICICI Bank Ltd. | AO26: 7.85 | AR26: HDFC Bank Ltd. | AU26: 3.4976 | AX26: Garware Hi-Tech Films Ltd. | BA26: 3.8893 | BD26: Tata Consultancy Services Ltd. | BG26: 7.0923 | BJ26: The Federal Bank Ltd. | BM26: 3.2201 | BP26: Cipla Ltd. | BS26: 5.4346 | BV26: JTL Industries Ltd. | BY26: 2.9396 | CB26: Enviro Infra Engineers Ltd | CE26: 3.7506 | CH26: Government Bond | CK26: 7.7899
B27: VA Tech Wabag Ltd. | E27: 3.1103 | H27: Reliance Industries Ltd. | K27: 6.3597 | N27: Shakti Pumps (India) Ltd. | Q27: 3.2215 | T27: Axis Bank Ltd. | W27: 6.7098 | Z27: Tata Power Company Ltd. | AC27: 2.8339 | AF27: Cummins India Ltd. | AI27: 3.6808 | AL27: Shakti Pumps (India) Ltd. | AO27: 5.3131 | AR27: Shakti Pumps (India) Ltd. | AU27: 2.778 | AX27: Kotak Mahindra Bank Ltd. | BA27: 3.591 | BD27: Tata Consumer Products Ltd. | BG27: 5.8815 | BJ27: UNO Minda Ltd. | BM27: 3.183 | BP27: Torrent Pharmaceuticals Ltd. | BS27: 4.9509 | BV27: Housing & Urban Development Corp Ltd. | BY27: 2.8029 | CB27: HDFC Bank Ltd. | CE27: 3.6402 | CH27: State Government Bond | CK27: 5.151
B28: Tech Mahindra Ltd. | E28: 3.0072 | H28: Infosys Ltd. | K28: 4.2978 | N28: Garware Hi-Tech Films Ltd. | Q28: 2.9681 | T28: Kotak Mahindra Bank Ltd. | W28: 6.3936 | Z28: Afcons Infrastructure Ltd. | AC28: 2.6291 | AF28: Mahindra & Mahindra Ltd. | AI28: 3.471 | AL28: Axis Bank Ltd. | AO28: 3.6687 | AR28: ICICI Bank Ltd. | AU28: 2.7676 | AX28: Tata Consultancy Services Ltd. | BA28: 3.3883 | BD28: Techno Electric & Engineering Co. Ltd. | BG28: 5.0298 | BJ28: Trent Ltd. | BM28: 2.7341 | BP28: Divi's Laboratories Ltd. | BS28: 4.836 | BV28: Manorama Industries Ltd. | BY28: 2.7689 | CB28: Tata Power Company Ltd. | CE28: 3.0828 | CH28: HDFC Bank Ltd. | CK28: 5.0421
B29: Page Industries Ltd. | E29: 2.9027 | H29: Larsen & Toubro Ltd. | K29: 3.8254 | N29: Kotak Mahindra Bank Ltd. | Q29: 2.4135 | T29: State Bank of India | W29: 5.7812 | Z29: Bharat Heavy Electricals Ltd. | AC29: 2.3612 | AF29: Shakti Pumps (India) Ltd. | AI29: 3.337 | AL29: Cholamandalam Investment & Fin Co Ltd. | AO29: 3.0329 | AR29: Tata Consultancy Services Ltd. | AU29: 2.2692 | AX29: ICICI Bank Ltd. | BA29: 2.7898 | BD29: Artemis Medicare Services Ltd. | BG29: 4.4342 | BJ29: Bharat Electronics Ltd. | BM29: 2.3813 | BP29: Aurobindo Pharma Ltd. | BS29: 4.2672 | BV29: Concord Enviro Systems Ltd. | BY29: 2.7595 | CB29: JTL Industries Ltd. | CE29: 2.9245 | CH29: Trent Ltd. | CK29: 4.1044
B30: Allied Blenders And Distillers Ltd. | E30: 2.8107 | H30: Bharti Airtel Ltd. | K30: 3.4971 | N30: Tata Consultancy Services Ltd. | Q30: 2.328 | T30: MAS Financial Services Ltd. | W30: 4.8091 | Z30: Schneider Electric Infrastructure Ltd. | AC30: 2.29 | AF30: Hero MotoCorp Ltd. | AI30: 2.545 | AL30: State Bank of India | AO30: 2.3397 | AR30: Axis Bank Ltd. | AU30: 2.1762 | AX30: Axis Bank Ltd. | BA30: 2.558 | BD30: MAS Financial Services Ltd. | BG30: 4.2385 | BJ30: The Indian Hotels Company Ltd. | BM30: 2.2432 | BP30: Piramal Pharma Ltd. | BS30: 4.2172 | BV30: Enviro Infra Engineers Ltd | BY30: 2.2883 | CB30: International Gemmological Inst Ind Ltd. | CE30: 2.767 | CH30: Infosys Ltd. | CK30: 3.7099
B31: Tata Power Company Ltd. | E31: 2.7285 | H31: State Bank of India | K31: 2.9688 | N31: REC Ltd. | Q31: 2.1178 | T31: Power Finance Corporation Ltd. | W31: 3.7111 | Z31: REC Ltd. | AC31: 2.2875 | AF31: Carraro India Ltd. | AI31: 2.4358 | AL31: Trent Ltd. | AO31: 2.2889 | AR31: Kotak Mahindra Bank Ltd. | AU31: 1.9902 | AX31: Bharat Electronics Ltd. | BA31: 2.3655 | BD31: Allied Blenders And Distillers Ltd. | BG31: 4.1198 | BJ31: Garware Hi-Tech Films Ltd. | BM31: 2.1912 | BP31: Neuland Laboratories Ltd. | BS31: 4.1138 | BV31: International Gemmological Inst Ind Ltd. | BY31: 2.2826 | CB31: Exide Industries Ltd. | CE31: 2.7401 | CH31: Power Finance Corporation Ltd. | CK31: 3.1928
B32: Kotak Mahindra Bank Ltd. | E32: 2.6642 | H32: Kotak Mahindra Bank Ltd. | K32: 2.768 | N32: Bharat Electronics Ltd. | Q32: 2.034 | T32: Creditaccess Grameen Ltd. | W32: 2.8319 | Z32: Cummins India Ltd. | AC32: 2.1924 | AF32: TD Power Systems Ltd. | AI32: 2.3515 | AL32: Larsen & Toubro Ltd. | AO32: 2.2763 | AR32: Power Finance Corporation Ltd. | AU32: 1.8168 | AX32: Power Finance Corporation Ltd. | BA32: 2.2284 | BD32: Tech Mahindra Ltd. | BG32: 4.0605 | BJ32: Container Corporation Of India Ltd. | BM32: 2.0756 | BP32: Fortis Healthcare Ltd. | BS32: 4.0027 | BV32: Allied Blenders And Distillers Ltd. | BY32: 2.2648 | CB32: Allied Blenders And Distillers Ltd. | CE32: 2.4424 | CH32: Divi's Laboratories Ltd. | CK32: 2.5807
B33: Transrail Lighting Ltd. | E33: 2.3413 | H33: Tata Power Company Ltd. | K33: 2.4147 | N33: Trent Ltd. | Q33: 2.0283 | T33: DCB Bank Ltd. | W33: 2.6456 | Z33: GE Vernova T&D India Limited | AC33: 2.1428 | AF33: Bharat Forge Ltd. | AI33: 2.2886 | AL33: Infosys Ltd. | AO33: 2.1286 | AR33: GE Vernova T&D India Limited | AU33: 1.8083 | AX33: LTIMindtree Ltd. | BA33: 2.1712 | BD33: EIH Ltd. | BG33: 3.8693 | BJ33: Coromandel International Ltd. | BM33: 2.0578 | BP33: Alkem Laboratories Ltd. | BS33: 3.7617 | BV33: Hindustan Foods Ltd. | BY33: 2.2469 | CB33: KSB Ltd. | CE33: 2.3609 | CH33: Bharat Electronics Ltd. | CK33: 2.5141
B34: Hindustan Unilever Ltd. | E34: 2.3401 | H34: Bharat Electronics Ltd. | K34: 2.3982 | N34: Reliance Industries Ltd. | Q34: 1.972 | T34: The South Indian Bank Ltd. | W34: 2.5722 | Z34: TD Power Systems Ltd. | AC34: 2.0583 | AF34: Tata Power Company Ltd. | AI34: 2.1589 | AL34: Reliance Industries Ltd. | AO34: 1.9705 | AR34: Bharti Hexacom Ltd. | AU34: 1.7886 | AX34: Bank of Baroda | BA34: 1.9641 | BD34: Shriram Finance Ltd. | BG34: 3.8692 | BJ34: Schaeffler India Ltd. | BM34: 2.0251 | BP34: Artemis Medicare Services Ltd. | BS34: 3.6122 | BV34: Navkar Corporation Ltd. | BY34: 2.2273 | CB34: CESC Ltd. | CE34: 2.3578 | CH34: KSB Ltd. | CK34: 2.504
B37: Grand Total | E37: =SUM(E25:G36) -> 29.9632 | H37: Grand Total | K37: =SUM(K25:M36) -> 45.5167 | N37: Grand Total | Q37: =SUM(Q25:S36) -> 29.495 | T37: Grand Total | W37: =SUM(W25:Y36) -> 68.1988 | Z37: Grand Total | AC37: =SUM(AC25:AE36) -> 27.0603 | AF37: Grand Total | AI37: =SUM(AI25:AK36) -> 30.4895 | AL37: Grand Total | AO37: =SUM(AO25:AQ36) -> 38.8753 | AR37: Grand Total | AU37: =SUM(AU25:AW36) -> 24.569 | AX37: Grand Total | BA37: =SUM(BA25:BC36) -> 29.8242 | BD37: Grand Total | BG37: =SUM(BG25:BI36) -> 49.8173 | BJ37: Grand Total | BM37: =SUM(BM25:BO36) -> 25.7973 | BP37: Grand Total | BS37: =SUM(BS25:BU36) -> 49.9264 | BV37: Grand Total | BY37: =SUM(BY25:CA36) -> 25.7373 | CB37: Grand Total | CE37: =SUM(CE25:CG36) -> 30.1663 | CH37: Grand Total | CK37: =SUM(CK25:CM36) -> 44.9305
A39: Asset Allocation | B39: Asset Allocation | E39: % of Net Assets | H39: Asset Allocation | K39: % of Net Assets | N39: Asset Allocation | Q39: % of Net Assets | T39: Asset Allocation | W39: % of Net Assets | Z39: Asset Allocation | AC39: % of Net Assets | AF39: Asset Allocation | AI39: % of Net Assets | AL39: Asset Allocation | AO39: % of Net Assets | AR39: Asset Allocation | AU39: % of Net Assets | AX39: Asset Allocation | BA39: % of Net Assets | BD39: Asset Allocation | BG39: % of Net Assets | BJ39: Asset Allocation | BM39: % of Net Assets | BP39: Asset Allocation | BS39: % of Net Assets | BV39: Asset Allocation | BY39: % of Net Assets | CB39: Asset Allocation | CE39: % of Net Assets | CH39: Asset Allocation | CK39: % of Net Assets
B40: Equity Holdings | C40: 0.95970929 | D40: Equity Holdings | E40: 94.71355 | H40: Equity Holdings | I40: 0.96083851 | J40: Equity Holdings | K40: 98.189374 | N40: Equity Holdings | O40: 0.95947917 | P40: Equity Holdings | Q40: 95.879921 | T40: Equity Holdings | U40: 0.95062595 | V40: Equity Holdings | W40: 98.295414 | Z40: Equity Holdings | AA40: 0.97458926 | AB40: Equity Holdings | AC40: 89.141612 | AF40: Equity Holdings | AG40: 0.97458926 | AH40: Equity Holdings | AI40: 92.081725 | AL40: Equity Holdings | AM40: 0.96417311 | AN40: Equity Holdings | AO40: 96.168526 | AR40: Equity Holdings | AU40: 94.715077 | AX40: Equity Holdings | BA40: 97.084838 | BD40: Equity Holdings | BG40: 96.977227 | BJ40: Equity Holdings | BM40: 97.036724 | BP40: Equity Holdings | BS40: 96.620987 | BV40: Equity Holdings | BY40: 96.48555 | CB40: Equity Holdings | CE40: 98.129121 | CH40: Equity Holdings | CI40: 0.78733932 | CJ40: Equity Holdings | CK40: 75.17479
B41: Cash & Other Receivables | C41: 0.040290706 | D41: Cash & Other Receivables | E41: 5.2864501 | H41: Cash & Other Receivables | I41: 0.039161485 | J41: Cash & Other Receivables | K41: 1.8106257 | N41: Cash & Other Receivables | O41: 0.04052083 | P41: Cash & Other Receivables | Q41: 4.1200787 | T41: Cash & Other Receivables | U41: 0.049374047 | V41: Cash & Other Receivables | W41: 1.704586 | Z41: Cash & Other Receivables | AA41: 0.025410745 | AB41: Cash & Other Receivables | AC41: 10.858388 | AF41: Cash & Other Receivables | AG41: 0.025410745 | AH41: Cash & Other Receivables | AI41: 7.9182748 | AL41: Cash & Other Receivables | AM41: 0.035826888 | AN41: Cash & Other Receivables | AO41: 3.8314743 | AR41: Cash & Other Receivables | AU41: 5.2849233 | AX41: Cash & Other Receivables | BA41: 2.9151615 | BD41: Cash & Other Receivables | BG41: 3.0227726 | BJ41: Cash & Other Receivables | BM41: 2.9632757 | BP41: Cash & Other Receivables | BS41: 3.3790134 | BV41: Cash & Other Receivables | BY41: 3.5144503 | CB41: Cash & Other Receivables | CE41: 1.870879 | CH41: GOVERNMENT BOND AND TREASURY BILL | CI41: 0.11435791 | CJ41: GOVERNMENT BOND AND TREASURY BILL | CK41: 12.941107
CH42: CORPORATE DEBT | CK42: 8.7379421
CH43: Cash & Other Receivables | CK43: 3.1461602
B46: Grand Total | E46: =SUM(E40:G44) -> 100 | H46: Grand Total | K46: =SUM(K40:M44) -> 100 | N46: Grand Total | Q46: =SUM(Q40:S44) -> 100 | T46: Grand Total | W46: =SUM(W40:Y44) -> 100 | Z46: Grand Total | AC46: =SUM(AC40:AE44) -> 100 | AF46: Grand Total | AI46: =SUM(AI40:AK45) -> 100 | AL46: Grand Total | AO46: =SUM(AO40:AQ44) -> 100 | AR46: Grand Total | AU46: =SUM(AU40:AW44) -> 100 | AX46: Grand Total | BA46: =SUM(BA40:BC44) -> 100 | BD46: Grand Total | BG46: =SUM(BG40:BI44) -> 100 | BJ46: Grand Total | BM46: =SUM(BM40:BO44) -> 100 | BP46: Grand Total | BS46: =SUM(BS40:BU44) -> 100 | BV46: Grand Total | BY46: =SUM(BY40:CA44) -> 100 | CB46: Grand Total | CE46: =SUM(CE40:CG44) -> 100 | CH46: Grand Total | CK46: =SUM(CK40:CM44) -> 100
A48: Sectoral Allocation | B48: Sector/Industry | E48: % of Net Assets | H48: Sector/Industry | K48: % of Net Assets | N48: Sector/Industry | Q48: % of Net Assets | T48: Sector/Industry | W48: % of Net Assets | Z48: Sector/Industry | AC48: % of Net Assets | AF48: Sector/Industry | AI48: % of Net Assets | AL48: Sector/Industry | AO48: % of Net Assets | AR48: Sector/Industry | AU48: % of Net Assets | AX48: Sector/Industry | BA48: % of Net Assets | BD48: Sector/Industry | BG48: % of Net Assets | BJ48: Sector/Industry | BM48: % of Net Assets | BP48: Sector/Industry | BS48: % of Net Assets | BV48: Sector/Industry | BY48: % of Net Assets | CB48: Sector/Industry | CE48: % of Net Assets | CH48: Sector/Industry | CK48: % of Net Assets
B49: Banks | E49: 14.2276 | H49: Banks | K49: 25.345 | N49: Banks | Q49: 15.7345 | T49: Finance | W49: 52.8196 | Z49: Industrial Products | AC49: 21.3349 | AF49: Industrial Products | AI49: 24.0027 | AL49: Banks | AO49: 22.673 | AR49: Banks | AU49: 14.3473 | AX49: Banks | BA49: 18.1315 | BD49: Finance | BG49: 17.9019 | BJ49: Industrial Products | BM49: 11.1202 | BP49: Pharmaceuticals & Biotechnology | BS49: 65.1435 | BV49: Industrial Products | BY49: 11.3087 | CB49: Banks | CE49: 12.2401 | CH49: Banks | CK49: 18.6388
B50: Finance | E50: 7.4004 | H50: IT - Software | K50: 7.2551 | N50: Industrial Products | Q50: 9.8538 | T50: Government of India | W50: 15.7175 | Z50: Electrical Equipment | AC50: 16.9293 | AF50: Electrical Equipment | AI50: 13.2451 | AL50: Finance | AO50: 7.388 | AR50: Industrial Products | AU50: 8.8717 | AX50: Industrial Products | BA50: 10.1685 | BD50: IT - Software | BG50: 11.1528 | BJ50: Auto Components | BM50: 9.4248 | BP50: Healthcare Services | BS50: 23.1778 | BV50: Other Utilities | BY50: 7.7366 | CB50: Industrial Products | CE50: 9.1694 | CH50: Government of India | CK50: 12.9409
B51: Textiles & Apparels | E51: 6.2479 | H51: Petroleum Products | K51: 6.3597 | N51: Finance | Q51: 7.2211 | T51: Power | W51: 15.64 | Z51: Construction | AC51: 7.6608 | AF51: Automobiles | AI51: 8.7982 | AL51: IT - Software | AO51: 7.1266 | AR51: Electrical Equipment | AU51: 8.1682 | AX51: Finance | BA51: 7.4504 | BD51: Construction | BG51: 9.6328 | BJ51: Finance | BM51: 8.9698 | BP51: Chemicals & Petrochemicals | BS51: 8.2983 | BV51: Textiles & Apparels | BY51: 7.2793 | CB51: Auto Components | CE51: 7.4775 | CH51: Finance | CK51: 12.0216
B52: IT - Software | E52: 6.092 | H52: Finance | K52: 4.9642 | N52: Electrical Equipment | Q52: 5.1686 | T52: Banks | W52: 10.3683 | Z52: Auto Components | AC52: 7.0724 | AF52: Auto Components | AI52: 8.1136 | AL52: Industrial Products | AO52: 6.7443 | AR52: Auto Components | AU52: 6.2478 | AX52: IT - Software | BA52: 5.5595 | BD52: Chemicals & Petrochemicals | BG52: 7.4626 | BJ52: IT - Software | BM52: 5.6549 | BV52: Auto Components | BY52: 6.5829 | CB52: Transport Services | CE52: 5.7867 | CH52: IT - Software | CK52: 7.1412
B53: Electrical Equipment | E53: 6.0467 | H53: Pharmaceuticals & Biotechnology | K53: 4.8588 | N53: IT - Software | Q53: 4.9982 | T53: Petroleum Products | W53: 2.1775 | Z53: Industrial Manufacturing | AC53: 6.6148 | AF53: Industrial Manufacturing | AI53: 4.9545 | AL53: Automobiles | AO53: 5.6104 | AR53: IT - Software | AU53: 4.8363 | AX53: Electrical Equipment | BA53: 4.9367 | BD53: Banks | BG53: 7.2222 | BJ53: Retailing | BM53: 5.3564 | BV53: Industrial Manufacturing | BY53: 6.4464 | CB53: Other Utilities | CE53: 5.7188 | CH53: Retailing | CK53: 6.7463
...

Sheet Debt-Excl.Over,Liq,MM
A1: =Equity!A1 -> Dashboard as on 31/5/2025
A2: Scheme Name | B2: LIC MF Banking & PSU Fund | H2: LIC MF Gilt Fund | N2: LIC MF Medium to Long Duration Fund | T2: LIC MF Short Duration Fund | Z2: **LIC MF Low Duration Fund | AF2: LIC MF Ultra Short Duration Fund
A3: SEBI Code | B3: LICM/O/D/BPF/07/05/0013 | H3: LICM/O/D/GIL/99/09/0007 | N3: LICM/O/D/MLD/99/02/0006 | T3: LICM/O/D/SDF/18/07/0021 | Z3: LICM/O/D/LOW/03/02/0012 | AF3: LICM/O/D/USD/19/11/0024
A4: Date of Allotment - Regular | B4: 31.05.2007 | H4: 10.12.1999 | N4: 23.06.1999 | T4: 01.02.2019 | Z4: 09.06.2003 | AF4: 27.11.2019
A5: Date of Allotment - Direct | B5: 01.01.2013 | H5: 01.01.2013 | N5: 01.01.2013 | T5: 01.02.2019 | Z5: 01.01.2013 | AF5: 27.11.2019
A7: AUM (in Rs. crore) | B7: 1931.59 | H7: 92.25 | N7: 201.51 | T7: 262.44 | Z7: 2100.35 | AF7: 267.38
A9: Investment Objective | B9: The primary investment objective of the Scheme is to seek to generate income and capital appreciation by primarily investing in a portfolio of high quality debt and money market securities that are issued by banks, public sector undertakings, public financial institutions and Municipal Bonds. There is no assurance that the investment objective of the Scheme will be achieved. | H9: The primary objective of the scheme is to generate credit risk free and reasonable returns for its investors through investments in sovereign securities issued by the central and /or state Government and/or any security unconditionally guaranteed by the central/ state government for repayment of Principal and interest and/or reverse repos in such securities as and when permitted by RBI. There is no assurance that the investment objective of the Scheme will be achieved. | N9: LIC MF Medium to Long Duration Fund is an open-ended debt scheme which will endeavor to generate an attractive return for its investors by investing in a portfolio is between 4 years and 7 years. There is no assurance that the investment objective of the Scheme will be achieved. | T9: The primary investment objective of the scheme is to generate returns commensurate with risk from a portfolio constituted of Debt securities and/or Money Market instruments. There is no assurance that the investment objective of the Scheme will be achieved. | Z9: The investment objective of the Scheme is to generate income by investing in a portfolio of quality short term debt securities. There is no assurance that the investment objective of the Scheme will be achieved. | AF9: The investment objective of the scheme is to generate returns through investment in Debt & Money Market instruments such that the Macaulay duration of the portfolio is between 3 months - 6 months. There is no assurance that the investment objective of the Scheme will be achieved.
A11: Fund Manager | B11: Mr. Marzban Irani (Debt - managing since 10/08/16) / Mr. Pratik Harish Shroff Debt - managing since 26/09/23) | H11: Mr. Marzban Irani Debt - managing since 10/08/16) & Mr. Pratik Harish Shroff Debt - managing since 26/09/23) | N11: Mr. Marzban Irani Debt - managing since 10/08/16) & Mr. Pratik Harish Shroff (Debt - managing since 26/09/23) | T11: Mr. Marzban Irani (Debt - managing since 01/02/19) & Mr. Pratik Harish Shroff (Debt - managing since 26/09/23) | Z11: Mr. Rahul Singh (Debt - managing since 07/09/15) | AF11: Mr. Rahul Singh (Debt - managing since 27/11/19)
A13: Total Expense Ratio
B14: Regular | E14: Direct | H14: Regular | K14: Direct | N14: Regular | Q14: Direct | T14: Regular | W14: Direct | Z14: Regular | AC14: Direct | AF14: Regular | AI14: Direct
A15: Base TER (%)@ | B15: 0.75 | E15: 0.25 | H15: 1.35 | K15: 0.62 | N15: 1.21 | Q15: 0.2 | T15: 1.29 | W15: 0.33 | Z15: 0.93 | AC15: 0.24 | AF15: 0.93 | AI15: 0.23
A16: Additional expense as per Regulation 52(6A)(b) (%)# | B16: 0 | E16: 0 | H16: 0 | K16: 0 | N16: 0 | Q16: 0 | T16: 0 | W16: 0 | Z16: 0 | AC16: 0 | AF16: 0 | AI16: 0
A17: Additional expense as per Regulation 52(6A)(c) (%)$ | B17: 0 | E17: 0 | H17: 0.05 | K17: 0.05 | N17: 0 | Q17: 0 | T17: 0 | W17: 0 | Z17: 0 | AC17: 0 | AF17: 0 | AI17: 0
A18: GST (%)^ | B18: 0.03 | E18: 0.03 | H18: 0.08 | K18: 0.08 | N18: 0.01 | Q18: 0.01 | T18: 0.03 | W18: 0.03 | Z18: 0.03 | AC18: 0.02 | AF18: 0.02 | AI18: 0.02
A19: Total TER (%) | B19: =SUM(B15:D18) -> 0.78 | E19: =SUM(E15:G18) -> 0.28 | H19: =SUM(H15:J18) -> 1.48 | K19: =SUM(K15:M18) -> 0.75 | N19: =SUM(N15:P18) -> 1.22 | Q19: =SUM(Q15:S18) -> 0.21 | T19: =SUM(T15:V18) -> 1.32 | W19: =SUM(W15:Y18) -> 0.36 | Z19: =SUM(Z15:AB18) -> 0.96 | AC19: =SUM(AC15:AE18) -> 0.26 | AF19: =SUM(AF15:AH18) -> 0.95 | AI19: =SUM(AI15:AK18) -> 0.25
A21: Portfolio (Top 10 Holdings) | B21: Name of the issuer | E21: % of Net Assets | H21: Name of the issuer | K21: % of Net Assets | N21: Name of the issuer | Q21: % of Net Assets | T21: Name of the issuer | W21: % of Net Assets | Z21: Name of the issuer | AC21: % of Net Assets | AF21: Name of the issuer | AI21: % of Net Assets
B22: Government Bond | E22: 9.1453 | H22: Government Bond | K22: 86.5262 | N22: State Government Bond | Q22: 55.3653 | T22: National Bk for Agriculture & Rural Dev. | W22: 9.78 | Z22: REC Ltd. | AC22: 7.3715 | AF22: National Bk for Agriculture & Rural Dev. | AI22: 9.78
B23: Small Industries Development Bk of India | E23: 8.3141 | H23: State Government Bond | K23: 5.2471 | N23: Government Bond | Q23: 32.4805 | T23: Angel One Ltd. | W23: 9.3259 | Z23: National Bk for Agriculture & Rural Dev. | AC23: 7.303 | AF23: Angel One Ltd. | AI23: 9.3259
B24: REC Ltd. | E24: 7.1259 | N24: HDFC Bank Ltd. | Q24: 5.5688 | T24: Government Treasury Bill | W24: 9.2644 | Z24: Small Industries Development Bk of India | AC24: 7.1896 | AF24: Government Treasury Bill | AI24: 9.2644
B25: Export Import Bank of India | E25: 7.0881 | N25: Jamnagar Utilities & Power Pvt. Ltd. | Q25: 5.2552 | T25: Axis Bank Ltd. | W25: 9.2229 | Z25: HDFC Bank Ltd. | AC25: 6.0113 | AF25: Axis Bank Ltd. | AI25: 9.2229
B26: Power Finance Corporation Ltd. | E26: 6.8187 | N26: SBI Funds Management Ltd. | Q26: 0.2527 | T26: Export Import Bank of India | W26: 9.0802 | Z26: Time Technoplast Ltd. | AC26: 5.6531 | AF26: Export Import Bank of India | AI26: 9.0802
B27: State Government Bond | E27: 6.5722 | T27: HDFC Bank Ltd. | W27: 9.0521 | Z27: Government Bond | AC27: 5.6441 | AF27: HDFC Bank Ltd. | AI27: 9.0521
B28: Indian Railway Finance Corporation Ltd. | E28: 6.5031 | T28: Canara Bank | W28: 9.04 | Z28: Canara Bank | AC28: 5.511 | AF28: Canara Bank | AI28: 9.04
B29: National Housing Bank | E29: 5.4743 | T29: Time Technoplast Ltd. | W29: 7.3225 | Z29: Power Finance Corporation Ltd. | AC29: 5.4967 | AF29: Time Technoplast Ltd. | AI29: 7.3225
B30: National Bk for Agriculture & Rural Dev. | E30: 4.8723 | T30: IndusInd Bank Ltd. | W30: 7.168 | Z30: Aditya Birla Finance Ltd. | AC30: 4.8595 | AF30: IndusInd Bank Ltd. | AI30: 7.168
B31: Power Grid Corporation of India Ltd. | E31: 4.6335 | T31: Small Industries Development Bk of India | W31: 3.6553 | Z31: Axis Bank Ltd. | AC31: 4.6884 | AF31: Small Industries Development Bk of India | AI31: 3.6553
B34: Grand Total | E34: =SUM(E22:G33) -> 66.5475 | H34: Grand Total | K34: =SUM(K22:M33) -> 91.7733 | N34: Grand Total | Q34: =SUM(Q22:S33) -> 98.9225 | T34: Grand Total | W34: =SUM(W22:Y33) -> 82.9113 | Z34: Total | AC34: =SUM(AC22:AE33) -> 59.7282 | AF34: Total | AI34: =SUM(AI22:AK33) -> 82.9113
A36: Asset Allocation | B36: Asset Allocation | E36: % of Net Assets | H36: Asset Allocation | K36: % of Net Assets | N36: Asset Allocation | Q36: % of Net Assets | T36: Asset Allocation | W36: % of Net Assets | Z36: Asset Allocation | AC36: % of Net Assets | AF36: Asset Allocation | AI36: % of Net Assets
B37: CORPORATE DEBT | E37: 75.087356 | H37: GOVERNMENT BOND AND TREASURY BILL | K37: 91.773706 | N37: GOVERNMENT BOND AND TREASURY BILL | Q37: 87.846193 | T37: CORPORATE DEBT | W37: 39.821554 | Z37: Money Market Instruments | AC37: 55.091356 | AF37: Money Market Instruments | AI37: 67.501482
B38: GOVERNMENT BOND AND TREASURY BILL | E38: 15.717887 | H38: Cash & Other Receivables | K38: 8.2262942 | N38: CORPORATE DEBT | Q38: 10.824098 | T38: GOVERNMENT BOND AND TREASURY BILL | W38: 30.984817 | Z38: CORPORATE DEBT | AC38: 30.387514 | AF38: Cash & Other Receivables | AI38: 13.160628
B39: Money Market Instruments | E39: 7.3097963 | N39: Cash & Other Receivables | Q39: 1.0769636 | T39: Money Market Instruments | W39: 24.208699 | Z39: GOVERNMENT BOND AND TREASURY BILL | AC39: 10.836844 | AF39: CORPORATE DEBT | AI39: 9.7800761
B40: Cash & Other Receivables | C40: Cash & Other Receivables | D40: Cash & Other Receivables | E40: 1.6324751 | N40: Mutual Fund Units | Q40: 0.25274512 | T40: Cash & Other Receivables | W40: 4.8312993 | Z40: Cash & Other Receivables | AC40: 3.4886823 | AF40: GOVERNMENT BOND AND TREASURY BILL | AI40: 9.264463
B41: Mutual Fund Units | E41: 0.2524854 | T41: Mutual Fund Units | W41: 0.15363035 | Z41: Mutual Fund Units | AC41: 0.19560507 | AF41: Mutual Fund Units | AI41: 0.29335148
B42: Grand Total | E42: =SUM(E37:G41) -> 100 | H42: Grand Total | K42: =SUM(K37:M41) -> 100 | N42: Grand Total | Q42: =SUM(Q37:S41) -> 100 | T42: Grand Total | W42: =SUM(W37:Y41) -> 100 | Z42: Grand Total | AC42: =SUM(AC37:AE41) -> 100 | AF42: Grand Total | AI42: =SUM(AI37:AK41) -> 100
A44: Scheme Past Performance | B44: Regular (Growth) | E44: Direct (Growth) | H44: Regular (Growth) | K44: Direct (Growth) | N44: Regular (Growth) | Q44: Direct (Growth) | T44: Regular (Growth) | W44: Direct (Growth) | Z44: Regular (Growth) | AC44: Direct (Growth) | AF44: Regular (Growth) | AI44: Direct (Growth)
B45: Scheme | C45: Scheme Benchmark | D45: Additional Benchmark | E45: Scheme | F45: Scheme Benchmark | G45: Additional Benchmark | H45: Scheme | I45: Scheme Benchmark | J45: Additional Benchmark | K45: Scheme | L45: Scheme Benchmark | M45: Additional Benchmark | N45: Scheme | O45: Scheme Benchmark | P45: Additional Benchmark | Q45: Scheme | R45: Scheme Benchmark | S45: Additional Benchmark | T45: Scheme | U45: Scheme Benchmark | V45: Additional Benchmark | W45: Scheme | X45: Scheme Benchmark | Y45: Additional Benchmark | Z45: Scheme | AA45: Scheme Benchmark | AB45: Additional Benchmark | AC45: Scheme | AD45: Scheme Benchmark | AE45: Additional Benchmark | AF45: Scheme | AG45: Scheme Benchmark | AH45: Additional Benchmark | AI45: Scheme | AJ45: Scheme Benchmark | AK45: Additional Benchmark
A46: 1 Year CAGR (%) | B46: 9.9326693 | C46: 8.8806455 | D46: 11.745761 | E46: 10.484049 | F46: 8.8806455 | G46: 11.745761 | H46: 9.8995652 | I46: 11.646545 | J46: 11.745761 | K46: 10.704491 | L46: 11.646545 | M46: 11.745761 | N46: 10.97404 | O46: 10.936201 | P46: 11.745761 | Q46: 12.101858 | R46: 10.936201 | S46: 11.745761 | T46: 9.169718 | U46: 9.184701 | V46: 11.745761 | W46: 10.228164 | X46: 9.184701 | Y46: 11.745761 | Z46: 7.7124435 | AA46: 8.0203751 | AB46: 8.0091695 | AC46: 8.4649671 | AD46: 8.0203751 | AE46: 8.0091695 | AF46: 7.088344 | AG46: 7.6622237 | AH46: 8.0091695 | AI46: 7.8595087 | AJ46: 7.6622237 | AK46: 8.0091695
A47: 3 Years CAGR (%) | B47: 7.385893 | C47: 7.3865719 | D47: 9.4343801 | E47: 7.9437272 | F47: 7.3865719 | G47: 9.4343801 | H47: 7.3878438 | I47: 9.7451179 | J47: 9.4343801 | K47: 8.1677439 | L47: 9.7451179 | M47: 9.4343801 | N47: 8.5426336 | O47: 8.6889132 | P47: 9.4343801 | Q47: 9.4354144 | R47: 8.6889132 | S47: 9.4343801 | T47: 6.9433538 | U47: 7.6536946 | V47: 9.4343801 | W47: 7.9977106 | X47: 7.6536946 | Y47: 9.4343801 | Z47: 6.6760062 | AA47: 7.3540748 | AB47: 7.1105679 | AC47: 7.3612867 | AD47: 7.3540748 | AE47: 7.1105679 | AF47: 6.5043507 | AG47: 7.2926638 | AH47: 7.1105679 | AI47: 7.0112792 | AJ47: 7.2926638 | AK47: 7.1105679
A48: 5 Years CAGR (%) | B48: 5.8483591 | C48: 5.966035 | D48: 5.5037694 | E48: 6.4103824 | F48: 5.966035 | G48: 5.5037694 | H48: 5.4108012 | I48: 6.5905835 | J48: 5.5037694 | K48: 6.1781948 | L48: 6.5905835 | M48: 5.5037694 | N48: 5.662386 | O48: 6.572014 | P48: 5.5037694 | Q48: 6.3759437 | R48: 6.572014 | S48: 5.5037694 | T48: 5.4169552 | U48: 6.3008787 | V48: 5.5037694 | W48: 6.4932842 | X48: 6.3008787 | Y48: 5.5037694 | Z48: 5.806724 | AA48: 6.0864163 | AB48: 5.520525 | AC48: 6.44357 | AD48: 6.0864163 | AE48: 5.520525 | AF48: 5.4983928 | AG48: 5.9636586 | AH48: 5.520525 | AI48: 5.8737281 | AJ48: 5.9636586 | AK48: 5.520525
A49: Since Inception CAGR (%) | B49: 7.1985046 | C49: 7.8265944 | D49: 6.8305055 | E49: 7.6098538 | F49: 7.5106477 | G49: 6.8486759 | H49: 7.3230238 | I49: NA | J49: NA | K49: 7.8332027 | L49: 7.6994381 | M49: 6.8494656 | N49: 7.9653918 | O49: 9.1462 | P49: NA | Q49: 7.4487701 | R49: 8.1110917 | S49: 6.8494656 | T49: 5.935448 | U49: 7.1774399 | V49: 7.2203934 | W49: 7.2063086 | X49: 7.1774399 | Y49: 7.2203934 | Z49: 6.4326645 | AA49: 7.0847325 | AB49: 6.0086666 | AC49: 7.2616995 | AD49: 7.5316405 | AE49: 6.5681618 | AF49: 5.4498694 | AG49: 6.0585428 | AH49: 5.7753801 | AI49: 5.8190797 | AJ49: 6.0585428 | AK49: 5.7753801
...

Sheet Debt-Over,Liq,MM
A1: =Equity!A1 -> Dashboard as on 31/5/2025
A2: Scheme Name | B2: **LIC MF Liquid Fund | H2: LIC MF Overnight Fund | N2: LIC MF Money Market Fund
A3: SEBI Code | B3: LICM/O/D/LIF/02/02/0009 | H3: LICM/O/D/ONF/19/06/0023 | N3: LICM/O/D/MMF/22/06/0026
A4: Date of Allotment - Regular | B4: 18.03.2002 | H4: 18.07.2019 | N4: 01.08.2022
A5: Date of Allotment - Direct | B5: 01.01.2013 | H5: 18.07.2019 | N5: 01.08.2022
A7: AUM (in Rs. crore) | B7: 11164.78 | H7: 833.88 | N7: 462.97
A9: Investment Objective | B9: An open ended scheme which seeks to generate reasonable returns with low risk and high liquidity through judicious mix of investment in money market instruments and quality debt instruments. There is no assurance that the investment objective of the Scheme will be achieved. | H9: The Scheme aims to provide reasonable returns commensurate with low risk and providing a high level of liquidity, through investments made primarily in overnight securities having maturity/residual maturity of 1 business day. There is no assurance that the investment objective of the Scheme will be achieved. | N9: The investment objective of the Scheme is to generate income through investment in a portfolio comprising of money market instruments. There is no assurance that the investment objective of the Scheme will be achieved.
A11: Fund Manager | B11: Mr. Rahul Singh (Debt - managing since 05/10/2015) | H11: Mr. Rahul Singh (Debt - managing since 18/07/19) | N11: Mr. Rahul Singh (Debt - managing since 01/08/22)
A13: Total Expense Ratio
B14: Regular | E14: Direct | H14: Regular | K14: Direct | N14: Regular | Q14: Direct
A15: Base TER (%)@ | B15: 0.29 | E15: 0.15 | H15: 0.15 | K15: 0.07 | N15: 0.48 | Q15: 0.18
A16: Additional expense as per Regulation 52(6A)(b) (%)# | B16: 0 | E16: 0 | H16: 0 | K16: 0 | N16: 0 | Q16: 0
A17: Additional expense as per Regulation 52(6A)(c) (%)$ | B17: 0 | E17: 0 | H17: 0 | K17: 0 | N17: 0 | Q17: 0
A18: GST (%)^ | B18: 0.01 | E18: 0.01 | H18: 0 | K18: 0 | N18: 0.01 | Q18: 0.01
A19: Total TER (%) | B19: =SUM(B15:D18) -> 0.3 | E19: =SUM(E15:G18) -> 0.16 | H19: =SUM(H15:J18) -> 0.15 | K19: =SUM(K15:M18) -> 0.07 | N19: =SUM(N15:P18) -> 0.49 | Q19: =SUM(Q15:S18) -> 0.19
A21: Portfolio (Top 10 Holdings) | B21: Name of the issuer | E21: % of Net Assets | H21: Name of the issuer | K21: % of Net Assets | N21: Name of the issuer | Q21: % of Net Assets
B22: Government Treasury Bill | E22: 15.4733 | H22: Aditya Birla Capital Ltd. | K22: 8.9926 | N22: Government Treasury Bill | Q22: 8.3111
B23: Small Industries Development Bk of India | E23: 9.5366 | H23: HDFC Bank Ltd. | K23: 5.995 | N23: Axis Bank Ltd. | Q23: 7.3479
B24: Reliance Retail Ventures Ltd. | E24: 7.9925 | H24: Government Treasury Bill | K24: 5.9889 | N24: Small Industries Development Bk of India | Q24: 7.2785
B25: Bank of Baroda | E25: 4.8646 | N25: Canara Bank | Q25: 7.2268
B26: National Bk for Agriculture & Rural Dev. | E26: 4.4828 | N26: Indian Bank | Q26: 7.2164
B27: Export Import Bank of India | E27: 4.1339 | N27: Punjab National Bank | Q27: 6.1662
B28: Birla Group Holdings Pvt Ltd. | E28: 3.5793 | N28: Angel One Ltd. | Q28: 5.3697
B29: Reliance Industries Ltd. | E29: 3.5677 | N29: NTPC Ltd. | Q29: 5.1447
B30: Indian Oil Corporation Ltd. | E30: 3.5302 | N30: AU Small Finance Bank Ltd. | Q30: 5.0847
B31: Canara Bank | E31: 3.0912 | N31: IDFC First Bank Ltd. | Q31: 5.0702
B34: Total | E34: =SUM(E22:G33) -> 60.2521 | H34: Total | K34: =SUM(K22:M33) -> 20.9765 | N34: Total | Q34: =SUM(Q22:S33) -> 64.2162
A36: Asset Allocation | B36: Asset Allocation | E36: % of Net Assets | H36: Asset Allocation | K36: % of Net Assets | N36: Asset Allocation | Q36: % of Net Assets
B37: Money Market Instruments | E37: 72.858512 | H37: Cash & Other Receivables | K37: 79.023271 | N37: Money Market Instruments | Q37: 85.09733
B38: GOVERNMENT BOND AND TREASURY BILL | E38: 15.473643 | H38: Money Market Instruments | K38: 14.98771 | N38: GOVERNMENT BOND AND TREASURY BILL | Q38: 8.3112236
B39: CORPORATE DEBT | E39: 8.684071 | H39: GOVERNMENT BOND AND TREASURY BILL | K39: 5.9890191 | N39: Cash & Other Receivables | Q39: 6.5442651
B40: Cash & Other Receivables | E40: 2.7286735 | N40: Mutual Fund Units | Q40: 0.047181077
B41: Mutual Fund Units | E41: 0.25510066
B42: Grand Total | E42: =SUM(E37:G41) -> 100 | H42: Grand Total | K42: =SUM(K37:M41) -> 100 | N42: Grand Total | Q42: =SUM(Q37:S41) -> 100
A44: Scheme Past Performance | B44: Regular (Growth) | E44: Direct (Growth) | H44: Regular (Growth) | K44: Direct (Growth) | N44: Regular (Growth) | Q44: Direct (Growth)
B45: Scheme | C45: Scheme Benchmark | D45: Additional Benchmark | E45: Scheme | F45: Scheme Benchmark | G45: Additional Benchmark | H45: Scheme | I45: Scheme Benchmark | J45: Additional Benchmark | K45: Scheme | L45: Scheme Benchmark | M45: Additional Benchmark | N45: Scheme | O45: Scheme Benchmark | P45: Additional Benchmark | Q45: Scheme | R45: Scheme Benchmark | S45: Additional Benchmark
A46: 7 Days (%) | B46: 6.3231739 | C46: 6.1619496 | D46: 8.1352531 | E46: 6.4640358 | F46: 6.1619496 | G46: 8.1352531 | H46: 5.6108314 | I46: 6.5851295 | J46: 8.1352531 | K46: 5.6910454 | L46: 6.5851295 | M46: 8.1352531 | N46: 8.5153291 | O46: 7.3858764 | P46: 8.1466898 | Q46: 8.8175141 | R46: 7.3858764 | S46: 8.1466898
A47: 15 Days (%) | B47: 6.6023744 | C47: 6.648215 | D47: 8.3425059 | E47: 6.7433667 | F47: 6.648215 | G47: 8.3425059 | H47: 5.6106047 | I47: 5.7319507 | J47: 8.3425059 | K47: 5.6907316 | L47: 5.7319507 | M47: 8.3425059 | N47: 8.7817613 | O47: 8.0001125 | P47: 9.4998453 | Q47: 9.0845988 | R47: 8.0001125 | S47: 9.4998453
A48: 30 Days (%) | B48: 6.4353391 | C48: 6.4154812 | D48: 8.8853566 | E48: 6.5767444 | F48: 6.4154812 | G48: 8.8853566 | H48: 5.640468 | I48: 5.7555076 | J48: 8.8853566 | K48: 5.7337966 | L48: 5.7555076 | M48: 8.8853566 | N48: 7.9433559 | O48: 7.5491557 | P48: 9.0029804 | Q48: 8.2469423 | R48: 7.5491557 | S48: 9.0029804
A49: 1 Year (%) | B49: 7.1864498 | C49: 7.1492602 | D49: 8.0021042 | E49: 7.2867786 | F49: 7.1492602 | G49: 8.0021042 | H49: 6.3856787 | I49: 6.5147848 | J49: 8.0021042 | K49: 6.5206907 | L49: 6.5147848 | M49: 8.0021042 | N49: 6.4381464 | O49: 7.7047923 | P49: 8.0091695 | Q49: 6.8721978 | R49: 7.7047923 | S49: 8.0091695
...

Sheet Hybrid
A1: Dashboard as on 31/5/2025
A2: Scheme Name | B2: LIC MF Aggressive Hybrid Fund | H2: LIC MF Arbitrage Fund | N2: LIC MF Multi Assest Allocation Fund** | T2: LIC MF Balanced Advantage Fund | Z2: LIC MF Conservative Hybrid Fund | AF2: LIC MF Equity Savings Fund
A3: SEBI Code | B3: LICM/O/H/AHF/91/01/0001 | H3: LICM/O/H/ARB/18/08/0022 | N3: LICM/O/H/MAA/24/12/0030 | T3: LICM/O/H/BAF/21/10/0025 | Z3: LICM/O/H/CHF/98/04/0005 | AF3: LICM/O/H/ESF/10/11/0005
A4: Date of Allotment - Regular | B4: 01.01.1991 | H4: 25.01.2019 | N4: 14.02.2025 | T4: 12.11.2021 | Z4: 01.06.1998 | AF4: 07.03.2011
A5: Date of Allotment - Direct | B5: 01.01.2013 | H5: 25.01.2019 | N5: 14.02.2025 | T5: 12.11.2021 | Z5: 01.01.2013 | AF5: 01.01.2013
A7: AUM (in Rs. crore) | B7: 530.29 | H7: 167.6 | N7: 577.29 | T7: 830.92 | Z7: 51.42 | AF7: 21.56
A10: Investment Objective | B10: An open ended balanced scheme which seeks to provide regular returns and capital appreciation according to the selection of plan by investing in equities and debt. There is no assurance that the investment objective of the Scheme will be achieved. | H10: The investment objective of the scheme is to generate income by taking advantage of arbitrage opportunities that potentially exists between cash and derivative market and within the derivative segment of the equity market along with investments in debt securities & money market instruments. There is no assurance that the investment objective of the Scheme will be achieved. | N10: The Investment objective of the Scheme is to generate long term capital appreciation by investing in diversified portfolio of equity & equity related instruments, debt & money market instruments and units of Gold Exchange Traded Funds (ETFs). There is no assurance that the investment objective of the Scheme will be achieved. | T10: The investment objective of the scheme is to provide capital appreciation/ income to the investors from a dynamic mix of equity, debt and money market instruments. The Scheme seeks to reduce the volatility by diversifying the assets across equity, debt and money market instruments. There is no assurance that the investment objective of the Scheme will be achieved. | Z10: The investment objective of the Scheme is to generate regular income by investing mainly in a portfolio of quality debt securities and money market instruments. It also seeks to generate capital appreciation by investing some percentage in a mix of equity instruments. There is no assurance that the investment objective of the Scheme will be achieved. | AF10: The investment objective of the Scheme is to generate regular income by investing in Debt and money market instruments and using arbitrage and other derivative strategies. The Scheme also intends to generate long capital appreciation through unhedged exposure to equity and equity related instruments. There is no assurance that the investment objective of the Scheme will be achieved.
A12: Fund Manager | B12: Mr. Karan Doshi (Equity - managing since 06/09/21) / Mr. Sumit Bhatnagar (Equity - managing since 01/07/24) & Mr. Pratik Harish Shroff (Debt - managing since 26/09/23) | H12: Mr. Sumit Bhatnagar (Equity & Arbitrage - managing since 03/10/2023) & Mr. Pratik Harish Shroff (Debt - managing since 26/09/23) | N12: Mr. Nikhil Rungta (Equity - managing since 14/02/2025), Mr. Sumit Bhatnagar (Equity & Commodity - managing since 14/02/2025) & Mr. Pratik Shroff (Debt - managing since 14/02/2025) | T12: Mr. Jaiprakash Toshniwal (Equity - managing since 06/06/22) / Mr. Yogesh Patil (Equity - managing since 12/11/21) & Mr. Rahul Singh (Debt - managing since 12/11/21) | Z12: Mr. Pratik Harish Shroff (Debt - managing since 26/09/23) & Mr. Nikhil Rungta (Equity - managing since 01/07/24) | AF12: Mr. Sumit Bhatnagar (Equity & Arbitrage - managing since 3/10/23) & Mr. Pratik Harish Shroff (Debt - managing since 26/09/23)
A14: Annual Portfolio Turnover Ratio (in times) | B14: 0.650529 | H14: 2.160798 | N14: NA | T14: 0.695118 | Z14: - | AF14: 0.925169
A16: Total Expense Ratio
B17: Regular | E17: Direct | H17: Regular | K17: Direct | N17: Regular | Q17: Direct | T17: Regular | W17: Direct | Z17: Regular | AC17: Direct | AF17: Regular | AI17: Direct
A18: Base TER (%)@ | B18: 2.24 | E18: 1.16 | H18: 0.99 | K18: 0.34 | N18: 2.15 | Q18: 0.4 | T18: 2.13 | W18: 0.62 | Z18: 2 | AC18: 1 | AF18: 2.14 | AI18: 1.13
A19: Additional expense as per Regulation 52(6A)(b) (%)# | B19: 0 | E19: 0 | H19: 0 | K19: 0 | N19: 0 | Q19: 0 | T19: 0 | W19: 0 | Z19: 0 | AC19: 0 | AF19: 0 | AI19: 0
A20: Additional expense as per Regulation 52(6A)(c) (%)$ | B20: 0.05 | E20: 0.05 | H20: 0 | K20: 0 | N20: 0.05 | Q20: 0.05 | T20: 0.05 | W20: 0.05 | Z20: 0.05 | AC20: 0.05 | AF20: 0.05 | AI20: 0.05
A21: GST (%)^ | B21: 0.19 | E21: 0.19 | H21: 0 | K21: 0 | N21: 0.05 | Q21: 0.05 | T21: 0.09 | W21: 0.09 | Z21: 0.2 | AC21: 0.15 | AF21: 0.16 | AI21: 0.15
A22: Total TER (%) | B22: =SUM(B18:D21) -> 2.48 | E22: =SUM(E18:G21) -> 1.4 | H22: =SUM(H18:J21) -> 0.99 | K22: =SUM(K18:M21) -> 0.34 | N22: =SUM(N18:P21) -> 2.25 | Q22: =SUM(Q18:S21) -> 0.5 | T22: =SUM(T18:V21) -> 2.27 | W22: =SUM(W18:Y21) -> 0.76 | Z22: =SUM(Z18:AB21) -> 2.25 | AC22: =SUM(AC18:AE21) -> 1.2 | AF22: =SUM(AF18:AH21) -> 2.35 | AI22: =SUM(AI18:AK21) -> 1.33
A24: Portfolio (Top 10 Holdings) | B24: Name of the issuer | E24: % of Net Assets | H24: Name of the issuer | K24: % of Net Assets | N24: Name of the issuer | Q24: % of Net Assets | T24: Name of the issuer | W24: % of Net Assets | Z24: Name of the issuer | AC24: % of Net Assets | AF24: Name of the issuer | AI24: % of Net Assets
B25: State Government Bond | E25: 9.1546 | H25: LIC Mutual Fund | K25: 17.9519 | N25: LIC Mutual Fund | Q25: 12.2024 | T25: Government Bond | W25: 13.7282 | Z25: Government Bond | AC25: 44.7579 | AF25: LIC Mutual Fund | AI25: 11.4873
B26: Government Bond | E26: 6.9714 | H26: ICICI Bank Ltd. | K26: 7.9104 | N26: Aditya Birla Sun Life Mutual Fund | Q26: 4.4724 | T26: HDFC Bank Ltd. | W26: 7.3054 | Z26: State Government Bond | AC26: 23.6409 | AF26: Tata Steel Ltd. | AI26: 3.6964
B27: HDFC Bank Ltd. | E27: 5.1971 | H27: State Bank of India | K27: 7.4153 | N27: Power Finance Corporation Ltd. | Q27: 4.4107 | T27: Jamnagar Utilities & Power Pvt. Ltd. | W27: 6.3723 | Z27: Nuclear Power Corporation | AC27: 8.247 | AF27: Bank of Baroda | AI27: 3.3852
B28: ICICI Bank Ltd. | E28: 4.437 | H28: Tata Power Company Ltd. | K28: 6.5493 | N28: Government Bond | Q28: 3.7008 | T28: Reliance Industries Ltd. | W28: 4.153 | Z28: HDFC Bank Ltd. | AC28: 3.6667 | AF28: Tata Consultancy Services Ltd. | AI28: 3.373
B29: Infosys Ltd. | E29: 2.7726 | H29: Canara Bank | K29: 6.0084 | N29: NTPC Ltd. | Q29: 2.7476 | T29: Tata Consultancy Services Ltd. | W29: 3.5307 | Z29: JTL Industries Ltd. | AC29: 3.4018 | AF29: Hindustan Unilever Ltd. | AI29: 2.6137
B30: Reliance Industries Ltd. | E30: 2.499 | H30: Angel One Ltd. | K30: 5.9332 | N30: Axis Bank Ltd. | Q30: 2.5877 | T30: ICICI Bank Ltd. | W30: 2.9235 | Z30: Reliance Industries Ltd. | AC30: 2.8987 | AF30: Infosys Ltd. | AI30: 2.609
B31: Larsen & Toubro Ltd. | E31: 2.4927 | H31: GMR Airports Ltd. | K31: 4.9383 | N31: Cholamandalam Investment & Fin Co Ltd. | Q31: 2.2124 | T31: State Bank of India | W31: 2.7035 | Z31: Infosys Ltd. | AC31: 2.8045 | AF31: Ultratech Cement Ltd. | AI31: 2.5994
B32: Tata Consultancy Services Ltd. | E32: 2.0159 | H32: Infosys Ltd. | K32: 3.3566 | N32: Kotak Mahindra Bank Ltd. | Q32: 2.2062 | T32: Kotak Mahindra Bank Ltd. | W32: 2.6669 | Z32: ICICI Bank Ltd. | AC32: 2.3223 | AF32: Ashok Leyland Ltd. | AI32: 2.1892
B33: NLC India Ltd. | E33: 1.9885 | H33: National Bk for Agriculture & Rural Dev. | K33: 3.2023 | N33: SBI Cards & Payment Services Ltd. | Q33: 1.9416 | T33: Infosys Ltd. | W33: 2.0512 | Z33: Axis Bank Ltd. | AC33: 1.5628 | AF33: Mahindra & Mahindra Ltd. | AI33: 1.9327
B34: Axis Bank Ltd. | E34: 1.9711 | H34: HDFC Bank Ltd. | K34: 2.2976 | N34: Bharat Electronics Ltd. | Q34: 1.8949 | T34: Axis Bank Ltd. | W34: 2.0453 | Z34: Bharat Forge Ltd. | AC34: 1.5586 | AF34: National Aluminium Company Ltd. | AI34: 1.8819
B37: Grand Total | E37: =SUM(E25:G36) -> 39.4999 | H37: Grand Total | K37: =SUM(K25:M36) -> 65.5633 | N37: Grand Total | Q37: =SUM(Q25:S36) -> 38.3767 | T37: Grand Total | W37: =SUM(W25:Y36) -> 47.48 | Z37: Grand Total | AC37: =SUM(AC25:AE36) -> 94.8612 | AF37: Grand Total | AI37: =SUM(AI25:AK36) -> 35.7678
A39: Asset Allocation | B39: Asset Allocation | E39: % of Net Assets | H39: Asset Allocation | K39: % of Net Assets | N39: Asset Allocation | Q39: % of Net Assets | T39: Asset Allocation | W39: % of Net Assets | Z39: Asset Allocation | AC39: % of Net Assets | AF39: Asset Allocation | AI39: % of Net Assets
B40: Equity Holdings | E40: 74.533958 | H40: Cash & Other Receivables | I40: 0.73662666 | J40: Cash & Other Receivables | K40: 73.204393 | N40: Equity Holdings | Q40: 65.928759 | T40: Equity Holdings | W40: 75.090934 | Z40: GOVERNMENT BOND AND TREASURY BILL | AC40: 68.399106 | AF40: Equity Holdings | AI40: 66.691818
B41: GOVERNMENT BOND AND TREASURY BILL | E41: 16.126665 | H41: Equity Holdings | I41: 0.67773942 | J41: Equity Holdings | K41: 65.973694 | N41: Mutual Fund Units | Q41: 16.674844 | T41: GOVERNMENT BOND AND TREASURY BILL | W41: 13.728432 | Z41: Equity Holdings | AC41: 20.248941 | AF41: Cash & Other Receivables | AI41: 54.20327
B42: CORPORATE DEBT | E42: 4.9362471 | H42: Mutual Fund Units | I42: 0.26648179 | J42: Mutual Fund Units | K42: 17.952003 | N42: Cash & Other Receivables | Q42: 7.2749969 | T42: Cash & Other Receivables | W42: 12.477197 | Z42: CORPORATE DEBT | AC42: 8.2470674 | AF42: Mutual Fund Units | AI42: 11.48731
B43: Cash & Other Receivables | E43: 4.4031301 | H43: Money Market Instruments | K43: 5.9332587 | N43: CORPORATE DEBT | Q43: 6.4205197 | T43: CORPORATE DEBT | W43: 6.3723222 | Z43: Cash & Other Receivables | AC43: 2.7628028 | AF43: FUTURES AND OPTIONS | AI43: -32.382398
H44: CORPORATE DEBT | K44: 3.202359 | N44: GOVERNMENT BOND AND TREASURY BILL | Q44: 3.7008811 | T44: FUTURES AND OPTIONS | W44: -7.6688855 | Z44: Mutual Fund Units | AC44: 0.34208346
H45: FUTURES AND OPTIONS | K45: -66.265707 | Z45: Grand Total | AC45: =SUM(AC40:AE44) -> 100
B46: Grand Total | E46: =SUM(E40:G44) -> 100 | H46: Grand Total | K46: =SUM(K40:M45) -> 100 | N46: Grand Total | Q46: =SUM(Q40:S45) -> 100 | T46: Grand Total | W46: =SUM(W40:Y45) -> 100 | AF46: Grand Total | AI46: =SUM(AI40:AK43) -> 100
A48: Sectoral Allocation | B48: Sector/Industry | E48: % of Net Assets | H48: Sector/Industry | K48: % of Net Assets | N48: Sector/Industry | Q48: % of Net Assets | T48: Sector/Industry | W48: % of Net Assets | Z48: Sector/Industry | AC48: % of Net Assets | AF48: Sector/Industry | AI48: % of Net Assets
B49: Government of India | E49: 16.126 | H49: Banks | K49: 26.7297 | N49: Mutual Fund | Q49: 12.2024 | T49: Banks | W49: 18.3101 | Z49: Government of India | AC49: 68.3988 | AF49: Mutual Fund Units | AI49: 11.4873
B50: Banks | E50: 14.462 | H50: Mutual Fund Units | K50: 17.9519 | N50: Finance | Q50: 11.954 | T50: Government of India | W50: 13.7282 | Z50: Power | AC50: 8.247 | AF50: Banks | AI50: 8.3989
B51: IT - Software | E51: 8.0473 | H51: Capital Markets | K51: 7.3118 | N51: Banks | Q51: 9.6926 | T51: Power | W51: 8.4468 | Z51: Banks | AC51: 7.5518 | AF51: IT - Software | AI51: 7.2968
...

Sheet Solution Oriented
A1: Dashboard as on 31/5/2025
A2: Scheme Name | B2: LIC MF Children’s Fund
A3: SEBI Code | B3: LICM/O/S/CHI/01/09/0008
A4: Date of Allotment - Regular | B4: 12.11.2001
A5: Date of Allotment - Direct | B5: 01.01.2013
A7: AUM (in Rs. crore) | B7: 15.4
A10: Investment Objective | B10: The primary investment objective of the scheme is to seek to generate capital appreciation & provide long-term growth opportunities by investing in a portfolio constituted of equity securities & equity related securities and the secondary objective is to generate consistent returns by investing in debt and money market securities. There is no assurance that the investment objective of the Scheme will be achieved.
A12: Fund Manager | B12: Mr. Nikhil Rungta (Equity - managing since 01/07/24) & Mr. Pratik Harish Shroff (Debt - managing since 26/09/23)
A14: Annual Portfolio Turnover Ratio (in times) | B14: 1.182484
A16: Total Expense Ratio
B17: Regular | E17: Direct
A18: Base TER (%)@ | B18: 2.25 | E18: 1.5
A19: Additional expense as per Regulation 52(6A)(b) (%)# | B19: 0 | E19: 0
A20: Additional expense as per Regulation 52(6A)(c) (%)$ | B20: 0 | E20: 0
A21: GST (%)^ | B21: 0.2 | E21: 0.18
A22: Total TER (%) | B22: =SUM(B18:D21) -> 2.45 | E22: =SUM(E18:G21) -> 1.68
A24: Portfolio (Top 10 Holdings) | B24: Name of the issuer | E24: % of Net Assets
B25: Government Bond | E25: 10.3707
B26: Enviro Infra Engineers Ltd | E26: 3.835
B27: JTL Industries Ltd. | E27: 3.4016
B28: Tata Power Company Ltd. | E28: 3.3922
B29: Axis Bank Ltd. | E29: 3.3823
B30: State Bank of India | E30: 3.2886
B31: International Gemmological Inst Ind Ltd. | E31: 2.9755
B32: ICICI Bank Ltd. | E32: 2.707
B33: Tech Mahindra Ltd. | E33: 2.6515
B34: Maruti Suzuki India Ltd. | E34: 2.5352
B37: Grand Total | E37: =SUM(E25:G36) -> 38.5396
A39: Asset Allocation | B39: Asset Allocation | E39: % of Net Assets
B40: Equity Holdings | E40: 88.822804
B41: GOVERNMENT BOND AND TREASURY BILL | E41: 10.370772
B42: Cash & Other Receivables | E42: 0.80642399
B46: Grand Total | E46: =SUM(E40:G44) -> 100
A48: Sectoral Allocation | B48: Sector/Industry | E48: % of Net Assets
B49: Banks | E49: 11.8589
B50: Other Utilities | E50: 8.6613
B51: Industrial Products | E51: 7.1948
B52: Pharmaceuticals & Biotechnology | E52: 5.8812
B53: It - Software | E53: 5.0297
B54: Auto Components | E54: 4.8342
...

Sheet Others
