Workbook

Sheet Equity
A1: Dashboard as on 31/10/2024
A2: Scheme Name | B2: LIC MF Flexi Cap Fund | H2: LIC MF Large Cap Fund | N2: LIC MF Large & Mid Cap Fund | T2: LIC MF Banking & Financial Services Fund | Z2: LIC MF Infrastructure Fund | AF2: LIC MF Manufacturing Fund | AL2: LIC MF ELSS Tax Saver (ERSTWHILE LIC MF ELSS) | AR2: LIC MF Multi Cap Fund | AX2: LIC MF Dividend Yield Fund (ERSTWHILE IDBI DIVIDEND YIELD FUND) | BD2: LIC MF Focused Fund (ERSTWHILE LIC MF FOCUSED 30 EQUITY FUND) | BJ2: LIC MF Midcap Fund (ERSTWHILE IDBI MIDCAP FUND) | BP2: LIC MF Healthcare Fund (ERSTWHILE IDBI HEALTHCARE FUND) | BV2: LIC MF Small Cap Fund (ERSTWHILE IDBI SMALL CAP FUND) | CB2: LIC MF Value Fund (ERSTWHILE LIC MF LONG TERM VALUE FUND) | CH2: LIC MF Unit Linked Insurance Scheme
A3: SEBI Code | B3: LICM/O/E/FCF/93/01/0002 | H3: LICM/O/E/LCF/94/07/0003 | N3: LICM/O/E/LMF/14/12/0016 | T3: LICM/O/E/SEC/15/01/0017 | Z3: LICM/O/E/THE/07/11/0014 | AL3: LICM/O/E/ELS/97/01/0004 | AR3: LICM/O/E/MCF/22/07/0027 | AX3: LICM/O/E/DYF/18/09/0021 | BD3: LICM/O/E/FOC/17/09/0018 | BJ3: LICM/O/E/MIF/16/12/0016 | BP3: LICM/O/E/SEC/18/09/0022 | BV3: LICM/O/E/SCF/17/05/0017 | CB3: LICM/O/E/VAF/18/06/0020 | CH3: -
A4: Date of Allotment - Regular | B4: 15.04.1993 | H4: 01.09.1994 | N4: 25.02.2015 | T4: 27.03.2015 | Z4: 24.03.2008 | AF4: 11.10.2024 | AL4: 31.03.1997 | AR4: 31.10.2022 | AX4: 21.12.2018 | BD4: 17.11.2017 | BJ4: 25.01.2017 | BP4: 28.02.2019 | BV4: 21.06.2017 | CB4: 20.08.2018 | CH4: 19.06.1989
A5: Date of Allotment - Direct | B5: 01.01.2013 | H5: 01.01.2013 | N5: 25.02.2015 | T5: 27.03.2015 | Z5: 01.01.2013 | AF5: 11.10.2024 | AL5: 01.01.2013 | AR5: 31.10.2022 | AX5: 21.12.2018 | BD5: 17.11.2017 | BJ5: 25.01.2017 | BP5: 28.02.2019 | BV5: 21.06.2017 | CB5: 20.08.2018 | CH5: 01.01.2013
A7: AUM (in Rs. crore) | B7: 1066.8 | H7: 1466.8 | N7: 3082.73 | T7: 261.14 | Z7: 786.09 | AF7: 908.77 | AL7: 1139.84 | AR7: 1349.65 | AX7: 437.39 | BD7: 142.7 | BJ7: 315.42 | BP7: 80.86 | BV7: 385.61 | CB7: 138.11 | CH7: 494.16
A10: Investment Objective | B10: The main investment objective of the scheme is to provide capital growth by investing across Large, Mid & Small Cap stocks. The investment portfolio of the scheme will be constantly monitored and reviewed to optimise capital growth. There is no assurance that the investment objective of the Scheme will be achieved. | H10: To achieve long term capital appreciation by investing in diversified portfolio predominantly consisting of equity and equity related securities of Large Cap companies including derivatives. There is no assurance that the investment objective of the Scheme will be achieved. | N10: To generate long term capital appreciation by investing substantially in a portfolio of equity and equity linked instruments of large cap and midcap companies. There is no assurance that the investment objective of the Scheme will be achieved. | T10: The investment objective of the scheme is to generate long-term capital appreciation for unit holders from a portfolio that is invested substantially in equity and equity related securities of companies engaged in banking and financial services sector. There is no assurance that the investment objective of the Scheme will be realized. | Z10: The investment objective of the scheme is to generate long-term growth from a portfolio of equity / equity related instruments of companies engaged either directly or indirectly in the infrastructure sector. There is no assurance that the investment objective of the Scheme will be realized. | AF10: The investment objective of the scheme is to achieve long term capital appreciation by predominantly investing in equity and equity related instruments of companies following manufacturing theme. There is no assurance that the investment objective of the scheme will be achieved. | AL10: To provide capital growth along with tax rebate and tax relief to our investors through prudent investments in the stock markets. An open-ended equity linked tax saving Scheme which offers investors the opportunity to seek Tax rebate u/s 80C of the Income Tax Act 1961. There is no assurance that the investment objective of the Scheme will be achieved. | AR10: The investment objective of the scheme is to generate long term capital appreciation by investing in a diversified portfolio of equity & equity related instruments across large cap, mid cap and small cap stocks. There is no assurance that the investment objective of the Scheme will be realized. | AX10: The Investment objective of the Scheme is to provide long term capital appreciation and/or Income Distribution cum Capital Withdrawal (IDCW) distribution by investing predominantly in dividend yielding equity and equity related instruments. There is no assurance that the investment objective of the Scheme will be achieved. | BD10: The investment objective of the Scheme is to generate long term capital appreciation by investing in a concentrated portfolio of equity and equity related instruments of up to 30 companies across market capitalisation. The Scheme may also invest in debt and money market Securities in line with the asset allocation pattern. There is no assurance or guarantee that the objective of the Scheme would be achieved. | BJ10: To provide investors with the opportunities for long-term capital appreciation by investing predominantly in Equity and Equity related instruments of Midcap companies. There can be no assurance that the investment objective under the scheme will be realized. | BP10: The objective of the Scheme is to achieve long term capital appreciation by predominantly investing in equity and equity related instruments of companies engaged in Healthcare and Allied sectors. There is no assurance that the investment objective of the Scheme will be achieved. | BV10: The Investment objective of the scheme is to provide investors with the opportunities for long-term capital appreciation by investing predominantly in Equity and Equity related instruments of Small Cap Companies. There can be no assurance that the investment objective under the Scheme will be realized. | CB10: The Investment Objective of the Scheme is to generate long-term capital appreciation along with regular income by investing predominantly in equity and equity related instruments by following value investing strategy. There is no assurance that the investment objective of the Scheme will be realized. | CH10: An open ended scheme which seeks to generate long term capital appreciation and offer Tax benefits u/s 80C of the Income Tax Act as well as additional benefit of a life cover. There is no assurance that the investment objective of the Scheme will be achieved.
A12: Fund Manager | B12: Mr. Nikhil Rungta (Equity - managing since 01/07/24) & Mr. Jaiprakash Toshniwal (Equity - managing since 31/07/23) | H12: Mr. Nikhil Rungta (Equity - managing since 01/07/24) & Mr. Sumit Bhatnagar (Equity - managing since 03/10/23) | N12: Mr. Yogesh Patil (Equity - managing since 18/09/20) & Mr. Dikshit Mittal (Equity - managing since 01/06/23) | T12: Mr. Jaiprakash Toshniwal (Equity - managing since 06/09/21) | Z12: Mr. Yogesh Patil (Equity - managing since 18/09/20) & Mr. Mahesh Bendre (Equity - managing since 01/07/24) | AF12: Mr. Yogesh Patil (Equity - managing since 16/10/24) & Mr. Mahesh Bendre (Equity - managing since 16/10/24) | AL12: Mr. Yogesh Patil (Equity - managing since 01/07/24) & Mr. Dikshit Mittal (Equity - managing since 31/07/23) | AR12: Mr. Dikshit Mittal (Equity - managing since 01/12/22 ) & Mr. Yogesh Patil (Equity - managing since 31/10/22) | AX12: Mr. Dikshit Mittal (Equity - managing since 31/07/23) & Mr. Karan Doshi (Equity - managing since 01/07/24) | BD12: Mr. Jaiprakash Toshniwal (Equity - managing since 31/07/23) & Mr. Sumit Bhatnagar (Equity -, managing since 01/07/24) | BJ12: Mr. Karan Doshi (Equity - managing since 31/07/23) & Mr. Dikshit Mittal (Equity - managing since 31/07/23) | BP12: Mr. Karan Doshi (Equity - managing since 31/07/23) | BV12: Mr. Nikhil Rungta (Equity - managing since 01/07/24) & Mr. Mahesh Bendre (Equity - managing since 01/07/24) | CB12: Mr. Nikhil Rungta (Equity - managing since 01/07/24) & Mr. Mahesh Bendre (Equity - managing since 01/07/24) | CH12: Mr. Dikshit Mittal (Equity - managing since 06/09/21) / Mr. Karan Doshi (Equity - managing since 01/07/24) & Mr. Pratik Harish Shroff (Debt - managing since 26/09/23)
A14: Annual Portfolio Turnover Ratio (in times) | B14: 1.368088 | H14: 0.79828 | N14: 0.744431 | T14: 0.514252 | Z14: 0.402495 | AF14: 0.003926 | AL14: 0.175716 | AR14: 0.46863 | AX14: 0.817308 | BD14: 1.626781 | BJ14: 0.700639 | BP14: 0.397391 | BV14: 1.004244 | CB14: 1.207908 | CH14: 0.046075
A16: Total Expense Ratio
B17: Regular | E17: Direct | H17: Regular | K17: Direct | N17: Regular | Q17: Direct | T17: Regular | W17: Direct | Z17: Regular | AC17: Direct | AF17: Regular | AI17: Direct | AL17: Regular | AO17: Direct | AR17: Regular | AU17: Direct | AX17: Regular | BA17: Direct | BD17: Regular | BG17: Direct | BJ17: Regular | BM17: Direct | BP17: Regular | BS17: Direct | BV17: Regular | BY17: Direct | CB17: Regular | CE17: Direct | CH17: Regular | CK17: Direct
A18: Base TER (%)@ | B18: 2.04 | E18: 1.13 | H18: 1.96 | K18: 0.85 | N18: 1.8 | Q18: 0.48 | T18: 2.25 | W18: 0.88 | Z18: 2.15 | AC18: 0.91 | AF18: 2.09 | AI18: 0.34 | AL18: 2.02 | AO18: 0.85 | AR18: 1.98 | AU18: 0.37 | AX18: 2.25 | BA18: 1.01 | BD18: 2.24 | BG18: 1.3 | BJ18: 2.25 | BM18: 1.29 | BP18: 2.24 | BS18: 1.01 | BV18: 2.25 | BY18: 1.16 | CB18: 2.25 | CE18: 1.36 | CH18: 2.25 | CK18: 1.31
A19: Additional expense as per Regulation 52(6A)(b) (%)# | B19: 0 | E19: 0 | H19: 0 | K19: 0 | N19: 0 | Q19: 0 | T19: 0 | W19: 0 | Z19: 0 | AC19: 0 | AF19: 0 | AI19: 0 | AL19: 0 | AO19: 0 | AR19: 0 | AU19: 0 | AX19: 0 | BA19: 0 | BD19: 0 | BG19: 0 | BJ19: 0 | BM19: 0 | BP19: 0 | BS19: 0 | BV19: 0 | BY19: 0 | CB19: 0 | CE19: 0 | CH19: 0 | CK19: 0
A20: Additional expense as per Regulation 52(6A)(c) (%)$ | B20: 0.05 | E20: 0.05 | H20: 0.05 | K20: 0.05 | N20: 0.05 | Q20: 0.05 | T20: 0.05 | W20: 0.05 | Z20: 0.05 | AC20: 0.05 | AF20: 0.05 | AI20: 0.05 | AL20: 0 | AO20: 0 | AR20: 0.05 | AU20: 0.05 | AX20: 0.05 | BA20: 0.05 | BD20: 0.05 | BG20: 0.05 | BJ20: 0.05 | BM20: 0.05 | BP20: 0.05 | BS20: 0.05 | BV20: 0.05 | BY20: 0.05 | CB20: 0.05 | CE20: 0.05 | CH20: 0 | CK20: 0
A21: GST (%)^ | B21: 0.18 | E21: 0.17 | H21: 0.11 | K21: 0.11 | N21: 0.06 | Q21: 0.06 | T21: 0.12 | W21: 0.12 | Z21: 0.14 | AC21: 0.14 | AF21: 0.04 | AI21: 0.04 | AL21: 0.11 | AO21: 0.11 | AR21: 0.05 | AU21: 0.04 | AX21: 0.16 | BA21: 0.16 | BD21: 0.22 | BG21: 0.21 | BJ21: 0.22 | BM21: 0.21 | BP21: 0.15 | BS21: 0.15 | BV21: 0.19 | BY21: 0.18 | CB21: 0.22 | CE21: 0.22 | CH21: 0.14 | CK21: 0.13
A22: Total TER (%) | B22: =SUM(B18:D21) -> 2.27 | E22: =SUM(E18:G21) -> 1.35 | H22: =SUM(H18:J21) -> 2.12 | K22: =SUM(K18:M21) -> 1.01 | N22: =SUM(N18:P21) -> 1.91 | Q22: =SUM(Q18:S21) -> 0.59 | T22: =SUM(T18:V21) -> 2.42 | W22: =SUM(W18:Y21) -> 1.05 | Z22: =SUM(Z18:AB21) -> 2.34 | AC22: =SUM(AC18:AE21) -> 1.1 | AF22: =SUM(AF18:AH21) -> 2.18 | AI22: =SUM(AI18:AK21) -> 0.43 | AL22: =SUM(AL18:AN21) -> 2.13 | AO22: =SUM(AO18:AQ21) -> 0.96 | AR22: =SUM(AR18:AT21) -> 2.08 | AU22: =SUM(AU18:AW21) -> 0.46 | AX22: =SUM(AX18:AZ21) -> 2.46 | BA22: =SUM(BA18:BC21) -> 1.22 | BD22: =SUM(BD18:BF21) -> 2.51 | BG22: =SUM(BG18:BI21) -> 1.56 | BJ22: =SUM(BJ18:BL21) -> 2.52 | BM22: =SUM(BM18:BO21) -> 1.55 | BP22: =SUM(BP18:BR21) -> 2.44 | BS22: =SUM(BS18:BU21) -> 1.21 | BV22: =SUM(BV18:BX21) -> 2.49 | BY22: =SUM(BY18:CA21) -> 1.39 | CB22: =SUM(CB18:CD21) -> 2.52 | CE22: =SUM(CE18:CG21) -> 1.63 | CH22: =SUM(CH18:CJ21) -> 2.39 | CK22: =SUM(CK18:CM21) -> 1.44
A24: Portfolio (Top 10 Holdings) | B24: Name of the issuer | E24: % of Net Assets | H24: Name of the issuer | K24: % of Net Assets | N24: Name of the issuer | Q24: % of Net Assets | T24: Name of the issuer | W24: % of Net Assets | Z24: Name of the issuer | AC24: % of Net Assets | AF24: Name of the issuer | AI24: % of Net Assets | AL24: Name of the issuer | AO24: % of Net Assets | AR24: Name of the issuer | AU24: % of Net Assets | AX24: Name of the issuer | BA24: % of Net Assets | BD24: Name of the issuer | BG24: % of Net Assets | BJ24: Name of the issuer | BM24: % of Net Assets | BP24: Name of the issuer | BS24: % of Net Assets | BV24: Name of the issuer | BY24: % of Net Assets | CB24: Name of the issuer | CE24: % of Net Assets | CH24: Name of the issuer | CK24: % of Net Assets
B25: HDFC Bank Ltd. | E25: 7.018 | H25: HDFC Bank Ltd. | K25: 10.18 | N25: ICICI Bank Ltd. | Q25: 4.8043 | T25: HDFC Bank Ltd. | W25: 23.2322 | Z25: Garware Hi-Tech Films Ltd. | AC25: 4.4917 | AF25: Cummins India Ltd. | AI25: 2.7765 | AL25: ICICI Bank Ltd. | AO25: 7.7202 | AR25: HDFC Bank Ltd. | AU25: 3.6885 | AX25: HDFC Bank Ltd. | BA25: 4.6586 | BD25: HDFC Bank Ltd. | BG25: 8.3176 | BJ25: Shakti Pumps (India) Ltd. | BM25: 4.5955 | BP25: Sun Pharmaceutical Industries Ltd. | BS25: 10.1496 | BV25: Garware Hi-Tech Films Ltd. | BY25: 2.9394 | CB25: HDFC Bank Ltd. | CE25: 7.7586 | CH25: State Government Bond | CK25: 12.0028
B26: Piramal Pharma Ltd. | E26: 4.1974 | H26: ICICI Bank Ltd. | K26: 6.6093 | N26: HDFC Bank Ltd. | Q26: 4.7583 | T26: ICICI Bank Ltd. | W26: 10.7976 | Z26: Shakti Pumps (India) Ltd. | AC26: 3.7271 | AF26: Grindwell Norton Ltd. | AI26: 2.3963 | AL26: HDFC Bank Ltd. | AO26: 6.9774 | AR26: Garware Hi-Tech Films Ltd. | AU26: 3.4888 | AX26: Kotak Mahindra Bank Ltd. | BA26: 3.2001 | BD26: Kotak Mahindra Bank Ltd. | BG26: 7.9228 | BJ26: Trent Ltd. | BM26: 4.5799 | BP26: Piramal Pharma Ltd. | BS26: 7.5468 | BV26: Shakti Pumps (India) Ltd. | BY26: 2.9358 | CB26: Reliance Industries Ltd. | CE26: 4.3491 | CH26: Government Bond | CK26: 7.5474
B27: VA Tech Wabag Ltd. | E27: 3.4409 | H27: Reliance Industries Ltd. | K27: 6.2531 | N27: Trent Ltd. | Q27: 3.5705 | T27: Axis Bank Ltd. | W27: 7.6925 | Z27: Schneider Electric Infrastructure Ltd. | AC27: 3.2534 | AF27: Shakti Pumps (India) Ltd. | AI27: 2.341 | AL27: Shakti Pumps (India) Ltd. | AO27: 4.8866 | AR27: Shakti Pumps (India) Ltd. | AU27: 3.3005 | AX27: ICICI Bank Ltd. | BA27: 3.0275 | BD27: Tech Mahindra Ltd. | BG27: 5.2246 | BJ27: UNO Minda Ltd. | BM27: 3.2973 | BP27: Artemis Medicare Services Ltd. | BS27: 5.9082 | BV27: Hi-Tech Pipes Ltd. | BY27: 2.7444 | CB27: ICICI Bank Ltd. | CE27: 3.8667 | CH27: ICICI Bank Ltd. | CK27: 7.5163
B28: ICICI Bank Ltd. | E28: 3.1703 | H28: Infosys Ltd. | K28: 4.9409 | N28: Shakti Pumps (India) Ltd. | Q28: 3.2652 | T28: State Bank of India | W28: 5.7834 | Z28: Cummins India Ltd. | AC28: 2.9455 | AF28: Maruti Suzuki India Ltd. | AI28: 2.3076 | AL28: Trent Ltd. | AO28: 4.3204 | AR28: ICICI Bank Ltd. | AU28: 2.923 | AX28: Tata Consultancy Services Ltd. | BA28: 2.6385 | BD28: Shriram Finance Ltd. | BG28: 5.1135 | BJ28: The Federal Bank Ltd. | BM28: 2.8016 | BP28: Torrent Pharmaceuticals Ltd. | BS28: 4.9114 | BV28: Kirloskar Oil Engines Ltd. | BY28: 2.5658 | CB28: Hi-Tech Pipes Ltd. | CE28: 3.2565 | CH28: Trent Ltd. | CK28: 5.8491
B29: State Bank of India | E29: 3.0077 | H29: Larsen & Toubro Ltd. | K29: 3.775 | N29: Garware Hi-Tech Films Ltd. | Q29: 2.6684 | T29: Power Finance Corporation Ltd. | W29: 3.1923 | Z29: REC Ltd. | AC29: 2.8767 | AF29: Mahindra & Mahindra Ltd. | AI29: 2.2442 | AL29: State Bank of India | AO29: 3.3141 | AR29: Power Finance Corporation Ltd. | AU29: 2.2816 | AX29: Power Finance Corporation Ltd. | BA29: 2.3709 | BD29: TARC Ltd. | BG29: 5.0918 | BJ29: Alkem Laboratories Ltd. | BM29: 2.3778 | BP29: Glenmark Pharmaceuticals Ltd. | BS29: 4.8763 | BV29: Piramal Pharma Ltd. | BY29: 2.4965 | CB29: Himatsingka Seide Ltd. | CE29: 3.2349 | CH29: Infosys Ltd. | CK29: 4.7418
B30: Tech Mahindra Ltd. | E30: 2.7701 | H30: Maruti Suzuki India Ltd. | K30: 3.6033 | N30: REC Ltd. | Q30: 2.6493 | T30: Kotak Mahindra Bank Ltd. | W30: 3.0002 | Z30: Bharat Bijlee Ltd. | AC30: 2.7927 | AF30: Schaeffler India Ltd. | AI30: 2.0975 | AL30: Infosys Ltd. | AO30: 3.1643 | AR30: Grasim Industries Ltd. | AU30: 1.9608 | AX30: Saregama India Ltd. | BA30: 2.1568 | BD30: Tata Consumer Products Ltd. | BG30: 5.0469 | BJ30: P N Gadgil Jewellers Ltd. | BM30: 2.3637 | BP30: JB Chemicals & Pharmaceuticals Ltd. | BS30: 4.6996 | BV30: JTL Industries Ltd. | BY30: 2.4775 | CB30: State Bank of India | CE30: 3.2341 | CH30: HDFC Bank Ltd. | CK30: 4.5364
B31: Mphasis Ltd. | E31: 2.4661 | H31: Bharti Airtel Ltd. | K31: 3.5105 | N31: Shriram Finance Ltd. | Q31: 2.1133 | T31: CSB Bank Ltd. | W31: 2.699 | Z31: GE T&D India Ltd. | AC31: 2.7277 | AF31: TD Power Systems Ltd. | AI31: 2.0885 | AL31: Axis Bank Ltd. | AO31: 2.5511 | AR31: Saregama India Ltd. | AU31: 1.9075 | AX31: Garware Hi-Tech Films Ltd. | BA31: 2.138 | BD31: Tata Consultancy Services Ltd. | BG31: 5.0335 | BJ31: Bharat Electronics Ltd. | BM31: 2.29 | BP31: Mankind Pharma Ltd. | BS31: 4.6825 | BV31: Himatsingka Seide Ltd. | BY31: 2.4076 | CB31: Piramal Pharma Ltd. | CE31: 2.8595 | CH31: Pitti Engineering Ltd. | CK31: 3.5657
B32: Maruti Suzuki India Ltd. | E32: 2.4366 | H32: State Bank of India | K32: 3.3052 | N32: ZF Commercial Vehicle Ctrl Sys Ind Ltd. | Q32: 2.0409 | T32: Mahindra & Mahindra Financial Serv Ltd. | W32: 2.6934 | Z32: Tata Power Company Ltd. | AC32: 2.6508 | AF32: Bharat Forge Ltd. | AI32: 2.0459 | AL32: Cholamandalam Investment & Fin Co Ltd. | AO32: 2.3544 | AR32: State Bank of India | AU32: 1.8987 | AX32: IndusInd Bank Ltd. | BA32: 2.0443 | BD32: Artemis Medicare Services Ltd. | BG32: 4.6368 | BJ32: Voltas Ltd. | BM32: 2.2293 | BP32: Cipla Ltd. | BS32: 4.4066 | BV32: TD Power Systems Ltd. | BY32: 2.4023 | CB32: Maruti Suzuki India Ltd. | CE32: 2.7443 | CH32: Power Finance Corporation Ltd. | CK32: 3.2045
B33: Tata Power Company Ltd. | E33: 2.3425 | H33: ITC Ltd. | K33: 3.2481 | N33: Bharat Bijlee Ltd. | Q33: 1.9886 | T33: Piramal Enterprises Ltd. | W33: 2.6215 | Z33: Isgec Heavy Engineering Ltd. | AC33: 2.5654 | AF33: Bharat Heavy Electricals Ltd. | AI33: 1.9959 | AL33: Larsen & Toubro Ltd. | AO33: 2.1909 | AR33: Tata Consultancy Services Ltd. | AU33: 1.7921 | AX33: NTPC Ltd. | BA33: 2.043 | BD33: SBI Life Insurance Company Ltd. | BG33: 4.2722 | BJ33: Torrent Power Ltd. | BM33: 2.1257 | BP33: Suven Pharmaceuticals Ltd. | BS33: 4.2685 | BV33: VA Tech Wabag Ltd. | BY33: 2.293 | CB33: Bharti Airtel Ltd. | CE33: 2.7235 | CH33: Tata Consultancy Services Ltd. | CK33: 2.7593
B34: Hindustan Unilever Ltd. | E34: 2.3135 | H34: Hindustan Unilever Ltd. | K34: 2.8864 | N34: Tata Consultancy Services Ltd. | Q34: 1.9046 | T34: Creditaccess Grameen Ltd. | W34: 2.5555 | Z34: Bharat Heavy Electricals Ltd. | AC34: 2.5486 | AF34: Tata Power Company Ltd. | AI34: 1.9261 | AL34: Blue Star Ltd. | AO34: 2.1563 | AR34: Bharat Bijlee Ltd. | AU34: 1.7135 | AX34: MRS Bectors Food Specialities Ltd. | BA34: 2.0389 | BD34: Mahindra & Mahindra Financial Serv Ltd. | BG34: 3.7257 | BJ34: The Indian Hotels Company Ltd. | BM34: 2.0911 | BP34: IPCA Laboratories Ltd. | BS34: 4.2124 | BV34: Arvind Fashions Ltd. | BY34: 2.2286 | CB34: Infosys Ltd. | CE34: 2.5872 | CH34: KSB Ltd. | CK34: 2.3885
B37: Grand Total | E37: =SUM(E25:G36) -> 33.1631 | H37: Grand Total | K37: =SUM(K25:M36) -> 48.3118 | N37: Grand Total | Q37: =SUM(Q25:S36) -> 29.7634 | T37: Grand Total | W37: =SUM(W25:Y36) -> 64.2676 | Z37: Grand Total | AC37: =SUM(AC25:AE36) -> 30.5796 | AF37: Grand Total | AI37: =SUM(AI25:AK36) -> 22.2195 | AL37: Grand Total | AO37: =SUM(AO25:AQ36) -> 39.6357 | AR37: Grand Total | AU37: =SUM(AU25:AW36) -> 24.955 | AX37: Grand Total | BA37: =SUM(BA25:BC36) -> 26.3166 | BD37: Grand Total | BG37: =SUM(BG25:BI36) -> 54.3854 | BJ37: Grand Total | BM37: =SUM(BM25:BO36) -> 28.7519 | BP37: Grand Total | BS37: =SUM(BS25:BU36) -> 55.6619 | BV37: Grand Total | BY37: =SUM(BY25:CA36) -> 25.4909 | CB37: Grand Total | CE37: =SUM(CE25:CG36) -> 36.6144 | CH37: Grand Total | CK37: =SUM(CK25:CM36) -> 54.1118
A39: Asset Allocation | B39: Asset Allocation | E39: % of Net Assets | H39: Asset Allocation | K39: % of Net Assets | N39: Asset Allocation | Q39: % of Net Assets | T39: Asset Allocation | W39: % of Net Assets | Z39: Asset Allocation | AC39: % of Net Assets | AF39: Asset Allocation | AI39: % of Net Assets | AL39: Asset Allocation | AO39: % of Net Assets | AR39: Asset Allocation | AU39: % of Net Assets | AX39: Asset Allocation | BA39: % of Net Assets | BD39: Asset Allocation | BG39: % of Net Assets | BJ39: Asset Allocation | BM39: % of Net Assets | BP39: Asset Allocation | BS39: % of Net Assets | BV39: Asset Allocation | BY39: % of Net Assets | CB39: Asset Allocation | CE39: % of Net Assets | CH39: Asset Allocation | CK39: % of Net Assets
B40: Equity Holdings | C40: 0.95970929 | D40: Equity Holdings | E40: 97.30507 | H40: Equity Holdings | I40: 0.96083851 | J40: Equity Holdings | K40: 98.179411 | N40: Equity Holdings | O40: 0.95947917 | P40: Equity Holdings | Q40: 97.455899 | T40: Equity Holdings | U40: 0.95062595 | V40: Equity Holdings | W40: 98.01098 | Z40: Equity Holdings | AA40: 0.97458926 | AB40: Equity Holdings | AC40: 94.771648 | AF40: Equity Holdings | AG40: 0.97458926 | AH40: Equity Holdings | AI40: 63.231998 | AL40: Equity Holdings | AM40: 0.96417311 | AN40: Equity Holdings | AO40: 98.854442 | AR40: Equity Holdings | AU40: 97.525744 | AX40: Equity Holdings | BA40: 98.272199 | BD40: Equity Holdings | BG40: 96.482116 | BJ40: Equity Holdings | BM40: 98.640567 | BP40: Equity Holdings | BS40: 96.613619 | BV40: Equity Holdings | BY40: 97.944087 | CB40: Equity Holdings | CE40: 97.832782 | CH40: Equity Holdings | CI40: 0.78733932 | CJ40: Equity Holdings | CK40: 73.434624
B41: Cash & Other Receivables | C41: 0.040290706 | D41: Cash & Other Receivables | E41: 2.6949302 | H41: Cash & Other Receivables | I41: 0.039161485 | J41: Cash & Other Receivables | K41: 1.8205886 | N41: Cash & Other Receivables | O41: 0.04052083 | P41: Cash & Other Receivables | Q41: 2.5441013 | T41: Cash & Other Receivables | U41: 0.049374047 | V41: Cash & Other Receivables | W41: 1.9890198 | Z41: Cash & Other Receivables | AA41: 0.025410745 | AB41: Cash & Other Receivables | AC41: 5.2283523 | AF41: Cash & Other Receivables | AG41: 0.025410745 | AH41: Cash & Other Receivables | AI41: 36.768002 | AL41: Cash & Other Receivables | AM41: 0.035826888 | AN41: Cash & Other Receivables | AO41: 1.1455582 | AR41: Cash & Other Receivables | AU41: 2.4742562 | AX41: Cash & Other Receivables | BA41: 1.7278011 | BD41: Cash & Other Receivables | BG41: 3.517884 | BJ41: Cash & Other Receivables | BM41: 1.3594329 | BP41: Cash & Other Receivables | BS41: 3.3863808 | BV41: Cash & Other Receivables | BY41: 2.0559133 | CB41: Cash & Other Receivables | CE41: 2.1672184 | CH41: GOVERNMENT BOND AND TREASURY BILL | CI41: 0.11435791 | CJ41: GOVERNMENT BOND AND TREASURY BILL | CK41: 19.550459
CH42: CORPORATE DEBT | CK42: 6.2666885
CH43: Cash & Other Receivables | CK43: 0.74822888
B46: Grand Total | E46: =SUM(E40:G44) -> 100 | H46: Grand Total | K46: =SUM(K40:M44) -> 100 | N46: Grand Total | Q46: =SUM(Q40:S44) -> 100 | T46: Grand Total | W46: =SUM(W40:Y44) -> 100 | Z46: Grand Total | AC46: =SUM(AC40:AE44) -> 100 | AF46: Grand Total | AI46: =SUM(AI40:AK45) -> 100 | AL46: Grand Total | AO46: =SUM(AO40:AQ44) -> 100 | AR46: Grand Total | AU46: =SUM(AU40:AW44) -> 100 | AX46: Grand Total | BA46: =SUM(BA40:BC44) -> 100 | BD46: Grand Total | BG46: =SUM(BG40:BI44) -> 100 | BJ46: Grand Total | BM46: =SUM(BM40:BO44) -> 100 | BP46: Grand Total | BS46: =SUM(BS40:BU44) -> 100 | BV46: Grand Total | BY46: =SUM(BY40:CA44) -> 100 | CB46: Grand Total | CE46: =SUM(CE40:CG44) -> 100 | CH46: Grand Total | CK46: =SUM(CK40:CM44) -> 100
A48: Sectoral Allocation | B48: Sector/Industry | E48: % of Net Assets | H48: Sector/Industry | K48: % of Net Assets | N48: Sector/Industry | Q48: % of Net Assets | T48: Sector/Industry | W48: % of Net Assets | Z48: Sector/Industry | AC48: % of Net Assets | AF48: Sector/Industry | AI48: % of Net Assets | AL48: Sector/Industry | AO48: % of Net Assets | AR48: Sector/Industry | AU48: % of Net Assets | AX48: Sector/Industry | BA48: % of Net Assets | BD48: Sector/Industry | BG48: % of Net Assets | BJ48: Sector/Industry | BM48: % of Net Assets | BP48: Sector/Industry | BS48: % of Net Assets | BV48: Sector/Industry | BY48: % of Net Assets | CB48: Sector/Industry | CE48: % of Net Assets | CH48: Sector/Industry | CK48: % of Net Assets
B49: Banks | E49: 15.5216 | H49: Banks | K49: 20.5592 | N49: Banks | Q49: 14.5991 | T49: Banks | W49: 59.591 | Z49: Industrial Products | AC49: 24.0459 | AF49: Industrial Products | AI49: 13.5411 | AL49: Banks | AO49: 21.2211 | AR49: Banks | AU49: 13.3228 | AX49: Banks | BA49: 16.479 | BD49: Banks | BG49: 19.7133 | BJ49: Auto Components | BM49: 13.8759 | BP49: Pharmaceuticals & Biotechnology | BS49: 73.4198 | BV49: Industrial Products | BY49: 21.7909 | CB49: Banks | CE49: 14.8594 | CH49: Government of India | CK49: 19.5502
B50: Finance | E50: 8.7706 | H50: IT - Software | K50: 7.8921 | N50: Industrial Products | Q50: 9.421 | T50: Finance | W50: 29.3665 | Z50: Electrical Equipment | AC50: 16.3137 | AF50: Automobiles | AI50: 7.3676 | AL50: IT - Software | AO50: 9.3089 | AR50: Industrial Products | AU50: 10.8096 | AX50: Industrial Products | BA50: 7.6133 | BD50: Finance | BG50: 16.2018 | BJ50: Industrial Products | BM50: 12.7909 | BP50: Healthcare Services | BS50: 20.3895 | BV50: Electrical Equipment | BY50: 7.8011 | CB50: Industrial Products | CE50: 10.638 | CH50: Banks | CK50: 18.1183
B51: IT - Software | E51: 7.8749 | H51: Automobiles | K51: 6.3094 | N51: Finance | Q51: 8.5275 | T51: Capital Markets | W51: 7.9457 | Z51: Industrial Manufacturing | AC51: 9.3891 | AF51: Pharmaceuticals & Biotechnology | AI51: 7.03 | AL51: Consumer Durables | AO51: 7.5255 | AR51: Electrical Equipment | AU51: 7.3153 | AX51: Finance | BA51: 6.5769 | BD51: IT - Software | BG51: 10.2581 | BJ51: Retailing | BM51: 9.0133 | BP51: Chemicals & Petrochemicals | BS51: 2.8034 | BV51: Textiles & Apparels | BY51: 4.6166 | CB51: Petroleum Products | CE51: 5.6032 | CH51: Retailing | CK51: 8.8127
B52: Pharmaceuticals & Biotechnology | E52: 6.3402 | H52: Petroleum Products | K52: 6.2531 | N52: Auto Components | Q52: 6.6701 | T52: Insurance | W52: 1.1063 | Z52: Construction | AC52: 7.005 | AF52: Auto Components | AI52: 5.6871 | AL52: Industrial Products | AO52: 7.2191 | AR52: Auto Components | AU52: 5.9658 | AX52: IT - Software | BA52: 6.4262 | BD52: Realty | BG52: 8.3134 | BJ52: Finance | BM52: 6.9716 | BV52: Chemicals & Petrochemicals | BY52: 4.3563 | CB52: IT - Software | CE52: 5.5546 | CH52: Finance | CK52: 8.6398
B53: Automobiles | E53: 5.4277 | H53: Diversified FMCG | K53: 6.1345 | N53: Industrial Manufacturing | Q53: 4.7653 | Z53: Finance | AC53: 6.0382 | AF53: Electrical Equipment | AI53: 5.3555 | AL53: Retailing | AO53: 6.9068 | AR53: IT - Software | AU53: 5.7219 | AX53: Power | BA53: 4.8627 | BD53: Agricultural Food & other Products | BG53: 5.0469 | BJ53: Consumer Durables | BM53: 5.7283 | BV53: Pharmaceuticals & Biotechnology | BY53: 4.0026 | CB53: Pharmaceuticals & Biotechnology | CE53: 5.2715 | CH53: IT - Software | CK53: 8.4383
...

Sheet Debt-Excl.Over,Liq,MM
A1: =Equity!A1 -> Dashboard as on 31/10/2024
A2: Scheme Name | B2: LIC MF Banking & PSU Fund (ERSTWHILE LIC MF Banking & PSU Bond Fund) | H2: LIC MF Gilt Fund (ERSTWHILE LIC MF Government Securities Fund) | N2: LIC MF Medium to Long Duration Fund (ERSTWHILE LIC MF Medium to Long Duration Bond Fund) | T2: LIC MF Short Duration Fund (ERSTWHILE LIC MF Short Term Debt Fund) | Z2: LIC MF Low Duration Fund (ERSTWHILE LIC MF Savings Fund) | AF2: LIC MF Ultra Short Duration Fund (ERSTWHILE LIC MF Ultra Short Term Fund)
A3: SEBI Code | B3: LICM/O/D/BPF/07/05/0013 | H3: LICM/O/D/GIL/99/09/0007 | N3: LICM/O/D/MLD/99/02/0006 | T3: LICM/O/D/SDF/18/07/0021 | Z3: LICM/O/D/LOW/03/02/0012 | AF3: LICM/O/D/USD/19/11/0024
A4: Date of Allotment - Regular | B4: 31.05.2007 | H4: 10.12.1999 | N4: 23.06.1999 | T4: 01.02.2019 | Z4: 09.06.2003 | AF4: 27.11.2019
A5: Date of Allotment - Direct | B5: 01.01.2013 | H5: 01.01.2013 | N5: 01.01.2013 | T5: 01.02.2019 | Z5: 01.01.2013 | AF5: 27.11.2019
A7: AUM (in Rs. crore) | B7: 1874.74 | H7: 92.51 | N7: 180.02 | T7: 109.13 | Z7: 1631.93 | AF7: 246.19
A9: Investment Objective | B9: The primary investment objective of the Scheme is to seek to generate income and capital appreciation by primarily investing in a portfolio of high quality debt and money market securities that are issued by banks, public sector undertakings, public financial institutions and Municipal Bonds. There is no assurance that the investment objective of the Scheme will be achieved. | H9: The primary objective of the scheme is to generate credit risk free and reasonable returns for its investors through investments in sovereign securities issued by the central and /or state Government and/or any security unconditionally guaranteed by the central/ state government for repayment of Principal and interest and/or reverse repos in such securities as and when permitted by RBI. There is no assurance that the investment objective of the Scheme will be achieved. | N9: LIC MF Medium to Long Duration Bond Fund is an open-ended debt scheme which will endeavor to generate an attractive return for its investors by investing in a portfolio is between 4 years and 7 years. There is no assurance that the investment objective of the Scheme will be achieved. | T9: The primary investment objective of the scheme is to generate returns commensurate with risk from a portfolio constituted of Debt securities and/or Money Market instruments. There is no assurance that the investment objective of the Scheme will be achieved. | Z9: The investment objective of the Scheme is to generate income by investing in a portfolio of quality short term debt securities. There is no assurance that the investment objective of the Scheme will be achieved. | AF9: The investment objective of the scheme is to generate returns through investment in Debt & Money Market instruments such that the Macaulay duration of the portfolio is between 3 months - 6 months. There is no assurance that the investment objective of the Scheme will be achieved.
A11: Fund Manager | B11: Mr. Marzban Irani (Debt - managing since 10/08/16) / Mr. Pratik Harish Shroff Debt - managing since 26/09/23) | H11: Mr. Marzban Irani Debt - managing since 10/08/16) & Mr. Pratik Harish Shroff Debt - managing since 26/09/23) | N11: Mr. Marzban Irani Debt - managing since 10/08/16) & Mr. Pratik Harish Shroff (Debt - managing since 26/09/23) | T11: Mr. Marzban Irani (Debt - managing since 01/02/19) & Mr. Pratik Harish Shroff (Debt - managing since 26/09/23) | Z11: Mr. Rahul Singh (Debt - managing since 07/09/15) | AF11: Mr. Rahul Singh (Debt - managing since 27/11/19)
A13: Total Expense Ratio
B14: Regular | E14: Direct | H14: Regular | K14: Direct | N14: Regular | Q14: Direct | T14: Regular | W14: Direct | Z14: Regular | AC14: Direct | AF14: Regular | AI14: Direct
A15: Base TER (%)@ | B15: 0.75 | E15: 0.25 | H15: 1.35 | K15: 0.62 | N15: 1.21 | Q15: 0.2 | T15: 1.29 | W15: 0.33 | Z15: 0.93 | AC15: 0.24 | AF15: 0.93 | AI15: 0.23
A16: Additional expense as per Regulation 52(6A)(b) (%)# | B16: 0 | E16: 0 | H16: 0 | K16: 0 | N16: 0 | Q16: 0 | T16: 0 | W16: 0 | Z16: 0 | AC16: 0 | AF16: 0 | AI16: 0
A17: Additional expense as per Regulation 52(6A)(c) (%)$ | B17: 0 | E17: 0 | H17: 0.05 | K17: 0.05 | N17: 0 | Q17: 0 | T17: 0 | W17: 0 | Z17: 0 | AC17: 0 | AF17: 0 | AI17: 0
A18: GST (%)^ | B18: 0.03 | E18: 0.03 | H18: 0.08 | K18: 0.08 | N18: 0.01 | Q18: 0.01 | T18: 0.04 | W18: 0.04 | Z18: 0.03 | AC18: 0.03 | AF18: 0.02 | AI18: 0.02
A19: Total TER (%) | B19: =SUM(B15:D18) -> 0.78 | E19: =SUM(E15:G18) -> 0.28 | H19: =SUM(H15:J18) -> 1.48 | K19: =SUM(K15:M18) -> 0.75 | N19: =SUM(N15:P18) -> 1.22 | Q19: =SUM(Q15:S18) -> 0.21 | T19: =SUM(T15:V18) -> 1.33 | W19: =SUM(W15:Y18) -> 0.37 | Z19: =SUM(Z15:AB18) -> 0.96 | AC19: =SUM(AC15:AE18) -> 0.27 | AF19: =SUM(AF15:AH18) -> 0.95 | AI19: =SUM(AI15:AK18) -> 0.25
A21: Portfolio (Top 10 Holdings) | B21: Name of the issuer | E21: % of Net Assets | H21: Name of the issuer | K21: % of Net Assets | N21: Name of the issuer | Q21: % of Net Assets | T21: Name of the issuer | W21: % of Net Assets | Z21: Name of the issuer | AC21: % of Net Assets | AF21: Name of the issuer | AI21: % of Net Assets
B22: Government Bond | E22: 9.8679 | H22: Government Bond | K22: 81.5198 | N22: State Government Bond | Q22: 58.7554 | T22: Government Bond | W22: 28.8548 | Z22: Small Industries Development Bk of India | AC22: 8.6705 | AF22: National Bk for Agriculture & Rural Dev. | AI22: 10.8215
B23: Power Finance Corporation Ltd. | E23: 9.7672 | H23: State Government Bond | K23: 16.5474 | N23: Government Bond | Q23: 27.0716 | T23: Export Import Bank of India | W23: 9.7248 | Z23: Government Treasury Bill | AC23: 7.5682 | AF23: Axis Bank Ltd. | AI23: 10.0172
B24: Small Industries Development Bk of India | E24: 9.1823 | N24: HDFC Bank Ltd. | Q24: 5.8225 | T24: Tata Capital Ltd. | W24: 4.9501 | Z24: National Bk for Agriculture & Rural Dev. | AC24: 6.3863 | AF24: Kotak Mahindra Bank Ltd. | AI24: 9.8026
B25: National Bk for Agriculture & Rural Dev. | E25: 7.7279 | N25: Jamnagar Utilities & Power Pvt. Ltd. | Q25: 5.5655 | T25: Bajaj Finance Ltd. | W25: 4.9314 | Z25: REC Ltd. | AC25: 6.3351 | AF25: Small Industries Development Bk of India | AI25: 9.7174
B26: REC Ltd. | E26: 7.1157 | N26: SBI Funds Management Ltd. | Q26: 0.2637 | T26: Small Industries Development Bk of India | W26: 4.9023 | Z26: Power Finance Corporation Ltd. | AC26: 6.2134 | AF26: ICICI Bank Ltd. | AI26: 9.6884
B27: Indian Railway Finance Corporation Ltd. | E27: 6.9174 | T27: Shriram Finance Ltd. | W27: 4.8217 | Z27: ICICI Securities Ltd. | AC27: 6.0354 | AF27: Time Technoplast Ltd. | AI27: 7.9305
B28: State Government Bond | E28: 6.7064 | T28: National Bk for Agriculture & Rural Dev. | W28: 4.7701 | Z28: Axis Bank Ltd. | AC28: 5.8249 | AF28: Punjab National Bank | AI28: 7.918
B29: National Housing Bank | E29: 5.505 | T29: Kotak Mahindra Prime Ltd. | W29: 4.7404 | Z29: Shriram Finance Ltd. | AC29: 4.8356 | AF29: Motilal Oswal Financial Services Ltd. | AI29: 6.0674
B30: Export Import Bank of India | E30: 4.2456 | T30: Bajaj Housing Finance Ltd. | W30: 4.7392 | Z30: Time Technoplast Ltd. | AC30: 4.825 | AF30: HDFC Securities Ltd. | AI30: 6.0544
B31: HDFC Bank Ltd. | E31: 3.8836 | T31: Power Finance Corporation Ltd. | W31: 4.6909 | Z31: Export Import Bank of India | AC31: 4.5073 | AF31: AU Small Finance Bank Ltd. | AI31: 5.6822
B34: Grand Total | E34: =SUM(E22:G33) -> 70.919 | H34: Grand Total | K34: =SUM(K22:M33) -> 98.0672 | N34: Grand Total | Q34: =SUM(Q22:S33) -> 97.4787 | T34: Grand Total | W34: =SUM(W22:Y33) -> 77.1257 | Z34: Total | AC34: =SUM(AC22:AE33) -> 61.2017 | AF34: Total | AI34: =SUM(AI22:AK33) -> 83.6996
A36: Asset Allocation | B36: Asset Allocation | E36: % of Net Assets | H36: Asset Allocation | K36: % of Net Assets | N36: Asset Allocation | Q36: % of Net Assets | T36: Asset Allocation | W36: % of Net Assets | Z36: Asset Allocation | AC36: % of Net Assets | AF36: Asset Allocation | AI36: % of Net Assets
B37: CORPORATE DEBT | E37: 74.347806 | H37: GOVERNMENT BOND AND TREASURY BILL | K37: 98.06794 | N37: GOVERNMENT BOND AND TREASURY BILL | Q37: 85.827161 | T37: CORPORATE DEBT | W37: 62.189417 | Z37: Money Market Instruments | AC37: 54.1402 | AF37: Money Market Instruments | AI37: 77.731305
B38: GOVERNMENT BOND AND TREASURY BILL | E38: 16.574625 | H38: Cash & Other Receivables | K38: 1.9320598 | N38: CORPORATE DEBT | Q38: 11.388106 | T38: GOVERNMENT BOND AND TREASURY BILL | W38: 28.854887 | Z38: CORPORATE DEBT | AC38: 34.651835 | AF38: CORPORATE DEBT | AI38: 10.821597
B39: Money Market Instruments | E39: 8.9406259 | N39: Cash & Other Receivables | Q39: 2.5209526 | T39: Money Market Instruments | W39: 4.389087 | Z39: GOVERNMENT BOND AND TREASURY BILL | AC39: 10.746697 | AF39: Cash & Other Receivables | AI39: 9.1265591
B40: Mutual Fund Units | E40: 0.19522887 | N40: Mutual Fund Units | Q40: 0.263781 | T40: Cash & Other Receivables | W40: 4.2221418 | Z40: Cash & Other Receivables | AC40: 0.28185488 | AF40: GOVERNMENT BOND AND TREASURY BILL | AI40: 2.0234821
B41: Cash & Other Receivables | E41: -0.058286007 | T41: Mutual Fund Units | W41: 0.34446696 | Z41: Mutual Fund Units | AC41: 0.17941299 | AF41: Mutual Fund Units | AI41: 0.29705733
B42: Grand Total | E42: =SUM(E37:G41) -> 100 | H42: Grand Total | K42: =SUM(K37:M41) -> 100 | N42: Grand Total | Q42: =SUM(Q37:S41) -> 100 | T42: Grand Total | W42: =SUM(W37:Y41) -> 100 | Z42: Grand Total | AC42: =SUM(AC37:AE41) -> 100 | AF42: Grand Total | AI42: =SUM(AI37:AK41) -> 100
A44: Scheme Past Performance | B44: Regular (Growth) | E44: Direct (Growth) | H44: Regular (Growth) | K44: Direct (Growth) | N44: Regular (Growth) | Q44: Direct (Growth) | T44: Regular (Growth) | W44: Direct (Growth) | Z44: Regular (Growth) | AC44: Direct (Growth) | AF44: Regular (Growth) | AI44: Direct (Growth)
B45: Scheme | C45: Scheme Benchmark | D45: Additional Benchmark | E45: Scheme | F45: Scheme Benchmark | G45: Additional Benchmark | H45: Scheme | I45: Scheme Benchmark | J45: Additional Benchmark | K45: Scheme | L45: Scheme Benchmark | M45: Additional Benchmark | N45: Scheme | O45: Scheme Benchmark | P45: Additional Benchmark | Q45: Scheme | R45: Scheme Benchmark | S45: Additional Benchmark | T45: Scheme | U45: Scheme Benchmark | V45: Additional Benchmark | W45: Scheme | X45: Scheme Benchmark | Y45: Additional Benchmark | Z45: Scheme | AA45: Scheme Benchmark | AB45: Additional Benchmark | AC45: Scheme | AD45: Scheme Benchmark | AE45: Additional Benchmark | AF45: Scheme | AG45: Scheme Benchmark | AH45: Additional Benchmark | AI45: Scheme | AJ45: Scheme Benchmark | AK45: Additional Benchmark
A46: 1 Year CAGR (%) | B46: 8.1488 | C46: 7.9004 | D46: 10.6714 | E46: 8.6909 | F46: 7.9004 | G46: 10.6714 | H46: 9.6158 | I46: 11.3447 | J46: 10.6714 | K46: 10.4186 | L46: 11.3447 | M46: 10.6714 | N46: 9.7082 | O46: 9.5274 | P46: 10.6714 | Q46: 10.8219 | R46: 9.5274 | S46: 10.6714 | T46: 7.788 | U46: 8.0803 | V46: 10.6714 | W46: 8.8315 | X46: 8.0803 | Y46: 10.6714 | Z46: 7.1266 | AA46: 7.7063 | AB46: 7.5428 | AC46: 7.8716 | AD46: 7.7063 | AE46: 7.5428 | AF46: 6.8186 | AG46: 7.6679 | AH46: 7.5428 | AI46: 7.5904 | AJ46: 7.6679 | AK46: 7.5428
A47: 3 Years CAGR (%) | B47: 5.5906 | C47: 5.548 | D47: 5.5941 | E47: 6.1494 | F47: 5.548 | G47: 5.5941 | H47: 5.3587 | I47: 6.6 | J47: 5.5941 | K47: 6.1224 | L47: 6.6 | M47: 5.5941 | N47: 5.8369 | O47: 5.7756 | P47: 5.5941 | Q47: 6.5802 | R47: 5.7756 | S47: 5.5941 | T47: 5.0045 | U47: 5.9486 | V47: 5.5941 | W47: 6.0449 | X47: 5.9486 | Y47: 5.5941 | Z47: 5.6319 | AA47: 6.3296 | AB47: 5.9654 | AC47: 6.2783 | AD47: 6.3296 | AE47: 5.9654 | AF47: 5.7123 | AG47: 6.4946 | AH47: 5.9654 | AI47: 6.1217 | AJ47: 6.4946 | AK47: 5.9654
A48: 5 Years CAGR (%) | B48: 5.6102 | C48: 6.1448 | D48: 5.4404 | E48: 6.1745 | F48: 6.1448 | G48: 5.4404 | H48: 5.7646 | I48: 6.7826 | J48: 5.4404 | K48: 6.5103 | L48: 6.7826 | M48: 5.4404 | N48: 5.6069 | O48: 6.8195 | P48: 5.4404 | Q48: 6.2576 | R48: 6.8195 | S48: 5.4404 | T48: 5.2517 | U48: 6.2874 | V48: 5.4404 | W48: 6.3245 | X48: 6.2874 | Y48: 5.4404 | Z48: 5.5993 | AA48: 6.0174 | AB48: 5.5222 | AC48: 6.2099 | AD48: 6.0174 | AE48: 5.5222 | AF48: NA | AG48: NA | AH48: NA | AI48: NA | AJ48: NA | AK48: NA
A49: Since Inception CAGR (%) | B49: 7.079 | C49: 7.7706 | D49: 6.619 | E49: 7.427 | F49: 7.413 | G49: 6.5381 | H49: 7.2513 | I49: NA | J49: NA | K49: 7.6682 | L49: 7.4716 | M49: 6.539 | N49: 7.8768 | O49: 9.0817 | P49: NA | Q49: 7.1818 | R49: 7.924 | S49: 6.539 | T49: 5.5383 | U49: 6.9178 | V49: 6.6172 | W49: 6.8289 | X49: 6.9178 | Y49: 6.6172 | Z49: 6.3932 | AA49: 7.053 | AB49: 5.9499 | AC49: 7.188 | AD49: 7.4959 | AE49: 6.4886 | AF49: 5.2445 | AG49: 5.8611 | AH49: 5.4936 | AI49: 5.5696 | AJ49: 5.8611 | AK49: 5.4936
...

Sheet Debt-Over,Liq,MM
A1: =Equity!A1 -> Dashboard as on 31/10/2024
A2: Scheme Name | B2: LIC MF Liquid Fund | H2: LIC MF Overnight Fund | N2: LIC MF Money Market Fund
A3: SEBI Code | B3: LICM/O/D/LIF/02/02/0009 | H3: LICM/O/D/ONF/19/06/0023 | N3: LICM/O/D/MMF/22/06/0026
A4: Date of Allotment - Regular | B4: 18.03.2002 | H4: 18.07.2019 | N4: 01.08.2022
A5: Date of Allotment - Direct | B5: 01.01.2013 | H5: 18.07.2019 | N5: 01.08.2022
A7: AUM (in Rs. crore) | B7: 10,690.10** | H7: 599.64 | N7: 23.97
A9: Investment Objective | B9: The investment objective of the Scheme will be to generate returns that correspond closely to the returns generated by LIC MF Gold Exchange Traded Fund (LIC MF Gold ETF). There is no assurance that the investment objective of the Scheme will be achieved. | H9: The Scheme aims to provide reasonable returns commensurate with low risk and providing a high level of liquidity, through investments made primarily in overnight securities having maturity/residual maturity of 1 business day. There is no assurance that the investment objective of the Scheme will be achieved. | N9: The investment objective of the scheme is to provide capital appreciation/ income to the investors from a dynamic mix of equity, debt and money market instruments. The Scheme seeks to reduce the volatility by diversifying the assets across equity, debt and money market instruments. There is no assurance that the investment objective of the Scheme will be achieved.
A11: Fund Manager | B11: Mr. Rahul Singh (Debt - managing since 05/10/2015) | H11: Mr. Rahul Singh (Debt - managing since 18/07/19) | N11: Mr. Rahul Singh (Debt - managing since 01/08/22)
A13: Total Expense Ratio
B14: Regular | E14: Direct | H14: Regular | K14: Direct | N14: Regular | Q14: Direct
A15: Base TER (%)@ | B15: 0.2 | E15: 0.15 | H15: 0.2 | K15: 0.07 | N15: 1 | Q15: 0.57
A16: Additional expense as per Regulation 52(6A)(b) (%)# | B16: 0 | E16: 0 | H16: 0 | K16: 0 | N16: 0 | Q16: 0
A17: Additional expense as per Regulation 52(6A)(c) (%)$ | B17: 0 | E17: 0 | H17: 0 | K17: 0 | N17: 0 | Q17: 0
A18: GST (%)^ | B18: 0.01 | E18: 0.01 | H18: 0 | K18: 0 | N18: 0.02 | Q18: 0.02
A19: Total TER (%) | B19: =SUM(B15:D18) -> 0.21 | E19: =SUM(E15:G18) -> 0.16 | H19: =SUM(H15:J18) -> 0.2 | K19: =SUM(K15:M18) -> 0.07 | N19: =SUM(N15:P18) -> 1.02 | Q19: =SUM(Q15:S18) -> 0.59
A21: Portfolio (Top 10 Holdings) | B21: Name of the issuer | E21: % of Net Assets | H21: Name of the issuer | K21: % of Net Assets | N21: Name of the issuer | Q21: % of Net Assets
B22: Government Treasury Bill | E22: 20.573 | H22: Punjab National Bank | K22: 8.3339 | N22: Government Treasury Bill | Q22: 20.0467
B23: Reliance Retail Ventures Ltd. | E23: 8.3656 | H23: Government Treasury Bill | K23: 4.9872 | N23: SBI Funds Management Ltd. | Q23: 0.8495
B24: Bank of Baroda | E24: 6.9701
B25: HDFC Securities Ltd. | E25: 5.5703
B26: HDFC Bank Ltd. | E26: 5.1075
B27: Canara Bank | E27: 5.1021
B28: Export Import Bank of India | E28: 4.1854
B29: Punjab National Bank | E29: 3.7185
B30: Reliance Jio Infocomm Ltd. | E30: 3.7151
B31: State Bank of India | E31: 3.7126
B34: Total | E34: =SUM(E22:G33) -> 67.0202 | H34: Total | K34: =SUM(K22:M33) -> 13.3211 | N34: Total | Q34: =SUM(Q22:S33) -> 20.8962
A36: Asset Allocation | B36: Asset Allocation | E36: % of Net Assets | H36: Asset Allocation | K36: % of Net Assets | N36: Asset Allocation | Q36: % of Net Assets
B37: Money Market Instruments | E37: 76.210837 | H37: Cash & Other Receivables | K37: 86.678582 | N37: Cash & Other Receivables | Q37: 79.103734
B38: GOVERNMENT BOND AND TREASURY BILL | E38: 20.57346 | H38: Money Market Instruments | K38: 8.3339942 | N38: GOVERNMENT BOND AND TREASURY BILL | Q38: 20.046703
B39: Cash & Other Receivables | E39: 2.9672968 | H39: GOVERNMENT BOND AND TREASURY BILL | K39: 4.9874238 | N39: Mutual Fund Units | Q39: 0.84956317
B40: Mutual Fund Units | E40: 0.24840649
B42: Grand Total | E42: =SUM(E37:G40) -> 100 | H42: Grand Total | K42: =SUM(K37:M41) -> 100 | N42: Grand Total | Q42: =SUM(Q37:S41) -> 100
A44: Scheme Past Performance | B44: Regular (Growth) | E44: Direct (Growth) | H44: Regular (Growth) | K44: Direct (Growth) | N44: Regular (Growth) | Q44: Direct (Growth)
B45: Scheme | C45: Scheme Benchmark | D45: Additional Benchmark | E45: Scheme | F45: Scheme Benchmark | G45: Additional Benchmark | H45: Scheme | I45: Scheme Benchmark | J45: Additional Benchmark | K45: Scheme | L45: Scheme Benchmark | M45: Additional Benchmark | N45: Scheme | O45: Scheme Benchmark | P45: Additional Benchmark | Q45: Scheme | R45: Scheme Benchmark | S45: Additional Benchmark
A46: 7 Days (%) | B46: 6.8459 | C46: 6.9088 | D46: 5.5454 | E46: 6.8965 | F46: 6.9088 | G46: 5.5454 | H46: 6.224 | I46: 6.4496 | J46: 5.5454 | K46: 6.3545 | L46: 6.4496 | M46: 5.5454 | N46: 5.0385 | O46: 6.5838 | P46: 5.5454 | Q46: 5.4659 | R46: 6.5838 | S46: 5.5454
A47: 15 Days (%) | B47: 6.6944 | C47: 6.7487 | D47: 5.3727 | E47: 6.7452 | F47: 6.7487 | G47: 5.3727 | H47: 6.2409 | I47: 6.4542 | J47: 5.3727 | K47: 6.3713 | L47: 6.4542 | M47: 5.3727 | N47: 5.1175 | O47: 6.7626 | P47: 5.3727 | Q47: 5.5474 | R47: 6.7626 | S47: 5.3727
A48: 30 Days (%) | B48: 6.8708 | C48: 6.8567 | D48: 5.7746 | E48: 6.9218 | F48: 6.8567 | G48: 5.7746 | H48: 6.1923 | I48: 6.3562 | J48: 5.7746 | K48: 6.323 | L48: 6.3562 | M48: 5.7746 | N48: 5.1787 | O48: 7.1311 | P48: 5.7746 | Q48: 5.6105 | R48: 7.1311 | S48: 5.7746
A49: 1 Year (%) | B49: 7.4048 | C49: 7.3406 | D49: 7.5428 | E49: 7.4589 | F49: 7.3406 | G49: 7.5428 | H49: 6.6065 | I49: 6.7714 | J49: 7.5428 | K49: 6.745 | L49: 6.7714 | M49: 7.5428 | N49: 6.1264 | O49: 7.6025 | P49: 7.5428 | Q49: 6.5865 | R49: 7.6025 | S49: 7.5428
A50: 3 Years (%) | B50: 6.1619 | C50: 6.2769 | D50: 5.9691 | E50: 6.265 | F50: 6.2769 | G50: 5.9691 | H50: 5.716 | I50: 5.8953 | J50: 5.9691 | K50: 5.8534 | L50: 5.8953 | M50: 5.9691 | N50: NA | O50: NA | P50: NA | Q50: NA | R50: NA | S50: NA
...

Sheet Hybrid
A1: Dashboard as on 31/10/2024
A2: Scheme Name | B2: LIC MF Aggressive Hybrid Fund (ERSTWHILE LIC MF Equity Hybrid Fund) | H2: LIC MF Arbitrage Fund | N2: LIC MF Balanced Advantage Fund | T2: LIC MF Conservative Hybrid Fund (ERSTWHILE LIC MF Debt Hybrid Fund) | Z2: LIC MF Equity Savings Fund (ERSTWHILE IDBI EQUITY SAVINGS FUND)
A3: SEBI Code | B3: LICM/O/H/AHF/91/01/0001 | H3: LICM/O/H/ARB/18/08/0022 | N3: LICM/O/H/BAF/21/10/0025 | T3: LICM/O/H/CHF/98/04/0005 | Z3: LICM/O/H/ESF/10/11/0005
A4: Date of Allotment - Regular | B4: 01.01.1991 | H4: 25.01.2019 | N4: 12.11.2021 | T4: 01.06.1998 | Z4: 07.03.2011
A5: Date of Allotment - Direct | B5: 01.01.2013 | H5: 25.01.2019 | N5: 12.11.2021 | T5: 01.01.2013 | Z5: 01.01.2013
A7: AUM (in Rs. crore) | B7: 535.08 | H7: 206.21 | N7: 791.3 | T7: 50.19 | Z7: 20.26
A10: Investment Objective | B10: An open ended balanced scheme which seeks to provide regular returns and capital appreciation according to the selection of plan by investing in equities and debt. There is no assurance that the investment objective of the Scheme will be achieved. | H10: The investment objective of the scheme is to generate income by taking advantage of arbitrage opportunities that potentially exists between cash and derivative market and within the derivative segment of the equity market along with investments in debt securities & money market instruments. There is no assurance that the investment objective of the Scheme will be achieved. | N10: The investment objective of the scheme is to provide capital appreciation/ income to the investors from a dynamic mix of equity, debt and money market instruments. The Scheme seeks to reduce the volatility by diversifying the assets across equity, debt and money market instruments. There is no assurance that the investment objective of the Scheme will be achieved. | T10: The investment objective of the Scheme is to generate regular income by investing mainly in a portfolio of quality debt securities and money market instruments. It also seeks to generate capital appreciation by investing some percentage in a mix of equity instruments. There is no assurance that the investment objective of the Scheme will be achieved. | Z10: The investment objective of the Scheme is to generate regular income by investing in Debt and money market instruments and using arbitrage and other derivative strategies. The Scheme also intends to generate long capital appreciation through unhedged exposure to equity and equity related instruments. There is no assurance that the investment objective of the Scheme will be achieved.
A12: Fund Manager | B12: Mr. Karan Doshi (Equity - managing since 06/09/21) / Mr. Sumit Bhatnagar (Equity - managing since 01/07/24) & Mr. Pratik Harish Shroff (Debt - managing since 26/09/23) | H12: Mr. Sumit Bhatnagar (Equity - managing since 03/10/2023) & Mr. Pratik Harish Shroff (Debt - managing since 26/09/23) | N12: Mr. Jaiprakash Toshniwal (Equity - managing since 06/06/22) / Mr. Yogesh Patil (Equity - managing since 12/11/21) & Mr. Rahul Singh (Debt - managing since 12/11/21) | T12: Mr. Pratik Harish Shroff (Debt - managing since 26/09/23) & Mr. Nikhil Rungta (Equity - managing since 01/07/24) | Z12: Mr. Sumit Bhatnagar (Equity - managing since 3/10/23) & Mr. Pratik Harish Shroff (Debt - managing since 26/09/23)
A14: Annual Portfolio Turnover Ratio (in times) | B14: 0.548542 | H14: 2.870851 | N14: 0.485241 | T14: 0.015305 | Z14: 0.662074
A16: Total Expense Ratio
B17: Regular | E17: Direct | H17: Regular | K17: Direct | N17: Regular | Q17: Direct | T17: Regular | W17: Direct | Z17: Regular | AC17: Direct
A18: Base TER (%)@ | B18: 2.22 | E18: 1.16 | H18: 0.99 | K18: 0.34 | N18: 2.14 | Q18: 0.64 | T18: 2 | W18: 1.02 | Z18: 1.85 | AC18: 0.85
A19: Additional expense as per Regulation 52(6A)(b) (%)# | B19: 0 | E19: 0 | H19: 0 | K19: 0 | N19: 0 | Q19: 0 | T19: 0 | W19: 0 | Z19: 0 | AC19: 0
A20: Additional expense as per Regulation 52(6A)(c) (%)$ | B20: 0.05 | E20: 0.05 | H20: 0 | K20: 0 | N20: 0.05 | Q20: 0.05 | T20: 0.05 | W20: 0.05 | Z20: 0.05 | AC20: 0.05
A21: GST (%)^ | B21: 0.19 | E21: 0.19 | H21: 0 | K21: 0 | N21: 0.09 | Q21: 0.09 | T21: 0.2 | W21: 0.15 | Z21: 0.14 | AC21: 0.13
A22: Total TER (%) | B22: =SUM(B18:D21) -> 2.46 | E22: =SUM(E18:G21) -> 1.4 | H22: =SUM(H18:J21) -> 0.99 | K22: =SUM(K18:M21) -> 0.34 | N22: =SUM(N18:P21) -> 2.28 | Q22: =SUM(Q18:S21) -> 0.78 | T22: =SUM(T18:V21) -> 2.25 | W22: =SUM(W18:Y21) -> 1.22 | Z22: =SUM(Z18:AB21) -> 2.04 | AC22: =SUM(AC18:AE21) -> 1.03
A24: Portfolio (Top 10 Holdings) | B24: Name of the issuer | E24: % of Net Assets | H24: Name of the issuer | K24: % of Net Assets | N24: Name of the issuer | Q24: % of Net Assets | T24: Name of the issuer | W24: % of Net Assets | Z24: Name of the issuer | AC24: % of Net Assets
B25: Government Bond | E25: 7.5635 | H25: LIC Mutual Fund | K25: 24.7198 | N25: HDFC Bank Ltd. | Q25: 13.3226 | T25: Government Bond | W25: 53.8221 | Z25: LIC Mutual Fund | AC25: 10.765
B26: State Government Bond | E26: 7.4411 | H26: Reliance Industries Ltd. | K26: 5.2968 | N26: Government Bond | Q26: 11.22 | T26: State Government Bond | W26: 22.8547 | Z26: Tata Consultancy Services Ltd. | AC26: 4.1123
B27: HDFC Bank Ltd. | E27: 5.8556 | H27: Bharat Heavy Electricals Ltd. | K27: 3.4986 | N27: Jamnagar Utilities & Power Pvt. Ltd. | Q27: 6.3308 | T27: ICICI Bank Ltd. | W27: 6.0593 | Z27: Tata Steel Ltd. | AC27: 3.6287
B28: ICICI Bank Ltd. | E28: 4.6617 | H28: Bharat Electronics Ltd. | K28: 3.1499 | N28: Infosys Ltd. | Q28: 5.0257 | T28: Infosys Ltd. | W28: 3.7315 | Z28: Bank of Baroda | AC28: 3.6223
B29: Reliance Industries Ltd. | E29: 3.4477 | H29: GMR Airports Infrastructure Ltd. | K29: 2.8992 | N29: ICICI Bank Ltd. | Q29: 4.9752 | T29: HDFC Bank Ltd. | W29: 3.3524 | Z29: Infosys Ltd. | AC29: 3.1216
B30: Infosys Ltd. | E30: 3.2516 | H30: HDFC Asset Management Company Ltd. | K30: 2.627 | N30: Reliance Industries Ltd. | Q30: 4.3179 | T30: Hindustan Unilever Ltd. | W30: 2.1527 | Z30: Hindustan Unilever Ltd. | AC30: 2.9942
B31: Larsen & Toubro Ltd. | E31: 2.9553 | H31: DLF Ltd. | K31: 2.5911 | N31: Tata Consultancy Services Ltd. | Q31: 4.1558 | T31: Mahindra & Mahindra Ltd. | W31: 1.8123 | Z31: Ultratech Cement Ltd. | AC31: 2.7302
B32: Piramal Pharma Ltd. | E32: 2.6098 | H32: Shriram Finance Ltd. | K32: 2.5307 | N32: Mahindra & Mahindra Ltd. | Q32: 3.2344 | T32: Nestle India Ltd. | W32: 1.7267 | Z32: National Aluminium Company Ltd. | AC32: 2.5239
B33: Trent Ltd. | E33: 2.6051 | H33: Tata Power Company Ltd. | K33: 2.3046 | N33: ITC Ltd. | Q33: 3.1331 | T33: Reliance Industries Ltd. | W33: 1.2387 | Z33: HDFC Bank Ltd. | AC33: 2.3125
B34: Sansera Engineering Ltd. | E34: 2.3004 | H34: State Bank of India | K34: 2.2969 | N34: State Bank of India | Q34: 2.7505 | T34: SBI Funds Management Ltd. | W34: 0.3267 | Z34: Ashok Leyland Ltd. | AC34: 2.0545
B37: Grand Total | E37: =SUM(E25:G36) -> 42.6918 | H37: Grand Total | K37: =SUM(K25:M36) -> 51.9146 | N37: Grand Total | Q37: =SUM(Q25:S36) -> 58.466 | T37: Grand Total | W37: =SUM(W25:Y36) -> 97.0771 | Z37: Grand Total | AC37: =SUM(AC25:AE36) -> 37.8652
A39: Asset Allocation | B39: Asset Allocation | E39: % of Net Assets | H39: Asset Allocation | K39: % of Net Assets | N39: Asset Allocation | Q39: % of Net Assets | T39: Asset Allocation | W39: % of Net Assets | Z39: Asset Allocation | AC39: % of Net Assets
B40: Equity Holdings | E40: 76.872776 | H40: Cash & Other Receivables | I40: 0.73662666 | J40: Cash & Other Receivables | K40: 73.348799 | N40: Equity Holdings | Q40: 74.149383 | T40: GOVERNMENT BOND AND TREASURY BILL | W40: 76.67713 | Z40: Equity Holdings | AC40: 70.663357
B41: GOVERNMENT BOND AND TREASURY BILL | E41: 15.005273 | H41: Equity Holdings | I41: 0.67773942 | J41: Equity Holdings | K41: 70.886983 | N41: Cash & Other Receivables | Q41: 26.497313 | T41: Equity Holdings | W41: 20.074003 | Z41: Cash & Other Receivables | AC41: 49.935744
B42: CORPORATE DEBT | E42: 6.8009988 | H42: Mutual Fund Units | I42: 0.26648179 | J42: Mutual Fund Units | K42: 24.719869 | N42: GOVERNMENT BOND AND TREASURY BILL | Q42: 12.684465 | T42: Cash & Other Receivables | W42: 2.8717658 | Z42: Mutual Fund Units | AC42: 10.76502
B43: Cash & Other Receivables | E43: 1.3209531 | H43: CORPORATE DEBT | K43: 2.5307838 | N43: CORPORATE DEBT | Q43: 9.642366 | T43: Mutual Fund Units | W43: 0.32675684 | Z43: CORPORATE DEBT | AC43: 0.17550358
H44: FUTURES AND OPTIONS | K44: -71.486435 | N44: FUTURES AND OPTIONS | Q44: -22.973526 | T44: CORPORATE DEBT | W44: 0.050344833 | Z44: FUTURES AND OPTIONS | AC44: -31.539625
T45: Grand Total | W45: =SUM(W40:Y44) -> 100
B46: Grand Total | E46: =SUM(E40:G44) -> 100 | H46: Grand Total | K46: =SUM(K40:M44) -> 100 | N46: Grand Total | Q46: =SUM(Q40:S45) -> 100 | Z46: Grand Total | AC46: =SUM(AC40:AE44) -> 100
A48: Sectoral Allocation | B48: Sector/Industry | E48: % of Net Assets | H48: Sector/Industry | K48: % of Net Assets | N48: Sector/Industry | Q48: % of Net Assets | T48: Sector/Industry | W48: % of Net Assets | Z48: Sector/Industry | AC48: % of Net Assets
B49: Government of India | E49: 15.0046 | H49: Mutual Fund Units | K49: 24.7198 | N49: Banks | Q49: 26.7059 | T49: Government of India | W49: 76.6768 | Z49: Banks | AC49: 12.2702
B50: Banks | E50: 14.6237 | H50: Banks | K50: 15.0218 | N50: Government of India | Q50: 12.6843 | T50: Banks | W50: 9.4117 | Z50: Mutual Fund Units | AC50: 10.765
B51: IT - Software | E51: 7.8164 | H51: Capital Markets | K51: 5.8979 | N51: IT - Software | Q51: 11.567 | T51: IT - Software | W51: 3.7315 | Z51: IT - Software | AC51: 7.9586
...

Sheet Solution Oriented
A1: Dashboard as on 31/10/2024
A2: Scheme Name | B2: LIC MF Children’s Fund (ERSTWHILE LIC MF Children's Gift Fund)
A3: SEBI Code | B3: LICM/O/S/CHI/01/09/0008
A4: Date of Allotment - Regular | B4: 12.11.2001
A5: Date of Allotment - Direct | B5: 01.01.2013
A7: AUM (in Rs. crore) | B7: 16.4
A10: Investment Objective | B10: The primary investment objective of the scheme is to seek to generate capital appreciation & provide long-term growth opportunities by investing in a portfolio constituted of equity securities & equity related securities and the secondary objective is to generate consistent returns by investing in debt and money market securities. There is no assurance that the investment objective of the Scheme will be achieved.
A12: Fund Manager | B12: Mr. Nikhil Rungta (Equity - managing since 01/07/24) & Mr. Pratik Harish Shroff (Debt - managing since 26/09/23)
A14: Annual Portfolio Turnover Ratio (in times) | B14: 0.72043
A16: Total Expense Ratio
B17: Regular | E17: Direct
A18: Base TER (%)@ | B18: 2.25 | E18: 1.5
A19: Additional expense as per Regulation 52(6A)(b) (%)# | B19: 0 | E19: 0
A20: Additional expense as per Regulation 52(6A)(c) (%)$ | B20: 0 | E20: 0
A21: GST (%)^ | B21: 0.2 | E21: 0.18
A22: Total TER (%) | B22: =SUM(B18:D21) -> 2.45 | E22: =SUM(E18:G21) -> 1.68
A24: Portfolio (Top 10 Holdings) | B24: Name of the issuer | E24: % of Net Assets
B25: Government Bond | E25: 9.5275
B26: HDFC Bank Ltd. | E26: 8.9941
B27: ICICI Bank Ltd. | E27: 5.55
B28: Trent Ltd. | E28: 3.9197
B29: State Bank of India | E29: 3.8226
B30: Infosys Ltd. | E30: 3.4302
B31: Tata Power Company Ltd. | E31: 3.1019
B32: Reliance Industries Ltd. | E32: 3.0565
B33: Larsen & Toubro Ltd. | E33: 2.4754
B34: Arvind Fashions Ltd. | E34: 2.3854
B37: Grand Total | E37: =SUM(E25:G36) -> 46.2633
A39: Asset Allocation | B39: Asset Allocation | E39: % of Net Assets
B40: Equity Holdings | C40: 0.86359581 | D40: Equity Holdings | E40: 88.075704
B41: GOVERNMENT BOND AND TREASURY BILL | C41: 0.11435791 | D41: GOVERNMENT BOND AND TREASURY BILL | E41: 9.5275888
B42: Cash & Other Receivables | C42: 0.022046278 | D42: Cash & Other Receivables | E42: 2.396707
B46: Grand Total | E46: =SUM(E40:G44) -> 100
A48: Sectoral Allocation | B48: Sector/Industry | E48: % of Net Assets
B49: Banks | E49: 18.3667
B50: Government of India | E50: 9.5275
B51: IT - Software | E51: 7.415
B52: Retailing | E52: 6.5933
B53: Petroleum Products | E53: 4.3589
B54: Automobiles | E54: 4.0116
...

Sheet Others
A1: Dashboard as on 31/10/2024
A2: Scheme Name | B2: LIC MF Nifty 50 ETF~ | H2: LIC MF BSE Sensex ETF~ (ERSTWHILE LIC MF S & P BSE Sensex ETF) | N2: LIC MF Nifty 100 ETF~ | T2: LIC MF Nifty 50 Index Fund~ | Z2: LIC MF BSE Sensex Index Fund~ (ERSTWHILE LIC MF S & P BSE Sensex Index Fund) | AF2: LIC MF Nifty Next 50 Index Fund~ (ERSTWHILE IDBI Nifty Next 50 Index Fund) | AL2: LIC MF Nifty 8-13 yr G-Sec Exchange Traded Fund~ | AR2: LIC MF Nifty Midcap 100 ETF~
A3: SEBI Code | B3: LICM/O/O/EET/15/10/0018 | H3: LICM/O/O/EET/15/10/0019 | N3: LICM/O/O/EET/15/12/0020 | T3: LICM/O/O/EIN/02/10/0010 | Z3: LICM/O/O/EIN/02/10/0011 | AF3: LICM/O/E/EIN/10/07/0003 | AL3: LICM/O/O/DET/14/11/0015 | AR3: LICM/O/O/EET/24/01/0028
A4: NSE Symbol | B4: LICNETFN50 | H4: LICNETFSEN | N4: LICNFNHGP | T4: Not Applicable | Z4: Not Applicable | AF4: Not Applicable | AL4: LICNETFGSC | AR4: LICNMID100
A5: BSE Scrip Code | B5: 539480 | H5: 539487 | N5: 539784 | T5: Not Applicable | Z5: Not Applicable | AF5: Not Applicable | AL5: Not Applicable | AR5: 544123
A6: Listing Details | B6: Listed on NSE and BSE | H6: Listed on NSE and BSE | N6: Listed on NSE and BSE | T6: - | Z6: - | AF6: - | AL6: Listed on NSE | AR6: Listed on NSE and BSE
A7: Date of Allotment - Regular | B7: 20.11.2015 | H7: 30.11.2015 | N7: 17.03.2016 | T7: 05.12.2002 | Z7: 05.12.2002 | AF7: 20.09.2010 | AL7: 24.12.2014 | AR7: 14.02.2024
A8: Date of Allotment - Direct | B8: NA | H8: NA | N8: NA | T8: 01.01.2013 | Z8: 01.01.2013 | AF8: 01.01.2013 | AL8: NA | AR8: NA
A10: AUM (in Rs. crore) | B10: 834.29 | H10: 829.07 | N10: 720.4 | T10: 318.97 | Z10: 82.82 | AF10: 94.37 | AL10: 2421.9 | AR10: 692.99
