Workbook

Sheet Equity
A1: Dashboard as on 31/12/2023
A2: Scheme Name | B2: LIC MF Flexi Cap Fund | H2: LIC MF Large Cap Fund | N2: LIC MF Large & Mid Cap Fund | T2: LIC MF Banking and Financial Services Fund | Z2: LIC MF Infrastructure Fund | AF2: LIC MF ELSS Tax Saver (ERSTWHILE LIC MF ELSS) | AL2: LIC MF Multi Cap Fund | AR2: LIC MF Dividend Yield Fund (ERSTWHILE IDBI DIVIDEND YIELD FUND) | AX2: LIC MF Focused 30 Equity Fund (ERSTWHILE IDBI FOCUSED 30 EQUITY FUND) | BD2: LIC MF Mid cap Fund (ERSTWHILE IDBI MIDCAP FUND) | BJ2: LIC MF Healthcare Fund (ERSTWHILE IDBI HEALTHCARE FUND) | BP2: LIC MF Small Cap Fund (ERSTWHILE IDBI SMALL CAP FUND) | BV2: LIC MF Long Term Value Fund (ERSTWHILE IDBI LONG TERM VALUE FUND)
A4: Date of Allotment - Regular | B4: 15.04.1993 | H4: 01.09.1994 | N4: 25.02.2015 | T4: 27.03.2015 | Z4: 24.03.2008 | AF4: 31.03.1997 | AL4: 31.10.2022 | AR4: 21.12.2018 | AX4: 17.11.2017 | BD4: 25.01.2017 | BJ4: 28.02.2019 | BP4: 21.06.2017 | BV4: 20.08.2018
A5: Date of Allotment - Direct | B5: 01.01.2013 | H5: 01.01.2013 | N5: 25.02.2015 | T5: 27.03.2015 | Z5: 01.01.2013 | AF5: 01.01.2013 | AL5: 31.10.2022 | AR5: 21.12.2018 | AX5: 17.11.2017 | BD5: 25.01.2017 | BJ5: 28.02.2019 | BP5: 21.06.2017 | BV5: 20.08.2018
A7: AUM (in Rs. crore) | B7: 938.15 | H7: 1379.66 | N7: 2471.88 | T7: 308.02 | Z7: 157.39 | AF7: 1021.2 | AL7: 811.91 | AR7: 103.88 | AX7: 133.31 | BD7: 236.04 | BJ7: 54.86 | BP7: 193.61 | BV7: 102.72
A10: Investment Objective | B10: The main investment objective of the scheme is to provide capital growth by investing across Large, Mid & Small Cap stocks. The investment portfolio of the scheme will be constantly monitored and reviewed to optimise capital growth. However, there is no assurance that the investment objective of the Schemes will be realized. | H10: To achieve long term capital appreciation by investing in diversified portfolio predominantly consisting of equity and equity related securities of Large Cap companies including derivatives. However thee can be no assurance that the investment objective of the scheme will be achieved. | N10: To generate long term capital appreciation by investing substantially in a portfolio of equity and equity linked instruments of large cap and midcap companies. | T10: The investment objective of the scheme is to generate long-term capital appreciation for unit holders from a portfolio that in invested substantially in equity and equity related securities of companies engaged in banking and financial services sector. However there can be no assurance that the investment objective of the scheme will be achieved. | Z10: The investment objective of the scheme is to generate long-term growth from a portfolio of equity / equity related instruments of companies engaged either directly or indirectly in the infrastructure sector. However, there is no assurance that the investment objective of the Schemes will be realized. | AF10: To provide capital growth along with tax rebate and tax relief to our investors through prudent investments in the stock markets. An open ended equity linked tax saving Scheme which offers investors the opportunity to seek Tax rebate u/s 80C of the Income Tax Act 1961. However, there is no assurance that the investment objective of the Schemes will be realized. | AL10: The investment objective of the scheme is to generate long term capital appreciation by investing in a diversified portfolio of equity & equity related instruments across large cap, mid cap and small cap stocks. However, there is no assurance that the investment objective of the Scheme will be realized. | AR10: The Investment objective of the Scheme is to provide long term capital appreciation and/or Income Distribution cum capital withdrawal (IDCW) distribution by investing predominantly in dividend yielding equity and equity related instruments. However there can be no assurance that the investment objective under the scheme will be realized. | AX10: The investment objective of the Scheme is to provide long term capital appreciation by investing in concentrated portfolio of large cap focused equity and equity related instruments of up to 30 companies and balance in debt and money market instruments. However there can be no assurance that the investment objective of the Scheme will be realized. | BD10: The objective of the scheme is to provide investors with the opportunities for long-term capital appreciation by investing predominantly in Equity and Equity related instruments of Midcap Companies. However, there can be no assurance that the investment objective under the scheme will be realized. | BJ10: The objective of the Scheme is to achieve long term capital appreciation by predominantly investing in equity and equity related instruments of companies engaged in Healthcare and Allied sectors. However there can be no assurance that the investment objective under the Scheme will be realized. | BP10: The Investment objective of the scheme is to provide investors with the opportunities for long-term capital appreciation by investing predominantly in Equity and Equity related instruments of Small Cap Companies. However, there can be no assurance that the investment objective under the Scheme will be realized. | BV10: The Investment Objective of the Scheme is to generate long-term capital appreciation along with regular income by investing predominantly in equity and equity related instruments by following value investing strategy. However, there can be no assurance that the investment objective of the Scheme will be realized.
A12: Fund Manager | B12: Mr. Jaiprakash Toshniwal (managing since 31/07/23) | H12: Mr. Yogesh Patil (managing since 18/09/20) & Mr. Sumit Bhatnagar (Co- fund manager, managing since 03/10/23) | N12: Mr. Yogesh Patil (managing since 18/09/20) & Mr. Dikshit Mittal (Co Fund Manager, managing since 01/06/23) | T12: Mr. Jaiprakash Toshniwal (managing since 06/09/21) | Z12: Mr. Yogesh Patil (managing since 18/09/20) | AF12: Mr. Dikshit Mittal (managing since 31/07/23) / Mr. Karan Doshi (Co Fund Manager, managing since 31/07/23) | AL12: Mr. Yogesh Patil (managing since 31/10/22) & Mr. Dikshit Mittal (Co Fund Manager, managing since 01/12/22 ) | AR12: Mr.Dikshit Mittal (managing since 31/07/23) | AX12: Mr. Jaiprakash Toshniwal (managing since 31/07/23) | BD12: Mr. Karan Doshi (managing since 31/07/23) | BJ12: Mr. Karan Doshi (managing since 31/07/23) | BP12: Mr. Yogesh Patil (managing since 31/07/23) & Mr. Dikhshit Mittal (managing since 31/07/23) | BV12: Mr. Karan Doshi (managing since 31/07/23) & Mr. Jaiprakash Toshniwal (managing since 31/07/23)
A14: Annual Portfolio Turnover Ratio (in times) | B14: 1.4143874 | H14: 0.72691387 | N14: 0.9802401 | T14: 0.50581381 | Z14: 0.63118274 | AF14: 0.45745864 | AL14: 0.54273999 | AR14: 0.22628399 | AX14: 0.94121848 | BD14: 0.36845873 | BJ14: 0.23201257 | BP14: 0.59543672 | BV14: 0.2082658
A16: Total Expense Ratio (Weighted Average for the month) Excluding Goods and Service Tax on Management Fees
B17: Regular | E17: Direct | H17: Regular | K17: Direct | N17: Regular | Q17: Direct | T17: Regular | W17: Direct | Z17: Regular | AC17: Direct | AF17: Regular | AI17: Direct | AL17: Regular | AO17: Direct | AR17: Regular | AU17: Direct | AX17: Regular | BA17: Direct | BD17: Regular | BG17: Direct | BJ17: Regular | BM17: Direct | BP17: Regular | BS17: Direct | BV17: Regular | BY17: Direct
A18: Base TER (%)@ | B18: 2.08 | E18: 1.31 | H18: 1.98 | K18: 0.93 | N18: 1.85 | Q18: 0.64 | T18: 2.25 | W18: 0.95 | Z18: 2.25 | AC18: 1.23 | AF18: 2.06 | AI18: 1.06 | AL18: 2.13 | AO18: 0.48 | AR18: 2.24 | AU18: 1.2 | AX18: 2.24 | BA18: 1.3 | BD18: 2.23 | BG18: 1.31 | BJ18: 2.24 | BM18: 1.01 | BP18: 2.24 | BS18: 1.27 | BV18: 2.24 | BY18: 1.34
A19: Additional expense as per Regulation 52(6A)(b) (%)# | B19: 0 | E19: 0 | H19: 0 | K19: 0 | N19: 0 | Q19: 0 | T19: 0 | W19: 0 | Z19: 0 | AC19: 0 | AF19: 0 | AI19: 0 | AL19: 0 | AO19: 0 | AR19: 0 | AU19: 0 | AX19: 0 | BA19: 0 | BD19: 0 | BG19: 0 | BJ19: 0 | BM19: 0 | BP19: 0 | BS19: 0 | BV19: 0 | BY19: 0
A20: Additional expense as per Regulation 52(6A)(c) (%)$ | B20: 0.05 | E20: 0.05 | H20: 0.05 | K20: 0.05 | N20: 0.05 | Q20: 0.05 | T20: 0.05 | W20: 0.05 | Z20: 0.05 | AC20: 0.05 | AF20: 0 | AI20: 0 | AL20: 0.05 | AO20: 0.05 | AR20: 0.05 | AU20: 0.05 | AX20: 0.05 | BA20: 0.05 | BD20: 0.05 | BG20: 0.05 | BJ20: 0.05 | BM20: 0.05 | BP20: 0.05 | BS20: 0.05 | BV20: 0.05 | BY20: 0.05
A21: GST (%)^ | B21: 0.21 | E21: 0.2 | H21: 0.14 | K21: 0.13 | N21: 0.08 | Q21: 0.08 | T21: 0.21 | W21: 0.2 | Z21: 0.22 | AC21: 0.21 | AF21: 0.16 | AI21: 0.16 | AL21: 0.07 | AO21: 0.07 | AR21: 0.2 | AU21: 0.19 | AX21: 0.22 | BA21: 0.21 | BD21: 0.22 | BG21: 0.21 | BJ21: 0.15 | BM21: 0.15 | BP21: 0.21 | BS21: 0.21 | BV21: 0.22 | BY21: 0.21
A22: Total TER (%) | B22: =SUM(B18:D21) -> 2.34 | E22: =SUM(E18:G21) -> 1.56 | H22: =SUM(H18:J21) -> 2.17 | K22: =SUM(K18:M21) -> 1.11 | N22: =SUM(N18:P21) -> 1.98 | Q22: =SUM(Q18:S21) -> 0.77 | T22: =SUM(T18:V21) -> 2.51 | W22: =SUM(W18:Y21) -> 1.2 | Z22: =SUM(Z18:AB21) -> 2.52 | AC22: =SUM(AC18:AE21) -> 1.49 | AF22: =SUM(AF18:AH21) -> 2.22 | AI22: =SUM(AI18:AK21) -> 1.22 | AL22: =SUM(AL18:AN21) -> 2.25 | AO22: =SUM(AO18:AQ21) -> 0.6 | AR22: =SUM(AR18:AT21) -> 2.49 | AU22: =SUM(AU18:AW21) -> 1.44 | AX22: =SUM(AX18:AZ21) -> 2.51 | BA22: =SUM(BA18:BC21) -> 1.56 | BD22: =SUM(BD18:BF21) -> 2.5 | BG22: =SUM(BG18:BI21) -> 1.57 | BJ22: =SUM(BJ18:BL21) -> 2.44 | BM22: =SUM(BM18:BO21) -> 1.21 | BP22: =SUM(BP18:BR21) -> 2.5 | BS22: =SUM(BS18:BU21) -> 1.53 | BV22: =SUM(BV18:BX21) -> 2.51 | BY22: =SUM(BY18:CA21) -> 1.6
A24: Portfolio (Top 10 Holdings) | B24: Name of the issuer | E24: % of Scheme | H24: Name of the issuer | K24: % of Scheme | N24: Name of the issuer | Q24: % of Scheme | T24: Name of the issuer | W24: % of Scheme | Z24: Name of the issuer | AC24: % of Scheme | AF24: Name of the issuer | AI24: % of Scheme | AL24: Name of the issuer | AO24: % of Scheme | AR24: Name of the issuer | AU24: % of Scheme | AX24: Name of the issuer | BA24: % of Scheme | BD24: Name of the issuer | BG24: % of Scheme | BJ24: Name of the issuer | BM24: % of Scheme | BP24: Name of the issuer | BS24: % of Scheme | BV24: Name of the issuer | BY24: % of Scheme
B25: HDFC Bank Ltd. | E25: 8.9257 | H25: HDFC Bank Ltd. | I25: HDFC Bank Ltd. | J25: HDFC Bank Ltd. | K25: 9.9593 | N25: HDFC Bank Ltd. | O25: HDFC Bank Ltd. | P25: HDFC Bank Ltd. | Q25: 5.8843 | T25: HDFC Bank Ltd. | U25: HDFC Bank Ltd. | V25: HDFC Bank Ltd. | W25: 24.2038 | Z25: Bharat Bijlee Ltd. | AA25: Transport Corporation Of India Ltd. | AB25: Transport Corporation Of India Ltd. | AC25: 4.828 | AF25: HDFC Bank Ltd. | AG25: HDFC Bank Ltd. | AH25: HDFC Bank Ltd. | AI25: 7.7486 | AL25: HDFC Bank Ltd. | AM25: HDFC Bank Ltd. | AN25: HDFC Bank Ltd. | AO25: 4.4398 | AR25: Infosys Ltd. | AS25: Infosys Ltd. | AT25: Infosys Ltd. | AU25: 6.8277 | AX25: HDFC Bank Ltd. | AY25: HDFC Bank Ltd. | AZ25: HDFC Bank Ltd. | BA25: 9.3758 | BD25: UNO Minda Ltd. | BE25: UNO Minda Ltd. | BF25: UNO Minda Ltd. | BG25: 4.2551 | BJ25: Sun Pharmaceutical Industries Ltd. | BK25: Sun Pharmaceutical Industries Ltd. | BL25: Sun Pharmaceutical Industries Ltd. | BM25: 14.3271 | BP25: Garware Hi-Tech Films Ltd. | BQ25: Garware Hi-Tech Films Ltd. | BR25: Garware Hi-Tech Films Ltd. | BS25: 4.4712 | BV25: State Bank of India | BW25: HDFC Bank Ltd. | BX25: HDFC Bank Ltd. | BY25: 8.215
B26: ICICI Bank Ltd. | E26: 7.8078 | H26: ICICI Bank Ltd. | I26: ICICI Bank Ltd. | J26: ICICI Bank Ltd. | K26: 8.9492 | N26: ICICI Bank Ltd. | O26: ICICI Bank Ltd. | P26: ICICI Bank Ltd. | Q26: 5.0221 | T26: ICICI Bank Ltd. | U26: ICICI Bank Ltd. | V26: ICICI Bank Ltd. | W26: 15.4522 | Z26: Transport Corporation Of India Ltd. | AA26: Kennametal India Ltd. | AB26: Kennametal India Ltd. | AC26: 4.7889 | AF26: ICICI Bank Ltd. | AG26: ICICI Bank Ltd. | AH26: ICICI Bank Ltd. | AI26: 7.4254 | AL26: Power Finance Corporation Ltd. | AM26: Power Finance Corporation Ltd. | AN26: Power Finance Corporation Ltd. | AO26: 3.7695 | AR26: NTPC Ltd. | AS26: NTPC Ltd. | AT26: NTPC Ltd. | AU26: 5.1454 | AX26: Hindustan Unilever Ltd. | AY26: ICICI Bank Ltd. | AZ26: ICICI Bank Ltd. | BA26: 6.0923 | BD26: Trent Ltd. | BE26: Trent Ltd. | BF26: Trent Ltd. | BG26: 3.8019 | BJ26: Dr. Reddy's Laboratories Ltd. | BK26: Apollo Hospitals Enterprise Ltd. | BL26: Apollo Hospitals Enterprise Ltd. | BM26: 7.7695 | BP26: KEI Industries Ltd. | BQ26: BSE Ltd. | BR26: BSE Ltd. | BS26: 3.5313 | BV26: HDFC Bank Ltd. | BW26: State Bank of India | BX26: State Bank of India | BY26: 7.8648
B27: State Bank of India | E27: 5.6302 | H27: Reliance Industries Ltd. | I27: Reliance Industries Ltd. | J27: Reliance Industries Ltd. | K27: 6.0297 | N27: REC Ltd. | O27: REC Ltd. | P27: REC Ltd. | Q27: 3.2819 | T27: State Bank of India | U27: State Bank of India | V27: State Bank of India | W27: 9.6448 | Z27: Kennametal India Ltd. | AA27: KSB Ltd. | AB27: KSB Ltd. | AC27: 4.3972 | AF27: Axis Bank Ltd. | AG27: Axis Bank Ltd. | AH27: Axis Bank Ltd. | AI27: 3.953 | AL27: ICICI Bank Ltd. | AM27: ICICI Bank Ltd. | AN27: ICICI Bank Ltd. | AO27: 3.7474 | AR27: ICICI Bank Ltd. | AS27: ICICI Bank Ltd. | AT27: ICICI Bank Ltd. | AU27: 4.9851 | AX27: State Bank of India | AY27: Avenue Supermarts Ltd. | AZ27: Avenue Supermarts Ltd. | BA27: 5.9874 | BD27: ICICI Bank Ltd. | BE27: ICICI Bank Ltd. | BF27: ICICI Bank Ltd. | BG27: 3.1531 | BJ27: Apollo Hospitals Enterprise Ltd. | BK27: Dr. Reddy's Laboratories Ltd. | BL27: Dr. Reddy's Laboratories Ltd. | BM27: 7.6417 | BP27: Kennametal India Ltd. | BQ27: Kennametal India Ltd. | BR27: Kennametal India Ltd. | BS27: 3.4825 | BV27: ICICI Bank Ltd. | BW27: ICICI Bank Ltd. | BX27: ICICI Bank Ltd. | BY27: 6.1838
B28: Hindustan Unilever Ltd. | E28: 4.6054 | H28: State Bank of India | I28: State Bank of India | J28: State Bank of India | K28: 4.9633 | N28: Power Finance Corporation Ltd. | O28: Infosys Ltd. | P28: Infosys Ltd. | Q28: 2.8268 | T28: Axis Bank Ltd. | U28: Axis Bank Ltd. | V28: Axis Bank Ltd. | W28: 7.3055 | Z28: REC Ltd. | AA28: REC Ltd. | AB28: REC Ltd. | AC28: 4.3444 | AF28: State Bank of India | AG28: Infosys Ltd. | AH28: Infosys Ltd. | AI28: 3.3072 | AL28: State Bank of India | AM28: State Bank of India | AN28: State Bank of India | AO28: 2.3875 | AR28: Tata Consultancy Services Ltd. | AS28: Tata Consultancy Services Ltd. | AT28: Tata Consultancy Services Ltd. | AU28: 4.6024 | AX28: ICICI Bank Ltd. | AY28: The Federal Bank Ltd. | AZ28: The Federal Bank Ltd. | BA28: 5.9313 | BD28: Bharat Electronics Ltd. | BE28: Coforge Ltd. | BF28: Coforge Ltd. | BG28: 3.0694 | BJ28: JB Chemicals & Pharmaceuticals Ltd. | BK28: JB Chemicals & Pharmaceuticals Ltd. | BL28: JB Chemicals & Pharmaceuticals Ltd. | BM28: 6.9401 | BP28: BSE Ltd. | BQ28: Grindwell Norton Ltd. | BR28: Grindwell Norton Ltd. | BS28: 3.4489 | BV28: Reliance Industries Ltd. | BW28: Reliance Industries Ltd. | BX28: Reliance Industries Ltd. | BY28: 5.5743
B29: Bajaj Finance Ltd. | E29: 3.3447 | H29: Larsen & Toubro Ltd. | I29: Infosys Ltd. | J29: Infosys Ltd. | K29: 4.4075 | N29: Reliance Industries Ltd. | O29: Power Finance Corporation Ltd. | P29: Power Finance Corporation Ltd. | Q29: 2.2517 | T29: The Federal Bank Ltd. | U29: The Federal Bank Ltd. | V29: The Federal Bank Ltd. | W29: 5.2568 | Z29: Ultratech Cement Ltd. | AA29: Ultratech Cement Ltd. | AB29: Ultratech Cement Ltd. | AC29: 4.1967 | AF29: Infosys Ltd. | AG29: State Bank of India | AH29: State Bank of India | AI29: 3.1332 | AL29: Reliance Industries Ltd. | AO29: 2.0262 | AR29: Power Grid Corporation of India Ltd. | AS29: Power Grid Corporation of India Ltd. | AT29: Power Grid Corporation of India Ltd. | AU29: 4.1376 | AX29: Tech Mahindra Ltd. | AY29: Hindustan Unilever Ltd. | AZ29: Hindustan Unilever Ltd. | BA29: 5.3044 | BD29: Coforge Ltd. | BE29: P I INDUSTRIES LIMITED | BF29: P I INDUSTRIES LIMITED | BG29: 3.0369 | BJ29: Piramal Pharma Ltd. | BK29: Piramal Pharma Ltd. | BL29: Piramal Pharma Ltd. | BM29: 6.3742 | BP29: Kirloskar Oil Engines Ltd. | BQ29: KEI Industries Ltd. | BR29: KEI Industries Ltd. | BS29: 3.0146 | BV29: Infosys Ltd. | BW29: VARUN BEVERAGES LIMITED | BX29: VARUN BEVERAGES LIMITED | BY29: 4.5894
B30: The Federal Bank Ltd. | E30: 2.9134 | H30: ITC Ltd. | I30: ITC Ltd. | J30: ITC Ltd. | K30: 4.1836 | N30: Infosys Ltd. | O30: Shriram Finance Ltd. | P30: Shriram Finance Ltd. | Q30: 2.2511 | T30: Creditaccess Grameen Ltd. | U30: Creditaccess Grameen Ltd. | V30: Creditaccess Grameen Ltd. | W30: 3.764 | Z30: KSB Ltd. | AA30: TD Power Systems Ltd. | AB30: TD Power Systems Ltd. | AC30: 3.9453 | AF30: Cholamandalam Investment & Fin Co Ltd. | AG30: Cholamandalam Investment & Fin Co Ltd. | AH30: Cholamandalam Investment & Fin Co Ltd. | AI30: 3.057 | AL30: Grasim Industries Ltd. | AO30: 1.9302 | AR30: Bharat Electronics Ltd. | AS30: Bharat Electronics Ltd. | AT30: Bharat Electronics Ltd. | AU30: 4.0454 | AX30: ITC Ltd. | AY30: State Bank of India | AZ30: State Bank of India | BA30: 5.2379 | BD30: The Federal Bank Ltd. | BE30: The Federal Bank Ltd. | BF30: The Federal Bank Ltd. | BG30: 2.8669 | BJ30: Divi's Laboratories Ltd. | BK30: Divi's Laboratories Ltd. | BL30: Divi's Laboratories Ltd. | BM30: 5.9097 | BP30: Texmaco Rail & Engineering Ltd. | BQ30: Kirloskar Oil Engines Ltd. | BR30: Kirloskar Oil Engines Ltd. | BS30: 2.8999 | BV30: VARUN BEVERAGES LIMITED | BW30: Infosys Ltd. | BX30: Infosys Ltd. | BY30: 3.9595
B31: Samvardhana Motherson International Ltd. | E31: 2.7795 | H31: Infosys Ltd. | I31: Larsen & Toubro Ltd. | J31: Larsen & Toubro Ltd. | K31: 3.9879 | N31: Shriram Finance Ltd. | O31: Reliance Industries Ltd. | P31: Reliance Industries Ltd. | Q31: 2.2293 | T31: L&T Finance Holdings Ltd. | U31: L&T Finance Holdings Ltd. | V31: L&T Finance Holdings Ltd. | W31: 3.6667 | Z31: Texmaco Rail & Engineering Ltd. | AA31: Pitti Engineering Ltd. | AB31: Pitti Engineering Ltd. | AC31: 3.6502 | AF31: Trent Ltd. | AG31: P I INDUSTRIES LIMITED | AH31: P I INDUSTRIES LIMITED | AI31: 2.516 | AL31: Kotak Mahindra Bank Ltd. | AO31: 1.9083 | AR31: Power Finance Corporation Ltd. | AS31: Power Finance Corporation Ltd. | AT31: Power Finance Corporation Ltd. | AU31: 4.006 | AX31: The Federal Bank Ltd. | AY31: Tech Mahindra Ltd. | AZ31: Tech Mahindra Ltd. | BA31: 4.6858 | BD31: Alkem Laboratories Ltd. | BE31: Alkem Laboratories Ltd. | BF31: Alkem Laboratories Ltd. | BG31: 2.8604 | BJ31: Cipla Ltd. | BK31: Cipla Ltd. | BL31: Cipla Ltd. | BM31: 5.8228 | BP31: Grindwell Norton Ltd. | BQ31: KSB Ltd. | BR31: KSB Ltd. | BS31: 2.6172 | BV31: Bharat Forge Ltd. | BW31: Bharat Forge Ltd. | BX31: Bharat Forge Ltd. | BY31: 3.8864
B32: ITC Ltd. | E32: 2.7668 | H32: Axis Bank Ltd. | I32: Axis Bank Ltd. | J32: Axis Bank Ltd. | K32: 3.5455 | N32: Trent Ltd. | O32: Trent Ltd. | P32: Trent Ltd. | Q32: 2.2278 | T32: DCB Bank Ltd. | U32: 360 One Wam Ltd. | V32: 360 One Wam Ltd. | W32: 3.3645 | Z32: Pitti Engineering Ltd. | AA32: Hitachi Energy India Ltd. | AB32: Hitachi Energy India Ltd. | AC32: 3.6074 | AF32: Larsen & Toubro Ltd. | AG32: Trent Ltd. | AH32: Trent Ltd. | AI32: 2.405 | AL32: Infosys Ltd. | AO32: 1.9079 | AR32: NHPC Ltd. | AS32: Maruti Suzuki India Ltd. | AT32: Maruti Suzuki India Ltd. | AU32: 3.6489 | AX32: Samvardhana Motherson International Ltd. | AY32: ITC Ltd. | AZ32: ITC Ltd. | BA32: 4.6329 | BD32: P I INDUSTRIES LIMITED | BE32: Bharat Electronics Ltd. | BF32: Bharat Electronics Ltd. | BG32: 2.57 | BJ32: Zydus Lifesciences Ltd. | BK32: Zydus Lifesciences Ltd. | BL32: Zydus Lifesciences Ltd. | BM32: 5.7714 | BP32: Lemon Tree Hotels Ltd. | BQ32: Lemon Tree Hotels Ltd. | BR32: Lemon Tree Hotels Ltd. | BS32: 2.5186 | BV32: Bank of Baroda | BW32: Bank of Baroda | BX32: Bank of Baroda | BY32: 3.541
B33: Piramal Pharma Ltd. | E33: 2.7458 | H33: Hindustan Unilever Ltd. | I33: Hindustan Unilever Ltd. | J33: Hindustan Unilever Ltd. | K33: 2.9194 | N33: Kotak Mahindra Bank Ltd. | O33: Aditya Birla Fashion and Retail Ltd. | P33: Aditya Birla Fashion and Retail Ltd. | Q33: 1.9229 | T33: Piramal Enterprises Ltd. | U33: DCB Bank Ltd. | V33: DCB Bank Ltd. | W33: 3.2403 | Z33: TD Power Systems Ltd. | AA33: CIE Automotive India Ltd. | AB33: CIE Automotive India Ltd. | AC33: 3.3686 | AF33: Titan Company Ltd. | AG33: Titan Company Ltd. | AH33: Titan Company Ltd. | AI33: 2.3565 | AL33: The Federal Bank Ltd. | AO33: 1.8516 | AR33: Mahindra & Mahindra Ltd. | AS33: Mahindra & Mahindra Ltd. | AT33: Mahindra & Mahindra Ltd. | AU33: 3.3297 | AX33: Tata Consumer Products Ltd. | AY33: Havells India Ltd. | AZ33: Havells India Ltd. | BA33: 4.3457 | BD33: Power Finance Corporation Ltd. | BE33: Dalmia Bharat Ltd. | BF33: Dalmia Bharat Ltd. | BG33: 2.4279 | BJ33: Torrent Pharmaceuticals Ltd. | BK33: Torrent Pharmaceuticals Ltd. | BL33: Torrent Pharmaceuticals Ltd. | BM33: 5.212 | BP33: Hitachi Energy India Ltd. | BQ33: Blue Star Ltd. | BR33: Blue Star Ltd. | BS33: 2.5139 | BV33: Persistent Systems Ltd. | BW33: Persistent Systems Ltd. | BX33: Persistent Systems Ltd. | BY33: 3.4816
B34: Hindware Home Innovation Ltd. | E34: 2.7279 | H34: Kotak Mahindra Bank Ltd. | I34: Tata Consultancy Services Ltd. | J34: Tata Consultancy Services Ltd. | K34: 2.8599 | N34: Honeywell Automation India Ltd. | O34: Kotak Mahindra Bank Ltd. | P34: Kotak Mahindra Bank Ltd. | Q34: 1.8196 | T34: CSB Bank Ltd. | U34: Five Star Business Finance Ltd. | V34: Five Star Business Finance Ltd. | W34: 2.9274 | Z34: CIE Automotive India Ltd. | AA34: Bharat Bijlee Ltd. | AB34: Bharat Bijlee Ltd. | AC34: 3.0969 | AF34: P I INDUSTRIES LIMITED | AG34: Larsen & Toubro Ltd. | AH34: Larsen & Toubro Ltd. | AI34: 2.2791 | AL34: Texmaco Rail & Engineering Ltd. | AO34: 1.7313 | AR34: Maruti Suzuki India Ltd. | AS34: NHPC Ltd. | AT34: NHPC Ltd. | AU34: 3.2788 | AX34: Pidilite Industries Ltd. | AY34: Maruti Suzuki India Ltd. | AZ34: Maruti Suzuki India Ltd. | BA34: 4.0233 | BD34: Bank of Baroda | BE34: Power Finance Corporation Ltd. | BF34: Power Finance Corporation Ltd. | BG34: 2.2861 | BJ34: Alkem Laboratories Ltd. | BK34: Abbott India Ltd. | BL34: Abbott India Ltd. | BM34: 4.5799 | BP34: KSB Ltd. | BQ34: Hitachi Energy India Ltd. | BR34: Hitachi Energy India Ltd. | BS34: 2.4457 | BV34: Sun Pharmaceutical Industries Ltd. | BW34: Sun Pharmaceutical Industries Ltd. | BX34: Sun Pharmaceutical Industries Ltd. | BY34: 2.9645
B37: Grand Total | E37: =SUM(E25:G36) -> 44.2472 | H37: Grand Total | K37: =SUM(K25:M36) -> 51.8053 | N37: Grand Total | Q37: =SUM(Q25:S36) -> 29.7175 | T37: Grand Total | W37: =SUM(W25:Y36) -> 78.826 | Z37: Grand Total | AC37: =SUM(AC25:AE36) -> 40.2236 | AF37: Grand Total | AI37: =SUM(AI25:AK36) -> 38.181 | AL37: Grand Total | AO37: =SUM(AO25:AQ36) -> 25.6997 | AR37: Grand Total | AU37: =SUM(AU25:AW36) -> 44.007 | AX37: Grand Total | BA37: =SUM(BA25:BC36) -> 55.6168 | BD37: Grand Total | BG37: =SUM(BG25:BI36) -> 30.3277 | BJ37: Grand Total | BM37: =SUM(BM25:BO36) -> 70.3484 | BP37: Grand Total | BS37: =SUM(BS25:BU36) -> 30.9438 | BV37: Grand Total | BY37: =SUM(BY25:CA36) -> 50.2603
A39: Asset Allocation | B39: Asset Allocation | E39: % of Scheme | H39: Asset Allocation | K39: % of Scheme | N39: Asset Allocation | Q39: % of Scheme | T39: Asset Allocation | W39: % of Scheme | Z39: Asset Allocation | AC39: % of Scheme | AF39: Asset Allocation | AI39: % of Scheme | AL39: Asset Allocation | AO39: % of Scheme | AR39: Asset Allocation | AU39: % of Scheme | AX39: Asset Allocation | BA39: % of Scheme | BD39: Asset Allocation | BG39: % of Scheme | BJ39: Asset Allocation | BM39: % of Scheme | BP39: Asset Allocation | BS39: % of Scheme | BV39: Asset Allocation | BY39: % of Scheme
B40: Equity Holdings | C40: 0.95970929 | D40: Equity Holdings | E40: 95.508077 | H40: Equity Holdings | I40: 0.96083851 | J40: Equity Holdings | K40: 94.977135 | N40: Equity Holdings | O40: 0.95947917 | P40: Equity Holdings | Q40: 92.584695 | T40: Equity Holdings | U40: 0.95062595 | V40: Equity Holdings | W40: 97.73351 | Z40: Equity Holdings | AA40: 0.97458926 | AB40: Equity Holdings | AC40: 94.658493 | AF40: Equity Holdings | AG40: 0.96417311 | AH40: Equity Holdings | AI40: 98.071521 | AL40: Equity Holdings | AO40: 95.376113 | AR40: Equity Holdings | AU40: 96.867807 | AX40: Equity Holdings | BA40: 96.17292 | BD40: Equity Holdings | BG40: 95.130408 | BJ40: Equity Holdings | BM40: 97.142549 | BP40: Equity Holdings | BS40: 95.053711 | BV40: Equity Holdings | BY40: 96.137313
B41: Cash & Other Receivables | C41: 0.040290706 | D41: Cash & Other Receivables | E41: 4.4886868 | H41: Cash & Other Receivables | I41: 0.039161485 | J41: Cash & Other Receivables | K41: 5.0228655 | N41: Cash & Other Receivables | O41: 0.04052083 | P41: Cash & Other Receivables | Q41: 7.415305 | T41: Cash & Other Receivables | U41: 0.049374047 | V41: Cash & Other Receivables | W41: 2.26649 | Z41: Cash & Other Receivables | AA41: 0.025410745 | AB41: Cash & Other Receivables | AC41: 5.3415069 | AF41: Cash & Other Receivables | AG41: 0.035826888 | AH41: Cash & Other Receivables | AI41: 1.9284793 | AL41: Cash & Other Receivables | AO41: 4.6238866 | AR41: Cash & Other Receivables | AU41: 3.1321929 | AX41: Cash & Other Receivables | BA41: 3.8270803 | BD41: Cash & Other Receivables | BG41: 4.8695916 | BJ41: Cash & Other Receivables | BM41: 2.8574506 | BP41: Cash & Other Receivables | BS41: 4.9462891 | BV41: Cash & Other Receivables | BY41: 3.8626871
B46: Grand Total | E46: =SUM(E40:G44) -> 99.996764 | H46: Grand Total | K46: =SUM(K40:M44) -> 100 | N46: Grand Total | Q46: =SUM(Q40:S44) -> 100 | T46: Grand Total | W46: =SUM(W40:Y44) -> 100 | Z46: Grand Total | AC46: =SUM(AC40:AE44) -> 100 | AF46: Grand Total | AI46: =SUM(AI40:AK44) -> 100 | AL46: Grand Total | AO46: =SUM(AO40:AQ44) -> 100 | AR46: Grand Total | AU46: =SUM(AU40:AW44) -> 100 | AX46: Grand Total | BA46: =SUM(BA40:BC44) -> 100 | BD46: Grand Total | BG46: =SUM(BG40:BI44) -> 100 | BJ46: Grand Total | BM46: =SUM(BM40:BO44) -> 100 | BP46: Grand Total | BS46: =SUM(BS40:BU44) -> 100 | BV46: Grand Total | BY46: =SUM(BY40:CA44) -> 100
A48: Sectoral Allocation | B48: Sector/Industry | E48: % of Scheme | H48: Sector/Industry | K48: % of Scheme | N48: Sector/Industry | Q48: % of Scheme | T48: Sector/Industry | W48: % of Scheme | Z48: Sector/Industry | AC48: % of Scheme | AF48: Sector/Industry | AI48: % of Scheme | AL48: Sector/Industry | AO48: % of Scheme | AR48: Sector/Industry | AU48: % of Scheme | AX48: Sector/Industry | BA48: % of Scheme | BD48: Sector/Industry | BG48: % of Scheme | BJ48: Sector/Industry | BM48: % of Scheme | BP48: Sector/Industry | BS48: % of Scheme | BV48: Sector/Industry | BY48: % of Scheme
B49: Banks | C49: Banks | D49: Banks | E49: 31.531 | H49: Banks | I49: Banks | J49: Banks | K49: 31.1696 | N49: Banks | O49: Banks | P49: Banks | Q49: 18.4479 | T49: Banks | W49: 72.2387 | Z49: Industrial Products | AA49: Industrial Products | AB49: Industrial Products | AC49: 16.4417 | AF49: Banks | AG49: Banks | AH49: Banks | AI49: 24.4944 | AL49: Banks | AM49: Banks | AN49: Banks | AO49: 17.5691 | AR49: Power | AS49: Power | AT49: Power | AU49: 18.819 | AX49: Banks | AY49: Banks | AZ49: Banks | BA49: 29.4347 | BD49: Auto Components | BE49: Auto Components | BF49: Auto Components | BG49: 11.2343 | BJ49: Pharmaceuticals & Biotechnology | BM49: 74.8475 | BP49: Industrial Products | BQ49: Industrial Products | BR49: Industrial Products | BS49: 26.9922 | BV49: Banks | BW49: Banks | BX49: Banks | BY49: 30.947
B50: Diversified FMCG | C50: Diversified FMCG | D50: Diversified FMCG | E50: 7.3722 | H50: IT - Software | I50: IT - Software | J50: IT - Software | K50: 8.8153 | N50: Finance | O50: Finance | P50: Finance | Q50: 11.8253 | T50: Finance | W50: 25.4939 | Z50: Industrial Manufacturing | AA50: Industrial Manufacturing | AB50: Industrial Manufacturing | AC50: 16.0657 | AF50: IT - Software | AG50: Diversified FMCG | AH50: Diversified FMCG | AI50: 9.8045 | AL50: Consumer Durables | AM50: Consumer Durables | AN50: Consumer Durables | AO50: 7.3146 | AR50: IT - Software | AS50: IT - Software | AT50: IT - Software | AU50: 13.1921 | AX50: Diversified FMCG | AY50: Consumer Durables | AZ50: Consumer Durables | BA50: 11.3302 | BD50: Banks | BE50: Banks | BF50: Banks | BG50: 10.4363 | BJ50: Healthcare Services | BM50: 22.2943 | BP50: Consumer Durables | BQ50: Consumer Durables | BR50: Consumer Durables | BS50: 13.2379 | BV50: IT - Software | BW50: IT - Software | BX50: IT - Software | BY50: 11.9522
B51: Auto Components | C51: Auto Components | D51: Auto Components | E51: 6.1684 | H51: Diversified FMCG | I51: Diversified FMCG | J51: Diversified FMCG | K51: 7.103 | N51: IT - Software | O51: IT - Software | P51: IT - Software | Q51: 6.9906 | Z51: Electrical Equipment | AA51: Electrical Equipment | AB51: Electrical Equipment | AC51: 15.8139 | AF51: Consumer Durables | AG51: Auto Components | AH51: Auto Components | AI51: 8.0442 | AL51: Auto Components | AM51: Auto Components | AN51: Auto Components | AO51: 7.1427 | AR51: Automobiles | AS51: Automobiles | AT51: Automobiles | AU51: 9.1428 | AX51: IT - Software | AY51: Diversified FMCG | AZ51: Diversified FMCG | BA51: 8.8024 | BD51: Finance | BE51: Finance | BF51: Finance | BG51: 9.1994 | BP51: Electrical Equipment | BQ51: Electrical Equipment | BR51: Electrical Equipment | BS51: 9.4705 | BV51: Beverages | BW51: Beverages | BX51: Beverages | BY51: 5.7004
B52: Finance | C52: Finance | D52: Finance | E52: 5.9631 | H52: Petroleum Products | I52: Petroleum Products | J52: Petroleum Products | K52: 6.0297 | N52: Auto Components | O52: Consumer Durables | P52: Consumer Durables | Q52: 6.4641 | Z52: Transport Services | AA52: Transport Services | AB52: Transport Services | AC52: 9.0701 | AF52: Industrial Products | AG52: Finance | AH52: Finance | AI52: 6.7625 | AL52: Finance | AM52: Finance | AN52: Finance | AO52: 6.4068 | AR52: Banks | AS52: Banks | AT52: Banks | AU52: 7.8844 | AX52: Consumer Durables | AY52: Retailing | AZ52: Retailing | BA52: 6.9918 | BD52: Industrial Products | BE52: Industrial Products | BF52: Industrial Products | BG52: 8.4576 | BP52: Industrial Manufacturing | BQ52: Industrial Manufacturing | BR52: Industrial Manufacturing | BS52: 7.2461 | BV52: Petroleum Products | BW52: Petroleum Products | BX52: Petroleum Products | BY52: 5.5743
B53: Consumer Durables | C53: Consumer Durables | D53: Consumer Durables | E53: 5.2532 | H53: Automobiles | I53: Automobiles | J53: Automobiles | K53: 4.9114 | N53: Retailing | O53: Auto Components | P53: Auto Components | Q53: 5.5615 | Z53: Auto Components | AA53: Auto Components | AB53: Auto Components | AC53: 6.8732 | AF53: Finance | AG53: Consumer Durables | AH53: Consumer Durables | AI53: 6.5406 | AL53: IT - Software | AM53: IT - Software | AN53: IT - Software | AO53: 5.8398 | AR53: Finance | AS53: Finance | AT53: Finance | AU53: 6.8277 | AX53: Finance | AY53: IT - Software | AZ53: IT - Software | BA53: 5.1127 | BD53: Retailing | BE53: Retailing | BF53: Retailing | BG53: 8.2579 | BP53: Banks | BQ53: Banks | BR53: Banks | BS53: 5.9746 | BV53: Pharmaceuticals & Biotechnology | BW53: Pharmaceuticals & Biotechnology | BX53: Pharmaceuticals & Biotechnology | BY53: 4.9989
B54: IT - Software | C54: IT - Software | D54: IT - Software | E54: 4.9682 | H54: Finance | I54: Finance | J54: Finance | K54: 4.8359 | N54: Industrial Manufacturing | O54: Retailing | P54: Retailing | Q54: 5.2923 | Z54: Finance | AA54: Finance | AB54: Finance | AC54: 5.7746 | AF54: Automobiles | AG54: IT - Software | AH54: IT - Software | AI54: 4.6781 | AL54: Industrial Products | AM54: Industrial Products | AN54: Industrial Products | AO54: 5.1447 | AR54: Consumer Durables | AS54: Consumer Durables | AT54: Consumer Durables | AU54: 5.5971 | AX54: Auto Components | AY54: Finance | AZ54: Finance | BA54: 4.6329 | BD54: Fertilizers & Agrochemicals | BE54: Fertilizers & Agrochemicals | BF54: Fertilizers & Agrochemicals | BG54: 5.6806 | BP54: Chemicals & Petrochemicals | BQ54: Chemicals & Petrochemicals | BR54: Chemicals & Petrochemicals | BS54: 4.1509 | BV54: Finance | BW54: Finance | BX54: Finance | BY54: 4.8462
B55: Pharmaceuticals & Biotechnology | C55: Pharmaceuticals & Biotechnology | D55: Pharmaceuticals & Biotechnology | E55: 4.0855 | H55: Construction | I55: Consumer Durables | J55: Consumer Durables | K55: 4.4075 | N55: Industrial Products | O55: Industrial Products | P55: Industrial Products | Q55: 5.1661 | Z55: Construction | AA55: Aerospace & Defense | AB55: Aerospace & Defense | AC55: 5.079 | AF55: Retailing | AG55: Automobiles | AH55: Automobiles | AI55: 4.1755 | AL55: Industrial Manufacturing | AM55: Automobiles | AN55: Automobiles | AO55: 5.0129 | AR55: Pharmaceuticals & Biotechnology | AS55: Pharmaceuticals & Biotechnology | AT55: Pharmaceuticals & Biotechnology | AU55: 5.088 | AX55: Agricultural Food & other Products | AY55: Automobiles | AZ55: Automobiles | BA55: 4.3457 | BD55: Consumer Durables | BE55: Consumer Durables | BF55: Consumer Durables | BG55: 5.2828 | BP55: Healthcare Services | BQ55: Healthcare Services | BR55: Healthcare Services | BS55: 3.8464 | BV55: Industrial Products | BW55: Industrial Products | BX55: Industrial Products | BY55: 3.8864
B56: Industrial Products | C56: Industrial Products | D56: Industrial Products | E56: 3.7636 | H56: Consumer Durables | I56: Construction | J56: Construction | K56: 3.4113 | N56: Consumer Durables | O56: Industrial Manufacturing | P56: Industrial Manufacturing | Q56: 4.3837 | Z56: Aerospace & Defense | AA56: Construction | AB56: Construction | AC56: 4.7265 | AF56: Diversified FMCG | AG56: Industrial Products | AH56: Industrial Products | AI56: 3.4925 | AL56: Electrical Equipment | AM56: Industrial Manufacturing | AN56: Industrial Manufacturing | AO56: 4.4853 | AR56: Industrial Products | AS56: Industrial Products | AT56: Industrial Products | AU56: 4.7748 | AX56: Chemicals & Petrochemicals | AY56: Chemicals & Petrochemicals | AZ56: Chemicals & Petrochemicals | BA56: 4.0233 | BD56: Cement & Cement Products | BE56: Cement & Cement Products | BF56: Cement & Cement Products | BG56: 5.1204 | BP56: Capital Markets | BQ56: Capital Markets | BR56: Capital Markets | BS56: 3.4489 | BV56: Automobiles | BW56: Automobiles | BX56: Automobiles | BY56: 3.6583
...

Sheet Debt-Excl.Over,Liq,MM
A1: =Equity!A1 -> Dashboard as on 31/12/2023
A2: Scheme Name | B2: LIC MF Banking & PSU Debt Fund | H2: LIC MF Gilt Fund (ERSTWHILE LIC MF Government Securities Fund) | N2: LIC MF Medium to Long Duration Bond Fund (ERSTWHILE LIC MF Bond Fund) | T2: LIC MF Short Duration Fund (ERSTWHILE LIC MF Short Term Debt Fund) | Z2: LIC MF Low Duration Fund (ERSTWHILE LIC MF Savings Fund) | AF2: LIC MF Ultra Short Duration Fund (ERSTWHILE LIC MF Ultra Short Term Fund)
A4: Date of Allotment - Regular | B4: 31.05.2007 | H4: 10.12.1999 | N4: 23.06.1999 | T4: 01.02.2019 | Z4: 09.06.2003 | AF4: 27.11.2019
A5: Date of Allotment - Direct | B5: 01.01.2013 | H5: 01.01.2013 | N5: 01.01.2013 | T5: 01.02.2019 | Z5: 01.01.2013 | AF5: 27.11.2019
A7: AUM (in Rs. crore) | B7: 1326.75 | H7: 45.61 | N7: 182.44 | T7: 131.21 | Z7: 1125.12 | AF7: 135.51
A9: Investment Objective | B9: The primary investment objective of the Scheme is to seek to generate income and capital appreciation by primarily investing in a portfolio of high quality debt and money market securities that are issued by banks, public sector undertakings, public financial institutions and Municipal Bonds. There is no assurance that the investment objective of the Scheme will be realized. | H9: The primary objective of the scheme is to generate credit risk free and reasonable returns for its investors through investments in sovereign securities issued by the central and /or state Government and/or any security unconditionally guaranteed by the central/ state government for repayment of Principal and interest and/or reverse repos in such securities as and when permitted by RBI. However, there is no assurance that the investment objective of the Schemes will be realized. | N9: LIC MF Medium to Long Duration Bond fund is an open-ended debt scheme which will endeavor to generate an attractive return for its investors by investing in a portfolio is between 4 years and 7 years. However, there is no assurance that the investment objective of the Schemes will be realized. | T9: The primary investment objective of the scheme is to generate returns commensurate with risk from a portfolio constituted of Debt securities and/or Money Market instruments. However there can be no assurance that the investment objective of the scheme will be achieved. | Z9: The investment objective of the Scheme is to generate income by investing in a portfolio of quality short term debt securities. However, there is no assurance that the investment objective of the Schemes will be realized. | AF9: The investment objective of the scheme is to generate returns through investment in Debt & Money Market instruments such that the Macaulay duration of the portfolio is between 3 months - 6 months. However, there is no assurance or guarantee that the investment objective of the Scheme will be achieved. The scheme does not assure or guarantee any returns.
A11: Fund Manager | B11: Mr. Marzban Irani (managing since 10/08/16) / Mr. Pratik Harish Shroff (Co Fund Manager, managing since 26/09/23) | H11: Mr. Marzban Irani (managing since 10/18/16) / Mr. Pratik Harish Shroff (Co Fund Manager, managing since 26/09/23) | N11: Mr. Marzban Irani (managing since 10/08/16) / Mr. Pratik Harish Shroff (Co Fund Manager, from 26/09/23) | T11: Mr. Marzban Irani (managing since 01/02/19) / Mr. Pratik Harish Shroff (Co Fund Manager, managing since 26/09/23) | Z11: Mr. Rahul Singh (managing since 07/09/15) | AF11: Mr. Rahul Singh (managing since 27/11/19)
A13: Total Expense Ratio (Weighted Average for the month) Excluding Goods and Service Tax on Management Fees
B14: Regular | E14: Direct | H14: Regular | K14: Direct | N14: Regular | Q14: Direct | T14: Regular | W14: Direct | Z14: Regular | AC14: Direct | AF14: Regular | AI14: Direct
A15: Base TER (%)@ | B15: 0.75 | E15: 0.25 | H15: 1.35 | K15: 0.63 | N15: 1.21 | Q15: 0.2 | T15: 1.29 | W15: 0.33 | Z15: 0.93 | AC15: 0.24 | AF15: 1 | AI15: 0.29
A16: Additional expense as per Regulation 52(6A)(b) (%)# | B16: 0 | E16: 0 | H16: 0 | K16: 0 | N16: 0 | Q16: 0 | T16: 0 | W16: 0 | Z16: 0 | AC16: 0 | AF16: 0 | AI16: 0
A17: Additional expense as per Regulation 52(6A)(c) (%)$ | B17: 0 | E17: 0 | H17: 0.05 | K17: 0.05 | N17: 0 | Q17: 0 | T17: 0 | W17: 0 | Z17: 0 | AC17: 0 | AF17: 0 | AI17: 0
A18: GST (%)^ | B18: 0.03 | E18: 0.03 | H18: 0.08 | K18: 0.08 | N18: 0.01 | Q18: 0.01 | T18: 0.04 | W18: 0.04 | Z18: 0.03 | AC18: 0.03 | AF18: 0.03 | AI18: 0.03
A19: Total TER (%) | B19: =SUM(B15:D18) -> 0.78 | E19: =SUM(E15:G18) -> 0.28 | H19: =SUM(H15:J18) -> 1.48 | K19: =SUM(K15:M18) -> 0.76 | N19: =SUM(N15:P18) -> 1.22 | Q19: =SUM(Q15:S18) -> 0.21 | T19: =SUM(T15:V18) -> 1.33 | W19: =SUM(W15:Y18) -> 0.37 | Z19: =SUM(Z15:AB18) -> 0.96 | AC19: =SUM(AC15:AE18) -> 0.27 | AF19: =SUM(AF15:AH18) -> 1.03 | AI19: =SUM(AI15:AK18) -> 0.32
A21: Portfolio (Top 10 Holdings) | B21: Name of the issuer | E21: % of Scheme | H21: Name of the issuer | K21: % of Scheme | N21: Name of the issuer | Q21: % of Scheme | T21: Name of the issuer | W21: % of Scheme | Z21: Name of the issuer | AC21: % of Scheme | AF21: Name of the issuer | AI21: % of Scheme
B22: Small Industries Development Bk of India | C22: Government Bond | D22: Government Bond | E22: 8.8207 | H22: Government Bond | K22: 55.374 | N22: State Government Bond | Q22: 68.3672 | T22: Government Bond | W22: 22.1872 | Z22: HDFC Bank Ltd. | AA22: HDFC Bank Ltd. | AB22: HDFC Bank Ltd. | AC22: 10.7343 | AF22: Government Treasury Bill | AI22: 25.2262
B23: Government Bond | C23: National Bk for Agriculture & Rural Dev. | D23: National Bk for Agriculture & Rural Dev. | E23: 8.8071 | H23: State Government Bond | K23: 41.4551 | N23: Government Bond | Q23: 23.3863 | T23: Indian Railway Finance Corporation Ltd. | U23: REC Ltd. | V23: REC Ltd. | W23: 7.8918 | Z23: Shriram Finance Ltd. | AA23: National Bk for Agriculture & Rural Dev. | AB23: National Bk for Agriculture & Rural Dev. | AC23: 9.0855 | AF23: Power Finance Corporation Ltd. | AI23: 7.844
B24: National Bk for Agriculture & Rural Dev. | C24: Small Industries Development Bk of India | D24: Small Industries Development Bk of India | E24: 8.2123 | N24: HDFC Bank Ltd. | Q24: 5.7096 | T24: Power Finance Corporation Ltd. | W24: 7.811 | Z24: Axis Bank Ltd. | AA24: Shriram Finance Ltd. | AB24: Shriram Finance Ltd. | AC24: 8.4362 | AF24: Reliance Industries Ltd. | AI24: 7.7869
B25: REC Ltd. | C25: Power Finance Corporation Ltd. | D25: Power Finance Corporation Ltd. | E25: 7.829 | N25: SBI Funds Management Ltd. | Q25: 0.1972 | T25: National Bk for Agriculture & Rural Dev. | W25: 7.7072 | Z25: Power Finance Corporation Ltd. | AA25: Punjab National Bank | AB25: Punjab National Bank | AC25: 8.1825 | AF25: HDFC Bank Ltd. | AI25: 7.3635
B26: Power Finance Corporation Ltd. | C26: REC Ltd. | D26: REC Ltd. | E26: 7.7825 | T26: Bajaj Finance Ltd. | W26: 7.6685 | Z26: REC Ltd. | AA26: Small Industries Development Bk of India | AB26: Small Industries Development Bk of India | AC26: 6.7357 | AF26: Birla Group Holdings Pvt Ltd. | AI26: 6.5697
B27: Indian Railway Finance Corporation Ltd. | C27: NTPC Ltd. | D27: NTPC Ltd. | E27: 7.7566 | T27: Small Industries Development Bk of India | W27: 7.6565 | Z27: National Bk for Agriculture & Rural Dev. | AA27: Axis Bank Ltd. | AB27: Axis Bank Ltd. | AC27: 6.5542 | AF27: National Bk for Agriculture & Rural Dev. | AI27: 1.4743
B28: HDFC Bank Ltd. | C28: Indian Railway Finance Corporation Ltd. | D28: Indian Railway Finance Corporation Ltd. | E28: 7.4185 | T28: State Government Bond | W28: 7.6546 | Z28: Kotak Mahindra Bank Ltd. | AA28: Power Finance Corporation Ltd. | AB28: Power Finance Corporation Ltd. | AC28: 6.4261 | AF28: SBI Funds Management Ltd. | AI28: 0.4513
B29: NTPC Ltd. | C29: Power Grid Corporation of India Ltd. | D29: Power Grid Corporation of India Ltd. | E29: 6.1492 | T29: REC Ltd. | W29: 7.3749 | Z29: Government Treasury Bill | AA29: State Government Bond | AB29: State Government Bond | AC29: 6.2069
B30: State Government Bond | C30: Bajaj Finance Ltd. | D30: Bajaj Finance Ltd. | E30: 4.6362 | T30: Axis Bank Ltd. | W30: 7.3556 | Z30: Tata Capital Housing Finance Ltd. | AA30: REC Ltd. | AB30: REC Ltd. | AC30: 5.5404
B31: Power Grid Corporation of India Ltd. | C31: State Bank of India | D31: State Bank of India | E31: 4.0343 | T31: Tata Capital Financial Services Ltd. | W31: 5.7029 | Z31: Canara Bank | AA31: Kotak Mahindra Bank Ltd. | AB31: Kotak Mahindra Bank Ltd. | AC31: 4.3968
B34: Grand Total | E34: =SUM(E22:G33) -> 71.4464 | H34: Grand Total | K34: =SUM(K22:M33) -> 96.8291 | N34: Grand Total | Q34: =SUM(Q22:S33) -> 97.6603 | T34: Grand Total | W34: =SUM(W22:Y33) -> 89.0102 | Z34: Total | AC34: =SUM(AC22:AE33) -> 72.2986 | AF34: Total | AI34: =SUM(AI22:AK33) -> 56.7159
A36: Asset Allocation | B36: Asset Allocation | E36: % of Scheme | H36: Asset Allocation | K36: % of Scheme | N36: Asset Allocation | Q36: % of Scheme | T36: Asset Allocation | W36: % of Scheme | Z36: Asset Allocation | AC36: % of Scheme | AF36: Asset Allocation | AI36: % of Scheme
B37: CORPORATE DEBT | E37: 67.239067 | H37: GOVERNMENT BOND AND TREASURY BILL | K37: 96.829735 | N37: GOVERNMENT BOND AND TREASURY BILL | Q37: 91.753944 | T37: CORPORATE DEBT | W37: 59.654168 | Z37: Money Market Instruments | AC37: 57.951639 | AF37: Cash & Other Receivables | AI37: 43.283636
B38: Money Market Instruments | E38: 16.114738 | H38: Cash & Other Receivables | K38: 3.1702649 | N38: CORPORATE DEBT | Q38: 5.7096829 | T38: GOVERNMENT BOND AND TREASURY BILL | W38: 29.842098 | Z38: CORPORATE DEBT | AC38: 28.601139 | AF38: GOVERNMENT BOND AND TREASURY BILL | AI38: 25.226344
B39: GOVERNMENT BOND AND TREASURY BILL | E39: 13.443739 | N39: Cash & Other Receivables | Q39: 2.3390738 | T39: Money Market Instruments | W39: 7.3556995 | Z39: GOVERNMENT BOND AND TREASURY BILL | AC39: 11.185675 | AF39: CORPORATE DEBT | AI39: 17.105401
B40: Cash & Other Receivables | E40: 2.9670736 | N40: Mutual Fund Units | Q40: 0.2 | T40: Cash & Other Receivables | W40: 2.8711652 | Z40: Cash & Other Receivables | AC40: 2.1021393 | AF40: Money Market Instruments | AI40: 13.933267
B41: Mutual Fund Units | E41: 0.23538304 | T41: Mutual Fund Units | W41: 0.27686884 | Z41: Mutual Fund Units | AC41: 0.15940783 | AF41: Mutual Fund Units | AI41: 0.45135244
B42: Grand Total | E42: =SUM(E37:G41) -> 100 | H42: Grand Total | K42: =SUM(K37:M41) -> 100 | N42: Grand Total | Q42: =SUM(Q37:S41) -> 100.0027 | T42: Grand Total | W42: =SUM(W37:Y41) -> 100 | Z42: Grand Total | AC42: =SUM(AC37:AE41) -> 100 | AF42: Grand Total | AI42: =SUM(AI37:AK41) -> 100
A44: Scheme Past Performance | B44: Regular (Growth) | E44: Direct (Growth) | H44: Regular (Growth) | K44: Direct (Growth) | N44: Regular (Growth) | Q44: Direct (Growth) | T44: Regular (Growth) | W44: Direct (Growth) | Z44: Regular (Growth) | AC44: Direct (Growth) | AF44: Regular (Growth) | AI44: Direct (Growth)
B45: Scheme (%) | C45: Scheme Benchmark (%) | D45: Additional Benchmark (%) | E45: Scheme (%) | F45: Scheme Benchmark (%) | G45: Additional Benchmark (%) | H45: Scheme (%) | I45: Scheme Benchmark (%) | J45: Additional Benchmark (%) | K45: Scheme (%) | L45: Scheme Benchmark (%) | M45: Additional Benchmark (%) | N45: Scheme (%) | O45: Scheme Benchmark (%) | P45: Additional Benchmark (%) | Q45: Scheme (%) | R45: Scheme Benchmark (%) | S45: Additional Benchmark (%) | T45: Scheme (%) | U45: Scheme Benchmark (%) | V45: Additional Benchmark (%) | W45: Scheme (%) | X45: Scheme Benchmark (%) | Y45: Additional Benchmark (%) | Z45: Scheme (%) | AA45: Scheme Benchmark (%) | AB45: Additional Benchmark (%) | AC45: Scheme (%) | AD45: Scheme Benchmark (%) | AE45: Additional Benchmark (%) | AF45: Scheme (%) | AG45: Scheme Benchmark (%) | AH45: Additional Benchmark (%) | AI45: Scheme (%) | AJ45: Scheme Benchmark (%) | AK45: Additional Benchmark (%)
A46: 1 year (CAGR %) | B46: 6.5274 | C46: 6.7302 | D46: 7.8399 | E46: 7.0882 | F46: 6.7302 | G46: 7.8399 | H46: 6.2576 | I46: 8.065 | J46: 7.8399 | K46: 7.0193 | L46: 8.065 | M46: 7.8399 | N46: 6.5092 | O46: 7.2315 | P46: 7.8399 | Q46: 7.281 | R46: 7.2315 | S46: 7.8399 | T46: 6.2184 | U46: 7.7274 | V46: 7.8399 | W46: 7.1858 | X46: 7.7274 | Y46: 7.8399 | Z46: 6.5498 | AA46: 7.6507 | AB46: 6.9549 | AC46: 7.2102 | AD46: 7.6507 | AE46: 6.9549 | AF46: 6.2949 | AG46: 7.6555 | AH46: 6.9549 | AI46: 6.6574 | AJ46: 7.6555 | AK46: 6.9549
A47: Current Value of Investment of Rs. 10,000 | B47: 10651 | C47: 10671 | D47: 10782 | E47: 10707 | F47: 10671 | G47: 10782 | H47: 10624 | I47: 10804 | J47: 10782 | K47: 10700 | L47: 10804 | M47: 10782 | N47: 10649 | O47: 10721 | P47: 10782 | Q47: 10726 | R47: 10721 | S47: 10782 | T47: 10620 | U47: 10771 | V47: 10782 | W47: 10717 | X47: 10771 | Y47: 10782 | Z47: 10653 | AA47: 10763 | AB47: 10694 | AC47: 10719 | AD47: 10763 | AE47: 10694 | AF47: 10628 | AG47: 10763 | AH47: 10694 | AI47: 10664 | AJ47: 10763 | AK47: 10694
A48: 3 Years (CAGR %) | B48: 4.041 | C48: 4.6591 | D48: 3.1579 | E48: 4.6062 | F48: 4.6591 | G48: 3.1579 | H48: 3.2566 | I48: 4.347 | J48: 3.1579 | K48: 4.0017 | L48: 4.347 | M48: 3.1579 | N48: 3.5206 | O48: 5.6925 | P48: 3.1579 | Q48: 4.0079 | R48: 5.6925 | S48: 3.1579 | T48: 3.6641 | U48: 5.556 | V48: 3.1579 | W48: 4.7005 | X48: 5.556 | Y48: 3.1579 | Z48: 4.7059 | AA48: 5.633 | AB48: 4.8418 | AC48: 5.3007 | AD48: 5.633 | AE48: 4.8418 | AF48: 4.8438 | AG48: 5.7109 | AH48: 4.8418 | AI48: 5.1158 | AJ48: 5.7109 | AK48: 4.8418
A49: Current Value of Investment of Rs. 10,000 | B49: 11260 | C49: 11461 | D49: 10976 | E49: 11444 | F49: 11461 | G49: 10976 | H49: 11007 | I49: 11359 | J49: 10976 | K49: 11247 | L49: 11359 | M49: 10976 | N49: 11092 | O49: 11803 | P49: 10976 | Q49: 11249 | R49: 11803 | S49: 10976 | T49: 11138 | U49: 11758 | V49: 10976 | W49: 11475 | X49: 11758 | Y49: 10976 | Z49: 11476 | AA49: 11783 | AB49: 11521 | AC49: 11673 | AD49: 11783 | AE49: 11521 | AF49: 11522 | AG49: 11809 | AH49: 11521 | AI49: 11611 | AJ49: 11809 | AK49: 11521
A50: 5 years (CAGR %) | B50: 6.0758 | C50: 6.7791 | D50: 5.7876 | E50: 6.6518 | F50: 6.7791 | G50: 5.7876 | H50: 6.33 | I50: 7.0761 | J50: 5.7876 | K50: 7.1117 | L50: 7.0761 | M50: 5.7876 | N50: 5.776 | O50: 8.1301 | P50: 5.7876 | Q50: 6.3903 | R50: 8.1301 | S50: 5.7876 | T50: NA | U50: NA | V50: NA | W50: NA | X50: NA | Y50: NA | Z50: 4.9108 | AA50: 6.3218 | AB50: 5.589 | AC50: 5.4905 | AD50: 6.3218 | AE50: 5.589 | AF50: NA | AG50: NA | AH50: NA | AI50: NA | AJ50: NA | AK50: NA
...

Sheet Debt-Over,Liq,MM
A1: =Equity!A1 -> Dashboard as on 31/12/2023
A2: Scheme Name | B2: LIC MF Liquid Fund | H2: LIC MF Overnight Fund | N2: LIC MF Money Market Fund
A4: Date of Allotment - Regular | B4: 18.03.2002 | H4: 18.07.2019 | N4: 01.08.2022
A5: Date of Allotment - Direct | B5: 01.01.2013 | H5: 18.07.2019 | N5: 01.08.2022
A7: AUM (in Rs. crore) | B7: 10213.41** | H7: 297.85 | N7: 27.23
A9: Investment Objective | B9: An open ended scheme which seeks to generate reasonable returns with low risk and high liquidity through judicious mix of investment in money market instruments and quality debt instruments. However, there is no assurance that the investment objective of the Schemes will be realized. | H9: The Investment Objective of the Scheme is to provide reasonable returns commensurate with low risk and providing a high level of liquidity, through investments made primarily in overnight securities having maturity/residual maturity of 1 business day. However, there can be no assurance that the investment objective of the scheme will be achieved. The Scheme(s) does not assure or guarantee any returns. | N9: The investment objective of the Scheme is to generate income through investment in a portfolio comprising of money market instruments. However, there is no assurance that the Investment Objective of the Scheme will be achieved.
A11: Fund Manager | B11: Mr. Rahul Singh (managing since 05/10/2015) | H11: Mr. Rahul Singh (managing since 18/07/19) | N11: Mr. Rahul Singh (managing since 01/08/22)
A13: Total Expense Ratio (Weighted Average for the month) Excluding Goods and Service Tax on Management Fees
B14: Regular | E14: Direct | H14: Regular | K14: Direct | N14: Regular | Q14: Direct
A15: Base TER (%)@ | B15: 0.2 | E15: 0.15 | H15: 0.2 | K15: 0.07 | N15: 0.6 | Q15: 0.17
A16: Additional expense as per Regulation 52(6A)(b) (%)# | B16: 0 | E16: 0 | H16: 0 | K16: 0 | N16: 0 | Q16: 0
A17: Additional expense as per Regulation 52(6A)(c) (%)$ | B17: 0 | E17: 0 | H17: 0 | K17: 0 | N17: 0 | Q17: 0
A18: GST (%)^ | B18: 0.01 | E18: 0.01 | H18: 0 | K18: 0 | N18: 0.01 | Q18: 0.01
A19: Total TER (%) | B19: =SUM(B15:D18) -> 0.21 | E19: =SUM(E15:G18) -> 0.16 | H19: =SUM(H15:J18) -> 0.2 | K19: =SUM(K15:M18) -> 0.07 | N19: =SUM(N15:P18) -> 0.61 | Q19: =SUM(Q15:S18) -> 0.18
A21: Portfolio (Top 10 Holdings) | B21: Name of the issuer | E21: % of Scheme | H21: Name of the issuer | K21: % of Scheme | N21: Name of the issuer | Q21: % of Scheme
B22: Government Treasury Bill | E22: 20.5045 | H22: Government Treasury Bill | K22: 11.7199 | N22: Government Treasury Bill | Q22: 53.737
B23: National Bk for Agriculture & Rural Dev. | E23: 10.6782 | N23: SBI Funds Management Ltd. | Q23: 0.7226
B24: Punjab National Bank | E24: 8.712 | N24: Others | Q24: 0
B25: Reliance Retail Ventures Ltd. | E25: 5.3286
B26: Bank of Baroda | E26: 5.0921
B27: Small Industries Development Bk of India | E27: 4.8694
B28: Indian Bank | E28: 4.8558
B29: HDFC Securities Ltd. | E29: 4.8202
B30: Canara Bank | E30: 3.8756
B31: Birla Group Holdings Pvt Ltd. | E31: 3.6798
B34: Total | E34: =SUM(E22:G33) -> 72.4162 | H34: Total | K34: =SUM(K22:M33) -> 11.7199 | N34: Total | Q34: =SUM(Q22:S33) -> 54.4596
A36: Asset Allocation | B36: Asset Allocation | E36: % of Scheme | H36: Asset Allocation | K36: % of Scheme | N36: Asset Allocation | Q36: % of Scheme
B37: Money Market Instruments | E37: 78.295428 | H37: Cash & Other Receivables | K37: 88.279942 | N37: GOVERNMENT BOND AND TREASURY BILL | Q37: 53.737019
B38: GOVERNMENT BOND AND TREASURY BILL | E38: 20.505002 | H38: GOVERNMENT BOND AND TREASURY BILL | K38: 11.720058 | N38: Cash & Other Receivables | Q38: 45.540297
B39: Mutual Fund Units | E39: 1.053613 | N39: Mutual Fund Units | Q39: 0.7226843
B40: Cash & Other Receivables | E40: 0.1459571
B42: Grand Total | E42: =SUM(E37:G41) -> 100 | H42: Grand Total | K42: =SUM(K37:M41) -> 100 | N42: Grand Total | Q42: =SUM(Q37:S41) -> 100
A44: Scheme Past Performance | B44: Regular (Growth) | E44: Direct (Growth) | H44: Regular (Growth) | K44: Direct (Growth) | N44: Regular (Growth) | Q44: Direct (Growth)
B45: Scheme (%) | C45: Scheme Benchmark (%) | D45: Additional Benchmark (%) | E45: Scheme (%) | F45: Scheme Benchmark (%) | G45: Additional Benchmark (%) | H45: Scheme (%) | I45: Scheme Benchmark (%) | J45: Additional Benchmark (%) | K45: Scheme (%) | L45: Scheme Benchmark (%) | M45: Additional Benchmark (%) | N45: Scheme (%) | O45: Scheme Benchmark (%) | P45: Additional Benchmark (%) | Q45: Scheme (%) | R45: Scheme Benchmark (%) | S45: Additional Benchmark (%)
A46: 7 Days (CAGR %) | B46: 8.0896 | C46: 7.6629 | D46: 7.0082 | E46: 8.1396 | F46: 7.6629 | G46: 7.0082 | H46: 6.7106 | I46: 6.7792 | J46: 7.0082 | K46: 6.8405 | L46: 6.7792 | M46: 7.0082 | N46: 6.7378 | O46: 8.1425 | P46: 7.0139 | Q46: 7.1671 | R46: 8.1425 | S46: 7.0139
A47: Current Value of Investment of Rs. 10,000 | B47: 10016 | C47: 10015 | D47: 10013 | E47: 10016 | F47: 10015 | G47: 10013 | H47: 10013 | I47: 10013 | J47: 10013 | K47: 10013 | L47: 10013 | M47: 10013 | N47: 10013 | O47: 10016 | P47: 10013 | Q47: 10014 | R47: 10016 | S47: 10013
A48: 15 Days (CAGR %) | B48: 7.5806 | C48: 7.4409 | D48: 6.4904 | E48: 7.6309 | F48: 7.4409 | G48: 6.4904 | H48: 6.6442 | I48: 6.7721 | J48: 6.4904 | K48: 6.774 | L48: 6.7721 | M48: 6.4904 | N48: 6.2437 | O48: 7.6801 | P48: 6.4785 | Q48: 6.6728 | R48: 7.6801 | S48: 6.4785
A49: Current Value of Investment of Rs. 10,000 | B49: 10031 | C49: 10031 | D49: 10027 | E49: 10031 | F49: 10031 | G49: 10027 | H49: 10027 | I49: 10028 | J49: 10027 | K49: 10028 | L49: 10028 | M49: 10027 | N49: 10026 | O49: 10032 | P49: 10027 | Q49: 10027 | R49: 10032 | S49: 10027
A50: 30 Days (CAGR %) | B50: 7.1778 | C50: 7.2344 | D50: 7.186 | E50: 7.2281 | F50: 7.2344 | G50: 7.186 | H50: 6.6127 | I50: 6.7701 | J50: 7.186 | K50: 6.743 | L50: 6.7701 | M50: 7.186 | N50: 6.3099 | O50: 7.2916 | P50: 7.2222 | Q50: 6.7397 | R50: 7.2916 | S50: 7.2222
A51: Current Value of Investment of Rs. 10,000 | B51: 10058 | C51: 10058 | D51: 10058 | E51: 10058 | F51: 10058 | G51: 10058 | H51: 10054 | I51: 10055 | J51: 10058 | K51: 10055 | L51: 10055 | M51: 10058 | N51: 10051 | O51: 10059 | P51: 10058 | Q51: 10055 | R51: 10059 | S51: 10058
...

Sheet Hybrid
A1: Dashboard as on 31/12/2023
A2: Scheme Name | B2: LIC MF Aggressive Hybrid Fund (ERSTWHILE LIC MF Equity Hybrid Fund) | H2: LIC MF Arbitrage Fund | N2: LIC MF Balanced Advantage Fund | T2: LIC MF Conservative Hybrid Fund (ERSTWHILE LIC MF Debt Hybrid Fund) | Z2: LIC MF Equity Savings Fund (ERSTWHILE IDBI EQUITY SAVINGS FUND) | AF2: LIC MF Unit Linked Insurance Scheme
A4: Date of Allotment - Regular | B4: 01.01.1991 | H4: 25.01.2019 | N4: 12.11.2021 | T4: 01.06.1998 | Z4: 07.03.2011 | AF4: 19.06.1989
A5: Date of Allotment - Direct | B5: 01.01.2013 | H5: 25.01.2019 | N5: 12.11.2021 | T5: 01.01.2013 | Z5: 01.01.2013 | AF5: 01.01.2013
A7: AUM (in Rs. crore) | B7: 515.23 | H7: 24.22 | N7: 979.61 | T7: 53.14 | Z7: 9.65 | AF7: 480.76
A10: Investment Objective | B10: An open ended balanced scheme which seeks to provide regular returns and capital appreciation according to the selection of plan by investing in equities and debt. However, there is no assurance that the investment objective of the Schemes will be realized. | H10: The investment objective of the scheme is to generate income by taking advantage of arbitrage opportunities that potentially exists between cash and derivative market and within the derivative segment of the equity market along with investments in debt securities & money market instruments. However, there can be no assurance that the investment objective of the scheme will be realized. | N10: The investment objective of the scheme is to provide capital appreciation/ income to the investors from a dynamic mix of equity, debt and money market instruments. The Scheme seeks to reduce the volatility by diversifying the assets across equity, debt and money market instruments. However, there is no assurance or guarantee that the investment objective of the Scheme will be realized. | T10: The investment objective of the Scheme is to generate regular income by investing mainly in a portfolio of quality debt securities and money market instruments. It also seeks to generate capital appreciation by investing some percentage in a mix of equity instruments. However, there is no assurance that the investment objective of the Schemes will be realized. | Z10: The investment objective of the Scheme is to generate regular income by investing in Debt and money market instruments and using arbitrage and other derivative strategies. The Scheme also intends to generate long capital appreciation through un hedged exposure to equity and equity related instruments. However, there can be no assurance or guarantee that the investment objective of the scheme will be achieved. | AF10: An open ended scheme which seeks to generate long term capital appreciation and offer Tax benefits u/s 80C of the Income Tax Act as well as additional benefits of a life cover.
A12: Fund Manager | B12: Mr. Karan Doshi (Equity Portfolio- managing since 06/09/21) / Mr. Pratik Harish Shroff (Debt Portfolio- managing since 26/09/23) | H12: Mr. Sumit Bhatnagar (Equity Portfolio, managing since 03/10/2023)/ Mr. Pratik Harish Shroff (Debt Portfolio- managing since 26/09/23) | N12: Mr. Yogesh Patil (Equity Portfolio, managing since 12/11/21), Mr. Jaiprakash Toshniwal (Equity Portfolio Co Fund Manager, managing since 06/06/22) / Mr. Rahul Singh (Debt Portfolio, managing since 12/11/21) | T12: Mr. Pratik Harish Shroff (Debt Portfolio, managing since 26/09/23) / Mr. Karan Doshi (Equity Portfolio, managing since 07/01/21) | Z12: Mr. Sumit Bhatnagar (Equity Portfolio, managing since 3/10/23) / Mr. Pratik Harish Shroff (Debt Portfolio- managing since 26/09/23) | AF12: Mr. Dikshit Mittal (Equity Portfolio, managing since 06/09/21) /Mr. Pratik Harish Shroff (Debt Portfolio, managing since 26/09/23)
A14: Annual Portfolio Turnover Ratio (in times) | B14: 0.79397006 | H14: 7.849811 | N14: 0.47969575 | T14: 0 | Z14: 0.4257199 | AF14: 0.098097301
A16: Total Expense Ratio (Weighted Average for the month) Excluding Goods and Service Tax on Management Fees
B17: Regular | E17: Direct | H17: Regular | K17: Direct | N17: Regular | Q17: Direct | T17: Regular | W17: Direct | Z17: Regular | AC17: Direct | AF17: Regular | AI17: Direct
A18: Base TER (%)@ | B18: 2.21 | E18: 1.16 | H18: 0.97 | K18: 0.31 | N18: 2.05 | Q18: 0.4 | T18: 2 | W18: 1.05 | Z18: 1.81 | AC18: 0.81 | AF18: 2.25 | AI18: 1.4
A19: Additional expense as per Regulation 52(6A)(b) (%)# | B19: 0 | E19: 0 | H19: 0 | K19: 0 | N19: 0 | Q19: 0 | T19: 0 | W19: 0 | Z19: 0 | AC19: 0 | AF19: 0 | AI19: 0
A20: Additional expense as per Regulation 52(6A)(c) (%)$ | B20: 0.05 | E20: 0.05 | H20: 0 | K20: 0 | N20: 0.05 | Q20: 0.05 | T20: 0.05 | W20: 0.05 | Z20: 0.05 | AC20: 0.05 | AF20: 0 | AI20: 0
A21: GST (%)^ | B21: 0.19 | E21: 0.19 | H21: 0 | K21: 0 | N21: 0.05 | Q21: 0.05 | T21: 0.2 | W21: 0.16 | Z21: 0.14 | AC21: 0.13 | AF21: 0.24 | AI21: 0.23
