Workbook

Sheet Equity
A1: Dashboard as on 31/10/2023
A2: Scheme Name | B2: LIC MF Flexi Cap Fund | H2: LIC MF Large Cap Fund | N2: LIC MF Large & Mid Cap Fund | T2: LIC MF Banking and Financial Services Fund | Z2: LIC MF Infrastructure Fund | AF2: LIC MF ELSS (ERSTWHILE LIC MF Tax Plan) | AL2: LIC MF Multi Cap Fund | AR2: LIC MF Dividend Yield Fund (ERSTWHILE IDBI DIVIDEND YIELD FUND) | AX2: LIC MF Focused 30 Equity Fund (ERSTWHILE IDBI FOCUSED 30 EQUITY FUND) | BD2: LIC MF Mid cap Fund (ERSTWHILE IDBI MIDCAP FUND) | BJ2: LIC MF Healthcare Fund (ERSTWHILE IDBI HEALTHCARE FUND) | BP2: LIC MF Small Cap Fund (ERSTWHILE IDBI SMALL CAP FUND) | BV2: LIC MF Long Term Value Fund (ERSTWHILE IDBI LONG TERM VALUE FUND)
A4: Date of Allotment - Regular | B4: 15.04.1993 | H4: 01.09.1994 | N4: 25.02.2015 | T4: 27.03.2015 | Z4: 24.03.2008 | AF4: 31.03.1997 | AL4: 31.10.2022 | AR4: 21.12.2018 | AX4: 17.11.2017 | BD4: 25.01.2017 | BJ4: 28.02.2019 | BP4: 21.06.2017 | BV4: 20.08.2018
A5: Date of Allotment - Direct | B5: 01.01.2013 | H5: 01.01.2013 | N5: 25.02.2015 | T5: 27.03.2015 | Z5: 01.01.2013 | AF5: 01.01.2013 | AL5: 31.10.2022 | AR5: 21.12.2018 | AX5: 17.11.2017 | BD5: 25.01.2017 | BJ5: 28.02.2019 | BP5: 21.06.2017 | BV5: 20.08.2018
A7: AUM (in Rs. crore) | B7: 844.05641 | H7: 1249.2218 | N7: 2188.1662 | T7: 279.80591 | Z7: 130.28328 | AF7: 925.06303 | AL7: 681.95708 | AR7: 86.944404 | AX7: 123.12566 | BD7: 204.46314 | BJ7: 48.333746 | BP7: 168.61713 | BV7: 92.260816
A10: Investment Objective | B10: The main investment objective of the scheme is to provide capital growth by investing across Large, Mid & Small Cap stocks. The investment portfolio of the scheme will be constantly monitored and reviewed to optimise capital growth. However, there is no assurance that the investment objective of the Schemes will be realized. | H10: To achieve long term capital appreciation by investing in diversified portfolio predominantly consisting of equity and equity related securities of Large Cap companies including derivatives. However thee can be no assurance that the investment objective of the scheme will be achieved. | N10: To generate long term capital appreciation by investing substantially in a portfolio of equity and equity linked instruments of large cap and midcap companies. | T10: The investment objective of the scheme is to generate long-term capital appreciation for unit holders from a portfolio that in invested substantially in equity and equity related securities of companies engaged in banking and financial services sector. However there can be no assurance that the investment objective of the scheme will be achieved. | Z10: The investment objective of the scheme is to generate long-term growth from a portfolio of equity / equity related instruments of companies engaged either directly or indirectly in the infrastructure sector. However, there is no assurance that the investment objective of the Schemes will be realized. | AF10: To provide capital growth along with tax rebate and tax relief to our investors through prudent investments in the stock markets. An open ended equity linked tax saving Scheme which offers investors the opportunity to seek Tax rebate u/s 80C of the Income Tax Act 1961. However, there is no assurance that the investment objective of the Schemes will be realized. | AL10: The investment objective of the scheme is to generate long term capital appreciation by investing in a diversified portfolio of equity & equity related instruments across large cap, mid cap and small cap stocks. However, there is no assurance that the investment objective of the Scheme will be realized. | AR10: The Investment objective of the Scheme is to provide long term capital appreciation and/or Income Distribution cum capital withdrawal (IDCW) distribution by investing predominantly in dividend yielding equity and equity related instruments. However there can be no assurance that the investment objective under the scheme will be realized. | AX10: The investment objective of the Scheme is to provide long term capital appreciation by investing in concentrated portfolio of large cap focused equity and equity related instruments of up to 30 companies and balance in debt and money market instruments. However there can be no assurance that the investment objective of the Scheme will be realized. | BD10: The objective of the scheme is to provide investors with the opportunities for long-term capital appreciation by investing predominantly in Equity and Equity related instruments of Midcap Companies. However, there can be no assurance that the investment objective under the scheme will be realized. | BJ10: The objective of the Scheme is to achieve long term capital appreciation by predominantly investing in equity and equity related instruments of companies engaged in Healthcare and Allied sectors. However there can be no assurance that the investment objective under the Scheme will be realized. | BP10: The Investment objective of the scheme is to provide investors with the opportunities for long-term capital appreciation by investing predominantly in Equity and Equity related instruments of Small Cap Companies. However, there can be no assurance that the investment objective under the Scheme will be realized. | BV10: The Investment Objective of the Scheme is to generate long-term capital appreciation along with regular income by investing predominantly in equity and equity related instruments by following value investing strategy. However, there can be no assurance that the investment objective of the Scheme will be realized.
A12: Fund Manager | B12: Mr. Jaiprakash Toshniwal (managing since 31/07/23) | H12: Mr. Yogesh Patil (managing since 18/09/20) & Mr. Sumit Bhatnagar (Co- fund manager, managing since 03/10/23) / Mr. Jaiprakash Toshniwal (Co Fund Manager, managing till 02/10/23) | N12: Mr. Yogesh Patil (managing since 18/09/20) & Mr. Dikshit Mittal (Co Fund Manager, managing since 01/06/23) | T12: Mr. Jaiprakash Toshniwal (managing since 06/09/21) | Z12: Mr. Yogesh Patil (managing since 18/09/20) | AF12: Mr. Dikshit Mittal (managing since 31/07/23) / Mr. Karan Doshi (Co Fund Manager, managing since 31/07/23) | AL12: Mr. Yogesh Patil (managing since 31/10/22) & Mr. Dikshit Mittal (Co Fund Manager, managing since 01/12/22 ) | AR12: Mr.Dikshit Mittal (managing since 31/07/23) | AX12: Mr. Jaiprakash Toshniwal (managing since 31/07/23) | BD12: Mr. Karan Doshi (managing since 31/07/23) | BJ12: Mr. Karan Doshi (managing since 31/07/23) | BP12: Mr. Yogesh Patil (managing since 31/07/23) & Mr. Dikhshit Mittal (managing since 31/07/23) | BV12: Mr. Karan Doshi (managing since 31/07/23) & Mr. Jaiprakash Toshniwal (managing since 31/07/23)
A14: Annual Portfolio Turnover Ratio (in times) | B14: 1.4675319 | H14: 0.71710933 | N14: 0.9374236 | T14: 0.56632979 | Z14: 0.60172065 | AF14: 0.65496313 | AL14: 0.50945291 | AR14: 0.17895774 | AX14: 0.73748396 | BD14: 0.27979311 | BJ14: 0.21303841 | BP14: 0.47789101 | BV14: 0.1368739
A16: Total Expense Ratio (Weighted Average for the month) Excluding Goods and Service Tax on Management Fees
B17: Regular | E17: Direct | H17: Regular | K17: Direct | N17: Regular | Q17: Direct | T17: Regular | W17: Direct | Z17: Regular | AC17: Direct | AF17: Regular | AI17: Direct | AL17: Regular | AO17: Direct | AR17: Regular | AU17: Direct | AX17: Regular | BA17: Direct | BD17: Regular | BG17: Direct | BJ17: Regular | BM17: Direct | BP17: Regular | BS17: Direct | BV17: Regular | BY17: Direct
A18: Base TER (%)@ | B18: 2.1 | E18: 1.33 | H18: 1.98 | K18: 0.93 | N18: 1.87 | Q18: 0.64 | T18: 2.25 | W18: 0.95 | Z18: 2.25 | AC18: 1.23 | AF18: 2.07 | AI18: 1.06 | AL18: 2.18 | AO18: 0.52 | AR18: 2.24 | AU18: 1.2 | AX18: 2.24 | BA18: 1.3 | BD18: 2.23 | BG18: 1.31 | BJ18: 2.24 | BM18: 1.01 | BP18: 2.24 | BS18: 1.27 | BV18: 2.24 | BY18: 1.34
A19: Additional expense as per Regulation 52(6A)(b) (%)# | B19: 0 | E19: 0 | H19: 0 | K19: 0 | N19: 0 | Q19: 0 | T19: 0 | W19: 0 | Z19: 0 | AC19: 0 | AF19: 0 | AI19: 0 | AL19: 0 | AO19: 0 | AR19: 0 | AU19: 0 | AX19: 0 | BA19: 0 | BD19: 0 | BG19: 0 | BJ19: 0 | BM19: 0 | BP19: 0 | BS19: 0 | BV19: 0 | BY19: 0
A20: Additional expense as per Regulation 52(6A)(c) (%)$ | B20: 0.05 | E20: 0.05 | H20: 0.05 | K20: 0.05 | N20: 0.05 | Q20: 0.05 | T20: 0.05 | W20: 0.05 | Z20: 0.05 | AC20: 0.05 | AF20: 0 | AI20: 0 | AL20: 0.05 | AO20: 0.05 | AR20: 0.05 | AU20: 0.05 | AX20: 0.05 | BA20: 0.05 | BD20: 0.05 | BG20: 0.05 | BJ20: 0.05 | BM20: 0.05 | BP20: 0.05 | BS20: 0.05 | BV20: 0.05 | BY20: 0.05
A21: GST (%)^ | B21: 0.22 | E21: 0.21 | H21: 0.14 | K21: 0.14 | N21: 0.09 | Q21: 0.09 | T21: 0.21 | W21: 0.2 | Z21: 0.22 | AC21: 0.2 | AF21: 0.17 | AI21: 0.17 | AL21: 0.08 | AO21: 0.08 | AR21: 0.2 | AU21: 0.19 | AX21: 0.22 | BA21: 0.21 | BD21: 0.22 | BG21: 0.21 | BJ21: 0.15 | BM21: 0.15 | BP21: 0.21 | BS21: 0.21 | BV21: 0.22 | BY21: 0.21
A22: Total TER (%) | B22: =SUM(B18:D21) -> 2.37 | E22: =SUM(E18:G21) -> 1.59 | H22: =SUM(H18:J21) -> 2.17 | K22: =SUM(K18:M21) -> 1.12 | N22: =SUM(N18:P21) -> 2.01 | Q22: =SUM(Q18:S21) -> 0.78 | T22: =SUM(T18:V21) -> 2.51 | W22: =SUM(W18:Y21) -> 1.2 | Z22: =SUM(Z18:AB21) -> 2.52 | AC22: =SUM(AC18:AE21) -> 1.48 | AF22: =SUM(AF18:AH21) -> 2.24 | AI22: =SUM(AI18:AK21) -> 1.23 | AL22: =SUM(AL18:AN21) -> 2.31 | AO22: =SUM(AO18:AQ21) -> 0.65 | AR22: =SUM(AR18:AT21) -> 2.49 | AU22: =SUM(AU18:AW21) -> 1.44 | AX22: =SUM(AX18:AZ21) -> 2.51 | BA22: =SUM(BA18:BC21) -> 1.56 | BD22: =SUM(BD18:BF21) -> 2.5 | BG22: =SUM(BG18:BI21) -> 1.57 | BJ22: =SUM(BJ18:BL21) -> 2.44 | BM22: =SUM(BM18:BO21) -> 1.21 | BP22: =SUM(BP18:BR21) -> 2.5 | BS22: =SUM(BS18:BU21) -> 1.53 | BV22: =SUM(BV18:BX21) -> 2.51 | BY22: =SUM(BY18:CA21) -> 1.6
A24: Portfolio (Top 10 Holdings) | B24: Name of the issuer | E24: % of Scheme | H24: Name of the issuer | K24: % of Scheme | N24: Name of the issuer | Q24: % of Scheme | T24: Name of the issuer | W24: % of Scheme | Z24: Name of the issuer | AC24: % of Scheme | AF24: Name of the issuer | AI24: % of Scheme | AL24: Name of the issuer | AO24: % of Scheme | AR24: Name of the issuer | AU24: % of Scheme | AX24: Name of the issuer | BA24: % of Scheme | BD24: Name of the issuer | BG24: % of Scheme | BJ24: Name of the issuer | BM24: % of Scheme | BP24: Name of the issuer | BS24: % of Scheme | BV24: Name of the issuer | BY24: % of Scheme
B25: HDFC Bank Ltd. | E25: 8.5684 | H25: HDFC Bank Ltd. | K25: 9.4979 | N25: HDFC Bank Ltd. | Q25: 5.8981 | T25: HDFC Bank Ltd. | W25: 23.0153 | Z25: Transport Corporation Of India Ltd. | AC25: 6.2906 | AF25: ICICI Bank Ltd. | AI25: 7.5251 | AL25: HDFC Bank Ltd. | AO25: 4.3165 | AR25: Infosys Ltd. | AU25: 6.9269 | AX25: HDFC Bank Ltd. | BA25: 8.2667 | BD25: UNO Minda Ltd. | BG25: 4.163 | BJ25: Sun Pharmaceutical Industries Ltd. | BM25: 14.5394 | BP25: Garware Hi-Tech Films Ltd. | BS25: 5.3885 | BV25: State Bank of India | BY25: 8.0512
B26: ICICI Bank Ltd. | E26: 7.9694 | H26: ICICI Bank Ltd. | K26: 9.0745 | N26: ICICI Bank Ltd. | Q26: 5.2105 | T26: ICICI Bank Ltd. | W26: 15.6229 | Z26: Ultratech Cement Ltd. | AC26: 5.092 | AF26: HDFC Bank Ltd. | AI26: 7.3854 | AL26: ICICI Bank Ltd. | AO26: 3.5794 | AR26: ICICI Bank Ltd. | AU26: 5.2654 | AX26: ICICI Bank Ltd. | BA26: 5.8955 | BD26: Trent Ltd. | BG26: 3.7765 | BJ26: Apollo Hospitals Enterprise Ltd. | BM26: 8.3748 | BP26: KEI Industries Ltd. | BS26: 4.4207 | BV26: HDFC Bank Ltd. | BY26: 8.0434
B27: State Bank of India | E27: 5.01 | H27: Reliance Industries Ltd. | K27: 5.8919 | N27: REC Ltd. | Q27: 2.9474 | T27: State Bank of India | W27: 9.352 | Z27: KSB Ltd. | AC27: 4.7403 | AF27: Axis Bank Ltd. | AI27: 3.885 | AL27: Power Finance Corporation Ltd. | AO27: 2.8973 | AR27: NTPC Ltd. | AU27: 5.0093 | AX27: State Bank of India | BA27: 5.2417 | BD27: ICICI Bank Ltd. | BG27: 3.3438 | BJ27: Dr. Reddy's Laboratories Ltd. | BM27: 8.1626 | BP27: Grindwell Norton Ltd. | BS27: 3.8607 | BV27: ICICI Bank Ltd. | BY27: 6.3194
B28: Hindustan Unilever Ltd. | E28: 4.2489 | H28: State Bank of India | K28: 5.3152 | N28: Infosys Ltd. | Q28: 2.6515 | T28: Axis Bank Ltd. | W28: 7.4103 | Z28: Pitti Engineering Ltd. | AC28: 4.2235 | AF28: Infosys Ltd. | AI28: 3.6778 | AL28: State Bank of India | AO28: 2.2333 | AR28: Tata Consultancy Services Ltd. | AU28: 4.7961 | AX28: Hindustan Unilever Ltd. | BA28: 5.1264 | BD28: The Federal Bank Ltd. | BG28: 2.9815 | BJ28: JB Chemicals & Pharmaceuticals Ltd. | BM28: 6.7783 | BP28: BSE Ltd. | BS28: 3.7496 | BV28: Reliance Industries Ltd. | BY28: 5.4894
B29: Maruti Suzuki India Ltd. | E29: 2.9819 | H29: Infosys Ltd. | K29: 4.1994 | N29: Power Finance Corporation Ltd. | Q29: 2.5062 | T29: The Federal Bank Ltd. | W29: 5.2122 | Z29: Kennametal India Ltd. | AC29: 4.179 | AF29: Cholamandalam Investment & Fin Co Ltd. | AI29: 3.2683 | AL29: Reliance Industries Ltd. | AO29: 2.1386 | AR29: Bharat Electronics Ltd. | AU29: 4.599 | AX29: The Federal Bank Ltd. | BA29: 5.0491 | BD29: P I INDUSTRIES LIMITED | BG29: 2.8705 | BJ29: Cipla Ltd. | BM29: 6.3624 | BP29: Kirloskar Oil Engines Ltd. | BS29: 2.872 | BV29: Infosys Ltd. | BY29: 4.5288
B30: The Federal Bank Ltd. | E30: 2.9163 | H30: ITC Ltd. | K30: 3.9295 | N30: Reliance Industries Ltd. | Q30: 2.2513 | T30: Creditaccess Grameen Ltd. | W30: 4.8767 | Z30: CIE Automotive India Ltd. | AC30: 3.8524 | AF30: State Bank of India | AI30: 3.2143 | AL30: Kotak Mahindra Bank Ltd. | AO30: 2.0745 | AR30: Power Grid Corporation of India Ltd. | AU30: 4.2141 | AX30: Avenue Supermarts Ltd. | BA30: 4.9991 | BD30: Coforge Ltd. | BG30: 2.7854 | BJ30: Divi's Laboratories Ltd. | BM30: 5.8208 | BP30: Lemon Tree Hotels Ltd. | BS30: 2.6513 | BV30: VARUN BEVERAGES LIMITED | BY30: 3.9865
B31: Axis Bank Ltd. | E31: 2.9048 | H31: Axis Bank Ltd. | K31: 3.4866 | N31: Shriram Finance Ltd. | Q31: 2.2053 | T31: L&T Finance Holdings Ltd. | W31: 3.2525 | Z31: TD Power Systems Ltd. | AC31: 3.7906 | AF31: P I INDUSTRIES LIMITED | AI31: 2.3298 | AL31: Infosys Ltd. | AO31: 2.018 | AR31: Maruti Suzuki India Ltd. | AU31: 3.9527 | AX31: ITC Ltd. | BA31: 4.2752 | BD31: Balkrishna Industries Ltd. | BG31: 2.6252 | BJ31: Zydus Lifesciences Ltd. | BM31: 5.4506 | BP31: KSB Ltd. | BS31: 2.4806 | BV31: Bank of Baroda | BY31: 3.8251
B32: ITC Ltd. | E32: 2.597 | H32: Larsen & Toubro Ltd. | K32: 3.3501 | N32: Aditya Birla Fashion and Retail Ltd. | Q32: 2.1636 | T32: DCB Bank Ltd. | W32: 3.1962 | Z32: Bharat Bijlee Ltd. | AC32: 3.7258 | AF32: Titan Company Ltd. | AI32: 2.2564 | AL32: Pitti Engineering Ltd. | AO32: 1.9514 | AR32: Larsen & Toubro Ltd. | AU32: 3.4924 | AX32: Maruti Suzuki India Ltd. | BA32: 4.1008 | BD32: Alkem Laboratories Ltd. | BG32: 2.5889 | BJ32: Piramal Pharma Ltd. | BM32: 5.4441 | BP32: Avalon Technologies Ltd. | BS32: 2.3892 | BV32: Bharat Forge Ltd. | BY32: 3.5594
B33: L&T Finance Holdings Ltd. | E33: 2.3448 | H33: Tata Consultancy Services Ltd. | K33: 3.0663 | N33: State Bank of India | Q33: 1.9393 | T33: Piramal Enterprises Ltd. | W33: 3.1316 | Z33: REC Ltd. | AC33: 3.6565 | AF33: Larsen & Toubro Ltd. | AI33: 2.2044 | AL33: Kennametal India Ltd. | AO33: 1.9014 | AR33: Bajaj Finance Ltd. | AU33: 3.448 | AX33: Havells India Ltd. | BA33: 4.017 | BD33: Bharat Electronics Ltd. | BG33: 2.5636 | BJ33: Torrent Pharmaceuticals Ltd. | BM33: 4.9366 | BP33: Carborundum Universal Ltd. | BS33: 2.3722 | BV33: Persistent Systems Ltd. | BY33: 3.2293
B34: Bajaj Finance Ltd. | E34: 2.3381 | H34: Hindustan Unilever Ltd. | K34: 3.0054 | N34: TD Power Systems Ltd. | Q34: 1.8407 | T34: Five Star Business Finance Ltd. | W34: 2.9838 | Z34: Hitachi Energy India Ltd. | AC34: 3.4717 | AF34: ABB India Ltd. | AI34: 2.085 | AL34: CIE Automotive India Ltd. | AO34: 1.7939 | AR34: NHPC Ltd. | AU34: 3.3887 | AX34: Pidilite Industries Ltd. | BA34: 3.9417 | BD34: Dalmia Bharat Ltd. | BG34: 2.333 | BJ34: Abbott India Ltd. | BM34: 4.7574 | BP34: Blue Star Ltd. | BS34: 2.3185 | BV34: Axis Bank Ltd. | BY34: 2.8607
B35: Others | E35: 47.7719 | H35: Others | K35: 43.8133 | N35: Others | Q35: 62.4752 | T35: Others | W35: 18.2848 | Z35: Others | AC35: 50.909 | AF35: Others | AI35: 56.7504 | AL35: Others | AO35: 66.2737 | AR35: Others | AU35: 51.2422 | AX35: Others | BA35: 41.3622 | BD35: Others | BG35: 63.978 | BJ35: Others | BM35: 25.4275 | BP35: Others | BS35: 61.3217 | BV35: Others | BY35: 45.7219
B36: Cash & Cash Equivalent: | E36: 10.3485 | H36: Cash & Cash Equivalent: | K36: 5.3699 | N36: Cash & Cash Equivalent: | Q36: 7.9109 | T36: Cash & Cash Equivalent: | W36: 3.6617 | Z36: Cash & Cash Equivalent: | AC36: 6.0686 | AF36: Cash & Cash Equivalent: | AI36: 5.4181 | AL36: Cash & Cash Equivalent: | AO36: 8.822 | AR36: Cash & Cash Equivalent: | AU36: 3.6652 | AX36: Cash & Cash Equivalent: | BA36: 7.7246 | BD36: Cash & Cash Equivalent: | BG36: 5.9906 | BJ36: Cash & Cash Equivalent: | BM36: 3.9455 | BP36: Cash & Cash Equivalent: | BS36: 6.175 | BV36: Cash & Cash Equivalent: | BY36: 4.3849
B37: Grand Total | E37: =SUM(E25:G36) -> 100 | H37: Grand Total | K37: =SUM(K25:M36) -> 100 | N37: Grand Total | Q37: =SUM(Q25:S36) -> 100 | T37: Grand Total | W37: =SUM(W25:Y36) -> 100 | Z37: Grand Total | AC37: =SUM(AC25:AE36) -> 100 | AF37: Grand Total | AI37: =SUM(AI25:AK36) -> 100 | AL37: Grand Total | AO37: =SUM(AO25:AQ36) -> 100 | AR37: Grand Total | AU37: =SUM(AU25:AW36) -> 100 | AX37: Grand Total | BA37: =SUM(BA25:BC36) -> 100 | BD37: Grand Total | BG37: =SUM(BG25:BI36) -> 100 | BJ37: Grand Total | BM37: =SUM(BM25:BO36) -> 100 | BP37: Grand Total | BS37: =SUM(BS25:BU36) -> 100 | BV37: Grand Total | BY37: =SUM(BY25:CA36) -> 100
A39: Asset Allocation | B39: Asset Allocation | E39: % of Scheme | H39: Asset Allocation | K39: % of Scheme | N39: Asset Allocation | Q39: % of Scheme | T39: Asset Allocation | W39: % of Scheme | Z39: Asset Allocation | AC39: % of Scheme | AF39: Asset Allocation | AI39: % of Scheme | AL39: Asset Allocation | AO39: % of Scheme | AR39: Asset Allocation | AU39: % of Scheme | AX39: Asset Allocation | BA39: % of Scheme | BD39: Asset Allocation | BG39: % of Scheme | BJ39: Asset Allocation | BM39: % of Scheme | BP39: Asset Allocation | BS39: % of Scheme | BV39: Asset Allocation | BY39: % of Scheme
B40: Equity Holdings | C40: 0.95970929 | D40: Equity Holdings | E40: =SUM(E25:G35) -> 89.6515 | H40: Equity Holdings | I40: 0.96083851 | J40: Equity Holdings | K40: =SUM(K25:M35) -> 94.6301 | N40: Equity Holdings | O40: 0.95947917 | P40: Equity Holdings | Q40: =SUM(Q25:S35) -> 92.0891 | T40: Equity Holdings | U40: 0.95062595 | V40: Equity Holdings | W40: =SUM(W25:Y35) -> 96.3383 | Z40: Equity Holdings | AA40: 0.97458926 | AB40: Equity Holdings | AC40: =SUM(AC25:AE35) -> 93.9314 | AF40: Equity Holdings | AG40: 0.96417311 | AH40: Equity Holdings | AI40: =SUM(AI25:AK35) -> 94.5819 | AL40: Equity Holdings | AO40: =SUM(AO25:AQ35) -> 91.178 | AR40: Equity Holdings | AU40: =SUM(AU25:AW35) -> 96.3348 | AX40: Equity Holdings | BA40: =SUM(BA25:BC35) -> 92.2754 | BD40: Equity Holdings | BG40: =SUM(BG25:BI35) -> 94.0094 | BJ40: Equity Holdings | BM40: =SUM(BM25:BO35) -> 96.0545 | BP40: Equity Holdings | BS40: =SUM(BS25:BU35) -> 93.825 | BV40: Equity Holdings | BY40: =SUM(BY25:CA35) -> 95.6151
B41: Cash & Other Receivables | C41: 0.040290706 | D41: Cash & Other Receivables | E41: =E36 -> 10.3485 | H41: Cash & Other Receivables | I41: 0.039161485 | J41: Cash & Other Receivables | K41: =K36 -> 5.3699 | N41: Cash & Other Receivables | O41: 0.04052083 | P41: Cash & Other Receivables | Q41: =Q36 -> 7.9109 | T41: Cash & Other Receivables | U41: 0.049374047 | V41: Cash & Other Receivables | W41: =W36 -> 3.6617 | Z41: Cash & Other Receivables | AA41: 0.025410745 | AB41: Cash & Other Receivables | AC41: =AC36 -> 6.0686 | AF41: Cash & Other Receivables | AG41: 0.035826888 | AH41: Cash & Other Receivables | AI41: =AI36 -> 5.4181 | AL41: Cash & Other Receivables | AO41: =AO36 -> 8.822 | AR41: Cash & Other Receivables | AU41: =AU36 -> 3.6652 | AX41: Cash & Other Receivables | BA41: =BA36 -> 7.7246 | BD41: Cash & Other Receivables | BG41: =BG36 -> 5.9906 | BJ41: Cash & Other Receivables | BM41: =BM36 -> 3.9455 | BP41: Cash & Other Receivables | BS41: =BS36 -> 6.175 | BV41: Cash & Other Receivables | BY41: =BY36 -> 4.3849
B46: Grand Total | E46: =SUM(E40:G44) -> 100 | H46: Grand Total | K46: =SUM(K40:M44) -> 100 | N46: Grand Total | Q46: =SUM(Q40:S44) -> 100 | T46: Grand Total | W46: =SUM(W40:Y44) -> 100 | Z46: Grand Total | AC46: =SUM(AC40:AE44) -> 100 | AF46: Grand Total | AI46: =SUM(AI40:AK44) -> 100 | AL46: Grand Total | AO46: =SUM(AO40:AQ44) -> 100 | AR46: Grand Total | AU46: =SUM(AU40:AW44) -> 100 | AX46: Grand Total | BA46: =SUM(BA40:BC44) -> 100 | BD46: Grand Total | BG46: =SUM(BG40:BI44) -> 100 | BJ46: Grand Total | BM46: =SUM(BM40:BO44) -> 100 | BP46: Grand Total | BS46: =SUM(BS40:BU44) -> 100 | BV46: Grand Total | BY46: =SUM(BY40:CA44) -> 100
A48: Sectoral Allocation | B48: Sector/Industry | E48: % of Scheme | H48: Sector/Industry | K48: % of Scheme | N48: Sector/Industry | Q48: % of Scheme | T48: Sector/Industry | W48: % of Scheme | Z48: Sector/Industry | AC48: % of Scheme | AF48: Sector/Industry | AI48: % of Scheme | AL48: Sector/Industry | AO48: % of Scheme | AR48: Sector/Industry | AU48: % of Scheme | AX48: Sector/Industry | BA48: % of Scheme | BD48: Sector/Industry | BG48: % of Scheme | BJ48: Sector/Industry | BM48: % of Scheme | BP48: Sector/Industry | BS48: % of Scheme | BV48: Sector/Industry | BY48: % of Scheme
B49: Banks | E49: 30.2416 | H49: Banks | K49: 30.1475 | N49: Banks | Q49: 17.7273 | T49: Banks | W49: 70.2795 | Z49: Industrial Products | AC49: 15.6497 | AF49: Banks | AI49: 24.0083 | AL49: Banks | AO49: 16.2219 | AR49: Power | AU49: 15.6614 | AX49: Banks | BA49: 31.0241 | BD49: Auto Components | BG49: 11.7494 | BJ49: Pharmaceuticals & Biotechnology | BM49: 74.3766 | BP49: Industrial Products | BS49: 28.936 | BV49: Banks | BY49: 31.2623
B50: Cash & Cash Equivalent: | E50: 10.3485 | H50: IT - Software | K50: 9.5282 | N50: Finance | Q50: 10.5281 | T50: Finance | W50: 26.0588 | Z50: Electrical Equipment | AC50: 14.9476 | AF50: IT - Software | AI50: 9.7887 | AL50: Cash & Cash Equivalent: | AO50: 8.822 | AR50: IT - Software | AU50: 14.0435 | AX50: Diversified FMCG | BA50: 9.4016 | BD50: Banks | BG50: 10.1872 | BJ50: Healthcare Services | BM50: 21.6779 | BP50: Consumer Durables | BS50: 14.9053 | BV50: IT - Software | BY50: 11.3513
B51: Auto Components | E51: 8.1741 | H51: Diversified FMCG | K51: 6.9349 | N51: Cash & Cash Equivalent: | Q51: 7.9109 | T51: Cash & Cash Equivalent: | W51: 3.6617 | Z51: Industrial Manufacturing | AC51: 12.2351 | AF51: Consumer Durables | AI51: 8.2209 | AL51: Auto Components | AO51: 7.2624 | AR51: Automobiles | AU51: 9.6766 | AX51: IT - Software | BA51: 8.5549 | BD51: Industrial Products | BG51: 9.0107 | BJ51: Cash & Cash Equivalent: | BM51: 3.9455 | BP51: Electrical Equipment | BS51: 8.7101 | BV51: Beverages | BY51: 5.7752
B52: Diversified FMCG | E52: 6.8459 | H52: Petroleum Products | K52: 5.8919 | N52: Auto Components | Q52: 6.3854 | Z52: Transport Services | AC52: 10.632 | AF52: Finance | AI52: 6.5273 | AL52: Finance | AO52: 7.2015 | AR52: Banks | AU52: 7.4677 | AX52: Retailing | BA52: 8.1022 | BD52: Consumer Durables | BG52: 7.9262 | BP52: Cash & Cash Equivalent: | BS52: 6.175 | BV52: Automobiles | BY52: 5.5277
B53: Finance | E53: 6.0086 | H53: Automobiles | K53: 5.6863 | N53: IT - Software | Q53: 6.1343 | Z53: Auto Components | AC53: 7.4813 | AF53: Industrial Products | AI53: 6.3488 | AL53: Consumer Durables | AO53: 6.8458 | AR53: Finance | AU53: 6.5337 | AX53: Consumer Durables | BA53: 7.9619 | BD53: Retailing | BG53: 6.9829 | BP53: Banks | BS53: 6.0151 | BV53: Petroleum Products | BY53: 5.4894
B54: Automobiles | E54: 5.4321 | H54: Cash & Cash Equivalent: | K54: 5.3699 | N54: Consumer Durables | Q54: 5.6316 | Z54: Construction | AC54: 6.2536 | AF54: Cash & Cash Equivalent: | AI54: 5.4181 | AL54: IT - Software | AO54: 5.8155 | AR54: Consumer Durables | AU54: 5.9745 | AX54: Cash & Cash Equivalent: | BA54: 7.7246 | BD54: Finance | BG54: 6.5037 | BP54: Chemicals & Petrochemicals | BS54: 5.1441 | BV54: Finance | BY54: 4.825
...

Sheet Debt-Excl.Over,Liq,LowDur,Ult,M
A1: =Equity!A1 -> Dashboard as on 31/10/2023
A2: Scheme Name | B2: LIC MF Banking & PSU Debt Fund | H2: LIC MF Gilt Fund (ERSTWHILE LIC MF Government Securities Fund) | N2: LIC MF Medium to Long Duration Bond Fund (ERSTWHILE LIC MF Bond Fund) | T2: LIC MF Short Duration Fund (ERSTWHILE LIC MF Short Term Debt Fund)
A4: Date of Allotment - Regular | B4: 31.05.2007 | H4: 10.12.1999 | N4: 23.06.1999 | T4: 01.02.2019
A5: Date of Allotment - Direct | B5: 01.01.2013 | H5: 01.01.2013 | N5: 01.01.2013 | T5: 01.02.2019
A7: AUM (in Rs. crore) | B7: 1110.7189 | H7: 45.926402 | N7: 183.88574 | T7: 129.06873
A9: Investment Objective | B9: The primary investment objective of the Scheme is to seek to generate income and capital appreciation by primarily investing in a portfolio of high quality debt and money market securities that are issued by banks, public sector undertakings, public financial institutions and Municipal Bonds. There is no assurance that the investment objective of the Scheme will be realized. | H9: The primary objective of the scheme is to generate credit risk free and reasonable returns for its investors through investments in sovereign securities issued by the central and /or state Government and/or any security unconditionally guaranteed by the central/ state government for repayment of Principal and interest and/or reverse repos in such securities as and when permitted by RBI. However, there is no assurance that the investment objective of the Schemes will be realized. | N9: LIC MF Medium to Long Duration Bond fund is an open-ended debt scheme which will endeavor to generate an attractive return for its investors by investing in a portfolio is between 4 years and 7 years. However, there is no assurance that the investment objective of the Schemes will be realized. | T9: The primary investment objective of the scheme is to generate returns commensurate with risk from a portfolio constituted of Debt securities and/or Money Market instruments. However there can be no assurance that the investment objective of the scheme will be achieved.
A11: Fund Manager | B11: Mr. Marzban Irani (managing since 10/08/16) / Mr. Pratik Harish Shroff (Co Fund Manager, managing since 26/09/23) | H11: Mr. Marzban Irani (managing since 10/18/16) / Mr. Pratik Harish Shroff (Co Fund Manager, managing since 26/09/23) / | N11: Mr. Marzban Irani (managing since 10/08/16) / Mr. Pratik Harish Shroff (Co Fund Manager, from 26/09/23) | T11: Mr. Marzban Irani (managing since 01/02/19) / Mr. Pratik Harish Shroff (Co Fund Manager, managing since 26/09/23)
A13: Total Expense Ratio (Weighted Average for the month) Excluding Goods and Service Tax on Management Fees
B14: Regular | E14: Direct | H14: Regular | K14: Direct | N14: Regular | Q14: Direct | T14: Regular | W14: Direct
A15: Base TER (%)@ | B15: 0.75 | E15: 0.25 | H15: 1.35 | K15: 0.63 | N15: 1.21 | Q15: 0.2 | T15: 1.29 | W15: 0.33
A16: Additional expense as per Regulation 52(6A)(b) (%)# | B16: 0 | E16: 0 | H16: 0 | K16: 0 | N16: 0 | Q16: 0 | T16: 0 | W16: 0
A17: Additional expense as per Regulation 52(6A)(c) (%)$ | B17: 0 | E17: 0 | H17: 0.05 | K17: 0.05 | N17: 0 | Q17: 0 | T17: 0 | W17: 0
A18: GST (%)^ | B18: 0.03 | E18: 0.03 | H18: 0.08 | K18: 0.08 | N18: 0.01 | Q18: 0.01 | T18: 0.04 | W18: 0.04
A19: Total TER (%) | B19: =SUM(B15:D18) -> 0.78 | E19: =SUM(E15:G18) -> 0.28 | H19: =SUM(H15:J18) -> 1.48 | K19: =SUM(K15:M18) -> 0.76 | N19: =SUM(N15:P18) -> 1.22 | Q19: =SUM(Q15:S18) -> 0.21 | T19: =SUM(T15:V18) -> 1.33 | W19: =SUM(W15:Y18) -> 0.37
A21: Portfolio (Top 10 Holdings) | B21: Name of the issuer | E21: % of Scheme | H21: Name of the issuer | K21: % of Scheme | N21: Name of the issuer | Q21: % of Scheme | T21: Name of the issuer | W21: % of Scheme
B22: Government Bond | E22: 12.3635 | H22: Government Bond | K22: 69.7313 | N22: State Government Bond | Q22: 51.7449 | T22: Government Bond | W22: 30.5185
B23: National Bk for Agriculture & Rural Dev. | E23: 9.6849 | H23: State Government Bond | K23: 24.2953 | N23: Government Bond | Q23: 39.02 | T23: Government Treasury Bill | W23: 11.0986
B24: Small Industries Development Bk of India | E24: 9.5177 | H24: Others | K24: 0 | N24: HDFC Bank Ltd. | Q24: 5.5477 | T24: Bajaj Finance Ltd. | W24: 8.2741
B25: Power Finance Corporation Ltd. | E25: 9.5075 | H25: Cash & Cash Equivalent: | K25: 5.9734 | N25: SBI Funds Management Ltd. | Q25: 0.1935 | T25: Small Industries Development Bk of India | W25: 8.2182
B26: REC Ltd. | E26: 9.3154 | N26: Others | Q26: 0 | T26: REC Ltd. | W26: 7.8179
B27: NTPC Ltd. | E27: 7.2521 | N27: Cash & Cash Equivalent: | Q27: 3.4939 | T27: Power Finance Corporation Ltd. | W27: 7.7918
B28: Power Grid Corporation of India Ltd. | E28: 4.7539 | T28: National Bk for Agriculture & Rural Dev. | W28: 7.7013
B29: Bajaj Finance Ltd. | E29: 4.6968 | T29: Tata Capital Financial Services Ltd. | W29: 5.6988
B30: Indian Railway Finance Corporation Ltd. | E30: 4.5767 | T30: Indian Railway Finance Corporation Ltd. | W30: 3.9932
B31: Oil & Natural Gas Corporation Ltd. | E31: 4.5669 | T31: State Government Bond | W31: 0.5931
B32: Others | E32: 21.3447 | T32: Others | W32: 0.278
B33: Cash & Cash Equivalent: | E33: 2.4199 | T33: Cash & Cash Equivalent: | W33: 8.0165
B34: Grand Total | E34: =SUM(E22:G33) -> 100 | H34: Grand Total | K34: =SUM(K22:M33) -> 100 | N34: Grand Total | Q34: =SUM(Q22:S33) -> 100 | T34: Grand Total | W34: =SUM(W22:Y33) -> 100
A36: Asset Allocation | B36: Asset Allocation | E36: % of Scheme | H36: Asset Allocation | K36: % of Scheme | N36: Asset Allocation | Q36: % of Scheme | T36: Asset Allocation | W36: % of Scheme
B37: CORPORATE DEBT | E37: 76.683373 | H37: GOVERNMENT BOND AND TREASURY BILL | K37: =SUM(K22:M24) -> 94.0266 | N37: GOVERNMENT BOND AND TREASURY BILL | Q37: 90.765436 | T37: CORPORATE DEBT | W37: 49.495677
B38: GOVERNMENT BOND AND TREASURY BILL | E38: 14.186577 | H38: Cash & Other Receivables | K38: =K25 -> 5.9734 | N38: CORPORATE DEBT | Q38: 5.5477198 | T38: GOVERNMENT BOND AND TREASURY BILL | W38: 42.210345
B39: Money Market Instruments | E39: 6.4328524 | N39: Cash & Other Receivables | Q39: 3.4933099 | T39: Cash & Other Receivables | W39: 8.0159139
B40: Cash & Other Receivables | E40: 2.418175 | N40: Mutual Fund Units | Q40: 0.19353405 | T40: Mutual Fund Units | W40: 0.27806433
B41: Mutual Fund Units | E41: 0.27902326
B42: Grand Total | E42: =SUM(E37:G41) -> 100 | H42: Grand Total | K42: =SUM(K37:M41) -> 100 | N42: Grand Total | Q42: =SUM(Q37:S41) -> 100 | T42: Grand Total | W42: =SUM(W37:Y41) -> 100
A44: Scheme Past Performance | B44: Regular (Growth) | E44: Direct (Growth) | H44: Regular (Growth) | K44: Direct (Growth) | N44: Regular (Growth) | Q44: Direct (Growth) | T44: Regular (Growth) | W44: Direct (Growth)
B45: Scheme (%) | C45: Scheme Benchmark (%) | D45: Additional Benchmark (%) | E45: Scheme (%) | F45: Scheme Benchmark (%) | G45: Additional Benchmark (%) | H45: Scheme (%) | I45: Scheme Benchmark (%) | J45: Additional Benchmark (%) | K45: Scheme (%) | L45: Scheme Benchmark (%) | M45: Additional Benchmark (%) | N45: Scheme (%) | O45: Scheme Benchmark (%) | P45: Additional Benchmark (%) | Q45: Scheme (%) | R45: Scheme Benchmark (%) | S45: Additional Benchmark (%) | T45: Scheme (%) | U45: Scheme Benchmark (%) | V45: Additional Benchmark (%) | W45: Scheme (%) | X45: Scheme Benchmark (%) | Y45: Additional Benchmark (%)
A46: 1 year | B46: 6.2834 | C46: 6.8043 | D46: 7.4391 | E46: 6.8516 | F46: 6.8043 | G46: 7.4391 | H46: 5.6256 | I46: 7.5577 | J46: 7.4391 | K46: 6.3825 | L46: 7.5577 | M46: 7.4391 | N46: 6.5146 | O46: 8.2078 | P46: 7.4391 | Q46: 7.1981 | R46: 8.2078 | S46: 7.4391 | T46: 5.8567 | U46: 7.7695 | V46: 7.4391 | W46: 6.8537 | X46: 7.7695 | Y46: 7.4391
A47: 3 Years | B47: 3.8827 | C47: 4.5934 | D47: 2.6457 | E47: 4.4498 | F47: 4.5934 | G47: 2.6457 | H47: 2.9593 | I47: 3.9192 | J47: 2.6457 | K47: 3.7019 | L47: 3.9192 | M47: 2.6457 | N47: 3.2059 | O47: 5.8991 | P47: 2.6457 | Q47: 3.6873 | R47: 5.8991 | S47: 2.6457 | T47: 3.5237 | U47: 5.5028 | V47: 2.6457 | W47: 4.5624 | X47: 5.5028 | Y47: 2.6457
A48: 5 years | B48: 6.2715 | C48: 6.9728 | D48: 6.2002 | E48: 6.8485 | F48: 6.9728 | G48: 6.2002 | H48: 6.648 | I48: 7.5415 | J48: 6.2002 | K48: 7.4397 | L48: 7.5415 | M48: 6.2002 | N48: 6.0395 | O48: 8.4844 | P48: 6.2002 | Q48: 6.6379 | R48: 8.4844 | S48: 6.2002 | T48: NA | U48: NA | V48: NA | W48: NA | X48: NA | Y48: NA
...

Sheet Debt-Over,Liq,Low Dur,Ultra,MM
A1: =Equity!A1 -> Dashboard as on 31/10/2023
A2: Scheme Name | B2: LIC MF Liquid Fund | H2: LIC MF Low Duration Fund (ERSTWHILE LIC MF Savings Fund) | N2: LIC MF Overnight Fund | T2: LIC MF Ultra Short Duration Fund (ERSTWHILE LIC MF Ultra Short Term Fund) | Z2: LIC MF Money Market Fund
A4: Date of Allotment - Regular | B4: 18.03.2002 | H4: 09.06.2003 | N4: 18.07.2019 | T4: 27.11.2019 | Z4: 01.08.2022
A5: Date of Allotment - Direct | B5: 01.01.2013 | H5: 01.01.2013 | N5: 18.07.2019 | T5: 27.11.2019 | Z5: 01.08.2022
A7: AUM (in Rs. crore) | B7: 8734.134 | H7: 1383.9811 | N7: 318.62291 | T7: 121.36737 | Z7: 30.100958
A9: Investment Objective | B9: An open ended scheme which seeks to generate reasonable returns with low risk and high liquidity through judicious mix of investment in money market instruments and quality debt instruments. However, there is no assurance that the investment objective of the Schemes will be realized. | H9: The investment objective of the Scheme is to generate income by investing in a portfolio of quality short term debt securities. However, there is no assurance that the investment objective of the Schemes will be realized. | N9: The Investment Objective of the Scheme is to provide reasonable returns commensurate with low risk and providing a high level of liquidity, through investments made primarily in overnight securities having maturity/residual maturity of 1 business day. However, there can be no assurance that the investment objective of the scheme will be achieved. The Scheme(s) does not assure or guarantee any returns. | T9: The investment objective of the scheme is to generate returns through investment in Debt & Money Market instruments such that the Macaulay duration of the portfolio is between 3 months - 6 months. However, there is no assurance or guarantee that the investment objective of the Scheme will be achieved. The scheme does not assure or guarantee any returns. | Z9: The investment objective of the Scheme is to generate income through investment in a portfolio comprising of money market instruments. However, there is no assurance that the Investment Objective of the Scheme will be achieved.
A11: Fund Manager | B11: Mr. Rahul Singh (managing since 05/10/2015) | H11: Mr. Rahul Singh (managing since 07/09/15) | N11: Mr. Rahul Singh (managing since 18/07/19) | T11: Mr. Rahul Singh (managing since 27/11/19) | Z11: Mr. Rahul Singh (managing since 01/08/22)
A13: Total Expense Ratio (Weighted Average for the month) Excluding Goods and Service Tax on Management Fees
B14: Regular | E14: Direct | H14: Regular | K14: Direct | N14: Regular | Q14: Direct | T14: Regular | W14: Direct | Z14: Regular | AC14: Direct
A15: Base TER (%)@ | B15: 0.29 | E15: 0.15 | H15: 0.93 | K15: 0.24 | N15: 0.2 | Q15: 0.07 | T15: 1 | W15: 0.29 | Z15: 0.6 | AC15: 0.17
A16: Additional expense as per Regulation 52(6A)(b) (%)# | B16: 0 | E16: 0 | H16: 0 | K16: 0 | N16: 0 | Q16: 0 | T16: 0 | W16: 0 | Z16: 0 | AC16: 0
A17: Additional expense as per Regulation 52(6A)(c) (%)$ | B17: 0 | E17: 0 | H17: 0 | K17: 0 | N17: 0 | Q17: 0 | T17: 0 | W17: 0 | Z17: 0 | AC17: 0
A18: GST (%)^ | B18: 0.01 | E18: 0.01 | H18: 0.03 | K18: 0.03 | N18: 0 | Q18: 0 | T18: 0.03 | W18: 0.03 | Z18: 0.01 | AC18: 0.01
A19: Total TER (%) | B19: =SUM(B15:D18) -> 0.3 | E19: =SUM(E15:G18) -> 0.16 | H19: =SUM(H15:J18) -> 0.96 | K19: =SUM(K15:M18) -> 0.27 | N19: =SUM(N15:P18) -> 0.2 | Q19: =SUM(Q15:S18) -> 0.07 | T19: =SUM(T15:V18) -> 1.03 | W19: =SUM(W15:Y18) -> 0.32 | Z19: =SUM(Z15:AB18) -> 0.61 | AC19: =SUM(AC15:AE18) -> 0.18
A21: Portfolio (Top 10 Holdings) | B21: Name of the issuer | E21: % of Scheme | H21: Name of the issuer | K21: % of Scheme | N21: Name of the issuer | Q21: % of Scheme | T21: Name of the issuer | W21: % of Scheme | Z21: Name of the issuer | AC21: % of Scheme
B22: Government Treasury Bill | E22: 13.0768 | H22: Shriram Finance Ltd. | K22: 7.2935 | N22: Government Treasury Bill | Q22: 4.5386 | T22: Government Treasury Bill | W22: 31.912 | Z22: Government Treasury Bill | AC22: 16.2248
B23: Canara Bank | E23: 9.254 | H23: Small Industries Development Bk of India | K23: 6.9938 | N23: Others | Q23: 0 | T23: Power Finance Corporation Ltd. | W23: 8.641 | Z23: SBI Funds Management Ltd. | AC23: 0.6406
B24: Small Industries Development Bk of India | E24: 8.596 | H24: HDFC Bank Ltd. | K24: 6.897 | N24: Cash & Cash Equivalent: | Q24: 95.4614 | T24: Canara Bank | W24: 8.237 | Z24: Others | AC24: 0
B25: Reliance Retail Ventures Ltd. | E25: 5.5562 | H25: Power Finance Corporation Ltd. | K25: 6.7202 | T25: HDFC Bank Ltd. | W25: 8.1217 | Z25: Cash & Cash Equivalent: | AC25: 83.1346
B26: HDFC Bank Ltd. | E26: 4.6978 | H26: Government Bond | K26: 6.0973 | T26: National Bk for Agriculture & Rural Dev. | W26: 1.7479
B27: Larsen & Toubro Ltd. | E27: 4.448 | H27: State Government Bond | K27: 5.4676 | T27: SBI Funds Management Ltd. | W27: 0.4999
B28: Bank of Baroda | E28: 4.1723 | H28: Kotak Mahindra Bank Ltd. | K28: 5.1601 | T28: Others | W28: 0
B29: Godrej Industries Ltd. | E29: 3.8755 | H29: Tata Capital Housing Finance Ltd. | K29: 4.4493 | T29: Cash & Cash Equivalent: | W29: 40.8405
B30: National Bk for Agriculture & Rural Dev. | E30: 3.3267 | H30: National Bk for Agriculture & Rural Dev. | K30: 4.3507
B31: Ultratech Cement Ltd. | E31: 2.7763 | H31: Canara Bank | K31: 3.9063
B32: Others | E32: 32.5894 | H32: Others | K32: 35.5143
B33: Cash & Cash Equivalent: | E33: 7.631 | H33: Cash & Cash Equivalent: | K33: 7.1499
B34: Total | E34: =SUM(E22:G33) -> 100 | H34: Total | K34: =SUM(K22:M33) -> 100 | N34: Total | Q34: =SUM(Q22:S33) -> 100 | T34: Total | W34: =SUM(W22:Y33) -> 100 | Z34: Total | AC34: =SUM(AC22:AE33) -> 100
A36: Asset Allocation | B36: Asset Allocation | E36: % of Scheme | H36: Asset Allocation | K36: % of Scheme | N36: Asset Allocation | Q36: % of Scheme | T36: Asset Allocation | W36: % of Scheme | Z36: Asset Allocation | AC36: % of Scheme
B37: Money Market Instruments | E37: 75.026641 | H37: Money Market Instruments | K37: 53.86879 | N37: Cash & Other Receivables | Q37: =Q24 -> 95.4614 | T37: Cash & Other Receivables | W37: 40.840219 | Z37: Cash & Other Receivables | AC37: 83.134578
B38: GOVERNMENT BOND AND TREASURY BILL | E38: 17.180218 | H38: CORPORATE DEBT | K38: 24.080343 | N38: GOVERNMENT BOND AND TREASURY BILL | Q38: =Q22 -> 4.5386 | T38: GOVERNMENT BOND AND TREASURY BILL | W38: 31.912038 | Z38: GOVERNMENT BOND AND TREASURY BILL | AC38: 16.224812
B39: Cash & Other Receivables | E39: 7.6277843 | H39: GOVERNMENT BOND AND TREASURY BILL | K39: 14.774327 | T39: Money Market Instruments | W39: 16.358776 | Z39: Mutual Fund Units | AC39: 0.64060977
B40: Mutual Fund Units | E40: 0.16535647 | H40: Cash & Other Receivables | K40: 7.1480223 | T40: CORPORATE DEBT | W40: 10.388979
H41: Mutual Fund Units | K41: 0.12851831 | T41: Mutual Fund Units | W41: 0.4999873
B42: Grand Total | E42: =SUM(E37:G41) -> 100 | H42: Grand Total | K42: =SUM(K37:M41) -> 100 | N42: Grand Total | Q42: =SUM(Q37:S41) -> 100 | T42: Grand Total | W42: =SUM(W37:Y41) -> 100 | Z42: Grand Total | AC42: =SUM(AC37:AE41) -> 100
A44: Scheme Past Performance | B44: Regular (Growth) | E44: Direct (Growth) | H44: Regular (Growth) | K44: Direct (Growth) | N44: Regular (Growth) | Q44: Direct (Growth) | T44: Regular (Growth) | W44: Direct (Growth) | Z44: Regular (Growth) | AC44: Direct (Growth)
B45: Scheme (%) | C45: Scheme Benchmark (%) | D45: Additional Benchmark (%) | E45: Scheme (%) | F45: Scheme Benchmark (%) | G45: Additional Benchmark (%) | H45: Scheme (%) | I45: Scheme Benchmark (%) | J45: Additional Benchmark (%) | K45: Scheme (%) | L45: Scheme Benchmark (%) | M45: Additional Benchmark (%) | N45: Scheme (%) | O45: Scheme Benchmark (%) | P45: Additional Benchmark (%) | Q45: Scheme (%) | R45: Scheme Benchmark (%) | S45: Additional Benchmark (%) | T45: Scheme (%) | U45: Scheme Benchmark (%) | V45: Additional Benchmark (%) | W45: Scheme (%) | X45: Scheme Benchmark (%) | Y45: Additional Benchmark (%) | Z45: Scheme (%) | AA45: Scheme Benchmark (%) | AB45: Additional Benchmark (%) | AC45: Scheme (%) | AD45: Scheme Benchmark (%) | AE45: Additional Benchmark (%)
A46: 7 Days | B46: 6.7677 | C46: 7.0626 | D46: 7.8038 | E46: 6.9077 | F46: 7.0626 | G46: 7.8038 | H46: 5.6618 | I46: 6.3955 | J46: 7.6594 | K46: 6.3498 | L46: 6.3955 | M46: 7.6594 | N46: 6.5402 | O46: 6.7692 | P46: 7.8038 | Q46: 6.6705 | R46: 6.7692 | S46: 7.8038 | T46: 5.4396 | U46: 6.631 | V46: 7.6594 | W46: 6.1527 | X46: 6.631 | Y46: 7.6594 | Z46: 6.0865 | AA46: 6.2897 | AB46: 7.6594 | AC46: 6.5132 | AD46: 6.2897 | AE46: 7.6594
A47: 15 Days | B47: 6.6322 | C47: 6.8817 | D47: 7.965 | E47: 6.7723 | F47: 6.8817 | G47: 7.965 | H47: 5.2963 | I47: 6.4577 | J47: 7.965 | K47: 5.9845 | L47: 6.4577 | M47: 7.965 | N47: 6.5241 | O47: 6.7713 | P47: 7.965 | Q47: 6.6543 | R47: 6.7713 | S47: 7.965 | T47: 5.3339 | U47: 6.851 | V47: 7.965 | W47: 6.0445 | X47: 6.851 | Y47: 7.965 | Z47: 6.1233 | AA47: 6.5902 | AB47: 7.965 | AC47: 6.5521 | AD47: 6.5902 | AE47: 7.965
A48: 1 Month | B48: 6.606 | C48: 6.9352 | D48: 6.9844 | E48: 6.7466 | F48: 6.9352 | G48: 6.9844 | H48: 4.9237 | I48: 6.3871 | J48: 6.9724 | K48: 5.6152 | L48: 6.3871 | M48: 6.9724 | N48: 6.5651 | O48: 6.777 | P48: 6.9844 | Q48: 6.6956 | R48: 6.777 | S48: 6.9844 | T48: 5.3575 | U48: 7.017 | V48: 6.9724 | W48: 6.069 | X48: 7.017 | Y48: 6.9724 | Z48: 6.1555 | AA48: 6.8269 | AB48: 6.9724 | AC48: 6.5867 | AD48: 6.8269 | AE48: 6.9724
...

Sheet Hybrid
A1: Dashboard as on 31/10/2023
A2: Scheme Name | B2: LIC MF Aggressive Hybrid Fund (ERSTWHILE LIC MF Equity Hybrid Fund) | H2: LIC MF Arbitrage Fund | N2: LIC MF Balanced Advantage Fund | T2: LIC MF Conservative Hybrid Fund (ERSTWHILE LIC MF Debt Hybrid Fund) | Z2: LIC MF Equity Savings Fund (ERSTWHILE IDBI EQUITY SAVINGS FUND) | AF2: LIC MF Unit Linked Insurance Scheme
A4: Date of Allotment - Regular | B4: 01.01.1991 | H4: 25.01.2019 | N4: 12.11.2021 | T4: 01.06.1998 | Z4: 07.03.2011 | AF4: 19.06.1989
A5: Date of Allotment - Direct | B5: 01.01.2013 | H5: 25.01.2019 | N5: 12.11.2021 | T5: 01.01.2013 | Z5: 01.01.2013 | AF5: 01.01.2013
A7: AUM (in Rs. crore) | B7: 551.77972 | H7: 22.371742 | N7: 963.57752 | T7: 52.368823 | Z7: 8.1935052 | AF7: 447.8728
A10: Investment Objective | B10: An open ended balanced scheme which seeks to provide regular returns and capital appreciation according to the selection of plan by investing in equities and debt. However, there is no assurance that the investment objective of the Schemes will be realized. | H10: The investment objective of the scheme is to generate income by taking advantage of arbitrage opportunities that potentially exists between cash and derivative market and within the derivative segment of the equity market along with investments in debt securities & money market instruments. However, there can be no assurance that the investment objective of the scheme will be realized. | N10: The investment objective of the scheme is to provide capital appreciation/ income to the investors from a dynamic mix of equity, debt and money market instruments. The Scheme seeks to reduce the volatility by diversifying the assets across equity, debt and money market instruments. However, there is no assurance or guarantee that the investment objective of the Scheme will be realized. | T10: The investment objective of the Scheme is to generate regular income by investing mainly in a portfolio of quality debt securities and money market instruments. It also seeks to generate capital appreciation by investing some percentage in a mix of equity instruments. However, there is no assurance that the investment objective of the Schemes will be realized. | Z10: The investment objective of the Scheme is to generate regular income by investing in Debt and money market instruments and using arbitrage and other derivative strategies. The Scheme also intends to generate long capital appreciation through un hedged exposure to equity and equity related instruments. However, there can be no assurance or guarantee that the investment objective of the scheme will be achieved. | AF10: An open ended scheme which seeks to generate long term capital appreciation and offer Tax benefits u/s 80C of the Income Tax Act as well as additional benefits of a life cover.
A12: Fund Manager | B12: Mr. Karan Doshi (Equity Portfolio- managing since 06/09/21) / Mr. Pratik Harish Shroff (Debt Portfolio- managing since 26/09/23) | H12: Mr. Sumit Bhatnagar (Equity Portfolio, managing since 03/10/2023) / Mr. Jaiprakash Toshniwal (Equity Portfolio, till 02/10/23) / Mr. Pratik Harish Shroff (Debt Portfolio- managing since 26/09/23) | N12: Mr. Yogesh Patil (Equity Portfolio, managing since 12/11/21), Mr. Jaiprakash Toshniwal (Equity Portfolio Co Fund Manager, managing since 06/06/22) / Mr. Rahul Singh (Debt Portfolio, managing since 12/11/21) | T12: Mr. Pratik Harish Shroff (Debt Portfolio, managing since 26/09/23) / Mr. Karan Doshi (Equity Portfolio, managing since 07/01/21) | Z12: Mr. Sumit Bhatnagar (Equity Portfolio, managing since 3/10/23) / Mr. Jaiprakash Toshniwal (Equity Portfolio, managing till 02/10/23) / Mr. Pratik Harish Shroff (Debt Portfolio- managing since 26/09/23) | AF12: Mr. Dikshit Mittal (Equity Portfolio, managing since 06/09/21) /Mr. Pratik Harish Shroff (Debt Portfolio, managing since 26/09/23)
A14: Annual Portfolio Turnover Ratio (in times) | B14: 0.68893618 | H14: 8.6575341 | N14: 0.45301688 | Z14: 0.32626636 | AF14: 0.13604576
A16: Total Expense Ratio (Weighted Average for the month) Excluding Goods and Service Tax on Management Fees
B17: Regular | E17: Direct | H17: Regular | K17: Direct | N17: Regular | Q17: Direct | T17: Regular | W17: Direct | Z17: Regular | AC17: Direct | AF17: Regular | AI17: Direct
A18: Base TER (%)@ | B18: 2.22 | E18: 1.16 | H18: 0.97 | K18: 0.31 | N18: 2.05 | Q18: 0.4 | T18: 2 | W18: 1.06 | Z18: 1.81 | AC18: 0.81 | AF18: 2.25 | AI18: 1.4
A19: Additional expense as per Regulation 52(6A)(b) (%)# | B19: 0 | E19: 0 | H19: 0 | K19: 0 | N19: 0 | Q19: 0 | T19: 0 | W19: 0 | Z19: 0 | AC19: 0 | AF19: 0 | AI19: 0
A20: Additional expense as per Regulation 52(6A)(c) (%)$ | B20: 0.05 | E20: 0.05 | H20: 0 | K20: 0 | N20: 0.05 | Q20: 0.05 | T20: 0.05 | W20: 0.05 | Z20: 0.05 | AC20: 0.05 | AF20: 0 | AI20: 0
A21: GST (%)^ | B21: 0.19 | E21: 0.19 | H21: 0 | K21: 0 | N21: 0.05 | Q21: 0.05 | T21: 0.2 | W21: 0.16 | Z21: 0.13 | AC21: 0.13 | AF21: 0.24 | AI21: 0.23
A22: Total TER (%) | B22: =SUM(B18:D21) -> 2.46 | E22: =SUM(E18:G21) -> 1.4 | H22: =SUM(H18:J21) -> 0.97 | K22: =SUM(K18:M21) -> 0.31 | N22: =SUM(N18:P21) -> 2.15 | Q22: =SUM(Q18:S21) -> 0.5 | T22: =SUM(T18:V21) -> 2.25 | W22: =SUM(W18:Y21) -> 1.27 | Z22: =SUM(Z18:AB21) -> 1.99 | AC22: =SUM(AC18:AE21) -> 0.99 | AF22: =SUM(AF18:AH21) -> 2.49 | AI22: =SUM(AI18:AK21) -> 1.63
A24: Portfolio (Top 10 Holdings) | B24: Name of the issuer | E24: % of Scheme | H24: Name of the issuer | K24: % of Scheme | N24: Name of the issuer | Q24: % of Scheme | T24: Name of the issuer | W24: % of Scheme | Z24: Name of the issuer | AC24: % of Scheme | AF24: Name of the issuer | AI24: % of Scheme
B25: Government Bond | E25: 14.9891 | H25: LIC Mutual Fund | K25: 20.5398 | N25: Government Bond | Q25: 11.9534 | T25: Government Bond | W25: 67.7476 | Z25: LIC Mutual Fund | AC25: 12.9219 | AF25: Government Bond | AI25: 20.6476
B26: HDFC Bank Ltd. | E26: 7.1868 | H26: Ultratech Cement Ltd. | K26: 3.9119 | N26: HDFC Bank Ltd. | Q26: 11.2734 | T26: Tata Capital Financial Services Ltd. | W26: 10.0761 | Z26: Tata Steel Ltd. | AC26: 6.9412 | AF26: ICICI Bank Ltd. | AI26: 7.3954
B27: ICICI Bank Ltd. | E27: 5.6843 | H27: Hindalco Industries Ltd. | K27: 3.9073 | N27: ICICI Bank Ltd. | Q27: 7.8769 | T27: ICICI Bank Ltd. | W27: 5.8414 | Z27: ICICI Bank Ltd. | AC27: 5.688 | AF27: HDFC Bank Ltd. | AI27: 5.3601
B28: Infosys Ltd. | E28: 3.7206 | H28: Pidilite Industries Ltd. | K28: 3.7324 | N28: Reliance Industries Ltd. | Q28: 5.1741 | T28: Infosys Ltd. | W28: 3.5378 | Z28: Tata Consultancy Services Ltd. | AC28: 5.0123 | AF28: Infosys Ltd. | AI28: 5.1289
B29: Reliance Industries Ltd. | E29: 3.0936 | H29: Bajaj Finance Ltd. | K29: 3.6809 | N29: State Bank of India | Q29: 4.9707 | T29: HDFC Bank Ltd. | W29: 2.342 | Z29: HDFC Bank Ltd. | AC29: 4.4627 | AF29: Tata Consultancy Services Ltd. | AI29: 3.2844
B30: State Bank of India | E30: 2.8425 | H30: DLF Ltd. | K30: 3.6542 | N30: Infosys Ltd. | Q30: 3.7944 | T30: Hindustan Unilever Ltd. | W30: 2.0272 | Z30: Siemens Ltd. | AC30: 3.894 | AF30: Bajaj Finance Ltd. | AI30: 2.8128
B31: ITC Ltd. | E31: 2.6283 | H31: LTIMindtree Ltd. | K31: 3.2544 | N31: ITC Ltd. | Q31: 3.4763 | T31: Nestle India Ltd. | W31: 1.7723 | Z31: State Bank of India | AC31: 3.6111 | AF31: Titan Company Ltd. | AI31: 2.7626
B32: Tata Capital Financial Services Ltd. | E32: 2.4858 | H32: Larsen & Toubro Ltd. | K32: 3.1395 | N32: Tata Capital Housing Finance Ltd. | Q32: 3.4417 | T32: Reliance Industries Ltd. | W32: 1.7339 | Z32: Kotak Mahindra Bank Ltd. | AC32: 2.9577 | AF32: Pitti Engineering Ltd. | AI32: 2.5856
B33: Larsen & Toubro Ltd. | E33: 2.349 | H33: Aditya Birla Capital Ltd. | K33: 2.9944 | N33: Tata Consultancy Services Ltd. | Q33: 2.8609 | T33: Mahindra & Mahindra Ltd. | W33: 1.4438 | Z33: HCL Technologies Ltd. | AC33: 2.8952 | AF33: KSB Ltd. | AI33: 2.5371
B34: Axis Bank Ltd. | E34: 2.0219 | H34: HDFC Bank Ltd. | K34: 2.6113 | N34: Mahindra & Mahindra Ltd. | Q34: 2.8467 | T34: LTIMindtree Ltd. | W34: 1.2957 | Z34: Axis Bank Ltd. | AC34: 2.6087 | AF34: Axis Bank Ltd. | AI34: 2.4853
B35: Others | E35: 48.6097 | H35: Others | K35: 35.4135 | N35: Others | Q35: 33.1827 | T35: Others | W35: 0.397 | Z35: Others | AC35: 29.7146 | AF35: Others | AI35: 43.6321
B36: Cash & Cash Equivalent: | E36: 4.3884 | H36: Cash & Cash Equivalent: | K36: 13.1604 | N36: Cash & Cash Equivalent: | Q36: 9.1488 | T36: Cash & Cash Equivalent: | W36: 1.7852 | Z36: Cash & Cash Equivalent: | AC36: 19.2926 | AF36: Cash & Cash Equivalent: | AI36: 1.3681
B37: Grand Total | E37: =SUM(E25:G36) -> 100 | H37: Grand Total | K37: =SUM(K25:M36) -> 100 | N37: Grand Total | Q37: =SUM(Q25:S36) -> 100 | T37: Grand Total | W37: =SUM(W25:Y36) -> 100 | Z37: Grand Total | AC37: =SUM(AC25:AE36) -> 100 | AF37: Grand Total | AI37: =SUM(AI25:AK36) -> 100
A39: Asset Allocation | B39: Asset Allocation | E39: % of Scheme | H39: Asset Allocation | K39: % of Scheme | N39: Asset Allocation | Q39: % of Scheme | T39: Asset Allocation | W39: % of Scheme | Z39: Asset Allocation | AC39: % of Scheme | AF39: Asset Allocation | AI39: % of Scheme
B40: Equity Holdings | E40: 0.75284588 | H40: Cash & Other Receivables | I40: 0.73662666 | J40: Cash & Other Receivables | K40: 79.799994 | N40: Equity Holdings | Q40: 65.898069 | T40: GOVERNMENT BOND AND TREASURY BILL | W40: 67.747827 | Z40: Equity Holdings | AC40: 67.029585 | AF40: Equity Holdings | AG40: 0.78733932 | AH40: Equity Holdings | AI40: 77.986724
B41: GOVERNMENT BOND AND TREASURY BILL | E41: 0.14989324 | H41: Equity Holdings | I41: 0.67773942 | J41: Equity Holdings | K41: 66.302121 | N41: Cash & Other Receivables | Q41: 19.00409 | T41: Equity Holdings | W41: 19.994405 | Z41: Cash & Other Receivables | AC41: 48.358686 | AF41: GOVERNMENT BOND AND TREASURY BILL | AG41: 0.11435791 | AH41: GOVERNMENT BOND AND TREASURY BILL | AI41: 20.647909
B42: CORPORATE DEBT | E42: 0.053409403 | H42: Mutual Fund Units | I42: 0.26648179 | J42: Mutual Fund Units | K42: 20.53985 | N42: GOVERNMENT BOND AND TREASURY BILL | Q42: 14.619023 | T42: CORPORATE DEBT | W42: 10.172923 | Z42: Mutual Fund Units | AC42: 12.921996 | AF42: Cash & Other Receivables | AG42: 0.010469666 | AH42: Cash & Other Receivables | AI42: 1.3653666
B43: Cash & Other Receivables | E43: 0.043851472 | H43: FUTURES AND OPTIONS | I43: -0.68084787 | J43: FUTURES AND OPTIONS | K43: -66.641965 | N43: CORPORATE DEBT | Q43: 6.8949183 | T43: Cash & Other Receivables | W43: 1.7845377 | Z43: CORPORATE DEBT | AC43: 0.75786813
N44: Money Market Instruments | Q44: 3.4417498 | T44: Mutual Fund Units | W44: 0.30030822 | Z44: FUTURES AND OPTIONS | AC44: -29.068136
N45: FUTURES AND OPTIONS | Q45: -9.8578504 | T45: Grand Total | W45: =SUM(W40:Y44) -> 100
B46: Grand Total | E46: =SUM(E40:G44) -> 1 | H46: Grand Total | K46: =SUM(K40:M44) -> 100 | N46: Grand Total | Q46: =SUM(Q40:S45) -> 100 | Z46: Grand Total | AC46: =SUM(AC40:AE44) -> 100 | AF46: Grand Total | AI46: =SUM(AI40:AK44) -> 100
A48: Sectoral Allocation | B48: Sector/Industry | E48: % of Scheme | H48: Sector/Industry | K48: % of Scheme | N48: Sector/Industry | Q48: % of Scheme | Z48: Sector/Industry | AC48: % of Scheme | AF48: Sector/Industry | AI48: % of Scheme
B49: Banks | E49: 21.6857 | H49: Mutual Fund Units | K49: 20.5398 | N49: Banks | Q49: 29.1952 | Z49: Banks | AC49: 26.8735 | AF49: Government of India | AI49: 20.6476
B50: Government of India | E50: 14.9891 | H50: Cash & Cash Equivalent: | K50: 13.1604 | N50: Government of India | Q50: 14.6188 | Z50: Cash & Cash Equivalent: | AC50: 19.2926 | AF50: Banks | AI50: 17.9364
...

Sheet Solution Oriented
A1: Dashboard as on 31/10/2023
A2: Scheme Name | B2: LIC MF Children’s Gift Fund
A4: Date of Allotment - Regular | B4: 12.11.2001
A5: Date of Allotment - Direct | B5: 01.01.2013
A7: AUM (in Rs. crore) | B7: 13.854457
A10: Investment Objective | B10: The primary investment objective of the scheme is to seek to generate capital appreciation & provide long-term growth opportunities by investing in a portfolio constituted of equity securities & equity related securities and the secondary objective is to generate consistent returns by investing in debt and money market securities. However there can be no assurance that the investment objective of the scheme will be achieved.
A12: Fund Manager | B12: Mr. Karan Doshi (Equity Portfolio, managing since 07/01/21) / Mr. Pratik Harish Shroff (Debt Portfolio, managing since 26/09/23)
A14: Annual Portfolio Turnover Ratio (in times) | B14: 0.23027849
A16: Total Expense Ratio (Weighted Average for the month) Excluding Goods and Service Tax on Management Fees
B17: Regular | E17: Direct
A18: Base TER (%)@ | B18: 2.25 | E18: 1.64
A19: Additional expense as per Regulation 52(6A)(b) (%)# | B19: 0 | E19: 0
A20: Additional expense as per Regulation 52(6A)(c) (%)$ | B20: 0 | E20: 0
A21: GST (%)^ | B21: 0.23 | E21: 0.21
A22: Total TER (%) | B22: =SUM(B18:D21) -> 2.48 | E22: =SUM(E18:G21) -> 1.85
A24: Portfolio (Top 10 Holdings) | B24: Name of the issuer | E24: % of Scheme
B25: Government Bond | E25: 11.1277
B26: HDFC Bank Ltd. | E26: 7.2375
B27: ICICI Bank Ltd. | E27: 6.8409
B28: Infosys Ltd. | E28: 4.5218
B29: Reliance Industries Ltd. | E29: 3.4052
B30: State Bank of India | E30: 3.1347
B31: Axis Bank Ltd. | E31: 2.9439
B32: Larsen & Toubro Ltd. | E32: 2.7527
B33: Pitti Engineering Ltd. | E33: 2.6601
B34: Tata Consultancy Services Ltd. | E34: 2.3854
B35: Others | E35: 48.9854
B36: Cash & Cash Equivalent: | E36: 4.0047
B37: Grand Total | E37: =SUM(E25:G36) -> 100
A39: Asset Allocation | B39: Asset Allocation | E39: % of Scheme
B40: Equity Holdings | C40: 0.86359581 | D40: Equity Holdings | E40: 84.870015
B41: GOVERNMENT BOND AND TREASURY BILL | C41: 0.11435791 | D41: GOVERNMENT BOND AND TREASURY BILL | E41: 11.127703
B42: Cash & Other Receivables | C42: 0.022046278 | D42: Cash & Other Receivables | E42: 4.002282
B46: Grand Total | E46: =SUM(E40:G44) -> 100
A48: Sectoral Allocation | B48: Sector/Industry | E48: % of Scheme
B49: Banks | E49: 22.6823
B50: Government of India | E50: 11.1277
B51: IT - Software | E51: 9.0958
B52: Industrial Manufacturing | E52: 7.8491
B53: Consumer Durables | E53: 4.6939
...

Sheet Others
A1: Dashboard as on 31/10/2023
A2: Scheme Name | B2: LIC MF Nifty 50 Exchange Traded Fund | H2: LIC MF S & P BSE Sensex Exchange Traded Fund | N2: LIC MF Nifty 100 Exchange Traded Fund | T2: LIC MF Nifty 50 Index Fund | Z2: LIC MF S & P BSE Sensex Index Fund | AF2: LIC MF Nifty Next 50 Index Fund (ERSTWHILE IDBI Nifty Next 50 Index Fund) | AL2: LIC MF Nifty 8-13 yr G-Sec Exchange Traded Fund
A4: Date of Allotment - Regular | B4: 20.11.2015 | H4: 30.11.2015 | N4: 17.03.2016 | T4: 05.12.2002 | Z4: 05.12.2002 | AF4: 20.09.2010 | AL4: 24.12.2014
A5: Date of Allotment - Direct | B5: NA | H5: NA | N5: NA | T5: 01.01.2013 | Z5: 01.01.2013 | AF5: 01.01.2013 | AL5: NA
A7: AUM (in Rs. crore) | B7: 717.29587 | H7: 672.84482 | N7: 592.34076 | T7: 245.05383 | Z7: 73.615675 | AF7: 53.385851 | AL7: 1071.4077
A9: Investment Objective | B9: The investment objective of the scheme is to provide returns that closely correspond to the total returns of securities as represented by NIFTY 50 Index, subject to tracking errors. However there is no assurance that the objective of the scheme will be achieved. | H9: The investment objective of the scheme is to provide returns that, closely correspond to the total returns of the securities as represented by the S&P BSE SENSEX by holding S&P BSE SENSEX stocks in same proportion, subject to tracking errors. However there is no assurance that the objective of the scheme will be achieved. | N9: The investment objective of the scheme is to provide returns that closely correspond to the total returns of securities as represented by NIFTY 100 INDEX, subject to tracking errors. However there is no assurance that the objective of the scheme will be achieved. | T9: The main investment objective of the fund is to generate returns commensurate with the performance of the index Nifty based on the plans by investing in the respective index stocks subject to tracking errors. However, there is no assurance that the investment objective of the Schemes will be realized. | Z9: The main investment objective of the fund is to generate returns commensurate with the performance of the index S&P BSE Sensex based on the plans by investing in the respective index stocks subject to tracking errors. However, there is no assurance that the investment objective of the Schemes will be realized. | AF9: The investment objective of the Scheme is to invest only in and all the stocks comprising the NIFTY Next 50 Index in the same weights of these stocks as in the Index with the objective to replicate the performance of the Total Returns Index of NIFTY Next 50 Index. The Scheme may also invest in derivatives instruments such as Futures and Options linked to stocks comprising the Index or linked to the NIFTY Next 50 Index. The Scheme will adopt a passive investment strategy and will seek to achieve the investment objective by minimizing the tracking error between the NIFTY Next 50 Index (Total Returns Index) and the Scheme. | AL9: The investment objective of the scheme is to provide returns that closely correspond to the total returns of securities as represented by Nifty 8-13 yr G-Sec Index, subject to tracking errors. However there is no assurance that the objective of the scheme will be achieved.
