Workbook
Name Hedging_Positions_through_Futures_AS_ON_MMMM_DD__YYYY___NIL: LEARBF!$L$68:$P$84
Name Hedging_Positions_through_Futures_AS_ON_MMMM_DD__YYYY___NIL: LEBALF!$L$68:$P$84
Name Hedging_Positions_through_Futures_AS_ON_MMMM_DD__YYYY___NIL: LEBFSF!$L$68:$P$84
Name Hedging_Positions_through_Futures_AS_ON_MMMM_DD__YYYY___NIL: LECHID!$L$68:$P$84
Name Hedging_Positions_through_Futures_AS_ON_MMMM_DD__YYYY___NIL: LEEQTF!$L$68:$P$84
Name Hedging_Positions_through_Futures_AS_ON_MMMM_DD__YYYY___NIL: LEGROW!$L$68:$P$84
Name Hedging_Positions_through_Futures_AS_ON_MMMM_DD__YYYY___NIL: LEINFA!$L$68:$P$84
Name Hedging_Positions_through_Futures_AS_ON_MMMM_DD__YYYY___NIL: LEINNF!$L$68:$P$84
Name Hedging_Positions_through_Futures_AS_ON_MMMM_DD__YYYY___NIL: LEINSX!$L$68:$P$84
Name Hedging_Positions_through_Futures_AS_ON_MMMM_DD__YYYY___NIL: LEMIDF!$L$68:$P$84
Name Hedging_Positions_through_Futures_AS_ON_MMMM_DD__YYYY___NIL: 'LET100'!$L$68:$P$84
Name Hedging_Positions_through_Futures_AS_ON_MMMM_DD__YYYY___NIL: LETAXP!$L$68:$P$84
Name Hedging_Positions_through_Futures_AS_ON_MMMM_DD__YYYY___NIL: LETF50!$L$68:$P$84
Name Hedging_Positions_through_Futures_AS_ON_MMMM_DD__YYYY___NIL: LETFSX!$L$68:$P$84
Name Hedging_Positions_through_Futures_AS_ON_MMMM_DD__YYYY___NIL: LEULIS!$L$68:$P$84
Name Hedging_Positions_through_Futures_AS_ON_MMMM_DD__YYYY___NIL: #REF!
Name JPM_Footer_disp: LEARBF!$L$74:$P$84
Name JPM_Footer_disp: LEBALF!$L$74:$P$84
Name JPM_Footer_disp: LEBFSF!$L$74:$P$84
Name JPM_Footer_disp: LECHID!$L$74:$P$84
Name JPM_Footer_disp: LEEQTF!$L$74:$P$84
Name JPM_Footer_disp: LEGROW!$L$74:$P$84
Name JPM_Footer_disp: LEINFA!$L$74:$P$84
Name JPM_Footer_disp: LEINNF!$L$74:$P$84
Name JPM_Footer_disp: LEINSX!$L$74:$P$84
Name JPM_Footer_disp: LEMIDF!$L$74:$P$84
Name JPM_Footer_disp: 'LET100'!$L$74:$P$84
Name JPM_Footer_disp: LETAXP!$L$74:$P$84
Name JPM_Footer_disp: LETF50!$L$74:$P$84
Name JPM_Footer_disp: LETFSX!$L$74:$P$84
Name JPM_Footer_disp: LEULIS!$L$74:$P$84
Name JPM_Footer_disp: #REF!
Name JPM_Footer_disp12: LEARBF!$L$68:$P$86
Name JPM_Footer_disp12: LEBALF!$L$68:$P$86
Name JPM_Footer_disp12: LEBFSF!$L$68:$P$86
Name JPM_Footer_disp12: LECHID!$L$68:$P$86
Name JPM_Footer_disp12: LEEQTF!$L$68:$P$86
Name JPM_Footer_disp12: LEGROW!$L$68:$P$86
Name JPM_Footer_disp12: LEINFA!$L$68:$P$86
Name JPM_Footer_disp12: LEINNF!$L$68:$P$86
Name JPM_Footer_disp12: LEINSX!$L$68:$P$86
Name JPM_Footer_disp12: LEMIDF!$L$68:$P$86
Name JPM_Footer_disp12: 'LET100'!$L$68:$P$86
Name JPM_Footer_disp12: LETAXP!$L$68:$P$86
Name JPM_Footer_disp12: LETF50!$L$68:$P$86
Name JPM_Footer_disp12: LETFSX!$L$68:$P$86
Name JPM_Footer_disp12: LEULIS!$L$68:$P$86
Name JPM_Footer_disp12: #REF!

Sheet Sheet1
A1: INDEX
A2: Monthly Portfolio Statement as on January 31, 2021
A3: Scheme | B3: Scheme Name | C3: Riskometer
A4: LEARBF | B4: LIC MF Arbitrage Fund | C4: =Riskometer!C6 -> •Risk – Low
A5: LEBALF | B5: LIC MF Equity Hybrid Fund | C5: =Riskometer!C9 -> •Risk - Very High
A6: LEBFSF | B6: LIC MF Banking and Financial Services Fund | C6: =Riskometer!C12 -> •Risk – Very High
A7: LECHID | B7: LIC MF Children’s Gift Fund | C7: =Riskometer!C15 -> •Risk - Very High
A8: LEEQTF | B8: LIC MF Multicap Fund | C8: =Riskometer!C18 -> •Risk - Very High
A9: LEGROW | B9: LIC MF Large Cap Fund | C9: =Riskometer!C21 -> •Risk – Very High
A10: LEINFA | B10: LIC MF Infrastructure Fund | C10: =Riskometer!C21 -> •Risk – Very High
A11: LEINNF | B11: LIC MF Index Fund-Nifty Plan | C11: =Riskometer!C27 -> •Risk - Very High
A12: LEINSX | B12: LIC MF Index Fund-Sensex Plan | C12: =Riskometer!C30 -> •Risk - Very High
A13: LEMIDF | B13: LIC MF Large & Mid Cap Fund | C13: =Riskometer!C33 -> •Risk – Very High
A14: LET100 | B14: LIC MF ETF-Nifty 100 | C14: =Riskometer!C36 -> •Risk- Very High
A15: LETAXP | B15: LIC MF Tax Plan | C15: =Riskometer!C39 -> •Risk - Very High
A16: LETF50 | B16: LIC MF ETF-Nifty 50 | C16: =Riskometer!C42 -> •Risk- Very High
A17: LETFSX | B17: LIC MF ETF-Sensex | C17: =Riskometer!C45 -> •Risk- Very High
A18: LEULIS | B18: LIC MF Unit Linked Insurance Scheme | C18: =Riskometer!C48 -> •Risk - Very High

Sheet Riskometer
B1: Index | C1: Risk-O-Meter as of January-2021
B3: Scheme Name | C3: The product is suitable for investors who are seeking* | D3: Riskometer
B4: LIC MF Arbitrage Fund | C4: •Income over a short term investment horizon
C5: •Income through arbitrage opportunities between cash and derivative market and arbitrage opportunities within the derivative segment of the equity market
C6: •Risk – Low
B7: LIC MF Equity Hybrid Fund | C7: •Long term capital appreciation with current income
C8: •A fund that invests both in stocks and fixed income instruments.
C9: •Risk - Very High
B10: LIC MF Banking & Financial Services Fund | C10: •Capital appreciation over long term.
C11: •Investing predominantly in portfolio of equity and equity related securities of companies engaged in banking and financial services.
C12: •Risk – Very High
B13: LIC MF Children's Gift Fund | C13: •Long term capital appreciation and current income
C14: •A fund that invests both in stocks and fixed income instruments.
C15: •Risk - Very High
B16: LIC MF Multicap Fund | C16: •Long term capital appreciation
C17: •Investing in Large, Mid & Small Cap stocks.
C18: •Risk - Very High
B19: LIC MF Large Cap Fund | C19: •Long Term Capital Appreciation
C20: •A Fund that primarily invest in large-cap stock.
C21: •Risk – Very High
B22: LIC MF Infrastructure Fund | C22: •Long Term Capital Growth
C23: •Investment in equity and equity related instruments of companies engaged either directly or indirectly in infrastructure sector.
C24: •Risk – Very High
B25: LIC MF Index Fund – Nifty Plan | C25: •Long Term Capital Growth
C26: •Investment in equity instrument of respective index stocks subject to tracking error.
C27: •Risk - Very High
B28: LIC MF Index Fund – Sensex Plan | C28: •Long Term Capital Growth
C29: •Investment in equity instrument of S & P BSE Sensex index stocks subject to tracking error.
C30: •Risk - Very High
B31: LIC MF Large & Mid Cap Fund | C31: •Long Term Capital Appreciation.
C32: •A fund that primarily invests in Large and Mid-cap stocks
C33: •Risk – Very High
B34: LIC MF Exchange Traded Fund – Nifty 100 | C34: •Long term investment.
C35: •Investment in equity and equity related securities and portfolios replicating the composition of Nifty 100 Index, subject to tracking errors.
C36: •Risk- Very High
B37: LIC MF Tax Plan | C37: •Long Term Capital Growth
C38: •Investment in equity and equity related securities
C39: •Risk - Very High
B40: LIC MF Exchange Traded Fund – Nifty 50 | C40: •Long term investment.
C41: •Investment in securities covered by NIFTY 50 Index, subject to tracking errors.
...

Sheet LEARBF
B1: LIC MF ARBITRAGE FUND | I1: Index
B3: Monthly Portfolio Statement as on January 31,2021
B4: Name of the Instrument | C4: ISIN | D4: Industry / Rating | E4: Quantity | F4: Market/Fair Value (Rounded, Rs. In Lacs) | G4: Rounded, % to Net Assets | H4: Yield
B5: Equity & Equity related
B6: (a)Listed / Awaiting listing on Stock Exchanges
B7: Aurobindo Pharma Ltd. | C7: INE406A01037 | D7: PHARMACEUTICALS | E7: 31850 | F7: 288.32 | G7: 0.0819
B8: Housing Development Finance Corp Ltd. | C8: INE001A01036 | D8: FINANCE | E8: 12000 | F8: 285.34 | G8: 0.081
B9: Reliance Industries Ltd. | C9: INE002A01018 | D9: PETROLEUM PRODUCTS | E9: 15250 | F9: 280.9 | G9: 0.0798
B10: Bharti Airtel Ltd. | C10: INE397D01024 | D10: TELECOM - SERVICES | E10: 49977 | F10: 276.67 | G10: 0.0786
B11: Maruti Suzuki India Ltd. | C11: INE585B01010 | D11: AUTO | E11: 3100 | F11: 223.41 | G11: 0.0635
B12: Larsen & Toubro Ltd. | C12: INE018A01030 | D12: CONSTRUCTION PROJECT | E12: 14950 | F12: 199.54 | G12: 0.0567
B13: Infosys Ltd. | C13: INE009A01021 | D13: SOFTWARE | E13: 7200 | F13: 89.21 | G13: 0.0253
B14: ICICI Bank Ltd. | C14: INE090A01021 | D14: BANKS | E14: 16500 | F14: 88.61 | G14: 0.0252
B15: HDFC Life Insurance Company Ltd. | C15: INE795G01014 | D15: FINANCE | E15: 12100 | F15: 82.03 | G15: 0.0233
B16: Cipla Ltd. | C16: INE059A01026 | D16: PHARMACEUTICALS | E16: 9100 | F16: 75.16 | G16: 0.0213
B17: Tata Steel Ltd. | C17: INE081A01012 | D17: FERROUS METALS | E17: 11900 | F17: 71.52 | G17: 0.0203
B18: Dabur India Ltd. | C18: INE016A01026 | D18: CONSUMER NON DURABLES | E18: 12500 | F18: 64.32 | G18: 0.0183
... B26: Tata Power Company Ltd. | C26: INE245A01021 | D26: POWER | E26: 13500 | F26: 10.18 | G26: 0.0029
B27: Sub Total | F27: 2311.73 | G27: 0.6566
B28: (b) Unlisted
B29: Sub Total | F29: NIL | G29: NIL
B31: TOTAL | F31: 2311.73 | G31: 0.6566
B34: Others
B35: Investment in Mutual fund
B36: LIC MF LIQUID FUND-DR PLN-GR | C36: INF767K01DN1 | E36: 24513.638 | F36: 911.01 | G36: 0.2587
B38: TOTAL | F38: 911.01 | G38: 0.2587
B40: Treps / Reverse Repo
B41: Treps | F41: 190.14 | G41: 0.054
B42: Sub Total | F42: 190.14 | G42: 0.054
B44: TOTAL | F44: 190.14 | G44: 0.054
B45: Net Receivables / (Payables) | F45: 107.97 | G45: 0.0307
B46: GRAND TOTAL | F46: 3520.85 | G46: 1
B49: Total outstanding position(as at 31 January 2021 ) in Derivative Instruments(Gross National) 2324.23 lacs.
B50: Total percentage of existing assets hedge through futures is 66.01%.
B51: Disclosure in Devrivtives | C51: Quantity | D51: Market/Fair Value (Rounded, Rs. In Lacs) | E51: Rounded,% TO Net Assets)
B52: Aurobindo Pharma Ltd. | C52: -31850 | D52: -289.85 | E52: -0.0823
B53: Bharti Airtel Ltd. | C53: -49977 | D53: -278.17 | E53: -0.079
B54: Cipla Ltd. | C54: -9100 | D54: -75.64 | E54: -0.0215
B55: Dabur India Ltd. | C55: -12500 | D55: -64.74 | E55: -0.0184
B56: Grasim Industries Ltd. | C56: -1900 | D56: -20.17 | E56: -0.0057
...

Sheet LEBALF
B1: LIC MF EQUITY HYBRID FUND | I1: Index
B3: Monthly Portfolio Statement as on January 31,2021
B4: Name of the Instrument | C4: ISIN | D4: Industry / Rating | E4: Quantity | F4: Market/Fair Value (Rounded, Rs. In Lacs) | G4: Rounded, % to Net Assets | H4: Yield
B5: Equity & Equity related
B6: (a)Listed / Awaiting listing on Stock Exchanges
B7: ICICI Bank Ltd. | C7: INE090A01021 | D7: BANKS | E7: 672375 | F7: 3610.65 | G7: 0.0863
B8: HDFC Bank Ltd. | C8: INE040A01034 | D8: BANKS | E8: 245542 | F8: 3414.26 | G8: 0.0816
B9: Tata Consultancy Services Ltd. | C9: INE467B01029 | D9: SOFTWARE | E9: 74008 | F9: 2302.65 | G9: 0.055
B10: Infosys Ltd. | C10: INE009A01021 | D10: SOFTWARE | E10: 181882 | F10: 2253.61 | G10: 0.0538
B11: Hindustan Unilever Ltd. | C11: INE030A01027 | D11: CONSUMER NON DURABLES | E11: 76303 | F11: 1727.42 | G11: 0.0413
B12: Coromandel International Ltd. | C12: INE169A01031 | D12: FERTILISERS | E12: 192828 | F12: 1629.2 | G12: 0.0389
B13: Kotak Mahindra Bank Ltd. | C13: INE237A01028 | D13: BANKS | E13: 88721 | F13: 1519.75 | G13: 0.0363
B14: Nestle India Ltd. | C14: INE239A01016 | D14: CONSUMER NON DURABLES | E14: 7768 | F14: 1325.22 | G14: 0.0317
B15: Housing Development Finance Corp Ltd. | C15: INE001A01036 | D15: FINANCE | E15: 50026 | F15: 1189.52 | G15: 0.0284
B16: Kansai Nerolac Paints Ltd. | C16: INE531A01024 | D16: CONSUMER NON DURABLES | E16: 190444 | F16: 1044.97 | G16: 0.025
B17: Asian Paints Ltd. | C17: INE021A01026 | D17: CONSUMER NON DURABLES | E17: 29650 | F17: 713.78 | G17: 0.0171
B18: Biocon Ltd. | C18: INE376G01013 | D18: PHARMACEUTICALS | E18: 186600 | F18: 693.78 | G18: 0.0166
... B47: Greenlam Industries Ltd. | C47: INE544R01013 | D47: CONSUMER DURABLES | E47: 3589 | F47: 29.5 | G47: 0.0007
B48: Sub Total | F48: 32156.85 | G48: 0.7683
B49: (b) Unlisted
B50: Sub Total | F50: NIL | G50: NIL
B52: TOTAL | F52: 32156.85 | G52: 0.7683
B54: Debt Instruments
B55: (a)Listed / Awaiting listing on stock Exchanges
B56: 5.85% Government of India | C56: IN0020200294 | D56: SOVEREIGN | E56: 2000000 | F56: 2011.85 | G56: 0.0481 | H56: 0.059005
B57: 8.7% L&T Infra Debt Fund Ltd. ** | C57: INE235P07167 | D57: CRISIL AAA | E57: 60 | F57: 1625.23 | G57: 0.0388 | H57: 0.051606
B58: 8.24% India Infradebt Ltd. ** | C58: INE537P07232 | D58: ICRA AAA | E58: 150 | F58: 1574.85 | G58: 0.0376 | H58: 0.055947
B59: 8.94% Export Import Bank of India ** | C59: INE514E08CB3 | D59: CRISIL AAA | E59: 50 | F59: 543.57 | G59: 0.013 | H59: 0.0451
B60: 7.57% Government of India | C60: IN0020190065 | D60: SOVEREIGN | E60: 469354 | F60: 523.11 | G60: 0.0125 | H60: 0.063292
B61: 6.45% Government of India | C61: IN0020190362 | D61: SOVEREIGN | E61: 312706 | F61: 326.94 | G61: 0.0078 | H61: 0.060723
B62: 7.26% Government of India | C62: IN0020180454 | D62: SOVEREIGN | E62: 201709 | F62: 217.77 | G62: 0.0052 | H62: 0.060385
B63: 7.32% Government of India | C63: IN0020180488 | D63: SOVEREIGN | E63: 200000 | F63: 214.54 | G63: 0.0051 | H63: 0.047078
B64: 7.27% Government of India | C64: IN0020190016 | D64: SOVEREIGN | E64: 176300 | F64: 194.25 | G64: 0.0046 | H64: 0.05496
B65: 6.72% NTPC Ltd. ** | C65: INE733E07KH1 | D65: CRISIL AAA | E65: 10 | F65: 103.44 | G65: 0.0025 | H65: 0.03905
B66: 8.6% Government of India | C66: IN0020140011 | D66: SOVEREIGN | E66: 71474 | F66: 83.4 | G66: 0.002 | H66: 0.059931
B67: 7.88% Government of India | C67: IN0020150028 | D67: SOVEREIGN | E67: 50000 | F67: 57.43 | G67: 0.0014 | H67: 0.061455
... B69: 8.49% NTPC Ltd. ** | C69: INE733E07JP6 | D69: CRISIL AAA | E69: 36000 | F69: 5.23 | G69: 0.0001 | H69: 0.054699
B70: Sub Total | F70: 7492.65 | G70: 0.179
B72: (b)Privately Placed/Unlisted
B73: Sub Total | F73: NIL | G73: NIL
...

Sheet LEBFSF
B1: LIC MF BANKING AND FINANCIAL SERVICES FUND | I1: Index
B3: Monthly Portfolio Statement as on January 31,2021
B4: Name of the Instrument | C4: ISIN | D4: Industry / Rating | E4: Quantity | F4: Market/Fair Value (Rounded, Rs. In Lacs) | G4: Rounded, % to Net Assets | H4: Yield
B5: Equity & Equity related
B6: (a)Listed / Awaiting listing on Stock Exchanges
B7: HDFC Bank Ltd. | C7: INE040A01034 | D7: BANKS | E7: 103861 | F7: 1444.19 | G7: 0.2555
B8: ICICI Bank Ltd. | C8: INE090A01021 | D8: BANKS | E8: 163487 | F8: 877.93 | G8: 0.1553
B9: Kotak Mahindra Bank Ltd. | C9: INE237A01028 | D9: BANKS | E9: 34608 | F9: 592.82 | G9: 0.1049
B10: Housing Development Finance Corp Ltd. | C10: INE001A01036 | D10: FINANCE | E10: 19027 | F10: 452.42 | G10: 0.08
B11: Axis Bank Ltd. | C11: INE238A01034 | D11: BANKS | E11: 66898 | F11: 443.47 | G11: 0.0785
B12: The Federal Bank Ltd. | C12: INE171A01029 | D12: BANKS | E12: 452286 | F12: 327 | G12: 0.0579
B13: State Bank of India | C13: INE062A01020 | D13: BANKS | E13: 112718 | F13: 317.98 | G13: 0.0563
B14: City Union Bank Ltd. | C14: INE491A01021 | D14: BANKS | E14: 175594 | F14: 297.19 | G14: 0.0526
B15: DCB Bank Ltd. | C15: INE503A01015 | D15: BANKS | E15: 139437 | F15: 139.86 | G15: 0.0247
B16: ICICI Lombard General Insurance Co. Ltd. | C16: INE765G01017 | D16: FINANCE | E16: 10149 | F16: 133.51 | G16: 0.0236
B17: Bajaj Finance Ltd. | C17: INE296A01024 | D17: FINANCE | E17: 2307 | F17: 109.23 | G17: 0.0193
B18: SBI Life Insurance Company Ltd. | C18: INE123W01016 | D18: FINANCE | E18: 11067 | F18: 95.67 | G18: 0.0169
... B21: LIC Housing Finance Ltd. | C21: INE115A01026 | D21: FINANCE | E21: 3472 | F21: 13.74 | G21: 0.0024
B22: Sub Total | F22: 5435.17 | G22: 0.9617
B23: (b) Unlisted
B24: Sub Total | F24: NIL | G24: NIL
B26: TOTAL | F26: 5435.17 | G26: 0.9617
B29: Treps / Reverse Repo
B30: Treps | F30: 235.04 | G30: 0.0416
B31: Sub Total | F31: 235.04 | G31: 0.0416
B33: TOTAL | F33: 235.04 | G33: 0.0416
B34: Net Receivables / (Payables) | F34: -18.43 | G34: -0.0033
B35: GRAND TOTAL | F35: 5651.78 | G35: 1

Sheet LECHID
B1: LIC MF CHILDREN’S GIFT FUND | I1: Index
B3: Monthly Portfolio Statement as on January 31,2021
B4: Name of the Instrument | C4: ISIN | D4: Industry / Rating | E4: Quantity | F4: Market/Fair Value (Rounded, Rs. In Lacs) | G4: Rounded, % to Net Assets | H4: Yield
B5: Equity & Equity related
B6: (a)Listed / Awaiting listing on Stock Exchanges
B7: HDFC Bank Ltd. | C7: INE040A01034 | D7: BANKS | E7: 8042 | F7: 111.82 | G7: 0.087
B8: ICICI Bank Ltd. | C8: INE090A01021 | D8: BANKS | E8: 19359 | F8: 103.96 | G8: 0.0809
B9: Infosys Ltd. | C9: INE009A01021 | D9: SOFTWARE | E9: 7944 | F9: 98.43 | G9: 0.0766
B10: Tata Consultancy Services Ltd. | C10: INE467B01029 | D10: SOFTWARE | E10: 2841 | F10: 88.39 | G10: 0.0688
B11: Kotak Mahindra Bank Ltd. | C11: INE237A01028 | D11: BANKS | E11: 3630 | F11: 62.18 | G11: 0.0484
B12: Nestle India Ltd. | C12: INE239A01016 | D12: CONSUMER NON DURABLES | E12: 266 | F12: 45.38 | G12: 0.0353
B13: Coromandel International Ltd. | C13: INE169A01031 | D13: FERTILISERS | E13: 4707 | F13: 39.77 | G13: 0.031
B14: SBI Life Insurance Company Ltd. | C14: INE123W01016 | D14: FINANCE | E14: 4410 | F14: 38.12 | G14: 0.0297
B15: Axis Bank Ltd. | C15: INE238A01034 | D15: BANKS | E15: 5735 | F15: 38.02 | G15: 0.0296
B16: Hindustan Unilever Ltd. | C16: INE030A01027 | D16: CONSUMER NON DURABLES | E16: 1547 | F16: 35.02 | G16: 0.0273
B17: Dabur India Ltd. | C17: INE016A01026 | D17: CONSUMER NON DURABLES | E17: 5850 | F17: 30.1 | G17: 0.0234
B18: Kansai Nerolac Paints Ltd. | C18: INE531A01024 | D18: CONSUMER NON DURABLES | E18: 5482 | F18: 30.08 | G18: 0.0234
... B43: Reliance Industries Ltd. PARTLY PAID UP FV2.5 | C43: IN9002A01024 | D43: PETROLEUM PRODUCTS | E43: 94 | F43: 0.91 | G43: 0.0007
B44: Sub Total | F44: 1150.62 | G44: 0.8956
B45: (b) Unlisted
B46: Sub Total | F46: NIL | G46: NIL
B48: TOTAL | F48: 1150.62 | G48: 0.8956
B51: Treps / Reverse Repo
B52: Treps | F52: 140.02 | G52: 0.109
B53: Sub Total | F53: 140.02 | G53: 0.109
B55: TOTAL | F55: 140.02 | G55: 0.109
B56: Net Receivables / (Payables) | F56: -5.89 | G56: -0.0046
B57: GRAND TOTAL | F57: 1284.75 | G57: 1

Sheet LEEQTF
B1: LIC MF MULTICAP FUND | I1: Index
B3: Monthly Portfolio Statement as on January 31,2021
B4: Name of the Instrument | C4: ISIN | D4: Industry / Rating | E4: Quantity | F4: Market/Fair Value (Rounded, Rs. In Lacs) | G4: Rounded, % to Net Assets | H4: Yield
B5: Equity & Equity related
B6: (a)Listed / Awaiting listing on Stock Exchanges
B7: HDFC Bank Ltd. | C7: INE040A01034 | D7: BANKS | E7: 211310 | F7: 2938.27 | G7: 0.0871
B8: ICICI Bank Ltd. | C8: INE090A01021 | D8: BANKS | E8: 516831 | F8: 2775.38 | G8: 0.0823
B9: Infosys Ltd. | C9: INE009A01021 | D9: SOFTWARE | E9: 206506 | F9: 2558.71 | G9: 0.0759
B10: Tata Consultancy Services Ltd. | C10: INE467B01029 | D10: SOFTWARE | E10: 72665 | F10: 2260.86 | G10: 0.067
B11: Hindustan Unilever Ltd. | C11: INE030A01027 | D11: CONSUMER NON DURABLES | E11: 81633 | F11: 1848.09 | G11: 0.0548
B12: Coromandel International Ltd. | C12: INE169A01031 | D12: FERTILISERS | E12: 209221 | F12: 1767.71 | G12: 0.0524
B13: Nestle India Ltd. | C13: INE239A01016 | D13: CONSUMER NON DURABLES | E13: 8530 | F13: 1455.22 | G13: 0.0432
B14: Kotak Mahindra Bank Ltd. | C14: INE237A01028 | D14: BANKS | E14: 84700 | F14: 1450.87 | G14: 0.043
B15: Housing Development Finance Corp Ltd. | C15: INE001A01036 | D15: FINANCE | E15: 60475 | F15: 1437.97 | G15: 0.0426
B16: Bharti Airtel Ltd. | C16: INE397D01024 | D16: TELECOM - SERVICES | E16: 181500 | F16: 1004.78 | G16: 0.0298
B17: Kansai Nerolac Paints Ltd. | C17: INE531A01024 | D17: CONSUMER NON DURABLES | E17: 157565 | F17: 864.56 | G17: 0.0256
B18: Biocon Ltd. | C18: INE376G01013 | D18: PHARMACEUTICALS | E18: 218950 | F18: 814.06 | G18: 0.0241
... B53: Greenlam Industries Ltd. | C53: INE544R01013 | D53: CONSUMER DURABLES | E53: 9574 | F53: 78.69 | G53: 0.0023
B54: Sub Total | F54: 32886.74 | G54: 0.9752
B55: (b) Unlisted
B56: Sub Total | F56: NIL | G56: NIL
B58: TOTAL | F58: 32886.74 | G58: 0.9752
B61: Treps / Reverse Repo
B62: Treps | F62: 936.87 | G62: 0.0278
B63: Sub Total | F63: 936.87 | G63: 0.0278
B65: TOTAL | F65: 936.87 | G65: 0.0278
B66: Net Receivables / (Payables) | F66: -99.77 | G66: -0.003
B67: GRAND TOTAL | F67: 33723.84 | G67: 1

Sheet LEGROW
B1: LIC MF LARGE CAP FUND | I1: Index
B3: Monthly Portfolio Statement as on January 31,2021
B4: Name of the Instrument | C4: ISIN | D4: Industry / Rating | E4: Quantity | F4: Market/Fair Value (Rounded, Rs. In Lacs) | G4: Rounded, % to Net Assets | H4: Yield
B5: Equity & Equity related
B6: (a)Listed / Awaiting listing on Stock Exchanges
B7: ICICI Bank Ltd. | C7: INE090A01021 | D7: BANKS | E7: 752188 | F7: 4039.25 | G7: 0.088
B8: HDFC Bank Ltd. | C8: INE040A01034 | D8: BANKS | E8: 283377 | F8: 3940.36 | G8: 0.0858
B9: Infosys Ltd. | C9: INE009A01021 | D9: SOFTWARE | E9: 312835 | F9: 3876.18 | G9: 0.0844
B10: Tata Consultancy Services Ltd. | C10: INE467B01029 | D10: SOFTWARE | E10: 102000 | F10: 3173.58 | G10: 0.0691
B11: Bajaj Finance Ltd. | C11: INE296A01024 | D11: FINANCE | E11: 59206 | F11: 2803.14 | G11: 0.0611
B12: Avenue Supermarts Ltd. | C12: INE192R01011 | D12: RETAILING | E12: 93800 | F12: 2487.11 | G12: 0.0542
B13: Reliance Industries Ltd. | C13: INE002A01018 | D13: PETROLEUM PRODUCTS | E13: 135000 | F13: 2486.63 | G13: 0.0542
B14: Kotak Mahindra Bank Ltd. | C14: INE237A01028 | D14: BANKS | E14: 130252 | F14: 2231.15 | G14: 0.0486
B15: Housing Development Finance Corp Ltd. | C15: INE001A01036 | D15: FINANCE | E15: 71500 | F15: 1700.13 | G15: 0.037
B16: Hindustan Unilever Ltd. | C16: INE030A01027 | D16: CONSUMER NON DURABLES | E16: 69230 | F16: 1567.3 | G16: 0.0341
B17: Bharti Airtel Ltd. | C17: INE397D01024 | D17: TELECOM - SERVICES | E17: 272644 | F17: 1509.36 | G17: 0.0329
B18: Bajaj Finserv Ltd. | C18: INE918I01018 | D18: FINANCE | E18: 16430 | F18: 1433.15 | G18: 0.0312
... B40: Reliance Industries Ltd. PARTLY PAID UP FV2.5 | C40: IN9002A01024 | D40: PETROLEUM PRODUCTS | E40: 2920 | F40: 28.25 | G40: 0.0006
B41: Sub Total | F41: 44266.85 | G41: 0.9644
B42: (b) Unlisted
B43: Sub Total | F43: NIL | G43: NIL
B45: TOTAL | F45: 44266.85 | G45: 0.9644
B48: Treps / Reverse Repo
B49: Treps | F49: 1852.58 | G49: 0.0404
B50: Sub Total | F50: 1852.58 | G50: 0.0404
B52: TOTAL | F52: 1852.58 | G52: 0.0404
B53: Net Receivables / (Payables) | F53: -220.07 | G53: -0.0048
B54: GRAND TOTAL | F54: 45899.36 | G54: 1

Sheet LEINFA
B1: LIC MF INFRASTRUCTURE FUND | I1: Index
B3: Monthly Portfolio Statement as on January 31,2021
B4: Name of the Instrument | C4: ISIN | D4: Industry / Rating | E4: Quantity | F4: Market/Fair Value (Rounded, Rs. In Lacs) | G4: Rounded, % to Net Assets | H4: Yield
B5: Equity & Equity related
B6: (a)Listed / Awaiting listing on Stock Exchanges
B7: Ultratech Cement Ltd. | C7: INE481G01011 | D7: CEMENT | E7: 7990 | F7: 425.65 | G7: 0.0798
B8: HDFC Bank Ltd. | C8: INE040A01034 | D8: BANKS | E8: 25628 | F8: 356.36 | G8: 0.0668
B9: Reliance Industries Ltd. | C9: INE002A01018 | D9: PETROLEUM PRODUCTS | E9: 19100 | F9: 351.81 | G9: 0.0659
B10: The Ramco Cements Ltd. | C10: INE331A01037 | D10: CEMENT | E10: 44085 | F10: 344.3 | G10: 0.0645
B11: KNR Constructions Ltd. | C11: INE634I01029 | D11: CONSTRUCTION | E11: 92300 | F11: 340.49 | G11: 0.0638
B12: Bharti Airtel Ltd. | C12: INE397D01024 | D12: TELECOM - SERVICES | E12: 60888 | F12: 337.08 | G12: 0.0632
B13: ICICI Bank Ltd. | C13: INE090A01021 | D13: BANKS | E13: 62383 | F13: 335 | G13: 0.0628
B14: SKF India Ltd. | C14: INE640A01023 | D14: INDUSTRIAL PRODUCTS | E14: 17422 | F14: 305.1 | G14: 0.0572
B15: Petronet LNG Ltd. | C15: INE347G01014 | D15: GAS | E15: 111600 | F15: 264.49 | G15: 0.0496
B16: Brigade Enterprises Ltd. | C16: INE791I01019 | D16: CONSTRUCTION | E16: 96900 | F16: 235.13 | G16: 0.0441
B17: Hindalco Industries Ltd. | C17: INE038A01020 | D17: NON - FERROUS METALS | E17: 90200 | F17: 204.12 | G17: 0.0383
B18: Housing Development Finance Corp Ltd. | C18: INE001A01036 | D18: FINANCE | E18: 7985 | F18: 189.87 | G18: 0.0356
... B33: TCI Express Ltd. | C33: INE586V01016 | D33: TRANSPORTATION | E33: 750 | F33: 6.83 | G33: 0.0013
B34: Sub Total | F34: 5176.54 | G34: 0.9702
B35: (b) Unlisted
B36: Sub Total | F36: NIL | G36: NIL
B38: TOTAL | F38: 5176.54 | G38: 0.9702
B41: Treps / Reverse Repo
B42: Treps | F42: 192.97 | G42: 0.0362
B43: Sub Total | F43: 192.97 | G43: 0.0362
B45: TOTAL | F45: 192.97 | G45: 0.0362
B46: Net Receivables / (Payables) | F46: -33.9 | G46: -0.0064
B47: GRAND TOTAL | F47: 5335.61 | G47: 1
B49: @ Update of Valuation of Yes Bank. The details available on AMC Website under the link:
B50: https://www.licmf.com/assets/pdf/statuary_disclosure_new/38/1584541473-Update-on-Exposures-in-Yes-Bank-Ltd-13.03.2020.pdf
B52: Pursuant to the Gazette Notification dated 13th March 2020 issued by Ministry of Finance (Department of Financial Services) notifying ‘Yes Bank Limited Reconstruction Scheme, 2020’, 75% of shares held by existing shareholders of Yes Bank as on March 13, 2020 placed under 3 year lock-in from March 13, 2020. Accordingly, shares held by LICMF Index Fund – Nifty Plan were valued at “Zero Value” and any realization post three-year lock-in shall be distributed to the set of investors existing as on March 13, 2020 as per Unitholders register/BENPOS.
B54: The details of Reconstituted Portfolio is as under:
B55: Scheme Name | C55: Original ISIN | D55: Original ISIN Holidng ( Qty. ) | E55: New ISIN Free Holidng ( Qty. ) | F55: New ISIN 3-year Lock-in Holidng ( Qty. ) | G55: Value of Lock-in Shares (Rs.) as of March 17, 2020 | H55: Per unit Impact (Rs.)
B56: LIC MF INDEX FUND-NIFTY PLAN | C56: INE528G01027 | D56: 8695 | E56: 2173 | F56: 6522 | G56: 382515 | H56: 0.0877

Sheet LEINNF
B1: LIC MF INDEX FUND-NIFTY PLAN | I1: Index
B3: Monthly Portfolio Statement as on January 31,2021
B4: Name of the Instrument | C4: ISIN | D4: Industry / Rating | E4: Quantity | F4: Market/Fair Value (Rounded, Rs. In Lacs) | G4: Rounded, % to Net Assets | H4: Yield
B5: Equity & Equity related
B6: (a)Listed / Awaiting listing on Stock Exchanges
B7: HDFC Bank Ltd. | C7: INE040A01034 | D7: BANKS | E7: 23882 | F7: 332.08 | G7: 0.1029
B8: Reliance Industries Ltd. | C8: INE002A01018 | D8: PETROLEUM PRODUCTS | E8: 17774 | F8: 327.39 | G8: 0.1014
B9: Infosys Ltd. | C9: INE009A01021 | D9: SOFTWARE | E9: 20374 | F9: 252.44 | G9: 0.0782
B10: Housing Development Finance Corp Ltd. | C10: INE001A01036 | D10: FINANCE | E10: 9880 | F10: 234.93 | G10: 0.0728
B11: ICICI Bank Ltd. | C11: INE090A01021 | D11: BANKS | E11: 37970 | F11: 203.9 | G11: 0.0632
B12: Tata Consultancy Services Ltd. | C12: INE467B01029 | D12: SOFTWARE | E12: 5783 | F12: 179.93 | G12: 0.0557
B13: Kotak Mahindra Bank Ltd. | C13: INE237A01028 | D13: BANKS | E13: 8016 | F13: 137.31 | G13: 0.0425
B14: Hindustan Unilever Ltd. | C14: INE030A01027 | D14: CONSUMER NON DURABLES | E14: 4932 | F14: 111.66 | G14: 0.0346
B15: ITC Ltd. | C15: INE154A01025 | D15: CONSUMER NON DURABLES | E15: 47874 | F15: 97.3 | G15: 0.0301
B16: Axis Bank Ltd. | C16: INE238A01034 | D16: BANKS | E16: 13643 | F16: 90.44 | G16: 0.028
B17: Larsen & Toubro Ltd. | C17: INE018A01030 | D17: CONSTRUCTION PROJECT | E17: 6668 | F17: 89 | G17: 0.0276
B18: Bharti Airtel Ltd. | C18: INE397D01024 | D18: TELECOM - SERVICES | E18: 13257 | F18: 73.39 | G18: 0.0227
... B56: Indian Oil Corporation Ltd. | C56: INE242A01010 | D56: PETROLEUM PRODUCTS | E56: 12515 | F56: 11.67 | G56: 0.0036
B57: Yes Bank Ltd. | C57: INEYESLOCKIN | D57: BANKS | E57: 6522 | F57: 0 | G57: $0.00%
B58: Sub Total | F58: 3203.27 | G58: 0.9921
B59: (b) Unlisted
B60: Sub Total | F60: NIL | G60: NIL
B62: TOTAL | F62: 3203.27 | G62: 0.9921
B65: Treps / Reverse Repo
B66: Treps | F66: 109.19 | G66: 0.0338
B67: Sub Total | F67: 109.19 | G67: 0.0338
B69: TOTAL | F69: 109.19 | G69: 0.0338
B70: Net Receivables / (Payables) | F70: -83.85 | G70: -0.0259
B71: GRAND TOTAL | F71: 3228.61 | G71: 1
B73: $ Less Than 0.01% of Net Asset Value

Sheet LEINSX
B1: LIC MF INDEX FUND-SENSEX PLAN | I1: Index
B3: Monthly Portfolio Statement as on January 31,2021
B4: Name of the Instrument | C4: ISIN | D4: Industry / Rating | E4: Quantity | F4: Market/Fair Value (Rounded, Rs. In Lacs) | G4: Rounded, % to Net Assets | H4: Yield
B5: Equity & Equity related
B6: (a)Listed / Awaiting listing on Stock Exchanges
B7: Reliance Industries Ltd. | C7: INE002A01018 | D7: PETROLEUM PRODUCTS | E7: 18925 | F7: 348.82 | G7: 0.1173
B8: HDFC Bank Ltd. | C8: INE040A01034 | D8: BANKS | E8: 23816 | F8: 331.23 | G8: 0.1114
B9: Infosys Ltd. | C9: INE009A01021 | D9: SOFTWARE | E9: 21373 | F9: 264.95 | G9: 0.0891
B10: Housing Development Finance Corp Ltd. | C10: INE001A01036 | D10: FINANCE | E10: 10485 | F10: 249.31 | G10: 0.0838
B11: ICICI Bank Ltd. | C11: INE090A01021 | D11: BANKS | E11: 40362 | F11: 216.74 | G11: 0.0729
B12: Tata Consultancy Services Ltd. | C12: INE467B01029 | D12: SOFTWARE | E12: 6118 | F12: 190.45 | G12: 0.064
B13: Kotak Mahindra Bank Ltd. | C13: INE237A01028 | D13: BANKS | E13: 7637 | F13: 130.86 | G13: 0.044
B14: Hindustan Unilever Ltd. | C14: INE030A01027 | D14: CONSUMER NON DURABLES | E14: 5227 | F14: 118.31 | G14: 0.0398
B15: ITC Ltd. | C15: INE154A01025 | D15: CONSUMER NON DURABLES | E15: 50575 | F15: 102.79 | G15: 0.0346
B16: Axis Bank Ltd. | C16: INE238A01034 | D16: BANKS | E16: 15294 | F16: 101.48 | G16: 0.0341
B17: Larsen & Toubro Ltd. | C17: INE018A01030 | D17: CONSTRUCTION PROJECT | E17: 7096 | F17: 94.7 | G17: 0.0318
B18: Bharti Airtel Ltd. | C18: INE397D01024 | D18: TELECOM - SERVICES | E18: 13905 | F18: 76.92 | G18: 0.0259
... B36: Oil & Natural Gas Corporation Ltd. | C36: INE213A01029 | D36: OIL | E36: 20257 | F36: 17.91 | G36: 0.006
B37: Sub Total | F37: 2941.87 | G37: 0.9893
B38: (b) Unlisted
B39: Sub Total | F39: NIL | G39: NIL
B41: TOTAL | F41: 2941.87 | G41: 0.9893
B44: Treps / Reverse Repo
B45: Treps | F45: 45.37 | G45: 0.0153
B46: Sub Total | F46: 45.37 | G46: 0.0153
B48: TOTAL | F48: 45.37 | G48: 0.0153
B49: Net Receivables / (Payables) | F49: -13.65 | G49: -0.0046
B50: GRAND TOTAL | F50: 2973.59 | G50: 1

Sheet LEMIDF
B1: LIC MF LARGE & MID CAP FUND | I1: Index
B3: Monthly Portfolio Statement as on January 31,2021
B4: Name of the Instrument | C4: ISIN | D4: Industry / Rating | E4: Quantity | F4: Market/Fair Value (Rounded, Rs. In Lacs) | G4: Rounded, % to Net Assets | H4: Yield
B5: Equity & Equity related
B6: (a)Listed / Awaiting listing on Stock Exchanges
B7: ICICI Bank Ltd. | C7: INE090A01021 | D7: BANKS | E7: 1232915 | F7: 6620.75 | G7: 0.0733
B8: Infosys Ltd. | C8: INE009A01021 | D8: SOFTWARE | E8: 509337 | F8: 6310.94 | G8: 0.0699
B9: HDFC Bank Ltd. | C9: INE040A01034 | D9: BANKS | E9: 423375 | F9: 5887.03 | G9: 0.0652
B10: Tata Consultancy Services Ltd. | C10: INE467B01029 | D10: SOFTWARE | E10: 110200 | F10: 3428.71 | G10: 0.038
B11: Tata Chemicals Ltd. | C11: INE092A01019 | D11: CHEMICALS | E11: 653498 | F11: 3106.08 | G11: 0.0344
B12: Voltas Ltd. | C12: INE226A01021 | D12: CONSUMER DURABLES | E12: 306000 | F12: 2778.79 | G12: 0.0308
B13: Bajaj Finance Ltd. | C13: INE296A01024 | D13: FINANCE | E13: 54480 | F13: 2579.38 | G13: 0.0286
B14: Avenue Supermarts Ltd. | C14: INE192R01011 | D14: RETAILING | E14: 96517 | F14: 2559.15 | G14: 0.0283
B15: Tata Consumer Products Ltd. | C15: INE192A01025 | D15: CONSUMER NON DURABLES | E15: 430723 | F15: 2411.19 | G15: 0.0267
B16: Reliance Industries Ltd. | C16: INE002A01018 | D16: PETROLEUM PRODUCTS | E16: 124200 | F16: 2287.7 | G16: 0.0253
B17: Atul Ltd. | C17: INE100A01010 | D17: CHEMICALS | E17: 34118 | F17: 2174.2 | G17: 0.0241
B18: Syngene International Ltd. | C18: INE398R01022 | D18: PHARMACEUTICALS | E18: 380381 | F18: 2154.48 | G18: 0.0239
... B57: Greenlam Industries Ltd. | C57: INE544R01013 | D57: CONSUMER DURABLES | E57: 24175 | F57: 198.69 | G57: 0.0022
B58: Sub Total | F58: =SUM(F7:F57) -> 85762.94 | G58: =SUM(G7:G57) -> 0.9501
B59: (b) Unlisted
B60: Aditya Birla Fashion and Retail Ltd. # | C60: IN9647O01027 | D60: RETAILING | E60: 71345 | F60: 87.47 | G60: 0.001
B61: Sub Total | F61: =F60 -> 87.47 | G61: =G60 -> 0.001
B63: TOTAL | F63: 85850.41 | G63: 0.9509
B66: Treps / Reverse Repo
B67: Treps | F67: 4449.14 | G67: 0.0493
B68: Sub Total | F68: 4449.14 | G68: 0.0493
B70: TOTAL | F70: 4449.14 | G70: 0.0493
B71: Net Receivables / (Payables) | F71: -14.01 | G71: -0.0002
B72: GRAND TOTAL | F72: 90285.54 | G72: 1
B74: # Unlisted Security

Sheet LET100
B1: LIC MF ETF-NIFTY 100 | I1: Index
B3: Monthly Portfolio Statement as on January 31,2021
B4: Name of the Instrument | C4: ISIN | D4: Industry / Rating | E4: Quantity | F4: Market/Fair Value (Rounded, Rs. In Lacs) | G4: Rounded, % to Net Assets | H4: Yield
B5: Equity & Equity related
B6: (a)Listed / Awaiting listing on Stock Exchanges
B7: HDFC Bank Ltd. | C7: INE040A01034 | D7: BANKS | E7: 246622 | F7: 3429.28 | G7: 0.0896
B8: Reliance Industries Ltd. | C8: INE002A01018 | D8: PETROLEUM PRODUCTS | E8: 183365 | F8: 3377.49 | G8: 0.0882
B9: Infosys Ltd. | C9: INE009A01021 | D9: SOFTWARE | E9: 209911 | F9: 2600.9 | G9: 0.0679
B10: Housing Development Finance Corp Ltd. | C10: INE001A01036 | D10: FINANCE | E10: 101849 | F10: 2421.77 | G10: 0.0632
B11: ICICI Bank Ltd. | C11: INE090A01021 | D11: BANKS | E11: 391411 | F11: 2101.88 | G11: 0.0549
B12: Tata Consultancy Services Ltd. | C12: INE467B01029 | D12: SOFTWARE | E12: 59695 | F12: 1857.32 | G12: 0.0485
B13: Kotak Mahindra Bank Ltd. | C13: INE237A01028 | D13: BANKS | E13: 83097 | F13: 1423.41 | G13: 0.0372
B14: Hindustan Unilever Ltd. | C14: INE030A01027 | D14: CONSUMER NON DURABLES | E14: 51000 | F14: 1154.59 | G14: 0.0302
B15: ITC Ltd. | C15: INE154A01025 | D15: CONSUMER NON DURABLES | E15: 489480 | F15: 994.87 | G15: 0.026
B16: Axis Bank Ltd. | C16: INE238A01034 | D16: BANKS | E16: 139401 | F16: 924.09 | G16: 0.0241
B17: Larsen & Toubro Ltd. | C17: INE018A01030 | D17: CONSTRUCTION PROJECT | E17: 69028 | F17: 921.32 | G17: 0.0241
B18: Bharti Airtel Ltd. | C18: INE397D01024 | D18: TELECOM - SERVICES | E18: 136361 | F18: 754.89 | G18: 0.0197
... B106: General Insurance Corporation of India | C106: INE481Y01014 | D106: FINANCE | E106: 12831 | F106: 16.92 | G106: 0.0004
B107: Yes Bank Ltd. | C107: INEYESLOCKIN | D107: BANKS | E107: 72410 | F107: 0 | G107: $0.00%
B108: Sub Total | F108: 38280.2 | G108: 0.9996
B109: (b) Unlisted
B110: Sub Total | F110: NIL | G110: NIL
B112: TOTAL | F112: 38280.2 | G112: 0.9996
B115: Treps / Reverse Repo
B116: Treps | F116: 11.46 | G116: 0.0003
B117: Sub Total | F117: 11.46 | G117: 0.0003
B119: TOTAL | F119: 11.46 | G119: 0.0003
B120: Net Receivables / (Payables) | F120: 1 | G120: 0.0001
B121: GRAND TOTAL | F121: 38292.66 | G121: 1
B123: $ Less Than 0.01% of Net Asset Value
B125: @ Update of Valuation of Yes Bank. The details available on AMC Website under the link:
B126: https://www.licmf.com/assets/pdf/statuary_disclosure_new/38/1584541473-Update-on-Exposures-in-Yes-Bank-Ltd-13.03.2020.pdf
B128: Pursuant to the Gazette Notification dated 13th March 2020 issued by Ministry of Finance (Department of Financial Services) notifying ‘Yes Bank Limited Reconstruction Scheme, 2020’, 75% of shares held by existing shareholders of Yes Bank as on March 13, 2020 placed under 3 year lock-in from March 13, 2020. Accordingly, shares held by LICMF ETF – Nifty 100 were valued at “Zero Value” and any realization post three-year lock-in shall be distributed to the set of investors existing as on March 13, 2020 as per Unitholders register/BENPOS.
B130: The details of Reconstituted Portfolio is as under:
B131: Scheme Name | C131: Original ISIN | D131: Original ISIN Holidng ( Qty. ) | E131: New ISIN Free Holidng ( Qty. ) | F131: New ISIN 3-year Lock-in Holidng ( Qty. ) | G131: Value of Lock-in Shares (Rs.) as of March 17, 2020 | H131: Per unit Impact (Rs.)
B132: LIC MF ETF-NIFTY 100 | C132: INE528G01027 | D132: 96546 | E132: 24136 | F132: 72410 | G132: 4246847 | H132: 0.1594

Sheet LETAXP
B1: LIC MF TAX PLAN | I1: Index
B3: Monthly Portfolio Statement as on January 31,2021
B4: Name of the Instrument | C4: ISIN | D4: Industry / Rating | E4: Quantity | F4: Market/Fair Value (Rounded, Rs. In Lacs) | G4: Rounded, % to Net Assets | H4: Yield
B5: Equity & Equity related
B6: (a)Listed / Awaiting listing on Stock Exchanges
B7: ICICI Bank Ltd. | C7: INE090A01021 | D7: BANKS | E7: 510041 | F7: 2738.92 | G7: 0.0873
B8: Infosys Ltd. | C8: INE009A01021 | D8: SOFTWARE | E8: 218256 | F8: 2704.3 | G8: 0.0862
B9: HDFC Bank Ltd. | C9: INE040A01034 | D9: BANKS | E9: 184415 | F9: 2564.29 | G9: 0.0818
B10: Tata Consultancy Services Ltd. | C10: INE467B01029 | D10: SOFTWARE | E10: 56800 | F10: 1767.25 | G10: 0.0563
B11: Avenue Supermarts Ltd. | C11: INE192R01011 | D11: RETAILING | E11: 46248 | F11: 1226.27 | G11: 0.0391
B12: Kotak Mahindra Bank Ltd. | C12: INE237A01028 | D12: BANKS | E12: 68259 | F12: 1169.24 | G12: 0.0373
B13: Bajaj Finance Ltd. | C13: INE296A01024 | D13: FINANCE | E13: 19760 | F13: 935.55 | G13: 0.0298
B14: Reliance Industries Ltd. | C14: INE002A01018 | D14: PETROLEUM PRODUCTS | E14: 48700 | F14: 897.03 | G14: 0.0286
B15: Bharti Airtel Ltd. | C15: INE397D01024 | D15: TELECOM - SERVICES | E15: 159150 | F15: 881.05 | G15: 0.0281
B16: Hindustan Unilever Ltd. | C16: INE030A01027 | D16: CONSUMER NON DURABLES | E16: 34200 | F16: 774.25 | G16: 0.0247
B17: Vinati Organics Ltd. | C17: INE410B01037 | D17: CHEMICALS | E17: 58176 | F17: 707.59 | G17: 0.0226
B18: Tata Consumer Products Ltd. | C18: INE192A01025 | D18: CONSUMER NON DURABLES | E18: 109830 | F18: 614.83 | G18: 0.0196
... B53: Ultratech Cement Ltd. | C53: INE481G01011 | D53: CEMENT | E53: 3200 | F53: 170.47 | G53: 0.0054
B54: Sub Total | F54: =SUM(F7:F53) -> 30365.07 | G54: =SUM(G7:G53) -> 0.968
B55: (b) Unlisted
B56: Aditya Birla Fashion and Retail Ltd. # | C56: IN9647O01027 | D56: RETAILING | E56: 28014 | F56: 34.35 | G56: 0.0011
B57: Sub Total | F57: =F56 -> 34.35 | G57: =G56 -> 0.0011
B59: TOTAL | F59: 30399.42 | G59: 0.9693
B62: Treps / Reverse Repo
B63: Treps | F63: 934.45 | G63: 0.0298
B64: Sub Total | F64: 934.45 | G64: 0.0298
B66: TOTAL | F66: 934.45 | G66: 0.0298
B67: Net Receivables / (Payables) | F67: 28.6 | G67: 0.0009
B68: GRAND TOTAL | F68: 31362.47 | G68: 1
B70: # Unlisted Security

Sheet LETF50
B1: LIC MF ETF-NIFTY 50 | I1: Index
B3: Monthly Portfolio Statement as on January 31,2021
B4: Name of the Instrument | C4: ISIN | D4: Industry / Rating | E4: Quantity | F4: Market/Fair Value (Rounded, Rs. In Lacs) | G4: Rounded, % to Net Assets | H4: Yield
B5: Equity & Equity related
B6: (a)Listed / Awaiting listing on Stock Exchanges
B7: HDFC Bank Ltd. | C7: INE040A01034 | D7: BANKS | E7: 457481 | F7: 6361.27 | G7: 0.1029
B8: Reliance Industries Ltd. | C8: INE002A01018 | D8: PETROLEUM PRODUCTS | E8: 339873 | F8: 6260.29 | G8: 0.1013
B9: Infosys Ltd. | C9: INE009A01021 | D9: SOFTWARE | E9: 390458 | F9: 4837.97 | G9: 0.0783
B10: Housing Development Finance Corp Ltd. | C10: INE001A01036 | D10: FINANCE | E10: 188899 | F10: 4491.64 | G10: 0.0727
B11: ICICI Bank Ltd. | C11: INE090A01021 | D11: BANKS | E11: 726145 | F11: 3899.4 | G11: 0.0631
B12: Tata Consultancy Services Ltd. | C12: INE467B01029 | D12: SOFTWARE | E12: 111117 | F12: 3457.24 | G12: 0.0559
B13: Kotak Mahindra Bank Ltd. | C13: INE237A01028 | D13: BANKS | E13: 154307 | F13: 2643.2 | G13: 0.0428
B14: Hindustan Unilever Ltd. | C14: INE030A01027 | D14: CONSUMER NON DURABLES | E14: 94614 | F14: 2141.97 | G14: 0.0347
B15: ITC Ltd. | C15: INE154A01025 | D15: CONSUMER NON DURABLES | E15: 911575 | F15: 1852.78 | G15: 0.03
B16: Axis Bank Ltd. | C16: INE238A01034 | D16: BANKS | E16: 261454 | F16: 1733.18 | G16: 0.028
B17: Larsen & Toubro Ltd. | C17: INE018A01030 | D17: CONSTRUCTION PROJECT | E17: 126823 | F17: 1692.71 | G17: 0.0274
B18: Bharti Airtel Ltd. | C18: INE397D01024 | D18: TELECOM - SERVICES | E18: 253118 | F18: 1401.26 | G18: 0.0227
... B56: GAIL (India) Ltd. | C56: INE129A01019 | D56: GAS | E56: 184253 | F56: 230.87 | G56: 0.0037
B57: Yes Bank Ltd. | C57: INEYESLOCKIN | D57: BANKS | E57: 144032 | F57: 0 | G57: $0.00%
B58: Sub Total | F58: 61785.1 | G58: 0.9996
B59: (b) Unlisted
B60: Sub Total | F60: NIL | G60: NIL
B62: TOTAL | F62: 61785.1 | G62: 0.9996
B65: Treps / Reverse Repo
B66: Treps | F66: 12.82 | G66: 0.0002
B67: Sub Total | F67: 12.82 | G67: 0.0002
B69: TOTAL | F69: 12.82 | G69: 0.0002
B70: Net Receivables / (Payables) | F70: 11.4 | G70: 0.0002
B71: GRAND TOTAL | F71: 61809.32 | G71: 1
B73: $ Less Than 0.01% of Net Asset Value
B75: @ Update of Valuation of Yes Bank. The details available on AMC Website under the link:
B76: https://www.licmf.com/assets/pdf/statuary_disclosure_new/38/1584541473-Update-on-Exposures-in-Yes-Bank-Ltd-13.03.2020.pdf
B78: Pursuant to the Gazette Notification dated 13th March 2020 issued by Ministry of Finance (Department of Financial Services) notifying ‘Yes Bank Limited Reconstruction Scheme, 2020’, 75% of shares held by existing shareholders of Yes Bank as on March 13, 2020 placed under 3 year lock-in from March 13, 2020. Accordingly, shares held by LIC MF ETF-NIFTY 50 were valued at “Zero Value” and any realization post three-year lock-in shall be distributed to the set of investors existing as on March 13, 2020 as per Unitholders register/BENPOS.
B80: The details of Reconstituted Portfolio is as under:
B81: Scheme Name | C81: Original ISIN | D81: Original ISIN Holidng ( Qty. ) | E81: New ISIN Free Holidng ( Qty. ) | F81: New ISIN 3-year Lock-in Holidng ( Qty. ) | G81: Value of Lock-in Shares (Rs.) as of March 17, 2020 | H81: Per unit Impact (Rs.)
B82: LIC MF ETF-NIFTY 50 | C82: INE528G01027 | D82: 192042 | E82: 48010 | F82: 144032 | G82: 8447477 | H82: 0.1981

Sheet LETFSX
B1: LIC MF ETF-SENSEX | I1: Index
B3: Monthly Portfolio Statement as on January 31,2021
B4: Name of the Instrument | C4: ISIN | D4: Industry / Rating | E4: Quantity | F4: Market/Fair Value (Rounded, Rs. In Lacs) | G4: Rounded, % to Net Assets | H4: Yield
B5: Equity & Equity related
B6: (a)Listed / Awaiting listing on Stock Exchanges
B7: Reliance Industries Ltd. | C7: INE002A01018 | D7: PETROLEUM PRODUCTS | E7: 318035 | F7: 5861.86 | G7: 0.1178
B8: HDFC Bank Ltd. | C8: INE040A01034 | D8: BANKS | E8: 400309 | F8: 5567.5 | G8: 0.1119
B9: Infosys Ltd. | C9: INE009A01021 | D9: SOFTWARE | E9: 361124 | F9: 4476.67 | G9: 0.09
B10: Housing Development Finance Corp Ltd. | C10: INE001A01036 | D10: FINANCE | E10: 176905 | F10: 4206.36 | G10: 0.0846
B11: ICICI Bank Ltd. | C11: INE090A01021 | D11: BANKS | E11: 680559 | F11: 3654.6 | G11: 0.0735
B12: Tata Consultancy Services Ltd. | C12: INE467B01029 | D12: SOFTWARE | E12: 103719 | F12: 3228.67 | G12: 0.0649
B13: Kotak Mahindra Bank Ltd. | C13: INE237A01028 | D13: BANKS | E13: 128561 | F13: 2202.83 | G13: 0.0443
B14: Hindustan Unilever Ltd. | C14: INE030A01027 | D14: CONSUMER NON DURABLES | E14: 88505 | F14: 2003.22 | G14: 0.0403
B15: ITC Ltd. | C15: INE154A01025 | D15: CONSUMER NON DURABLES | E15: 855007 | F15: 1737.8 | G15: 0.0349
B16: Axis Bank Ltd. | C16: INE238A01034 | D16: BANKS | E16: 257971 | F16: 1711.64 | G16: 0.0344
B17: Larsen & Toubro Ltd. | C17: INE018A01030 | D17: CONSTRUCTION PROJECT | E17: 119761 | F17: 1598.33 | G17: 0.0321
B18: Bharti Airtel Ltd. | C18: INE397D01024 | D18: TELECOM - SERVICES | E18: 238871 | F18: 1321.43 | G18: 0.0266
... B36: Oil & Natural Gas Corporation Ltd. | C36: INE213A01029 | D36: OIL | E36: 349372 | F36: 308.84 | G36: 0.0062
B37: Sub Total | F37: 49721.39 | G37: 0.9995
B38: (b) Unlisted
B39: Sub Total | F39: NIL | G39: NIL
B41: TOTAL | F41: 49721.39 | G41: 0.9995
B44: Treps / Reverse Repo
B45: Treps | F45: 16.34 | G45: 0.0003
B46: Sub Total | F46: 16.34 | G46: 0.0003
B48: TOTAL | F48: 16.34 | G48: 0.0003
B49: Net Receivables / (Payables) | F49: 5.56 | G49: 0.0002
B50: GRAND TOTAL | F50: 49743.29 | G50: 1

Sheet LEULIS
B1: LIC MF UNIT LINKED INSURANCE SCHEME | I1: Index
B3: Monthly Portfolio Statement as on January 31,2021
B4: Name of the Instrument | C4: ISIN | D4: Industry / Rating | E4: Quantity | F4: Market/Fair Value (Rounded, Rs. In Lacs) | G4: Rounded, % to Net Assets | H4: Yield
B5: Equity & Equity related
B6: (a)Listed / Awaiting listing on Stock Exchanges
B7: HDFC Bank Ltd. | C7: INE040A01034 | D7: BANKS | E7: 172129 | F7: 2393.45 | G7: 0.0729
B8: ICICI Bank Ltd. | C8: INE090A01021 | D8: BANKS | E8: 429878 | F8: 2308.44 | G8: 0.0703
B9: Infosys Ltd. | C9: INE009A01021 | D9: SOFTWARE | E9: 178467 | F9: 2211.3 | G9: 0.0673
B10: Tata Consultancy Services Ltd. | C10: INE467B01029 | D10: SOFTWARE | E10: 67500 | F10: 2100.16 | G10: 0.0639
B11: Bajaj Finance Ltd. | C11: INE296A01024 | D11: FINANCE | E11: 32027 | F11: 1516.33 | G11: 0.0462
B12: Avenue Supermarts Ltd. | C12: INE192R01011 | D12: RETAILING | E12: 48600 | F12: 1288.63 | G12: 0.0392
B13: Kotak Mahindra Bank Ltd. | C13: INE237A01028 | D13: BANKS | E13: 63909 | F13: 1094.73 | G13: 0.0333
B14: Reliance Industries Ltd. | C14: INE002A01018 | D14: PETROLEUM PRODUCTS | E14: 42602 | F14: 784.71 | G14: 0.0239
B15: Tata Consumer Products Ltd. | C15: INE192A01025 | D15: CONSUMER NON DURABLES | E15: 130765 | F15: 732.02 | G15: 0.0223
B16: Bharti Airtel Ltd. | C16: INE397D01024 | D16: TELECOM - SERVICES | E16: 128952 | F16: 713.88 | G16: 0.0217
B17: Hindustan Unilever Ltd. | C17: INE030A01027 | D17: CONSUMER NON DURABLES | E17: 30700 | F17: 695.02 | G17: 0.0212
B18: Divi's Laboratories Ltd. | C18: INE361B01024 | D18: PHARMACEUTICALS | E18: 20500 | F18: 690.82 | G18: 0.021
... B36: Century Plyboards (India) Ltd. | C36: INE348B01021 | D36: CONSUMER DURABLES | E36: 69150 | F36: 182.66 | G36: 0.0056
B37: Sub Total | F37: 24747.53 | G37: 0.7534
B38: (b) Unlisted
B39: Sub Total | F39: NIL | G39: NIL
B41: TOTAL | F41: 24747.53 | G41: 0.7534
B43: Money Market Instruments
B45: Treasury Bill
B46: 182 DAYS TBILL RED 04-03-2021 | C46: IN002020Y223 | D46: SOVEREIGN | E46: 4000000 | F46: 3989.02 | G46: 0.1214 | H46: 0.032397
B47: 182 DAYS TBILL RED 11-03-2021 | C47: IN002020Y231 | D47: SOVEREIGN | E47: 2500000 | F47: 2491.6 | G47: 0.0759 | H47: 0.032402
B48: 91 DAYS TBILL RED 18-03-2021 | C48: IN002020X399 | D48: SOVEREIGN | E48: 500000 | F48: 497.99 | G48: 0.0152 | H48: 0.032697
B49: 182 DAYS TBILL RED 18-03-2021 | C49: IN002020Y249 | D49: SOVEREIGN | E49: 500000 | F49: 497.99 | G49: 0.0152 | H49: 0.032697
B50: Sub Total | F50: 7476.6 | G50: 0.2276
B52: TOTAL | F52: 7476.6 | G52: 0.2276
B55: Treps / Reverse Repo
B56: Treps | F56: 974.36 | G56: 0.0297
B57: Sub Total | F57: 974.36 | G57: 0.0297
B59: TOTAL | F59: 974.36 | G59: 0.0297
B60: Net Receivables / (Payables) | F60: -352.81 | G60: -0.0107
B61: GRAND TOTAL | F61: 32845.68 | G61: 1
