Workbook

Sheet Index
A1: Scheme Code | B1: Scheme Code | C1: Scheme Name
A2: LIC33 | B2: LDBOND | C2: LIC MF Bond Fund
A3: LIC142 | B3: LDCPO2 | C3: LIC MF Capital Protection Oriented Fund-Series 2
A4: LIC172 | B4: LDDAF1 | C4: LIC MF Dual Advantage Fixed Term Plan-Series 1
A5: LIC173 | B5: LDDAF2 | C5: LIC MF Dual Advantage Fixed Term Plan-Series 2
A6: LIC174 | B6: LDDAF3 | C6: LIC MF Dual Advantage Fixed Term Plan-Series 3
A7: LIC168 | B7: LDGETF | C7: LIC MF G-Sec Long Term Exchange Traded Fund
A8: LIC34 | B8: LDGSEC | C8: LIC MF Govt. Securities Fund
A9: LIC72 | B9: LDINPF | C9: LIC MF Income Plus Fund
A10: LIC31 | B10: LDMIPF | C10: LIC MF Monthly Income Plan
A11: LIC40 | B11: LDSAPF | C11: LIC MF Savings Plus Fund
A12: LIC08 | B12: LEBALF | C12: LIC MF Balanced Fund
... A26: LIC36 | B26: LLIQDF | C26: LIC MF Liquid Fund

Sheet Main File
F1: Regular Plan | K1: Direct Plan
A2: Coding | B2: DB Scheme Code | C2: SCB Scheme Code | D2: Date (DD/MM/YYYY) | E2: Scheme Name | F2: Base TER (%)1 | G2: Additional expense as per Regulation 52(6A)(b) (%)2 | H2: Additional expense as per Regulation 52(6A)(c) (%)3 | I2: GST (%)4 | J2: Total TER (%) | K2: Base TER (%)1 | L2: Additional expense as per Regulation 52(6A)(b) (%)2 | M2: Additional expense as per Regulation 52(6A)(c) (%)3 | N2: GST (%)4 | O2: Total TER (%)
A3: =C3&D3 -> LDBOND43191 | B3: LIC33 | C3: LDBOND | D3: 43191 | E3: LIC MF Bond Fund | F3: 1.0700193 | G3: 0 | H3: 0 | I3: 0.095403171 | J3: 1.1654225 | K3: 0.56678083 | L3: 0 | M3: 0 | N3: 0.094822254 | O3: 0.66160308
A4: =C4&D4 -> LDCPO243191 | B4: LIC142 | C4: LDCPO2 | D4: 43191 | E4: LIC MF Capital Protection Oriented Fund-Series 2 | F4: 2.250077 | G4: 0 | H4: 0 | I4: 0.28801829 | J4: 2.5380953 | K4: 1.7500943 | L4: 0 | M4: 0 | N4: 0.28802384 | O4: 2.0381181
A5: =C5&D5 -> LDDAF143191 | B5: LIC172 | C5: LDDAF1 | D5: 43191 | E5: LIC MF Dual Advantage Fixed Term Plan-Series 1 | F5: 2.2500856 | G5: 0 | H5: 0 | I5: 0.17461298 | J5: 2.4246986 | K5: 1.0800118 | L5: 0 | M5: 0 | N5: 0.17460304 | O5: 1.2546148
A6: =C6&D6 -> LDDAF243191 | B6: LIC173 | C6: LDDAF2 | D6: 43191 | E6: LIC MF Dual Advantage Fixed Term Plan-Series 2 | F6: 2.2500891 | G6: 0 | H6: 0 | I6: 0.19801288 | J6: 2.448102 | K6: 1.2200093 | L6: 0 | M6: 0 | N6: 0.19800614 | O6: 1.4180154
A7: =C7&D7 -> LDDAF343191 | B7: LIC174 | C7: LDDAF3 | D7: 43191 | E7: LIC MF Dual Advantage Fixed Term Plan-Series 3 | F7: 2.2500872 | G7: 0 | H7: 0 | I7: 0.19621437 | J7: 2.4463015 | K7: 1.2300154 | L7: 0 | M7: 0 | N7: 0.1962054 | O7: 1.4262208
A8: =C8&D8 -> LDGETF43191 | B8: LIC168 | C8: LDGETF | D8: 43191 | E8: LIC MF G-Sec Long Term Exchange Traded Fund# | F8: 0.25000076 | G8: 0 | H8: 0 | I8: 0.027000066 | J8: 0.27700083 | K8: 0 | L8: 0 | M8: 0 | N8: 0 | O8: 0
A9: =C9&D9 -> LDGSEC43191 | B9: LIC34 | C9: LDGSEC | D9: 43191 | E9: LIC MF Govt. Securities Fund | F9: 2.2500977 | G9: 0 | H9: 0.2 | I9: 0.27541891 | J9: 2.7255166 | K9: 1.3460867 | L9: 0 | M9: 0.2 | N9: 0.27110458 | O9: 1.8171913
A10: =C10&D10 -> LDINPF43191 | B10: LIC72 | C10: LDINPF | D10: 43191 | E10: LIC MF Income Plus Fund | F10: 1.1300209 | G10: 0 | H10: 0 | I10: 0.068401699 | J10: 1.1984226 | K10: 0.47721288 | L10: 0 | M10: 0 | N10: 0.067899342 | O10: 0.54511222
A11: =C11&D11 -> LDMIPF43191 | B11: LIC31 | C11: LDMIPF | D11: 43191 | E11: LIC MF Monthly Income Plan | F11: 2.2391717 | G11: 0 | H11: 0.2 | I11: 0.32745814 | J11: 2.7666298 | K11: 1.5475981 | L11: 0 | M11: 0.2 | N11: 0.30378559 | O11: 2.0513837
A12: =C12&D12 -> LDSAPF43191 | B12: LIC40 | C12: LDSAPF | D12: 43191 | E12: LIC MF Savings Plus Fund | F12: 0.80000922 | G12: 0 | H12: 0 | I12: 0.03960089 | J12: 0.83961011 | K12: 0.26524754 | L12: 0 | M12: 0 | N12: 0.038744647 | O12: 0.30399219
A13: =C13&D13 -> LEBALF43191 | B13: LIC08 | C13: LEBALF | D13: 43191 | E13: LIC MF Balanced Fund | F13: 2.3254777 | G13: 0 | H13: 0.2 | I13: 0.058578508 | J13: 2.5840562 | K13: 0.32354198 | L13: 0 | M13: 0.2 | N13: 0.058238035 | O13: 0.58178002
A14: =C14&D14 -> LEBFSF43191 | B14: LIC171 | C14: LEBFSF | D14: 43191 | E14: LIC MF Banking and Financial Services Fund | F14: 2.5001203 | G14: 0 | H14: 0.2 | I14: 0.21961783 | J14: 2.9197381 | K14: 1.0370859 | L14: 0 | M14: 0.2 | N14: 0.20828069 | O14: 1.4453665
... A1202: =C1202&D1202 -> LLIQDF43238 | B1202: LIC36 | C1202: LLIQDF | D1202: 43238 | E1202: LIC MF Liquid Fund | F1202: 0.23955567 | G1202: 0 | H1202: 0 | I1202: 0.0053188785 | J1202: 0.24487455 | K1202: 0.099536401 | L1202: 0 | M1202: 0 | N1202: 0.0053164136 | O1202: 0.10485281

Sheet LDBOND
A1: =+VLOOKUP(+(MID(CELL("filename",A1),FIND("]",CELL("filename",A1))+1,255)),'Main File'!C:E,3,0) -> LIC MF Bond Fund | N1: Go to Index
B2: Regular Plan | G2: Direct Plan
A3: Date (DD/MM/YYYY) | B3: Base TER (%)1 | C3: Additional expense as per Regulation 52(6A)(b) (%)2 | D3: Additional expense as per Regulation 52(6A)(c) (%)3 | E3: GST (%)4 | F3: Total TER (%) | G3: Base TER (%)1 | H3: Additional expense as per Regulation 52(6A)(b) (%)2 | I3: Additional expense as per Regulation 52(6A)(c) (%)3 | J3: GST (%)4 | K3: Total TER (%)
A4: 43191 | B4: =IFERROR(+VLOOKUP("LDBOND"&A4,'Main File'!A:O,6,0),0) -> 1.0700193 | C4: =IFERROR(+VLOOKUP("LDBOND"&A4,'Main File'!A:O,7,0),0) -> 0 | D4: =IFERROR(+VLOOKUP("LDBOND"&A4,'Main File'!A:O,8,0),0) -> 0 | E4: =IFERROR(+VLOOKUP("LDBOND"&A4,'Main File'!A:O,9,0),0) -> 0.095403171 | F4: =IFERROR(+VLOOKUP("LDBOND"&A4,'Main File'!A:O,10,0),0) -> 1.1654225 | G4: =IFERROR(+VLOOKUP("LDBOND"&A4,'Main File'!A:O,11,0),0) -> 0.56678083 | H4: =IFERROR(+VLOOKUP("LDBOND"&A4,'Main File'!A:O,12,0),0) -> 0 | I4: =IFERROR(+VLOOKUP("LDBOND"&A4,'Main File'!A:O,13,0),0) -> 0 | J4: =IFERROR(+VLOOKUP("LDBOND"&A4,'Main File'!A:O,14,0),0) -> 0.094822254 | K4: =IFERROR(+VLOOKUP("LDBOND"&A4,'Main File'!A:O,15,0),0) -> 0.66160308
A5: =A4+1 -> 43192 | B5: =IFERROR(+VLOOKUP("LDBOND"&A5,'Main File'!A:O,6,0),0) -> 1.0700193 | C5: =IFERROR(+VLOOKUP("LDBOND"&A5,'Main File'!A:O,7,0),0) -> 0 | D5: =IFERROR(+VLOOKUP("LDBOND"&A5,'Main File'!A:O,8,0),0) -> 0 | E5: =IFERROR(+VLOOKUP("LDBOND"&A5,'Main File'!A:O,9,0),0) -> 0.09540321 | F5: =IFERROR(+VLOOKUP("LDBOND"&A5,'Main File'!A:O,10,0),0) -> 1.1654225 | G5: =IFERROR(+VLOOKUP("LDBOND"&A5,'Main File'!A:O,11,0),0) -> 0.56677982 | H5: =IFERROR(+VLOOKUP("LDBOND"&A5,'Main File'!A:O,12,0),0) -> 0 | I5: =IFERROR(+VLOOKUP("LDBOND"&A5,'Main File'!A:O,13,0),0) -> 0 | J5: =IFERROR(+VLOOKUP("LDBOND"&A5,'Main File'!A:O,14,0),0) -> 0.094821528 | K5: =IFERROR(+VLOOKUP("LDBOND"&A5,'Main File'!A:O,15,0),0) -> 0.66160135
A6: =+A5+1 -> 43193 | B6: =IFERROR(+VLOOKUP("LDBOND"&A6,'Main File'!A:O,6,0),0) -> 1.0700193 | C6: =IFERROR(+VLOOKUP("LDBOND"&A6,'Main File'!A:O,7,0),0) -> 0 | D6: =IFERROR(+VLOOKUP("LDBOND"&A6,'Main File'!A:O,8,0),0) -> 0 | E6: =IFERROR(+VLOOKUP("LDBOND"&A6,'Main File'!A:O,9,0),0) -> 0.095402816 | F6: =IFERROR(+VLOOKUP("LDBOND"&A6,'Main File'!A:O,10,0),0) -> 1.1654221 | G6: =IFERROR(+VLOOKUP("LDBOND"&A6,'Main File'!A:O,11,0),0) -> 0.56678549 | H6: =IFERROR(+VLOOKUP("LDBOND"&A6,'Main File'!A:O,12,0),0) -> 0 | I6: =IFERROR(+VLOOKUP("LDBOND"&A6,'Main File'!A:O,13,0),0) -> 0 | J6: =IFERROR(+VLOOKUP("LDBOND"&A6,'Main File'!A:O,14,0),0) -> 0.094822849 | K6: =IFERROR(+VLOOKUP("LDBOND"&A6,'Main File'!A:O,15,0),0) -> 0.66160834
A7: =+A6+1 -> 43194 | B7: =IFERROR(+VLOOKUP("LDBOND"&A7,'Main File'!A:O,6,0),0) -> 1.0700196 | C7: =IFERROR(+VLOOKUP("LDBOND"&A7,'Main File'!A:O,7,0),0) -> 0 | D7: =IFERROR(+VLOOKUP("LDBOND"&A7,'Main File'!A:O,8,0),0) -> 0 | E7: =IFERROR(+VLOOKUP("LDBOND"&A7,'Main File'!A:O,9,0),0) -> 0.095402834 | F7: =IFERROR(+VLOOKUP("LDBOND"&A7,'Main File'!A:O,10,0),0) -> 1.1654224 | G7: =IFERROR(+VLOOKUP("LDBOND"&A7,'Main File'!A:O,11,0),0) -> 0.5667823 | H7: =IFERROR(+VLOOKUP("LDBOND"&A7,'Main File'!A:O,12,0),0) -> 0 | I7: =IFERROR(+VLOOKUP("LDBOND"&A7,'Main File'!A:O,13,0),0) -> 0 | J7: =IFERROR(+VLOOKUP("LDBOND"&A7,'Main File'!A:O,14,0),0) -> 0.094823122 | K7: =IFERROR(+VLOOKUP("LDBOND"&A7,'Main File'!A:O,15,0),0) -> 0.66160542
A8: =+A7+1 -> 43195 | B8: =IFERROR(+VLOOKUP("LDBOND"&A8,'Main File'!A:O,6,0),0) -> 1.0700188 | C8: =IFERROR(+VLOOKUP("LDBOND"&A8,'Main File'!A:O,7,0),0) -> 0 | D8: =IFERROR(+VLOOKUP("LDBOND"&A8,'Main File'!A:O,8,0),0) -> 0 | E8: =IFERROR(+VLOOKUP("LDBOND"&A8,'Main File'!A:O,9,0),0) -> 0.09540318 | F8: =IFERROR(+VLOOKUP("LDBOND"&A8,'Main File'!A:O,10,0),0) -> 1.165422 | G8: =IFERROR(+VLOOKUP("LDBOND"&A8,'Main File'!A:O,11,0),0) -> 0.56679579 | H8: =IFERROR(+VLOOKUP("LDBOND"&A8,'Main File'!A:O,12,0),0) -> 0 | I8: =IFERROR(+VLOOKUP("LDBOND"&A8,'Main File'!A:O,13,0),0) -> 0 | J8: =IFERROR(+VLOOKUP("LDBOND"&A8,'Main File'!A:O,14,0),0) -> 0.09482474 | K8: =IFERROR(+VLOOKUP("LDBOND"&A8,'Main File'!A:O,15,0),0) -> 0.66162053
A9: =+A8+1 -> 43196 | B9: =IFERROR(+VLOOKUP("LDBOND"&A9,'Main File'!A:O,6,0),0) -> 1.042838 | C9: =IFERROR(+VLOOKUP("LDBOND"&A9,'Main File'!A:O,7,0),0) -> 0 | D9: =IFERROR(+VLOOKUP("LDBOND"&A9,'Main File'!A:O,8,0),0) -> 0 | E9: =IFERROR(+VLOOKUP("LDBOND"&A9,'Main File'!A:O,9,0),0) -> 0.090510338 | F9: =IFERROR(+VLOOKUP("LDBOND"&A9,'Main File'!A:O,10,0),0) -> 1.1333484 | G9: =IFERROR(+VLOOKUP("LDBOND"&A9,'Main File'!A:O,11,0),0) -> 0.53959369 | H9: =IFERROR(+VLOOKUP("LDBOND"&A9,'Main File'!A:O,12,0),0) -> 0 | I9: =IFERROR(+VLOOKUP("LDBOND"&A9,'Main File'!A:O,13,0),0) -> 0 | J9: =IFERROR(+VLOOKUP("LDBOND"&A9,'Main File'!A:O,14,0),0) -> 0.089928077 | K9: =IFERROR(+VLOOKUP("LDBOND"&A9,'Main File'!A:O,15,0),0) -> 0.62952176
A10: =+A9+1 -> 43197 | B10: =IFERROR(+VLOOKUP("LDBOND"&A10,'Main File'!A:O,6,0),0) -> 1.0428379 | C10: =IFERROR(+VLOOKUP("LDBOND"&A10,'Main File'!A:O,7,0),0) -> 0 | D10: =IFERROR(+VLOOKUP("LDBOND"&A10,'Main File'!A:O,8,0),0) -> 0 | E10: =IFERROR(+VLOOKUP("LDBOND"&A10,'Main File'!A:O,9,0),0) -> 0.090510331 | F10: =IFERROR(+VLOOKUP("LDBOND"&A10,'Main File'!A:O,10,0),0) -> 1.1333483 | G10: =IFERROR(+VLOOKUP("LDBOND"&A10,'Main File'!A:O,11,0),0) -> 0.53959764 | H10: =IFERROR(+VLOOKUP("LDBOND"&A10,'Main File'!A:O,12,0),0) -> 0 | I10: =IFERROR(+VLOOKUP("LDBOND"&A10,'Main File'!A:O,13,0),0) -> 0 | J10: =IFERROR(+VLOOKUP("LDBOND"&A10,'Main File'!A:O,14,0),0) -> 0.089928309 | K10: =IFERROR(+VLOOKUP("LDBOND"&A10,'Main File'!A:O,15,0),0) -> 0.62952595
A11: =+A10+1 -> 43198 | B11: =IFERROR(+VLOOKUP("LDBOND"&A11,'Main File'!A:O,6,0),0) -> 1.0428374 | C11: =IFERROR(+VLOOKUP("LDBOND"&A11,'Main File'!A:O,7,0),0) -> 0 | D11: =IFERROR(+VLOOKUP("LDBOND"&A11,'Main File'!A:O,8,0),0) -> 0 | E11: =IFERROR(+VLOOKUP("LDBOND"&A11,'Main File'!A:O,9,0),0) -> 0.090510325 | F11: =IFERROR(+VLOOKUP("LDBOND"&A11,'Main File'!A:O,10,0),0) -> 1.1333477 | G11: =IFERROR(+VLOOKUP("LDBOND"&A11,'Main File'!A:O,11,0),0) -> 0.53959793 | H11: =IFERROR(+VLOOKUP("LDBOND"&A11,'Main File'!A:O,12,0),0) -> 0 | I11: =IFERROR(+VLOOKUP("LDBOND"&A11,'Main File'!A:O,13,0),0) -> 0 | J11: =IFERROR(+VLOOKUP("LDBOND"&A11,'Main File'!A:O,14,0),0) -> 0.089928541 | K11: =IFERROR(+VLOOKUP("LDBOND"&A11,'Main File'!A:O,15,0),0) -> 0.62952647
A12: =+A11+1 -> 43199 | B12: =IFERROR(+VLOOKUP("LDBOND"&A12,'Main File'!A:O,6,0),0) -> 1.0444077 | C12: =IFERROR(+VLOOKUP("LDBOND"&A12,'Main File'!A:O,7,0),0) -> 0 | D12: =IFERROR(+VLOOKUP("LDBOND"&A12,'Main File'!A:O,8,0),0) -> 0 | E12: =IFERROR(+VLOOKUP("LDBOND"&A12,'Main File'!A:O,9,0),0) -> 0.090793005 | F12: =IFERROR(+VLOOKUP("LDBOND"&A12,'Main File'!A:O,10,0),0) -> 1.1352007 | G12: =IFERROR(+VLOOKUP("LDBOND"&A12,'Main File'!A:O,11,0),0) -> 0.54116362 | H12: =IFERROR(+VLOOKUP("LDBOND"&A12,'Main File'!A:O,12,0),0) -> 0 | I12: =IFERROR(+VLOOKUP("LDBOND"&A12,'Main File'!A:O,13,0),0) -> 0 | J12: =IFERROR(+VLOOKUP("LDBOND"&A12,'Main File'!A:O,14,0),0) -> 0.090210284 | K12: =IFERROR(+VLOOKUP("LDBOND"&A12,'Main File'!A:O,15,0),0) -> 0.6313739
A13: =+A12+1 -> 43200 | B13: =IFERROR(+VLOOKUP("LDBOND"&A13,'Main File'!A:O,6,0),0) -> 1.0491247 | C13: =IFERROR(+VLOOKUP("LDBOND"&A13,'Main File'!A:O,7,0),0) -> 0 | D13: =IFERROR(+VLOOKUP("LDBOND"&A13,'Main File'!A:O,8,0),0) -> 0 | E13: =IFERROR(+VLOOKUP("LDBOND"&A13,'Main File'!A:O,9,0),0) -> 0.091642191 | F13: =IFERROR(+VLOOKUP("LDBOND"&A13,'Main File'!A:O,10,0),0) -> 1.1407669 | G13: =IFERROR(+VLOOKUP("LDBOND"&A13,'Main File'!A:O,11,0),0) -> 0.54587166 | H13: =IFERROR(+VLOOKUP("LDBOND"&A13,'Main File'!A:O,12,0),0) -> 0 | I13: =IFERROR(+VLOOKUP("LDBOND"&A13,'Main File'!A:O,13,0),0) -> 0 | J13: =IFERROR(+VLOOKUP("LDBOND"&A13,'Main File'!A:O,14,0),0) -> 0.091057856 | K13: =IFERROR(+VLOOKUP("LDBOND"&A13,'Main File'!A:O,15,0),0) -> 0.63692952
A14: =+A13+1 -> 43201 | B14: =IFERROR(+VLOOKUP("LDBOND"&A14,'Main File'!A:O,6,0),0) -> 1.0361356 | C14: =IFERROR(+VLOOKUP("LDBOND"&A14,'Main File'!A:O,7,0),0) -> 0 | D14: =IFERROR(+VLOOKUP("LDBOND"&A14,'Main File'!A:O,8,0),0) -> 0 | E14: =IFERROR(+VLOOKUP("LDBOND"&A14,'Main File'!A:O,9,0),0) -> 0.089304095 | F14: =IFERROR(+VLOOKUP("LDBOND"&A14,'Main File'!A:O,10,0),0) -> 1.1254397 | G14: =IFERROR(+VLOOKUP("LDBOND"&A14,'Main File'!A:O,11,0),0) -> 0.53288325 | H14: =IFERROR(+VLOOKUP("LDBOND"&A14,'Main File'!A:O,12,0),0) -> 0 | I14: =IFERROR(+VLOOKUP("LDBOND"&A14,'Main File'!A:O,13,0),0) -> 0 | J14: =IFERROR(+VLOOKUP("LDBOND"&A14,'Main File'!A:O,14,0),0) -> 0.088720123 | K14: =IFERROR(+VLOOKUP("LDBOND"&A14,'Main File'!A:O,15,0),0) -> 0.62160338
A15: =+A14+1 -> 43202 | B15: =IFERROR(+VLOOKUP("LDBOND"&A15,'Main File'!A:O,6,0),0) -> 1.0700194 | C15: =IFERROR(+VLOOKUP("LDBOND"&A15,'Main File'!A:O,7,0),0) -> 0 | D15: =IFERROR(+VLOOKUP("LDBOND"&A15,'Main File'!A:O,8,0),0) -> 0 | E15: =IFERROR(+VLOOKUP("LDBOND"&A15,'Main File'!A:O,9,0),0) -> 0.095403212 | F15: =IFERROR(+VLOOKUP("LDBOND"&A15,'Main File'!A:O,10,0),0) -> 1.1654226 | G15: =IFERROR(+VLOOKUP("LDBOND"&A15,'Main File'!A:O,11,0),0) -> 0.56678672 | H15: =IFERROR(+VLOOKUP("LDBOND"&A15,'Main File'!A:O,12,0),0) -> 0 | I15: =IFERROR(+VLOOKUP("LDBOND"&A15,'Main File'!A:O,13,0),0) -> 0 | J15: =IFERROR(+VLOOKUP("LDBOND"&A15,'Main File'!A:O,14,0),0) -> 0.094822517 | K15: =IFERROR(+VLOOKUP("LDBOND"&A15,'Main File'!A:O,15,0),0) -> 0.66160924
A16: =+A15+1 -> 43203 | B16: =IFERROR(+VLOOKUP("LDBOND"&A16,'Main File'!A:O,6,0),0) -> 1.0700195 | C16: =IFERROR(+VLOOKUP("LDBOND"&A16,'Main File'!A:O,7,0),0) -> 0 | D16: =IFERROR(+VLOOKUP("LDBOND"&A16,'Main File'!A:O,8,0),0) -> 0 | E16: =IFERROR(+VLOOKUP("LDBOND"&A16,'Main File'!A:O,9,0),0) -> 0.095403284 | F16: =IFERROR(+VLOOKUP("LDBOND"&A16,'Main File'!A:O,10,0),0) -> 1.1654227 | G16: =IFERROR(+VLOOKUP("LDBOND"&A16,'Main File'!A:O,11,0),0) -> 0.56678471 | H16: =IFERROR(+VLOOKUP("LDBOND"&A16,'Main File'!A:O,12,0),0) -> 0 | I16: =IFERROR(+VLOOKUP("LDBOND"&A16,'Main File'!A:O,13,0),0) -> 0 | J16: =IFERROR(+VLOOKUP("LDBOND"&A16,'Main File'!A:O,14,0),0) -> 0.094822 | K16: =IFERROR(+VLOOKUP("LDBOND"&A16,'Main File'!A:O,15,0),0) -> 0.66160671
A17: =+A16+1 -> 43204 | B17: =IFERROR(+VLOOKUP("LDBOND"&A17,'Main File'!A:O,6,0),0) -> 1.0700193 | C17: =IFERROR(+VLOOKUP("LDBOND"&A17,'Main File'!A:O,7,0),0) -> 0 | D17: =IFERROR(+VLOOKUP("LDBOND"&A17,'Main File'!A:O,8,0),0) -> 0 | E17: =IFERROR(+VLOOKUP("LDBOND"&A17,'Main File'!A:O,9,0),0) -> 0.09540308 | F17: =IFERROR(+VLOOKUP("LDBOND"&A17,'Main File'!A:O,10,0),0) -> 1.1654224 | G17: =IFERROR(+VLOOKUP("LDBOND"&A17,'Main File'!A:O,11,0),0) -> 0.56678302 | H17: =IFERROR(+VLOOKUP("LDBOND"&A17,'Main File'!A:O,12,0),0) -> 0 | I17: =IFERROR(+VLOOKUP("LDBOND"&A17,'Main File'!A:O,13,0),0) -> 0 | J17: =IFERROR(+VLOOKUP("LDBOND"&A17,'Main File'!A:O,14,0),0) -> 0.094822191 | K17: =IFERROR(+VLOOKUP("LDBOND"&A17,'Main File'!A:O,15,0),0) -> 0.66160521
... A368: =+A367+1 -> 43555 | B368: =IFERROR(+VLOOKUP("LDBOND"&A368,'Main File'!A:O,6,0),0) -> 0 | C368: =IFERROR(+VLOOKUP("LDBOND"&A368,'Main File'!A:O,7,0),0) -> 0 | D368: =IFERROR(+VLOOKUP("LDBOND"&A368,'Main File'!A:O,8,0),0) -> 0 | E368: =IFERROR(+VLOOKUP("LDBOND"&A368,'Main File'!A:O,9,0),0) -> 0 | F368: =IFERROR(+VLOOKUP("LDBOND"&A368,'Main File'!A:O,10,0),0) -> 0 | G368: =IFERROR(+VLOOKUP("LDBOND"&A368,'Main File'!A:O,11,0),0) -> 0 | H368: =IFERROR(+VLOOKUP("LDBOND"&A368,'Main File'!A:O,12,0),0) -> 0 | I368: =IFERROR(+VLOOKUP("LDBOND"&A368,'Main File'!A:O,13,0),0) -> 0 | J368: =IFERROR(+VLOOKUP("LDBOND"&A368,'Main File'!A:O,14,0),0) -> 0 | K368: =IFERROR(+VLOOKUP("LDBOND"&A368,'Main File'!A:O,15,0),0) -> 0
A370: Notes:
A371: 1. Base TER excludes additional expenses provided in Regulation 52(6A)(b) and 52(6A)(c) of SEBI (Mutual Funds) Regulations, 1996.
A372: 2. Additional Expenses not exceeding 0.30% in terms of Regulation 52(6A)(b) of SEBI (Mutual Funds) Regulations, 1996.
A373: 3. Additional Expenses not exceeding 0.20% in terms of Regulation 52(6A)(c) of SEBI (Mutual Funds) Regulations, 1996.
A374: 4. Present GST rate is 18 %.
A375: 5. Percentages mentioned above are annualized.

Sheet LDCPO2
A1: =+VLOOKUP(+(MID(CELL("filename",A1),FIND("]",CELL("filename",A1))+1,255)),'Main File'!C:E,3,0) -> LIC MF Capital Protection Oriented Fund-Series 2 | N1: Go to Index
B2: Regular Plan | G2: Direct Plan
A3: Date (DD/MM/YYYY) | B3: Base TER (%)1 | C3: Additional expense as per Regulation 52(6A)(b) (%)2 | D3: Additional expense as per Regulation 52(6A)(c) (%)3 | E3: GST (%)4 | F3: Total TER (%) | G3: Base TER (%)1 | H3: Additional expense as per Regulation 52(6A)(b) (%)2 | I3: Additional expense as per Regulation 52(6A)(c) (%)3 | J3: GST (%)4 | K3: Total TER (%)
A4: =LDBOND!A4 -> 43191 | B4: =IFERROR(+VLOOKUP("LDCPO2"&A4,'Main File'!A:O,6,0),0) -> 2.250077 | C4: =IFERROR(+VLOOKUP("LDCPO2"&A4,'Main File'!A:O,7,0),0) -> 0 | D4: =IFERROR(+VLOOKUP("LDCPO2"&A4,'Main File'!A:O,8,0),0) -> 0 | E4: =IFERROR(+VLOOKUP("LDCPO2"&A4,'Main File'!A:O,9,0),0) -> 0.28801829 | F4: =IFERROR(+VLOOKUP("LDCPO2"&A4,'Main File'!A:O,10,0),0) -> 2.5380953 | G4: =IFERROR(+VLOOKUP("LDCPO2"&A4,'Main File'!A:O,11,0),0) -> 1.7500943 | H4: =IFERROR(+VLOOKUP("LDCPO2"&A4,'Main File'!A:O,12,0),0) -> 0 | I4: =IFERROR(+VLOOKUP("LDCPO2"&A4,'Main File'!A:O,13,0),0) -> 0 | J4: =IFERROR(+VLOOKUP("LDCPO2"&A4,'Main File'!A:O,14,0),0) -> 0.28802384 | K4: =IFERROR(+VLOOKUP("LDCPO2"&A4,'Main File'!A:O,15,0),0) -> 2.0381181
A5: =A4+1 -> 43192 | B5: =IFERROR(+VLOOKUP("LDCPO2"&A5,'Main File'!A:O,6,0),0) -> 2.2500751 | C5: =IFERROR(+VLOOKUP("LDCPO2"&A5,'Main File'!A:O,7,0),0) -> 0 | D5: =IFERROR(+VLOOKUP("LDCPO2"&A5,'Main File'!A:O,8,0),0) -> 0 | E5: =IFERROR(+VLOOKUP("LDCPO2"&A5,'Main File'!A:O,9,0),0) -> 0.28801793 | F5: =IFERROR(+VLOOKUP("LDCPO2"&A5,'Main File'!A:O,10,0),0) -> 2.538093 | G5: =IFERROR(+VLOOKUP("LDCPO2"&A5,'Main File'!A:O,11,0),0) -> 1.7501519 | H5: =IFERROR(+VLOOKUP("LDCPO2"&A5,'Main File'!A:O,12,0),0) -> 0 | I5: =IFERROR(+VLOOKUP("LDCPO2"&A5,'Main File'!A:O,13,0),0) -> 0 | J5: =IFERROR(+VLOOKUP("LDCPO2"&A5,'Main File'!A:O,14,0),0) -> 0.28806573 | K5: =IFERROR(+VLOOKUP("LDCPO2"&A5,'Main File'!A:O,15,0),0) -> 2.0382177
A6: =+A5+1 -> 43193 | B6: =IFERROR(+VLOOKUP("LDCPO2"&A6,'Main File'!A:O,6,0),0) -> 2.2690161 | C6: =IFERROR(+VLOOKUP("LDCPO2"&A6,'Main File'!A:O,7,0),0) -> 0 | D6: =IFERROR(+VLOOKUP("LDCPO2"&A6,'Main File'!A:O,8,0),0) -> 0 | E6: =IFERROR(+VLOOKUP("LDCPO2"&A6,'Main File'!A:O,9,0),0) -> 0.29044285 | F6: =IFERROR(+VLOOKUP("LDCPO2"&A6,'Main File'!A:O,10,0),0) -> 2.559459 | G6: =IFERROR(+VLOOKUP("LDCPO2"&A6,'Main File'!A:O,11,0),0) -> 1.7501206 | H6: =IFERROR(+VLOOKUP("LDCPO2"&A6,'Main File'!A:O,12,0),0) -> 0 | I6: =IFERROR(+VLOOKUP("LDCPO2"&A6,'Main File'!A:O,13,0),0) -> 0 | J6: =IFERROR(+VLOOKUP("LDCPO2"&A6,'Main File'!A:O,14,0),0) -> 0.28802817 | K6: =IFERROR(+VLOOKUP("LDCPO2"&A6,'Main File'!A:O,15,0),0) -> 2.0381487
A7: =+A6+1 -> 43194 | B7: =IFERROR(+VLOOKUP("LDCPO2"&A7,'Main File'!A:O,6,0),0) -> 2.2500772 | C7: =IFERROR(+VLOOKUP("LDCPO2"&A7,'Main File'!A:O,7,0),0) -> 0 | D7: =IFERROR(+VLOOKUP("LDCPO2"&A7,'Main File'!A:O,8,0),0) -> 0 | E7: =IFERROR(+VLOOKUP("LDCPO2"&A7,'Main File'!A:O,9,0),0) -> 0.28801811 | F7: =IFERROR(+VLOOKUP("LDCPO2"&A7,'Main File'!A:O,10,0),0) -> 2.5380953 | G7: =IFERROR(+VLOOKUP("LDCPO2"&A7,'Main File'!A:O,11,0),0) -> 1.7501365 | H7: =IFERROR(+VLOOKUP("LDCPO2"&A7,'Main File'!A:O,12,0),0) -> 0 | I7: =IFERROR(+VLOOKUP("LDCPO2"&A7,'Main File'!A:O,13,0),0) -> 0 | J7: =IFERROR(+VLOOKUP("LDCPO2"&A7,'Main File'!A:O,14,0),0) -> 0.28799839 | K7: =IFERROR(+VLOOKUP("LDCPO2"&A7,'Main File'!A:O,15,0),0) -> 2.0381349
A8: =+A7+1 -> 43195 | B8: =IFERROR(+VLOOKUP("LDCPO2"&A8,'Main File'!A:O,6,0),0) -> 2.2500763 | C8: =IFERROR(+VLOOKUP("LDCPO2"&A8,'Main File'!A:O,7,0),0) -> 0 | D8: =IFERROR(+VLOOKUP("LDCPO2"&A8,'Main File'!A:O,8,0),0) -> 0 | E8: =IFERROR(+VLOOKUP("LDCPO2"&A8,'Main File'!A:O,9,0),0) -> 0.28801908 | F8: =IFERROR(+VLOOKUP("LDCPO2"&A8,'Main File'!A:O,10,0),0) -> 2.5380954 | G8: =IFERROR(+VLOOKUP("LDCPO2"&A8,'Main File'!A:O,11,0),0) -> 1.7501502 | H8: =IFERROR(+VLOOKUP("LDCPO2"&A8,'Main File'!A:O,12,0),0) -> 0 | I8: =IFERROR(+VLOOKUP("LDCPO2"&A8,'Main File'!A:O,13,0),0) -> 0 | J8: =IFERROR(+VLOOKUP("LDCPO2"&A8,'Main File'!A:O,14,0),0) -> 0.28796825 | K8: =IFERROR(+VLOOKUP("LDCPO2"&A8,'Main File'!A:O,15,0),0) -> 2.0381184
A10: Notes:
A11: 1. Base TER excludes additional expenses provided in Regulation 52(6A)(b) and 52(6A)(c) of SEBI (Mutual Funds) Regulations, 1996.
A12: 2. Additional Expenses not exceeding 0.30% in terms of Regulation 52(6A)(b) of SEBI (Mutual Funds) Regulations, 1996.
A13: 3. Additional Expenses not exceeding 0.20% in terms of Regulation 52(6A)(c) of SEBI (Mutual Funds) Regulations, 1996.
A14: 4. Present GST rate is 18 %.
A15: 5. Percentages mentioned above are annualized.

Sheet LDDAF1
A1: =+VLOOKUP(+(MID(CELL("filename",A1),FIND("]",CELL("filename",A1))+1,255)),'Main File'!C:E,3,0) -> LIC MF Dual Advantage Fixed Term Plan-Series 1 | N1: Go to Index
B2: Regular Plan | G2: Direct Plan
A3: Date (DD/MM/YYYY) | B3: Base TER (%)1 | C3: Additional expense as per Regulation 52(6A)(b) (%)2 | D3: Additional expense as per Regulation 52(6A)(c) (%)3 | E3: GST (%)4 | F3: Total TER (%) | G3: Base TER (%)1 | H3: Additional expense as per Regulation 52(6A)(b) (%)2 | I3: Additional expense as per Regulation 52(6A)(c) (%)3 | J3: GST (%)4 | K3: Total TER (%)
A4: =LDBOND!A4 -> 43191 | B4: =IFERROR(+VLOOKUP("LDDAF1"&A4,'Main File'!A:O,6,0),0) -> 2.2500856 | C4: =IFERROR(+VLOOKUP("LDDAF1"&A4,'Main File'!A:O,7,0),0) -> 0 | D4: =IFERROR(+VLOOKUP("LDDAF1"&A4,'Main File'!A:O,8,0),0) -> 0 | E4: =IFERROR(+VLOOKUP("LDDAF1"&A4,'Main File'!A:O,9,0),0) -> 0.17461298 | F4: =IFERROR(+VLOOKUP("LDDAF1"&A4,'Main File'!A:O,10,0),0) -> 2.4246986 | G4: =IFERROR(+VLOOKUP("LDDAF1"&A4,'Main File'!A:O,11,0),0) -> 1.0800118 | H4: =IFERROR(+VLOOKUP("LDDAF1"&A4,'Main File'!A:O,12,0),0) -> 0 | I4: =IFERROR(+VLOOKUP("LDDAF1"&A4,'Main File'!A:O,13,0),0) -> 0 | J4: =IFERROR(+VLOOKUP("LDDAF1"&A4,'Main File'!A:O,14,0),0) -> 0.17460304 | K4: =IFERROR(+VLOOKUP("LDDAF1"&A4,'Main File'!A:O,15,0),0) -> 1.2546148
A5: =A4+1 -> 43192 | B5: =IFERROR(+VLOOKUP("LDDAF1"&A5,'Main File'!A:O,6,0),0) -> 2.2500875 | C5: =IFERROR(+VLOOKUP("LDDAF1"&A5,'Main File'!A:O,7,0),0) -> 0 | D5: =IFERROR(+VLOOKUP("LDDAF1"&A5,'Main File'!A:O,8,0),0) -> 0 | E5: =IFERROR(+VLOOKUP("LDDAF1"&A5,'Main File'!A:O,9,0),0) -> 0.17461241 | F5: =IFERROR(+VLOOKUP("LDDAF1"&A5,'Main File'!A:O,10,0),0) -> 2.4247 | G5: =IFERROR(+VLOOKUP("LDDAF1"&A5,'Main File'!A:O,11,0),0) -> 1.0800106 | H5: =IFERROR(+VLOOKUP("LDDAF1"&A5,'Main File'!A:O,12,0),0) -> 0 | I5: =IFERROR(+VLOOKUP("LDDAF1"&A5,'Main File'!A:O,13,0),0) -> 0 | J5: =IFERROR(+VLOOKUP("LDDAF1"&A5,'Main File'!A:O,14,0),0) -> 0.17460516 | K5: =IFERROR(+VLOOKUP("LDDAF1"&A5,'Main File'!A:O,15,0),0) -> 1.2546157
A6: =+A5+1 -> 43193 | B6: =IFERROR(+VLOOKUP("LDDAF1"&A6,'Main File'!A:O,6,0),0) -> 2.2500858 | C6: =IFERROR(+VLOOKUP("LDDAF1"&A6,'Main File'!A:O,7,0),0) -> 0 | D6: =IFERROR(+VLOOKUP("LDDAF1"&A6,'Main File'!A:O,8,0),0) -> 0 | E6: =IFERROR(+VLOOKUP("LDDAF1"&A6,'Main File'!A:O,9,0),0) -> 0.17461141 | F6: =IFERROR(+VLOOKUP("LDDAF1"&A6,'Main File'!A:O,10,0),0) -> 2.4246972 | G6: =IFERROR(+VLOOKUP("LDDAF1"&A6,'Main File'!A:O,11,0),0) -> 1.080013 | H6: =IFERROR(+VLOOKUP("LDDAF1"&A6,'Main File'!A:O,12,0),0) -> 0 | I6: =IFERROR(+VLOOKUP("LDDAF1"&A6,'Main File'!A:O,13,0),0) -> 0 | J6: =IFERROR(+VLOOKUP("LDDAF1"&A6,'Main File'!A:O,14,0),0) -> 0.17460594 | K6: =IFERROR(+VLOOKUP("LDDAF1"&A6,'Main File'!A:O,15,0),0) -> 1.254619
A7: =+A6+1 -> 43194 | B7: =IFERROR(+VLOOKUP("LDDAF1"&A7,'Main File'!A:O,6,0),0) -> 2.2500855 | C7: =IFERROR(+VLOOKUP("LDDAF1"&A7,'Main File'!A:O,7,0),0) -> 0 | D7: =IFERROR(+VLOOKUP("LDDAF1"&A7,'Main File'!A:O,8,0),0) -> 0 | E7: =IFERROR(+VLOOKUP("LDDAF1"&A7,'Main File'!A:O,9,0),0) -> 0.17461136 | F7: =IFERROR(+VLOOKUP("LDDAF1"&A7,'Main File'!A:O,10,0),0) -> 2.4246969 | G7: =IFERROR(+VLOOKUP("LDDAF1"&A7,'Main File'!A:O,11,0),0) -> 1.0800098 | H7: =IFERROR(+VLOOKUP("LDDAF1"&A7,'Main File'!A:O,12,0),0) -> 0 | I7: =IFERROR(+VLOOKUP("LDDAF1"&A7,'Main File'!A:O,13,0),0) -> 0 | J7: =IFERROR(+VLOOKUP("LDDAF1"&A7,'Main File'!A:O,14,0),0) -> 0.17460663 | K7: =IFERROR(+VLOOKUP("LDDAF1"&A7,'Main File'!A:O,15,0),0) -> 1.2546165
A8: =+A7+1 -> 43195 | B8: =IFERROR(+VLOOKUP("LDDAF1"&A8,'Main File'!A:O,6,0),0) -> 2.2500834 | C8: =IFERROR(+VLOOKUP("LDDAF1"&A8,'Main File'!A:O,7,0),0) -> 0 | D8: =IFERROR(+VLOOKUP("LDDAF1"&A8,'Main File'!A:O,8,0),0) -> 0 | E8: =IFERROR(+VLOOKUP("LDDAF1"&A8,'Main File'!A:O,9,0),0) -> 0.17461096 | F8: =IFERROR(+VLOOKUP("LDDAF1"&A8,'Main File'!A:O,10,0),0) -> 2.4246943 | G8: =IFERROR(+VLOOKUP("LDDAF1"&A8,'Main File'!A:O,11,0),0) -> 1.080014 | H8: =IFERROR(+VLOOKUP("LDDAF1"&A8,'Main File'!A:O,12,0),0) -> 0 | I8: =IFERROR(+VLOOKUP("LDDAF1"&A8,'Main File'!A:O,13,0),0) -> 0 | J8: =IFERROR(+VLOOKUP("LDDAF1"&A8,'Main File'!A:O,14,0),0) -> 0.17460838 | K8: =IFERROR(+VLOOKUP("LDDAF1"&A8,'Main File'!A:O,15,0),0) -> 1.2546224
A9: =+A8+1 -> 43196 | B9: =IFERROR(+VLOOKUP("LDDAF1"&A9,'Main File'!A:O,6,0),0) -> 2.2500855 | C9: =IFERROR(+VLOOKUP("LDDAF1"&A9,'Main File'!A:O,7,0),0) -> 0 | D9: =IFERROR(+VLOOKUP("LDDAF1"&A9,'Main File'!A:O,8,0),0) -> 0 | E9: =IFERROR(+VLOOKUP("LDDAF1"&A9,'Main File'!A:O,9,0),0) -> 0.17461121 | F9: =IFERROR(+VLOOKUP("LDDAF1"&A9,'Main File'!A:O,10,0),0) -> 2.4246967 | G9: =IFERROR(+VLOOKUP("LDDAF1"&A9,'Main File'!A:O,11,0),0) -> 1.080011 | H9: =IFERROR(+VLOOKUP("LDDAF1"&A9,'Main File'!A:O,12,0),0) -> 0 | I9: =IFERROR(+VLOOKUP("LDDAF1"&A9,'Main File'!A:O,13,0),0) -> 0 | J9: =IFERROR(+VLOOKUP("LDDAF1"&A9,'Main File'!A:O,14,0),0) -> 0.17460575 | K9: =IFERROR(+VLOOKUP("LDDAF1"&A9,'Main File'!A:O,15,0),0) -> 1.2546168
A10: =+A9+1 -> 43197 | B10: =IFERROR(+VLOOKUP("LDDAF1"&A10,'Main File'!A:O,6,0),0) -> 2.2500861 | C10: =IFERROR(+VLOOKUP("LDDAF1"&A10,'Main File'!A:O,7,0),0) -> 0 | D10: =IFERROR(+VLOOKUP("LDDAF1"&A10,'Main File'!A:O,8,0),0) -> 0 | E10: =IFERROR(+VLOOKUP("LDDAF1"&A10,'Main File'!A:O,9,0),0) -> 0.17461075 | F10: =IFERROR(+VLOOKUP("LDDAF1"&A10,'Main File'!A:O,10,0),0) -> 2.4246968 | G10: =IFERROR(+VLOOKUP("LDDAF1"&A10,'Main File'!A:O,11,0),0) -> 1.0800115 | H10: =IFERROR(+VLOOKUP("LDDAF1"&A10,'Main File'!A:O,12,0),0) -> 0 | I10: =IFERROR(+VLOOKUP("LDDAF1"&A10,'Main File'!A:O,13,0),0) -> 0 | J10: =IFERROR(+VLOOKUP("LDDAF1"&A10,'Main File'!A:O,14,0),0) -> 0.17460852 | K10: =IFERROR(+VLOOKUP("LDDAF1"&A10,'Main File'!A:O,15,0),0) -> 1.25462
A11: =+A10+1 -> 43198 | B11: =IFERROR(+VLOOKUP("LDDAF1"&A11,'Main File'!A:O,6,0),0) -> 2.2500848 | C11: =IFERROR(+VLOOKUP("LDDAF1"&A11,'Main File'!A:O,7,0),0) -> 0 | D11: =IFERROR(+VLOOKUP("LDDAF1"&A11,'Main File'!A:O,8,0),0) -> 0 | E11: =IFERROR(+VLOOKUP("LDDAF1"&A11,'Main File'!A:O,9,0),0) -> 0.17461022 | F11: =IFERROR(+VLOOKUP("LDDAF1"&A11,'Main File'!A:O,10,0),0) -> 2.424695 | G11: =IFERROR(+VLOOKUP("LDDAF1"&A11,'Main File'!A:O,11,0),0) -> 1.0800116 | H11: =IFERROR(+VLOOKUP("LDDAF1"&A11,'Main File'!A:O,12,0),0) -> 0 | I11: =IFERROR(+VLOOKUP("LDDAF1"&A11,'Main File'!A:O,13,0),0) -> 0 | J11: =IFERROR(+VLOOKUP("LDDAF1"&A11,'Main File'!A:O,14,0),0) -> 0.17460699 | K11: =IFERROR(+VLOOKUP("LDDAF1"&A11,'Main File'!A:O,15,0),0) -> 1.2546186
A12: =+A11+1 -> 43199 | B12: =IFERROR(+VLOOKUP("LDDAF1"&A12,'Main File'!A:O,6,0),0) -> 2.2500842 | C12: =IFERROR(+VLOOKUP("LDDAF1"&A12,'Main File'!A:O,7,0),0) -> 0 | D12: =IFERROR(+VLOOKUP("LDDAF1"&A12,'Main File'!A:O,8,0),0) -> 0 | E12: =IFERROR(+VLOOKUP("LDDAF1"&A12,'Main File'!A:O,9,0),0) -> 0.17461226 | F12: =IFERROR(+VLOOKUP("LDDAF1"&A12,'Main File'!A:O,10,0),0) -> 2.4246964 | G12: =IFERROR(+VLOOKUP("LDDAF1"&A12,'Main File'!A:O,11,0),0) -> 1.080014 | H12: =IFERROR(+VLOOKUP("LDDAF1"&A12,'Main File'!A:O,12,0),0) -> 0 | I12: =IFERROR(+VLOOKUP("LDDAF1"&A12,'Main File'!A:O,13,0),0) -> 0 | J12: =IFERROR(+VLOOKUP("LDDAF1"&A12,'Main File'!A:O,14,0),0) -> 0.1746064 | K12: =IFERROR(+VLOOKUP("LDDAF1"&A12,'Main File'!A:O,15,0),0) -> 1.2546204
A13: =+A12+1 -> 43200 | B13: =IFERROR(+VLOOKUP("LDDAF1"&A13,'Main File'!A:O,6,0),0) -> 2.2500858 | C13: =IFERROR(+VLOOKUP("LDDAF1"&A13,'Main File'!A:O,7,0),0) -> 0 | D13: =IFERROR(+VLOOKUP("LDDAF1"&A13,'Main File'!A:O,8,0),0) -> 0 | E13: =IFERROR(+VLOOKUP("LDDAF1"&A13,'Main File'!A:O,9,0),0) -> 0.17461304 | F13: =IFERROR(+VLOOKUP("LDDAF1"&A13,'Main File'!A:O,10,0),0) -> 2.4246988 | G13: =IFERROR(+VLOOKUP("LDDAF1"&A13,'Main File'!A:O,11,0),0) -> 1.08001 | H13: =IFERROR(+VLOOKUP("LDDAF1"&A13,'Main File'!A:O,12,0),0) -> 0 | I13: =IFERROR(+VLOOKUP("LDDAF1"&A13,'Main File'!A:O,13,0),0) -> 0 | J13: =IFERROR(+VLOOKUP("LDDAF1"&A13,'Main File'!A:O,14,0),0) -> 0.17460342 | K13: =IFERROR(+VLOOKUP("LDDAF1"&A13,'Main File'!A:O,15,0),0) -> 1.2546134
A14: =+A13+1 -> 43201 | B14: =IFERROR(+VLOOKUP("LDDAF1"&A14,'Main File'!A:O,6,0),0) -> 2.2500872 | C14: =IFERROR(+VLOOKUP("LDDAF1"&A14,'Main File'!A:O,7,0),0) -> 0 | D14: =IFERROR(+VLOOKUP("LDDAF1"&A14,'Main File'!A:O,8,0),0) -> 0 | E14: =IFERROR(+VLOOKUP("LDDAF1"&A14,'Main File'!A:O,9,0),0) -> 0.17461332 | F14: =IFERROR(+VLOOKUP("LDDAF1"&A14,'Main File'!A:O,10,0),0) -> 2.4247006 | G14: =IFERROR(+VLOOKUP("LDDAF1"&A14,'Main File'!A:O,11,0),0) -> 1.0800103 | H14: =IFERROR(+VLOOKUP("LDDAF1"&A14,'Main File'!A:O,12,0),0) -> 0 | I14: =IFERROR(+VLOOKUP("LDDAF1"&A14,'Main File'!A:O,13,0),0) -> 0 | J14: =IFERROR(+VLOOKUP("LDDAF1"&A14,'Main File'!A:O,14,0),0) -> 0.17460413 | K14: =IFERROR(+VLOOKUP("LDDAF1"&A14,'Main File'!A:O,15,0),0) -> 1.2546145
A15: =+A14+1 -> 43202 | B15: =IFERROR(+VLOOKUP("LDDAF1"&A15,'Main File'!A:O,6,0),0) -> 2.2500858 | C15: =IFERROR(+VLOOKUP("LDDAF1"&A15,'Main File'!A:O,7,0),0) -> 0 | D15: =IFERROR(+VLOOKUP("LDDAF1"&A15,'Main File'!A:O,8,0),0) -> 0 | E15: =IFERROR(+VLOOKUP("LDDAF1"&A15,'Main File'!A:O,9,0),0) -> 0.17461289 | F15: =IFERROR(+VLOOKUP("LDDAF1"&A15,'Main File'!A:O,10,0),0) -> 2.4246987 | G15: =IFERROR(+VLOOKUP("LDDAF1"&A15,'Main File'!A:O,11,0),0) -> 1.0800114 | H15: =IFERROR(+VLOOKUP("LDDAF1"&A15,'Main File'!A:O,12,0),0) -> 0 | I15: =IFERROR(+VLOOKUP("LDDAF1"&A15,'Main File'!A:O,13,0),0) -> 0 | J15: =IFERROR(+VLOOKUP("LDDAF1"&A15,'Main File'!A:O,14,0),0) -> 0.17460521 | K15: =IFERROR(+VLOOKUP("LDDAF1"&A15,'Main File'!A:O,15,0),0) -> 1.2546166
A16: =+A15+1 -> 43203 | B16: =IFERROR(+VLOOKUP("LDDAF1"&A16,'Main File'!A:O,6,0),0) -> 2.2500849 | C16: =IFERROR(+VLOOKUP("LDDAF1"&A16,'Main File'!A:O,7,0),0) -> 0 | D16: =IFERROR(+VLOOKUP("LDDAF1"&A16,'Main File'!A:O,8,0),0) -> 0 | E16: =IFERROR(+VLOOKUP("LDDAF1"&A16,'Main File'!A:O,9,0),0) -> 0.17461334 | F16: =IFERROR(+VLOOKUP("LDDAF1"&A16,'Main File'!A:O,10,0),0) -> 2.4246982 | G16: =IFERROR(+VLOOKUP("LDDAF1"&A16,'Main File'!A:O,11,0),0) -> 1.0800111 | H16: =IFERROR(+VLOOKUP("LDDAF1"&A16,'Main File'!A:O,12,0),0) -> 0 | I16: =IFERROR(+VLOOKUP("LDDAF1"&A16,'Main File'!A:O,13,0),0) -> 0 | J16: =IFERROR(+VLOOKUP("LDDAF1"&A16,'Main File'!A:O,14,0),0) -> 0.1746044 | K16: =IFERROR(+VLOOKUP("LDDAF1"&A16,'Main File'!A:O,15,0),0) -> 1.2546155
A17: =+A16+1 -> 43204 | B17: =IFERROR(+VLOOKUP("LDDAF1"&A17,'Main File'!A:O,6,0),0) -> 2.2500851 | C17: =IFERROR(+VLOOKUP("LDDAF1"&A17,'Main File'!A:O,7,0),0) -> 0 | D17: =IFERROR(+VLOOKUP("LDDAF1"&A17,'Main File'!A:O,8,0),0) -> 0 | E17: =IFERROR(+VLOOKUP("LDDAF1"&A17,'Main File'!A:O,9,0),0) -> 0.17461285 | F17: =IFERROR(+VLOOKUP("LDDAF1"&A17,'Main File'!A:O,10,0),0) -> 2.4246979 | G17: =IFERROR(+VLOOKUP("LDDAF1"&A17,'Main File'!A:O,11,0),0) -> 1.0800134 | H17: =IFERROR(+VLOOKUP("LDDAF1"&A17,'Main File'!A:O,12,0),0) -> 0 | I17: =IFERROR(+VLOOKUP("LDDAF1"&A17,'Main File'!A:O,13,0),0) -> 0 | J17: =IFERROR(+VLOOKUP("LDDAF1"&A17,'Main File'!A:O,14,0),0) -> 0.17460289 | K17: =IFERROR(+VLOOKUP("LDDAF1"&A17,'Main File'!A:O,15,0),0) -> 1.2546163
... A368: =+A367+1 -> 43555 | B368: =IFERROR(+VLOOKUP("LDDAF1"&A368,'Main File'!A:O,6,0),0) -> 0 | C368: =IFERROR(+VLOOKUP("LDDAF1"&A368,'Main File'!A:O,7,0),0) -> 0 | D368: =IFERROR(+VLOOKUP("LDDAF1"&A368,'Main File'!A:O,8,0),0) -> 0 | E368: =IFERROR(+VLOOKUP("LDDAF1"&A368,'Main File'!A:O,9,0),0) -> 0 | F368: =IFERROR(+VLOOKUP("LDDAF1"&A368,'Main File'!A:O,10,0),0) -> 0 | G368: =IFERROR(+VLOOKUP("LDDAF1"&A368,'Main File'!A:O,11,0),0) -> 0 | H368: =IFERROR(+VLOOKUP("LDDAF1"&A368,'Main File'!A:O,12,0),0) -> 0 | I368: =IFERROR(+VLOOKUP("LDDAF1"&A368,'Main File'!A:O,13,0),0) -> 0 | J368: =IFERROR(+VLOOKUP("LDDAF1"&A368,'Main File'!A:O,14,0),0) -> 0 | K368: =IFERROR(+VLOOKUP("LDDAF1"&A368,'Main File'!A:O,15,0),0) -> 0
A370: Notes:
A371: 1. Base TER excludes additional expenses provided in Regulation 52(6A)(b) and 52(6A)(c) of SEBI (Mutual Funds) Regulations, 1996.
A372: 2. Additional Expenses not exceeding 0.30% in terms of Regulation 52(6A)(b) of SEBI (Mutual Funds) Regulations, 1996.
A373: 3. Additional Expenses not exceeding 0.20% in terms of Regulation 52(6A)(c) of SEBI (Mutual Funds) Regulations, 1996.
A374: 4. Present GST rate is 18 %.
A375: 5. Percentages mentioned above are annualized.

Sheet LDDAF2
A1: =+VLOOKUP(+(MID(CELL("filename",A1),FIND("]",CELL("filename",A1))+1,255)),'Main File'!C:E,3,0) -> LIC MF Dual Advantage Fixed Term Plan-Series 2 | N1: Go to Index
B2: Regular Plan | G2: Direct Plan
A3: Date (DD/MM/YYYY) | B3: Base TER (%)1 | C3: Additional expense as per Regulation 52(6A)(b) (%)2 | D3: Additional expense as per Regulation 52(6A)(c) (%)3 | E3: GST (%)4 | F3: Total TER (%) | G3: Base TER (%)1 | H3: Additional expense as per Regulation 52(6A)(b) (%)2 | I3: Additional expense as per Regulation 52(6A)(c) (%)3 | J3: GST (%)4 | K3: Total TER (%)
A4: =LDBOND!A4 -> 43191 | B4: =IFERROR(+VLOOKUP("LDDAF2"&A4,'Main File'!A:O,6,0),0) -> 2.2500891 | C4: =IFERROR(+VLOOKUP("LDDAF2"&A4,'Main File'!A:O,7,0),0) -> 0 | D4: =IFERROR(+VLOOKUP("LDDAF2"&A4,'Main File'!A:O,8,0),0) -> 0 | E4: =IFERROR(+VLOOKUP("LDDAF2"&A4,'Main File'!A:O,9,0),0) -> 0.19801288 | F4: =IFERROR(+VLOOKUP("LDDAF2"&A4,'Main File'!A:O,10,0),0) -> 2.448102 | G4: =IFERROR(+VLOOKUP("LDDAF2"&A4,'Main File'!A:O,11,0),0) -> 1.2200093 | H4: =IFERROR(+VLOOKUP("LDDAF2"&A4,'Main File'!A:O,12,0),0) -> 0 | I4: =IFERROR(+VLOOKUP("LDDAF2"&A4,'Main File'!A:O,13,0),0) -> 0 | J4: =IFERROR(+VLOOKUP("LDDAF2"&A4,'Main File'!A:O,14,0),0) -> 0.19800614 | K4: =IFERROR(+VLOOKUP("LDDAF2"&A4,'Main File'!A:O,15,0),0) -> 1.4180154
A5: =A4+1 -> 43192 | B5: =IFERROR(+VLOOKUP("LDDAF2"&A5,'Main File'!A:O,6,0),0) -> 2.25009 | C5: =IFERROR(+VLOOKUP("LDDAF2"&A5,'Main File'!A:O,7,0),0) -> 0 | D5: =IFERROR(+VLOOKUP("LDDAF2"&A5,'Main File'!A:O,8,0),0) -> 0 | E5: =IFERROR(+VLOOKUP("LDDAF2"&A5,'Main File'!A:O,9,0),0) -> 0.19800986 | F5: =IFERROR(+VLOOKUP("LDDAF2"&A5,'Main File'!A:O,10,0),0) -> 2.4480998 | G5: =IFERROR(+VLOOKUP("LDDAF2"&A5,'Main File'!A:O,11,0),0) -> 1.2200154 | H5: =IFERROR(+VLOOKUP("LDDAF2"&A5,'Main File'!A:O,12,0),0) -> 0 | I5: =IFERROR(+VLOOKUP("LDDAF2"&A5,'Main File'!A:O,13,0),0) -> 0 | J5: =IFERROR(+VLOOKUP("LDDAF2"&A5,'Main File'!A:O,14,0),0) -> 0.198012 | K5: =IFERROR(+VLOOKUP("LDDAF2"&A5,'Main File'!A:O,15,0),0) -> 1.4180274
A6: =+A5+1 -> 43193 | B6: =IFERROR(+VLOOKUP("LDDAF2"&A6,'Main File'!A:O,6,0),0) -> 2.250089 | C6: =IFERROR(+VLOOKUP("LDDAF2"&A6,'Main File'!A:O,7,0),0) -> 0 | D6: =IFERROR(+VLOOKUP("LDDAF2"&A6,'Main File'!A:O,8,0),0) -> 0 | E6: =IFERROR(+VLOOKUP("LDDAF2"&A6,'Main File'!A:O,9,0),0) -> 0.19801173 | F6: =IFERROR(+VLOOKUP("LDDAF2"&A6,'Main File'!A:O,10,0),0) -> 2.4481008 | G6: =IFERROR(+VLOOKUP("LDDAF2"&A6,'Main File'!A:O,11,0),0) -> 1.2200089 | H6: =IFERROR(+VLOOKUP("LDDAF2"&A6,'Main File'!A:O,12,0),0) -> 0 | I6: =IFERROR(+VLOOKUP("LDDAF2"&A6,'Main File'!A:O,13,0),0) -> 0 | J6: =IFERROR(+VLOOKUP("LDDAF2"&A6,'Main File'!A:O,14,0),0) -> 0.19800849 | K6: =IFERROR(+VLOOKUP("LDDAF2"&A6,'Main File'!A:O,15,0),0) -> 1.4180174
A7: =+A6+1 -> 43194 | B7: =IFERROR(+VLOOKUP("LDDAF2"&A7,'Main File'!A:O,6,0),0) -> 2.250091 | C7: =IFERROR(+VLOOKUP("LDDAF2"&A7,'Main File'!A:O,7,0),0) -> 0 | D7: =IFERROR(+VLOOKUP("LDDAF2"&A7,'Main File'!A:O,8,0),0) -> 0 | E7: =IFERROR(+VLOOKUP("LDDAF2"&A7,'Main File'!A:O,9,0),0) -> 0.19801162 | F7: =IFERROR(+VLOOKUP("LDDAF2"&A7,'Main File'!A:O,10,0),0) -> 2.4481026 | G7: =IFERROR(+VLOOKUP("LDDAF2"&A7,'Main File'!A:O,11,0),0) -> 1.2200097 | H7: =IFERROR(+VLOOKUP("LDDAF2"&A7,'Main File'!A:O,12,0),0) -> 0 | I7: =IFERROR(+VLOOKUP("LDDAF2"&A7,'Main File'!A:O,13,0),0) -> 0 | J7: =IFERROR(+VLOOKUP("LDDAF2"&A7,'Main File'!A:O,14,0),0) -> 0.19800851 | K7: =IFERROR(+VLOOKUP("LDDAF2"&A7,'Main File'!A:O,15,0),0) -> 1.4180182
A8: =+A7+1 -> 43195 | B8: =IFERROR(+VLOOKUP("LDDAF2"&A8,'Main File'!A:O,6,0),0) -> 2.2500913 | C8: =IFERROR(+VLOOKUP("LDDAF2"&A8,'Main File'!A:O,7,0),0) -> 0 | D8: =IFERROR(+VLOOKUP("LDDAF2"&A8,'Main File'!A:O,8,0),0) -> 0 | E8: =IFERROR(+VLOOKUP("LDDAF2"&A8,'Main File'!A:O,9,0),0) -> 0.19801286 | F8: =IFERROR(+VLOOKUP("LDDAF2"&A8,'Main File'!A:O,10,0),0) -> 2.4481041 | G8: =IFERROR(+VLOOKUP("LDDAF2"&A8,'Main File'!A:O,11,0),0) -> 1.2200085 | H8: =IFERROR(+VLOOKUP("LDDAF2"&A8,'Main File'!A:O,12,0),0) -> 0 | I8: =IFERROR(+VLOOKUP("LDDAF2"&A8,'Main File'!A:O,13,0),0) -> 0 | J8: =IFERROR(+VLOOKUP("LDDAF2"&A8,'Main File'!A:O,14,0),0) -> 0.1980083 | K8: =IFERROR(+VLOOKUP("LDDAF2"&A8,'Main File'!A:O,15,0),0) -> 1.4180168
A9: =+A8+1 -> 43196 | B9: =IFERROR(+VLOOKUP("LDDAF2"&A9,'Main File'!A:O,6,0),0) -> 2.2500917 | C9: =IFERROR(+VLOOKUP("LDDAF2"&A9,'Main File'!A:O,7,0),0) -> 0 | D9: =IFERROR(+VLOOKUP("LDDAF2"&A9,'Main File'!A:O,8,0),0) -> 0 | E9: =IFERROR(+VLOOKUP("LDDAF2"&A9,'Main File'!A:O,9,0),0) -> 0.19801458 | F9: =IFERROR(+VLOOKUP("LDDAF2"&A9,'Main File'!A:O,10,0),0) -> 2.4481063 | G9: =IFERROR(+VLOOKUP("LDDAF2"&A9,'Main File'!A:O,11,0),0) -> 1.2200096 | H9: =IFERROR(+VLOOKUP("LDDAF2"&A9,'Main File'!A:O,12,0),0) -> 0 | I9: =IFERROR(+VLOOKUP("LDDAF2"&A9,'Main File'!A:O,13,0),0) -> 0 | J9: =IFERROR(+VLOOKUP("LDDAF2"&A9,'Main File'!A:O,14,0),0) -> 0.19800669 | K9: =IFERROR(+VLOOKUP("LDDAF2"&A9,'Main File'!A:O,15,0),0) -> 1.4180163
A10: =+A9+1 -> 43197 | B10: =IFERROR(+VLOOKUP("LDDAF2"&A10,'Main File'!A:O,6,0),0) -> 2.2500902 | C10: =IFERROR(+VLOOKUP("LDDAF2"&A10,'Main File'!A:O,7,0),0) -> 0 | D10: =IFERROR(+VLOOKUP("LDDAF2"&A10,'Main File'!A:O,8,0),0) -> 0 | E10: =IFERROR(+VLOOKUP("LDDAF2"&A10,'Main File'!A:O,9,0),0) -> 0.1980126 | F10: =IFERROR(+VLOOKUP("LDDAF2"&A10,'Main File'!A:O,10,0),0) -> 2.4481028 | G10: =IFERROR(+VLOOKUP("LDDAF2"&A10,'Main File'!A:O,11,0),0) -> 1.2200156 | H10: =IFERROR(+VLOOKUP("LDDAF2"&A10,'Main File'!A:O,12,0),0) -> 0 | I10: =IFERROR(+VLOOKUP("LDDAF2"&A10,'Main File'!A:O,13,0),0) -> 0 | J10: =IFERROR(+VLOOKUP("LDDAF2"&A10,'Main File'!A:O,14,0),0) -> 0.19800765 | K10: =IFERROR(+VLOOKUP("LDDAF2"&A10,'Main File'!A:O,15,0),0) -> 1.4180232
A11: =+A10+1 -> 43198 | B11: =IFERROR(+VLOOKUP("LDDAF2"&A11,'Main File'!A:O,6,0),0) -> 2.2500902 | C11: =IFERROR(+VLOOKUP("LDDAF2"&A11,'Main File'!A:O,7,0),0) -> 0 | D11: =IFERROR(+VLOOKUP("LDDAF2"&A11,'Main File'!A:O,8,0),0) -> 0 | E11: =IFERROR(+VLOOKUP("LDDAF2"&A11,'Main File'!A:O,9,0),0) -> 0.19801382 | F11: =IFERROR(+VLOOKUP("LDDAF2"&A11,'Main File'!A:O,10,0),0) -> 2.448104 | G11: =IFERROR(+VLOOKUP("LDDAF2"&A11,'Main File'!A:O,11,0),0) -> 1.2200143 | H11: =IFERROR(+VLOOKUP("LDDAF2"&A11,'Main File'!A:O,12,0),0) -> 0 | I11: =IFERROR(+VLOOKUP("LDDAF2"&A11,'Main File'!A:O,13,0),0) -> 0 | J11: =IFERROR(+VLOOKUP("LDDAF2"&A11,'Main File'!A:O,14,0),0) -> 0.19800858 | K11: =IFERROR(+VLOOKUP("LDDAF2"&A11,'Main File'!A:O,15,0),0) -> 1.4180229
A12: =+A11+1 -> 43199 | B12: =IFERROR(+VLOOKUP("LDDAF2"&A12,'Main File'!A:O,6,0),0) -> 2.2500904 | C12: =IFERROR(+VLOOKUP("LDDAF2"&A12,'Main File'!A:O,7,0),0) -> 0 | D12: =IFERROR(+VLOOKUP("LDDAF2"&A12,'Main File'!A:O,8,0),0) -> 0 | E12: =IFERROR(+VLOOKUP("LDDAF2"&A12,'Main File'!A:O,9,0),0) -> 0.19801173 | F12: =IFERROR(+VLOOKUP("LDDAF2"&A12,'Main File'!A:O,10,0),0) -> 2.4481021 | G12: =IFERROR(+VLOOKUP("LDDAF2"&A12,'Main File'!A:O,11,0),0) -> 1.2200114 | H12: =IFERROR(+VLOOKUP("LDDAF2"&A12,'Main File'!A:O,12,0),0) -> 0 | I12: =IFERROR(+VLOOKUP("LDDAF2"&A12,'Main File'!A:O,13,0),0) -> 0 | J12: =IFERROR(+VLOOKUP("LDDAF2"&A12,'Main File'!A:O,14,0),0) -> 0.19801022 | K12: =IFERROR(+VLOOKUP("LDDAF2"&A12,'Main File'!A:O,15,0),0) -> 1.4180217
A13: =+A12+1 -> 43200 | B13: =IFERROR(+VLOOKUP("LDDAF2"&A13,'Main File'!A:O,6,0),0) -> 2.2500889 | C13: =IFERROR(+VLOOKUP("LDDAF2"&A13,'Main File'!A:O,7,0),0) -> 0 | D13: =IFERROR(+VLOOKUP("LDDAF2"&A13,'Main File'!A:O,8,0),0) -> 0 | E13: =IFERROR(+VLOOKUP("LDDAF2"&A13,'Main File'!A:O,9,0),0) -> 0.19801417 | F13: =IFERROR(+VLOOKUP("LDDAF2"&A13,'Main File'!A:O,10,0),0) -> 2.4481031 | G13: =IFERROR(+VLOOKUP("LDDAF2"&A13,'Main File'!A:O,11,0),0) -> 1.2200164 | H13: =IFERROR(+VLOOKUP("LDDAF2"&A13,'Main File'!A:O,12,0),0) -> 0 | I13: =IFERROR(+VLOOKUP("LDDAF2"&A13,'Main File'!A:O,13,0),0) -> 0 | J13: =IFERROR(+VLOOKUP("LDDAF2"&A13,'Main File'!A:O,14,0),0) -> 0.19800373 | K13: =IFERROR(+VLOOKUP("LDDAF2"&A13,'Main File'!A:O,15,0),0) -> 1.4180201
A14: =+A13+1 -> 43201 | B14: =IFERROR(+VLOOKUP("LDDAF2"&A14,'Main File'!A:O,6,0),0) -> 2.2500888 | C14: =IFERROR(+VLOOKUP("LDDAF2"&A14,'Main File'!A:O,7,0),0) -> 0 | D14: =IFERROR(+VLOOKUP("LDDAF2"&A14,'Main File'!A:O,8,0),0) -> 0 | E14: =IFERROR(+VLOOKUP("LDDAF2"&A14,'Main File'!A:O,9,0),0) -> 0.19801353 | F14: =IFERROR(+VLOOKUP("LDDAF2"&A14,'Main File'!A:O,10,0),0) -> 2.4481023 | G14: =IFERROR(+VLOOKUP("LDDAF2"&A14,'Main File'!A:O,11,0),0) -> 1.2200134 | H14: =IFERROR(+VLOOKUP("LDDAF2"&A14,'Main File'!A:O,12,0),0) -> 0 | I14: =IFERROR(+VLOOKUP("LDDAF2"&A14,'Main File'!A:O,13,0),0) -> 0 | J14: =IFERROR(+VLOOKUP("LDDAF2"&A14,'Main File'!A:O,14,0),0) -> 0.19800418 | K14: =IFERROR(+VLOOKUP("LDDAF2"&A14,'Main File'!A:O,15,0),0) -> 1.4180176
A15: =+A14+1 -> 43202 | B15: =IFERROR(+VLOOKUP("LDDAF2"&A15,'Main File'!A:O,6,0),0) -> 2.2500889 | C15: =IFERROR(+VLOOKUP("LDDAF2"&A15,'Main File'!A:O,7,0),0) -> 0 | D15: =IFERROR(+VLOOKUP("LDDAF2"&A15,'Main File'!A:O,8,0),0) -> 0 | E15: =IFERROR(+VLOOKUP("LDDAF2"&A15,'Main File'!A:O,9,0),0) -> 0.19801181 | F15: =IFERROR(+VLOOKUP("LDDAF2"&A15,'Main File'!A:O,10,0),0) -> 2.4481007 | G15: =IFERROR(+VLOOKUP("LDDAF2"&A15,'Main File'!A:O,11,0),0) -> 1.2200152 | H15: =IFERROR(+VLOOKUP("LDDAF2"&A15,'Main File'!A:O,12,0),0) -> 0 | I15: =IFERROR(+VLOOKUP("LDDAF2"&A15,'Main File'!A:O,13,0),0) -> 0 | J15: =IFERROR(+VLOOKUP("LDDAF2"&A15,'Main File'!A:O,14,0),0) -> 0.19800924 | K15: =IFERROR(+VLOOKUP("LDDAF2"&A15,'Main File'!A:O,15,0),0) -> 1.4180245
A16: =+A15+1 -> 43203 | B16: =IFERROR(+VLOOKUP("LDDAF2"&A16,'Main File'!A:O,6,0),0) -> 2.2500892 | C16: =IFERROR(+VLOOKUP("LDDAF2"&A16,'Main File'!A:O,7,0),0) -> 0 | D16: =IFERROR(+VLOOKUP("LDDAF2"&A16,'Main File'!A:O,8,0),0) -> 0 | E16: =IFERROR(+VLOOKUP("LDDAF2"&A16,'Main File'!A:O,9,0),0) -> 0.19801215 | F16: =IFERROR(+VLOOKUP("LDDAF2"&A16,'Main File'!A:O,10,0),0) -> 2.4481013 | G16: =IFERROR(+VLOOKUP("LDDAF2"&A16,'Main File'!A:O,11,0),0) -> 1.2200133 | H16: =IFERROR(+VLOOKUP("LDDAF2"&A16,'Main File'!A:O,12,0),0) -> 0 | I16: =IFERROR(+VLOOKUP("LDDAF2"&A16,'Main File'!A:O,13,0),0) -> 0 | J16: =IFERROR(+VLOOKUP("LDDAF2"&A16,'Main File'!A:O,14,0),0) -> 0.1980072 | K16: =IFERROR(+VLOOKUP("LDDAF2"&A16,'Main File'!A:O,15,0),0) -> 1.4180205
A17: =+A16+1 -> 43204 | B17: =IFERROR(+VLOOKUP("LDDAF2"&A17,'Main File'!A:O,6,0),0) -> 2.2500917 | C17: =IFERROR(+VLOOKUP("LDDAF2"&A17,'Main File'!A:O,7,0),0) -> 0 | D17: =IFERROR(+VLOOKUP("LDDAF2"&A17,'Main File'!A:O,8,0),0) -> 0 | E17: =IFERROR(+VLOOKUP("LDDAF2"&A17,'Main File'!A:O,9,0),0) -> 0.19801373 | F17: =IFERROR(+VLOOKUP("LDDAF2"&A17,'Main File'!A:O,10,0),0) -> 2.4481054 | G17: =IFERROR(+VLOOKUP("LDDAF2"&A17,'Main File'!A:O,11,0),0) -> 1.2200141 | H17: =IFERROR(+VLOOKUP("LDDAF2"&A17,'Main File'!A:O,12,0),0) -> 0 | I17: =IFERROR(+VLOOKUP("LDDAF2"&A17,'Main File'!A:O,13,0),0) -> 0 | J17: =IFERROR(+VLOOKUP("LDDAF2"&A17,'Main File'!A:O,14,0),0) -> 0.19800847 | K17: =IFERROR(+VLOOKUP("LDDAF2"&A17,'Main File'!A:O,15,0),0) -> 1.4180226
... A368: =+A367+1 -> 43555 | B368: =IFERROR(+VLOOKUP("LDDAF2"&A368,'Main File'!A:O,6,0),0) -> 0 | C368: =IFERROR(+VLOOKUP("LDDAF2"&A368,'Main File'!A:O,7,0),0) -> 0 | D368: =IFERROR(+VLOOKUP("LDDAF2"&A368,'Main File'!A:O,8,0),0) -> 0 | E368: =IFERROR(+VLOOKUP("LDDAF2"&A368,'Main File'!A:O,9,0),0) -> 0 | F368: =IFERROR(+VLOOKUP("LDDAF2"&A368,'Main File'!A:O,10,0),0) -> 0 | G368: =IFERROR(+VLOOKUP("LDDAF2"&A368,'Main File'!A:O,11,0),0) -> 0 | H368: =IFERROR(+VLOOKUP("LDDAF2"&A368,'Main File'!A:O,12,0),0) -> 0 | I368: =IFERROR(+VLOOKUP("LDDAF2"&A368,'Main File'!A:O,13,0),0) -> 0 | J368: =IFERROR(+VLOOKUP("LDDAF2"&A368,'Main File'!A:O,14,0),0) -> 0 | K368: =IFERROR(+VLOOKUP("LDDAF2"&A368,'Main File'!A:O,15,0),0) -> 0
A370: Notes:
A371: 1. Base TER excludes additional expenses provided in Regulation 52(6A)(b) and 52(6A)(c) of SEBI (Mutual Funds) Regulations, 1996.
A372: 2. Additional Expenses not exceeding 0.30% in terms of Regulation 52(6A)(b) of SEBI (Mutual Funds) Regulations, 1996.
A373: 3. Additional Expenses not exceeding 0.20% in terms of Regulation 52(6A)(c) of SEBI (Mutual Funds) Regulations, 1996.
A374: 4. Present GST rate is 18 %.
A375: 5. Percentages mentioned above are annualized.

Sheet LDDAF3
A1: =+VLOOKUP(+(MID(CELL("filename",A1),FIND("]",CELL("filename",A1))+1,255)),'Main File'!C:E,3,0) -> LIC MF Dual Advantage Fixed Term Plan-Series 3 | N1: Go to Index
B2: Regular Plan | G2: Direct Plan
A3: Date (DD/MM/YYYY) | B3: Base TER (%)1 | C3: Additional expense as per Regulation 52(6A)(b) (%)2 | D3: Additional expense as per Regulation 52(6A)(c) (%)3 | E3: GST (%)4 | F3: Total TER (%) | G3: Base TER (%)1 | H3: Additional expense as per Regulation 52(6A)(b) (%)2 | I3: Additional expense as per Regulation 52(6A)(c) (%)3 | J3: GST (%)4 | K3: Total TER (%)
A4: =LDBOND!A4 -> 43191 | B4: =IFERROR(+VLOOKUP("LDDAF3"&A4,'Main File'!A:O,6,0),0) -> 2.2500872 | C4: =IFERROR(+VLOOKUP("LDDAF3"&A4,'Main File'!A:O,7,0),0) -> 0 | D4: =IFERROR(+VLOOKUP("LDDAF3"&A4,'Main File'!A:O,8,0),0) -> 0 | E4: =IFERROR(+VLOOKUP("LDDAF3"&A4,'Main File'!A:O,9,0),0) -> 0.19621437 | F4: =IFERROR(+VLOOKUP("LDDAF3"&A4,'Main File'!A:O,10,0),0) -> 2.4463015 | G4: =IFERROR(+VLOOKUP("LDDAF3"&A4,'Main File'!A:O,11,0),0) -> 1.2300154 | H4: =IFERROR(+VLOOKUP("LDDAF3"&A4,'Main File'!A:O,12,0),0) -> 0 | I4: =IFERROR(+VLOOKUP("LDDAF3"&A4,'Main File'!A:O,13,0),0) -> 0 | J4: =IFERROR(+VLOOKUP("LDDAF3"&A4,'Main File'!A:O,14,0),0) -> 0.1962054 | K4: =IFERROR(+VLOOKUP("LDDAF3"&A4,'Main File'!A:O,15,0),0) -> 1.4262208
A5: =A4+1 -> 43192 | B5: =IFERROR(+VLOOKUP("LDDAF3"&A5,'Main File'!A:O,6,0),0) -> 2.2500894 | C5: =IFERROR(+VLOOKUP("LDDAF3"&A5,'Main File'!A:O,7,0),0) -> 0 | D5: =IFERROR(+VLOOKUP("LDDAF3"&A5,'Main File'!A:O,8,0),0) -> 0 | E5: =IFERROR(+VLOOKUP("LDDAF3"&A5,'Main File'!A:O,9,0),0) -> 0.19621174 | F5: =IFERROR(+VLOOKUP("LDDAF3"&A5,'Main File'!A:O,10,0),0) -> 2.4463011 | G5: =IFERROR(+VLOOKUP("LDDAF3"&A5,'Main File'!A:O,11,0),0) -> 1.2300175 | H5: =IFERROR(+VLOOKUP("LDDAF3"&A5,'Main File'!A:O,12,0),0) -> 0 | I5: =IFERROR(+VLOOKUP("LDDAF3"&A5,'Main File'!A:O,13,0),0) -> 0 | J5: =IFERROR(+VLOOKUP("LDDAF3"&A5,'Main File'!A:O,14,0),0) -> 0.19621232 | K5: =IFERROR(+VLOOKUP("LDDAF3"&A5,'Main File'!A:O,15,0),0) -> 1.4262298
A6: =+A5+1 -> 43193 | B6: =IFERROR(+VLOOKUP("LDDAF3"&A6,'Main File'!A:O,6,0),0) -> 2.2500885 | C6: =IFERROR(+VLOOKUP("LDDAF3"&A6,'Main File'!A:O,7,0),0) -> 0 | D6: =IFERROR(+VLOOKUP("LDDAF3"&A6,'Main File'!A:O,8,0),0) -> 0 | E6: =IFERROR(+VLOOKUP("LDDAF3"&A6,'Main File'!A:O,9,0),0) -> 0.19621306 | F6: =IFERROR(+VLOOKUP("LDDAF3"&A6,'Main File'!A:O,10,0),0) -> 2.4463016 | G6: =IFERROR(+VLOOKUP("LDDAF3"&A6,'Main File'!A:O,11,0),0) -> 1.2300165 | H6: =IFERROR(+VLOOKUP("LDDAF3"&A6,'Main File'!A:O,12,0),0) -> 0 | I6: =IFERROR(+VLOOKUP("LDDAF3"&A6,'Main File'!A:O,13,0),0) -> 0 | J6: =IFERROR(+VLOOKUP("LDDAF3"&A6,'Main File'!A:O,14,0),0) -> 0.19620873 | K6: =IFERROR(+VLOOKUP("LDDAF3"&A6,'Main File'!A:O,15,0),0) -> 1.4262253
A7: =+A6+1 -> 43194 | B7: =IFERROR(+VLOOKUP("LDDAF3"&A7,'Main File'!A:O,6,0),0) -> 2.2500882 | C7: =IFERROR(+VLOOKUP("LDDAF3"&A7,'Main File'!A:O,7,0),0) -> 0 | D7: =IFERROR(+VLOOKUP("LDDAF3"&A7,'Main File'!A:O,8,0),0) -> 0 | E7: =IFERROR(+VLOOKUP("LDDAF3"&A7,'Main File'!A:O,9,0),0) -> 0.19621208 | F7: =IFERROR(+VLOOKUP("LDDAF3"&A7,'Main File'!A:O,10,0),0) -> 2.4463003 | G7: =IFERROR(+VLOOKUP("LDDAF3"&A7,'Main File'!A:O,11,0),0) -> 1.2300129 | H7: =IFERROR(+VLOOKUP("LDDAF3"&A7,'Main File'!A:O,12,0),0) -> 0 | I7: =IFERROR(+VLOOKUP("LDDAF3"&A7,'Main File'!A:O,13,0),0) -> 0 | J7: =IFERROR(+VLOOKUP("LDDAF3"&A7,'Main File'!A:O,14,0),0) -> 0.19621275 | K7: =IFERROR(+VLOOKUP("LDDAF3"&A7,'Main File'!A:O,15,0),0) -> 1.4262256
A8: =+A7+1 -> 43195 | B8: =IFERROR(+VLOOKUP("LDDAF3"&A8,'Main File'!A:O,6,0),0) -> 2.2500853 | C8: =IFERROR(+VLOOKUP("LDDAF3"&A8,'Main File'!A:O,7,0),0) -> 0 | D8: =IFERROR(+VLOOKUP("LDDAF3"&A8,'Main File'!A:O,8,0),0) -> 0 | E8: =IFERROR(+VLOOKUP("LDDAF3"&A8,'Main File'!A:O,9,0),0) -> 0.1962161 | F8: =IFERROR(+VLOOKUP("LDDAF3"&A8,'Main File'!A:O,10,0),0) -> 2.4463014 | G8: =IFERROR(+VLOOKUP("LDDAF3"&A8,'Main File'!A:O,11,0),0) -> 1.2300158 | H8: =IFERROR(+VLOOKUP("LDDAF3"&A8,'Main File'!A:O,12,0),0) -> 0 | I8: =IFERROR(+VLOOKUP("LDDAF3"&A8,'Main File'!A:O,13,0),0) -> 0 | J8: =IFERROR(+VLOOKUP("LDDAF3"&A8,'Main File'!A:O,14,0),0) -> 0.19620361 | K8: =IFERROR(+VLOOKUP("LDDAF3"&A8,'Main File'!A:O,15,0),0) -> 1.4262194
A9: =+A8+1 -> 43196 | B9: =IFERROR(+VLOOKUP("LDDAF3"&A9,'Main File'!A:O,6,0),0) -> 2.2500839 | C9: =IFERROR(+VLOOKUP("LDDAF3"&A9,'Main File'!A:O,7,0),0) -> 0 | D9: =IFERROR(+VLOOKUP("LDDAF3"&A9,'Main File'!A:O,8,0),0) -> 0 | E9: =IFERROR(+VLOOKUP("LDDAF3"&A9,'Main File'!A:O,9,0),0) -> 0.19621533 | F9: =IFERROR(+VLOOKUP("LDDAF3"&A9,'Main File'!A:O,10,0),0) -> 2.4462993 | G9: =IFERROR(+VLOOKUP("LDDAF3"&A9,'Main File'!A:O,11,0),0) -> 1.2300258 | H9: =IFERROR(+VLOOKUP("LDDAF3"&A9,'Main File'!A:O,12,0),0) -> 0 | I9: =IFERROR(+VLOOKUP("LDDAF3"&A9,'Main File'!A:O,13,0),0) -> 0 | J9: =IFERROR(+VLOOKUP("LDDAF3"&A9,'Main File'!A:O,14,0),0) -> 0.19620146 | K9: =IFERROR(+VLOOKUP("LDDAF3"&A9,'Main File'!A:O,15,0),0) -> 1.4262273
A10: =+A9+1 -> 43197 | B10: =IFERROR(+VLOOKUP("LDDAF3"&A10,'Main File'!A:O,6,0),0) -> 2.2500848 | C10: =IFERROR(+VLOOKUP("LDDAF3"&A10,'Main File'!A:O,7,0),0) -> 0 | D10: =IFERROR(+VLOOKUP("LDDAF3"&A10,'Main File'!A:O,8,0),0) -> 0 | E10: =IFERROR(+VLOOKUP("LDDAF3"&A10,'Main File'!A:O,9,0),0) -> 0.1962128 | F10: =IFERROR(+VLOOKUP("LDDAF3"&A10,'Main File'!A:O,10,0),0) -> 2.4462976 | G10: =IFERROR(+VLOOKUP("LDDAF3"&A10,'Main File'!A:O,11,0),0) -> 1.2300227 | H10: =IFERROR(+VLOOKUP("LDDAF3"&A10,'Main File'!A:O,12,0),0) -> 0 | I10: =IFERROR(+VLOOKUP("LDDAF3"&A10,'Main File'!A:O,13,0),0) -> 0 | J10: =IFERROR(+VLOOKUP("LDDAF3"&A10,'Main File'!A:O,14,0),0) -> 0.19620936 | K10: =IFERROR(+VLOOKUP("LDDAF3"&A10,'Main File'!A:O,15,0),0) -> 1.4262321
A11: =+A10+1 -> 43198 | B11: =IFERROR(+VLOOKUP("LDDAF3"&A11,'Main File'!A:O,6,0),0) -> 2.2500878 | C11: =IFERROR(+VLOOKUP("LDDAF3"&A11,'Main File'!A:O,7,0),0) -> 0 | D11: =IFERROR(+VLOOKUP("LDDAF3"&A11,'Main File'!A:O,8,0),0) -> 0 | E11: =IFERROR(+VLOOKUP("LDDAF3"&A11,'Main File'!A:O,9,0),0) -> 0.19621481 | F11: =IFERROR(+VLOOKUP("LDDAF3"&A11,'Main File'!A:O,10,0),0) -> 2.4463026 | G11: =IFERROR(+VLOOKUP("LDDAF3"&A11,'Main File'!A:O,11,0),0) -> 1.2300153 | H11: =IFERROR(+VLOOKUP("LDDAF3"&A11,'Main File'!A:O,12,0),0) -> 0 | I11: =IFERROR(+VLOOKUP("LDDAF3"&A11,'Main File'!A:O,13,0),0) -> 0 | J11: =IFERROR(+VLOOKUP("LDDAF3"&A11,'Main File'!A:O,14,0),0) -> 0.19620056 | K11: =IFERROR(+VLOOKUP("LDDAF3"&A11,'Main File'!A:O,15,0),0) -> 1.4262159
A12: =+A11+1 -> 43199 | B12: =IFERROR(+VLOOKUP("LDDAF3"&A12,'Main File'!A:O,6,0),0) -> 2.2500855 | C12: =IFERROR(+VLOOKUP("LDDAF3"&A12,'Main File'!A:O,7,0),0) -> 0 | D12: =IFERROR(+VLOOKUP("LDDAF3"&A12,'Main File'!A:O,8,0),0) -> 0 | E12: =IFERROR(+VLOOKUP("LDDAF3"&A12,'Main File'!A:O,9,0),0) -> 0.19621663 | F12: =IFERROR(+VLOOKUP("LDDAF3"&A12,'Main File'!A:O,10,0),0) -> 2.4463021 | G12: =IFERROR(+VLOOKUP("LDDAF3"&A12,'Main File'!A:O,11,0),0) -> 1.2300204 | H12: =IFERROR(+VLOOKUP("LDDAF3"&A12,'Main File'!A:O,12,0),0) -> 0 | I12: =IFERROR(+VLOOKUP("LDDAF3"&A12,'Main File'!A:O,13,0),0) -> 0 | J12: =IFERROR(+VLOOKUP("LDDAF3"&A12,'Main File'!A:O,14,0),0) -> 0.19620218 | K12: =IFERROR(+VLOOKUP("LDDAF3"&A12,'Main File'!A:O,15,0),0) -> 1.4262226
A13: =+A12+1 -> 43200 | B13: =IFERROR(+VLOOKUP("LDDAF3"&A13,'Main File'!A:O,6,0),0) -> 2.2500889 | C13: =IFERROR(+VLOOKUP("LDDAF3"&A13,'Main File'!A:O,7,0),0) -> 0 | D13: =IFERROR(+VLOOKUP("LDDAF3"&A13,'Main File'!A:O,8,0),0) -> 0 | E13: =IFERROR(+VLOOKUP("LDDAF3"&A13,'Main File'!A:O,9,0),0) -> 0.19621406 | F13: =IFERROR(+VLOOKUP("LDDAF3"&A13,'Main File'!A:O,10,0),0) -> 2.446303 | G13: =IFERROR(+VLOOKUP("LDDAF3"&A13,'Main File'!A:O,11,0),0) -> 1.2300196 | H13: =IFERROR(+VLOOKUP("LDDAF3"&A13,'Main File'!A:O,12,0),0) -> 0 | I13: =IFERROR(+VLOOKUP("LDDAF3"&A13,'Main File'!A:O,13,0),0) -> 0 | J13: =IFERROR(+VLOOKUP("LDDAF3"&A13,'Main File'!A:O,14,0),0) -> 0.19620281 | K13: =IFERROR(+VLOOKUP("LDDAF3"&A13,'Main File'!A:O,15,0),0) -> 1.4262224
A14: =+A13+1 -> 43201 | B14: =IFERROR(+VLOOKUP("LDDAF3"&A14,'Main File'!A:O,6,0),0) -> 2.2500903 | C14: =IFERROR(+VLOOKUP("LDDAF3"&A14,'Main File'!A:O,7,0),0) -> 0 | D14: =IFERROR(+VLOOKUP("LDDAF3"&A14,'Main File'!A:O,8,0),0) -> 0 | E14: =IFERROR(+VLOOKUP("LDDAF3"&A14,'Main File'!A:O,9,0),0) -> 0.1962129 | F14: =IFERROR(+VLOOKUP("LDDAF3"&A14,'Main File'!A:O,10,0),0) -> 2.4463032 | G14: =IFERROR(+VLOOKUP("LDDAF3"&A14,'Main File'!A:O,11,0),0) -> 1.2300155 | H14: =IFERROR(+VLOOKUP("LDDAF3"&A14,'Main File'!A:O,12,0),0) -> 0 | I14: =IFERROR(+VLOOKUP("LDDAF3"&A14,'Main File'!A:O,13,0),0) -> 0 | J14: =IFERROR(+VLOOKUP("LDDAF3"&A14,'Main File'!A:O,14,0),0) -> 0.19620593 | K14: =IFERROR(+VLOOKUP("LDDAF3"&A14,'Main File'!A:O,15,0),0) -> 1.4262215
A15: =+A14+1 -> 43202 | B15: =IFERROR(+VLOOKUP("LDDAF3"&A15,'Main File'!A:O,6,0),0) -> 2.2500845 | C15: =IFERROR(+VLOOKUP("LDDAF3"&A15,'Main File'!A:O,7,0),0) -> 0 | D15: =IFERROR(+VLOOKUP("LDDAF3"&A15,'Main File'!A:O,8,0),0) -> 0 | E15: =IFERROR(+VLOOKUP("LDDAF3"&A15,'Main File'!A:O,9,0),0) -> 0.19621732 | F15: =IFERROR(+VLOOKUP("LDDAF3"&A15,'Main File'!A:O,10,0),0) -> 2.4463019 | G15: =IFERROR(+VLOOKUP("LDDAF3"&A15,'Main File'!A:O,11,0),0) -> 1.2300226 | H15: =IFERROR(+VLOOKUP("LDDAF3"&A15,'Main File'!A:O,12,0),0) -> 0 | I15: =IFERROR(+VLOOKUP("LDDAF3"&A15,'Main File'!A:O,13,0),0) -> 0 | J15: =IFERROR(+VLOOKUP("LDDAF3"&A15,'Main File'!A:O,14,0),0) -> 0.1962041 | K15: =IFERROR(+VLOOKUP("LDDAF3"&A15,'Main File'!A:O,15,0),0) -> 1.4262267
A16: =+A15+1 -> 43203 | B16: =IFERROR(+VLOOKUP("LDDAF3"&A16,'Main File'!A:O,6,0),0) -> 2.2500879 | C16: =IFERROR(+VLOOKUP("LDDAF3"&A16,'Main File'!A:O,7,0),0) -> 0 | D16: =IFERROR(+VLOOKUP("LDDAF3"&A16,'Main File'!A:O,8,0),0) -> 0 | E16: =IFERROR(+VLOOKUP("LDDAF3"&A16,'Main File'!A:O,9,0),0) -> 0.19621571 | F16: =IFERROR(+VLOOKUP("LDDAF3"&A16,'Main File'!A:O,10,0),0) -> 2.4463036 | G16: =IFERROR(+VLOOKUP("LDDAF3"&A16,'Main File'!A:O,11,0),0) -> 1.2300159 | H16: =IFERROR(+VLOOKUP("LDDAF3"&A16,'Main File'!A:O,12,0),0) -> 0 | I16: =IFERROR(+VLOOKUP("LDDAF3"&A16,'Main File'!A:O,13,0),0) -> 0 | J16: =IFERROR(+VLOOKUP("LDDAF3"&A16,'Main File'!A:O,14,0),0) -> 0.19619932 | K16: =IFERROR(+VLOOKUP("LDDAF3"&A16,'Main File'!A:O,15,0),0) -> 1.4262153
A17: =+A16+1 -> 43204 | B17: =IFERROR(+VLOOKUP("LDDAF3"&A17,'Main File'!A:O,6,0),0) -> 2.2500881 | C17: =IFERROR(+VLOOKUP("LDDAF3"&A17,'Main File'!A:O,7,0),0) -> 0 | D17: =IFERROR(+VLOOKUP("LDDAF3"&A17,'Main File'!A:O,8,0),0) -> 0 | E17: =IFERROR(+VLOOKUP("LDDAF3"&A17,'Main File'!A:O,9,0),0) -> 0.19621392 | F17: =IFERROR(+VLOOKUP("LDDAF3"&A17,'Main File'!A:O,10,0),0) -> 2.446302 | G17: =IFERROR(+VLOOKUP("LDDAF3"&A17,'Main File'!A:O,11,0),0) -> 1.2300173 | H17: =IFERROR(+VLOOKUP("LDDAF3"&A17,'Main File'!A:O,12,0),0) -> 0 | I17: =IFERROR(+VLOOKUP("LDDAF3"&A17,'Main File'!A:O,13,0),0) -> 0 | J17: =IFERROR(+VLOOKUP("LDDAF3"&A17,'Main File'!A:O,14,0),0) -> 0.19620789 | K17: =IFERROR(+VLOOKUP("LDDAF3"&A17,'Main File'!A:O,15,0),0) -> 1.4262252
... A368: =+A367+1 -> 43555 | B368: =IFERROR(+VLOOKUP("LDDAF3"&A368,'Main File'!A:O,6,0),0) -> 0 | C368: =IFERROR(+VLOOKUP("LDDAF3"&A368,'Main File'!A:O,7,0),0) -> 0 | D368: =IFERROR(+VLOOKUP("LDDAF3"&A368,'Main File'!A:O,8,0),0) -> 0 | E368: =IFERROR(+VLOOKUP("LDDAF3"&A368,'Main File'!A:O,9,0),0) -> 0 | F368: =IFERROR(+VLOOKUP("LDDAF3"&A368,'Main File'!A:O,10,0),0) -> 0 | G368: =IFERROR(+VLOOKUP("LDDAF3"&A368,'Main File'!A:O,11,0),0) -> 0 | H368: =IFERROR(+VLOOKUP("LDDAF3"&A368,'Main File'!A:O,12,0),0) -> 0 | I368: =IFERROR(+VLOOKUP("LDDAF3"&A368,'Main File'!A:O,13,0),0) -> 0 | J368: =IFERROR(+VLOOKUP("LDDAF3"&A368,'Main File'!A:O,14,0),0) -> 0 | K368: =IFERROR(+VLOOKUP("LDDAF3"&A368,'Main File'!A:O,15,0),0) -> 0
A370: Notes:
A371: 1. Base TER excludes additional expenses provided in Regulation 52(6A)(b) and 52(6A)(c) of SEBI (Mutual Funds) Regulations, 1996.
A372: 2. Additional Expenses not exceeding 0.30% in terms of Regulation 52(6A)(b) of SEBI (Mutual Funds) Regulations, 1996.
A373: 3. Additional Expenses not exceeding 0.20% in terms of Regulation 52(6A)(c) of SEBI (Mutual Funds) Regulations, 1996.
A374: 4. Present GST rate is 18 %.
A375: 5. Percentages mentioned above are annualized.

Sheet LDGETF
A1: =+VLOOKUP(+(MID(CELL("filename",A1),FIND("]",CELL("filename",A1))+1,255)),'Main File'!C:E,3,0) -> LIC MF G-Sec Long Term Exchange Traded Fund# | N1: Go to Index
B2: Regular Plan | G2: Direct Plan
A3: Date (DD/MM/YYYY) | B3: Base TER (%)1 | C3: Additional expense as per Regulation 52(6A)(b) (%)2 | D3: Additional expense as per Regulation 52(6A)(c) (%)3 | E3: GST (%)4 | F3: Total TER (%) | G3: Base TER (%)1 | H3: Additional expense as per Regulation 52(6A)(b) (%)2 | I3: Additional expense as per Regulation 52(6A)(c) (%)3 | J3: GST (%)4 | K3: Total TER (%)
A4: =LDBOND!A4 -> 43191 | B4: =IFERROR(+VLOOKUP("LDGETF"&A4,'Main File'!A:O,6,0),0) -> 0.25000076 | C4: =IFERROR(+VLOOKUP("LDGETF"&A4,'Main File'!A:O,7,0),0) -> 0 | D4: =IFERROR(+VLOOKUP("LDGETF"&A4,'Main File'!A:O,8,0),0) -> 0 | E4: =IFERROR(+VLOOKUP("LDGETF"&A4,'Main File'!A:O,9,0),0) -> 0.027000066 | F4: =IFERROR(+VLOOKUP("LDGETF"&A4,'Main File'!A:O,10,0),0) -> 0.27700083 | G4: =IFERROR(+VLOOKUP("LDGETF"&A4,'Main File'!A:O,11,0),0) -> 0 | H4: =IFERROR(+VLOOKUP("LDGETF"&A4,'Main File'!A:O,12,0),0) -> 0 | I4: =IFERROR(+VLOOKUP("LDGETF"&A4,'Main File'!A:O,13,0),0) -> 0 | J4: =IFERROR(+VLOOKUP("LDGETF"&A4,'Main File'!A:O,14,0),0) -> 0 | K4: =IFERROR(+VLOOKUP("LDGETF"&A4,'Main File'!A:O,15,0),0) -> 0
A5: =A4+1 -> 43192 | B5: =IFERROR(+VLOOKUP("LDGETF"&A5,'Main File'!A:O,6,0),0) -> 0.25000086 | C5: =IFERROR(+VLOOKUP("LDGETF"&A5,'Main File'!A:O,7,0),0) -> 0 | D5: =IFERROR(+VLOOKUP("LDGETF"&A5,'Main File'!A:O,8,0),0) -> 0 | E5: =IFERROR(+VLOOKUP("LDGETF"&A5,'Main File'!A:O,9,0),0) -> 0.026999834 | F5: =IFERROR(+VLOOKUP("LDGETF"&A5,'Main File'!A:O,10,0),0) -> 0.27700069 | G5: =IFERROR(+VLOOKUP("LDGETF"&A5,'Main File'!A:O,11,0),0) -> 0 | H5: =IFERROR(+VLOOKUP("LDGETF"&A5,'Main File'!A:O,12,0),0) -> 0 | I5: =IFERROR(+VLOOKUP("LDGETF"&A5,'Main File'!A:O,13,0),0) -> 0 | J5: =IFERROR(+VLOOKUP("LDGETF"&A5,'Main File'!A:O,14,0),0) -> 0 | K5: =IFERROR(+VLOOKUP("LDGETF"&A5,'Main File'!A:O,15,0),0) -> 0
