Workbook

Sheet Index
A1: Scheme Code | B1: Scheme Code | C1: Scheme Name
A2: LIC33 | B2: LDBOND | C2: LIC MF Bond Fund
A3: LIC142 | B3: LDCPO2 | C3: LIC MF Capital Protection Oriented Fund-Series 2
A4: LIC172 | B4: LDDAF1 | C4: LIC MF Dual Advantage Fixed Term Plan-Series 1
A5: LIC173 | B5: LDDAF2 | C5: LIC MF Dual Advantage Fixed Term Plan-Series 2
A6: LIC174 | B6: LDDAF3 | C6: LIC MF Dual Advantage Fixed Term Plan-Series 3
A7: LIC168 | B7: LDGETF | C7: LIC MF G-Sec Long Term Exchange Traded Fund
A8: LIC34 | B8: LDGSEC | C8: LIC MF Govt. Securities Fund
A9: LIC72 | B9: LDINPF | C9: LIC MF Income Plus Fund
A10: LIC31 | B10: LDMIPF | C10: LIC MF Monthly Income Plan
A11: LIC40 | B11: LDSAPF | C11: LIC MF Savings Plus Fund
A12: LIC08 | B12: LEBALF | C12: LIC MF Balanced Fund
... A26: LIC36 | B26: LLIQDF | C26: LIC MF Liquid Fund

Sheet Main File
F1: Regular Plan | K1: Direct Plan
A2: Coding | B2: DB Scheme Code | C2: SCB Scheme Code | D2: Date (DD/MM/YYYY) | E2: Scheme Name | F2: Base TER (%)1 | G2: Additional expense as per Regulation 52(6A)(b) (%)2 | H2: Additional expense as per Regulation 52(6A)(c) (%)3 | I2: GST (%)4 | J2: Total TER (%) | K2: Base TER (%)1 | L2: Additional expense as per Regulation 52(6A)(b) (%)2 | M2: Additional expense as per Regulation 52(6A)(c) (%)3 | N2: GST (%)4 | O2: Total TER (%)
A3: =C3&D3 -> LDBOND43160 | B3: LIC33 | C3: LDBOND | D3: 43160 | E3: LIC MF Bond Fund | F3: 1.0700193 | G3: 0 | H3: 0 | I3: 0.095403216 | J3: 1.1654225 | K3: 0.56688028 | L3: 0 | M3: 0 | N3: 0.094838963 | O3: 0.66171924
A4: =C4&D4 -> LDCPO243160 | B4: LIC142 | C4: LDCPO2 | D4: 43160 | E4: LIC MF Capital Protection Oriented Fund-Series 2 | F4: 2.2500806 | G4: 0 | H4: 0 | I4: 0.28801668 | J4: 2.5380973 | K4: 1.7500265 | L4: 0 | M4: 0 | N4: 0.28808476 | O4: 2.0381112
A5: =C5&D5 -> LDDAF143160 | B5: LIC172 | C5: LDDAF1 | D5: 43160 | E5: LIC MF Dual Advantage Fixed Term Plan-Series 1 | F5: 2.2500848 | G5: 0 | H5: 0 | I5: 0.17461052 | J5: 2.4246953 | K5: 1.0800103 | L5: 0 | M5: 0 | N5: 0.1746062 | O5: 1.2546165
A6: =C6&D6 -> LDDAF243160 | B6: LIC173 | C6: LDDAF2 | D6: 43160 | E6: LIC MF Dual Advantage Fixed Term Plan-Series 2 | F6: 2.2500913 | G6: 0 | H6: 0 | I6: 0.19801396 | J6: 2.4481052 | K6: 1.2200086 | L6: 0 | M6: 0 | N6: 0.1980086 | O6: 1.4180172
A7: =C7&D7 -> LDDAF343160 | B7: LIC174 | C7: LDDAF3 | D7: 43160 | E7: LIC MF Dual Advantage Fixed Term Plan-Series 3 | F7: 2.2500896 | G7: 0 | H7: 0 | I7: 0.19621224 | J7: 2.4463018 | K7: 1.2300149 | L7: 0 | M7: 0 | N7: 0.19620602 | O7: 1.4262209
A8: =C8&D8 -> LDGETF43160 | B8: LIC168 | C8: LDGETF | D8: 43160 | E8: LIC MF G-Sec Long Term Exchange Traded Fund | F8: 0.25000133 | G8: 0 | H8: 0 | I8: 0.027000545 | J8: 0.27700188 | K8: 0 | L8: 0 | M8: 0 | N8: 0 | O8: 0
A9: =C9&D9 -> LDGSEC43160 | B9: LIC34 | C9: LDGSEC | D9: 43160 | E9: LIC MF Govt. Securities Fund | F9: 2.2500987 | G9: 0 | H9: 0.2 | I9: 0.27541831 | J9: 2.725517 | K9: 1.3471293 | L9: 0 | M9: 0.2 | N9: 0.27129247 | O9: 1.8184218
A10: =C10&D10 -> LDINPF43160 | B10: LIC72 | C10: LDINPF | D10: 43160 | E10: LIC MF Income Plus Fund | F10: 1.1300205 | G10: 0 | H10: 0 | I10: 0.068402241 | J10: 1.1984227 | K10: 0.47770949 | L10: 0 | M10: 0 | N10: 0.0679881 | O10: 0.54569759
A11: =C11&D11 -> LDMIPF43160 | B11: LIC31 | C11: LDMIPF | D11: 43160 | E11: LIC MF Monthly Income Plan | F11: 2.2349324 | G11: 0 | H11: 0.2 | I11: 0.32669584 | J11: 2.7616282 | K11: 1.5358209 | L11: 0 | M11: 0.2 | N11: 0.30166176 | O11: 2.0374826
A12: =C12&D12 -> LDSAPF43160 | B12: LIC40 | C12: LDSAPF | D12: 43160 | E12: LIC MF Savings Plus Fund | F12: 0.800019 | G12: 0 | H12: 0 | I12: 0.039601363 | J12: 0.83962037 | K12: 0.25908329 | L12: 0 | M12: 0 | N12: 0.037635041 | O12: 0.29671833
A13: =C13&D13 -> LEBALF43160 | B13: LIC08 | C13: LEBALF | D13: 43160 | E13: LIC MF Balanced Fund | F13: 2.3248294 | G13: 0.30002173 | H13: 0.2 | I13: 0.058458688 | J13: 2.8833098 | K13: 0.32284774 | L13: 0 | M13: 0.2 | N13: 0.058111848 | O13: 0.58095959
A14: =C14&D14 -> LEBFSF43160 | B14: LIC171 | C14: LEBFSF | D14: 43160 | E14: LIC MF Banking and Financial Services Fund | F14: 2.5001425 | G14: 0.30002474 | H14: 0.2 | I14: 0.21961911 | J14: 3.2197863 | K14: 1.0359571 | L14: 0 | M14: 0.2 | N14: 0.20807358 | O14: 1.4440307
... A277: =C277&D277 -> LLIQDF43170 | B277: LIC36 | C277: LLIQDF | D277: 43170 | E277: LIC MF Liquid Fund | F277: 0.23876743 | G277: 0 | H277: 0 | I277: 0.0051769366 | J277: 0.24394437 | K277: 0.098752684 | L277: 0 | M277: 0 | N277: 0.0051753639 | O277: 0.10392805

Sheet LDBOND
A1: =+VLOOKUP(+(MID(CELL("filename",A1),FIND("]",CELL("filename",A1))+1,255)),'Main File'!C:E,3,0) -> LIC MF Bond Fund | N1: Go to Index
B2: Regular Plan | G2: Direct Plan
A3: Date (DD/MM/YYYY) | B3: Base TER (%)1 | C3: Additional expense as per Regulation 52(6A)(b) (%)2 | D3: Additional expense as per Regulation 52(6A)(c) (%)3 | E3: GST (%)4 | F3: Total TER (%) | G3: Base TER (%)1 | H3: Additional expense as per Regulation 52(6A)(b) (%)2 | I3: Additional expense as per Regulation 52(6A)(c) (%)3 | J3: GST (%)4 | K3: Total TER (%)
A4: 43160 | B4: =IFERROR(+VLOOKUP("LDBOND"&A4,'Main File'!A:O,6,0),0) -> 1.0700193 | C4: =IFERROR(+VLOOKUP("LDBOND"&A4,'Main File'!A:O,7,0),0) -> 0 | D4: =IFERROR(+VLOOKUP("LDBOND"&A4,'Main File'!A:O,8,0),0) -> 0 | E4: =IFERROR(+VLOOKUP("LDBOND"&A4,'Main File'!A:O,9,0),0) -> 0.095403216 | F4: =IFERROR(+VLOOKUP("LDBOND"&A4,'Main File'!A:O,10,0),0) -> 1.1654225 | G4: =IFERROR(+VLOOKUP("LDBOND"&A4,'Main File'!A:O,11,0),0) -> 0.56688028 | H4: =IFERROR(+VLOOKUP("LDBOND"&A4,'Main File'!A:O,12,0),0) -> 0 | I4: =IFERROR(+VLOOKUP("LDBOND"&A4,'Main File'!A:O,13,0),0) -> 0 | J4: =IFERROR(+VLOOKUP("LDBOND"&A4,'Main File'!A:O,14,0),0) -> 0.094838963 | K4: =IFERROR(+VLOOKUP("LDBOND"&A4,'Main File'!A:O,15,0),0) -> 0.66171924
A5: 43161 | B5: =IFERROR(+VLOOKUP("LDBOND"&A5,'Main File'!A:O,6,0),0) -> 1.0700189 | C5: =IFERROR(+VLOOKUP("LDBOND"&A5,'Main File'!A:O,7,0),0) -> 0 | D5: =IFERROR(+VLOOKUP("LDBOND"&A5,'Main File'!A:O,8,0),0) -> 0 | E5: =IFERROR(+VLOOKUP("LDBOND"&A5,'Main File'!A:O,9,0),0) -> 0.095403279 | F5: =IFERROR(+VLOOKUP("LDBOND"&A5,'Main File'!A:O,10,0),0) -> 1.1654222 | G5: =IFERROR(+VLOOKUP("LDBOND"&A5,'Main File'!A:O,11,0),0) -> 0.56688412 | H5: =IFERROR(+VLOOKUP("LDBOND"&A5,'Main File'!A:O,12,0),0) -> 0 | I5: =IFERROR(+VLOOKUP("LDBOND"&A5,'Main File'!A:O,13,0),0) -> 0 | J5: =IFERROR(+VLOOKUP("LDBOND"&A5,'Main File'!A:O,14,0),0) -> 0.094840018 | K5: =IFERROR(+VLOOKUP("LDBOND"&A5,'Main File'!A:O,15,0),0) -> 0.66172414
A6: =+A5+1 -> 43162 | B6: =IFERROR(+VLOOKUP("LDBOND"&A6,'Main File'!A:O,6,0),0) -> 1.0700193 | C6: =IFERROR(+VLOOKUP("LDBOND"&A6,'Main File'!A:O,7,0),0) -> 0 | D6: =IFERROR(+VLOOKUP("LDBOND"&A6,'Main File'!A:O,8,0),0) -> 0 | E6: =IFERROR(+VLOOKUP("LDBOND"&A6,'Main File'!A:O,9,0),0) -> 0.095403019 | F6: =IFERROR(+VLOOKUP("LDBOND"&A6,'Main File'!A:O,10,0),0) -> 1.1654223 | G6: =IFERROR(+VLOOKUP("LDBOND"&A6,'Main File'!A:O,11,0),0) -> 0.5668839 | H6: =IFERROR(+VLOOKUP("LDBOND"&A6,'Main File'!A:O,12,0),0) -> 0 | I6: =IFERROR(+VLOOKUP("LDBOND"&A6,'Main File'!A:O,13,0),0) -> 0 | J6: =IFERROR(+VLOOKUP("LDBOND"&A6,'Main File'!A:O,14,0),0) -> 0.094840273 | K6: =IFERROR(+VLOOKUP("LDBOND"&A6,'Main File'!A:O,15,0),0) -> 0.66172417
A7: =+A6+1 -> 43163 | B7: =IFERROR(+VLOOKUP("LDBOND"&A7,'Main File'!A:O,6,0),0) -> 1.0700189 | C7: =IFERROR(+VLOOKUP("LDBOND"&A7,'Main File'!A:O,7,0),0) -> 0 | D7: =IFERROR(+VLOOKUP("LDBOND"&A7,'Main File'!A:O,8,0),0) -> 0 | E7: =IFERROR(+VLOOKUP("LDBOND"&A7,'Main File'!A:O,9,0),0) -> 0.095403136 | F7: =IFERROR(+VLOOKUP("LDBOND"&A7,'Main File'!A:O,10,0),0) -> 1.1654221 | G7: =IFERROR(+VLOOKUP("LDBOND"&A7,'Main File'!A:O,11,0),0) -> 0.56688509 | H7: =IFERROR(+VLOOKUP("LDBOND"&A7,'Main File'!A:O,12,0),0) -> 0 | I7: =IFERROR(+VLOOKUP("LDBOND"&A7,'Main File'!A:O,13,0),0) -> 0 | J7: =IFERROR(+VLOOKUP("LDBOND"&A7,'Main File'!A:O,14,0),0) -> 0.094840582 | K7: =IFERROR(+VLOOKUP("LDBOND"&A7,'Main File'!A:O,15,0),0) -> 0.66172567
A8: =+A7+1 -> 43164 | B8: =IFERROR(+VLOOKUP("LDBOND"&A8,'Main File'!A:O,6,0),0) -> 1.0700191 | C8: =IFERROR(+VLOOKUP("LDBOND"&A8,'Main File'!A:O,7,0),0) -> 0 | D8: =IFERROR(+VLOOKUP("LDBOND"&A8,'Main File'!A:O,8,0),0) -> 0 | E8: =IFERROR(+VLOOKUP("LDBOND"&A8,'Main File'!A:O,9,0),0) -> 0.095403279 | F8: =IFERROR(+VLOOKUP("LDBOND"&A8,'Main File'!A:O,10,0),0) -> 1.1654224 | G8: =IFERROR(+VLOOKUP("LDBOND"&A8,'Main File'!A:O,11,0),0) -> 0.56688378 | H8: =IFERROR(+VLOOKUP("LDBOND"&A8,'Main File'!A:O,12,0),0) -> 0 | I8: =IFERROR(+VLOOKUP("LDBOND"&A8,'Main File'!A:O,13,0),0) -> 0 | J8: =IFERROR(+VLOOKUP("LDBOND"&A8,'Main File'!A:O,14,0),0) -> 0.094839714 | K8: =IFERROR(+VLOOKUP("LDBOND"&A8,'Main File'!A:O,15,0),0) -> 0.66172349
A9: =+A8+1 -> 43165 | B9: =IFERROR(+VLOOKUP("LDBOND"&A9,'Main File'!A:O,6,0),0) -> 1.0700191 | C9: =IFERROR(+VLOOKUP("LDBOND"&A9,'Main File'!A:O,7,0),0) -> 0 | D9: =IFERROR(+VLOOKUP("LDBOND"&A9,'Main File'!A:O,8,0),0) -> 0 | E9: =IFERROR(+VLOOKUP("LDBOND"&A9,'Main File'!A:O,9,0),0) -> 0.095403049 | F9: =IFERROR(+VLOOKUP("LDBOND"&A9,'Main File'!A:O,10,0),0) -> 1.1654221 | G9: =IFERROR(+VLOOKUP("LDBOND"&A9,'Main File'!A:O,11,0),0) -> 0.56671611 | H9: =IFERROR(+VLOOKUP("LDBOND"&A9,'Main File'!A:O,12,0),0) -> 0 | I9: =IFERROR(+VLOOKUP("LDBOND"&A9,'Main File'!A:O,13,0),0) -> 0 | J9: =IFERROR(+VLOOKUP("LDBOND"&A9,'Main File'!A:O,14,0),0) -> 0.094810314 | K9: =IFERROR(+VLOOKUP("LDBOND"&A9,'Main File'!A:O,15,0),0) -> 0.66152643
A10: =+A9+1 -> 43166 | B10: =IFERROR(+VLOOKUP("LDBOND"&A10,'Main File'!A:O,6,0),0) -> 1.060134 | C10: =IFERROR(+VLOOKUP("LDBOND"&A10,'Main File'!A:O,7,0),0) -> 0 | D10: =IFERROR(+VLOOKUP("LDBOND"&A10,'Main File'!A:O,8,0),0) -> 0 | E10: =IFERROR(+VLOOKUP("LDBOND"&A10,'Main File'!A:O,9,0),0) -> 0.093623575 | F10: =IFERROR(+VLOOKUP("LDBOND"&A10,'Main File'!A:O,10,0),0) -> 1.1537575 | G10: =IFERROR(+VLOOKUP("LDBOND"&A10,'Main File'!A:O,11,0),0) -> 0.55684262 | H10: =IFERROR(+VLOOKUP("LDBOND"&A10,'Main File'!A:O,12,0),0) -> 0 | I10: =IFERROR(+VLOOKUP("LDBOND"&A10,'Main File'!A:O,13,0),0) -> 0 | J10: =IFERROR(+VLOOKUP("LDBOND"&A10,'Main File'!A:O,14,0),0) -> 0.093032824 | K10: =IFERROR(+VLOOKUP("LDBOND"&A10,'Main File'!A:O,15,0),0) -> 0.64987544
A11: =+A10+1 -> 43167 | B11: =IFERROR(+VLOOKUP("LDBOND"&A11,'Main File'!A:O,6,0),0) -> 1.037003 | C11: =IFERROR(+VLOOKUP("LDBOND"&A11,'Main File'!A:O,7,0),0) -> 0 | D11: =IFERROR(+VLOOKUP("LDBOND"&A11,'Main File'!A:O,8,0),0) -> 0 | E11: =IFERROR(+VLOOKUP("LDBOND"&A11,'Main File'!A:O,9,0),0) -> 0.08945984 | F11: =IFERROR(+VLOOKUP("LDBOND"&A11,'Main File'!A:O,10,0),0) -> 1.1264629 | G11: =IFERROR(+VLOOKUP("LDBOND"&A11,'Main File'!A:O,11,0),0) -> 0.53367965 | H11: =IFERROR(+VLOOKUP("LDBOND"&A11,'Main File'!A:O,12,0),0) -> 0 | I11: =IFERROR(+VLOOKUP("LDBOND"&A11,'Main File'!A:O,13,0),0) -> 0 | J11: =IFERROR(+VLOOKUP("LDBOND"&A11,'Main File'!A:O,14,0),0) -> 0.088863706 | K11: =IFERROR(+VLOOKUP("LDBOND"&A11,'Main File'!A:O,15,0),0) -> 0.62254335
A12: =+A11+1 -> 43168 | B12: =IFERROR(+VLOOKUP("LDBOND"&A12,'Main File'!A:O,6,0),0) -> 1.0700193 | C12: =IFERROR(+VLOOKUP("LDBOND"&A12,'Main File'!A:O,7,0),0) -> 0 | D12: =IFERROR(+VLOOKUP("LDBOND"&A12,'Main File'!A:O,8,0),0) -> 0 | E12: =IFERROR(+VLOOKUP("LDBOND"&A12,'Main File'!A:O,9,0),0) -> 0.095402976 | F12: =IFERROR(+VLOOKUP("LDBOND"&A12,'Main File'!A:O,10,0),0) -> 1.1654223 | G12: =IFERROR(+VLOOKUP("LDBOND"&A12,'Main File'!A:O,11,0),0) -> 0.56669291 | H12: =IFERROR(+VLOOKUP("LDBOND"&A12,'Main File'!A:O,12,0),0) -> 0 | I12: =IFERROR(+VLOOKUP("LDBOND"&A12,'Main File'!A:O,13,0),0) -> 0 | J12: =IFERROR(+VLOOKUP("LDBOND"&A12,'Main File'!A:O,14,0),0) -> 0.094806121 | K12: =IFERROR(+VLOOKUP("LDBOND"&A12,'Main File'!A:O,15,0),0) -> 0.66149903
A13: =+A12+1 -> 43169 | B13: =IFERROR(+VLOOKUP("LDBOND"&A13,'Main File'!A:O,6,0),0) -> 1.0700191 | C13: =IFERROR(+VLOOKUP("LDBOND"&A13,'Main File'!A:O,7,0),0) -> 0 | D13: =IFERROR(+VLOOKUP("LDBOND"&A13,'Main File'!A:O,8,0),0) -> 0 | E13: =IFERROR(+VLOOKUP("LDBOND"&A13,'Main File'!A:O,9,0),0) -> 0.095402831 | F13: =IFERROR(+VLOOKUP("LDBOND"&A13,'Main File'!A:O,10,0),0) -> 1.1654219 | G13: =IFERROR(+VLOOKUP("LDBOND"&A13,'Main File'!A:O,11,0),0) -> 0.56641937 | H13: =IFERROR(+VLOOKUP("LDBOND"&A13,'Main File'!A:O,12,0),0) -> 0 | I13: =IFERROR(+VLOOKUP("LDBOND"&A13,'Main File'!A:O,13,0),0) -> 0 | J13: =IFERROR(+VLOOKUP("LDBOND"&A13,'Main File'!A:O,14,0),0) -> 0.094757419 | K13: =IFERROR(+VLOOKUP("LDBOND"&A13,'Main File'!A:O,15,0),0) -> 0.66117679
A14: =+A13+1 -> 43170 | B14: =IFERROR(+VLOOKUP("LDBOND"&A14,'Main File'!A:O,6,0),0) -> 1.070019 | C14: =IFERROR(+VLOOKUP("LDBOND"&A14,'Main File'!A:O,7,0),0) -> 0 | D14: =IFERROR(+VLOOKUP("LDBOND"&A14,'Main File'!A:O,8,0),0) -> 0 | E14: =IFERROR(+VLOOKUP("LDBOND"&A14,'Main File'!A:O,9,0),0) -> 0.095403021 | F14: =IFERROR(+VLOOKUP("LDBOND"&A14,'Main File'!A:O,10,0),0) -> 1.165422 | G14: =IFERROR(+VLOOKUP("LDBOND"&A14,'Main File'!A:O,11,0),0) -> 0.56642022 | H14: =IFERROR(+VLOOKUP("LDBOND"&A14,'Main File'!A:O,12,0),0) -> 0 | I14: =IFERROR(+VLOOKUP("LDBOND"&A14,'Main File'!A:O,13,0),0) -> 0 | J14: =IFERROR(+VLOOKUP("LDBOND"&A14,'Main File'!A:O,14,0),0) -> 0.094756938 | K14: =IFERROR(+VLOOKUP("LDBOND"&A14,'Main File'!A:O,15,0),0) -> 0.66117716
A15: =+A14+1 -> 43171 | B15: =IFERROR(+VLOOKUP("LDBOND"&A15,'Main File'!A:O,6,0),0) -> 0 | C15: =IFERROR(+VLOOKUP("LDBOND"&A15,'Main File'!A:O,7,0),0) -> 0 | D15: =IFERROR(+VLOOKUP("LDBOND"&A15,'Main File'!A:O,8,0),0) -> 0 | E15: =IFERROR(+VLOOKUP("LDBOND"&A15,'Main File'!A:O,9,0),0) -> 0 | F15: =IFERROR(+VLOOKUP("LDBOND"&A15,'Main File'!A:O,10,0),0) -> 0 | G15: =IFERROR(+VLOOKUP("LDBOND"&A15,'Main File'!A:O,11,0),0) -> 0 | H15: =IFERROR(+VLOOKUP("LDBOND"&A15,'Main File'!A:O,12,0),0) -> 0 | I15: =IFERROR(+VLOOKUP("LDBOND"&A15,'Main File'!A:O,13,0),0) -> 0 | J15: =IFERROR(+VLOOKUP("LDBOND"&A15,'Main File'!A:O,14,0),0) -> 0 | K15: =IFERROR(+VLOOKUP("LDBOND"&A15,'Main File'!A:O,15,0),0) -> 0
A16: =+A15+1 -> 43172 | B16: =IFERROR(+VLOOKUP("LDBOND"&A16,'Main File'!A:O,6,0),0) -> 0 | C16: =IFERROR(+VLOOKUP("LDBOND"&A16,'Main File'!A:O,7,0),0) -> 0 | D16: =IFERROR(+VLOOKUP("LDBOND"&A16,'Main File'!A:O,8,0),0) -> 0 | E16: =IFERROR(+VLOOKUP("LDBOND"&A16,'Main File'!A:O,9,0),0) -> 0 | F16: =IFERROR(+VLOOKUP("LDBOND"&A16,'Main File'!A:O,10,0),0) -> 0 | G16: =IFERROR(+VLOOKUP("LDBOND"&A16,'Main File'!A:O,11,0),0) -> 0 | H16: =IFERROR(+VLOOKUP("LDBOND"&A16,'Main File'!A:O,12,0),0) -> 0 | I16: =IFERROR(+VLOOKUP("LDBOND"&A16,'Main File'!A:O,13,0),0) -> 0 | J16: =IFERROR(+VLOOKUP("LDBOND"&A16,'Main File'!A:O,14,0),0) -> 0 | K16: =IFERROR(+VLOOKUP("LDBOND"&A16,'Main File'!A:O,15,0),0) -> 0
A17: =+A16+1 -> 43173 | B17: =IFERROR(+VLOOKUP("LDBOND"&A17,'Main File'!A:O,6,0),0) -> 0 | C17: =IFERROR(+VLOOKUP("LDBOND"&A17,'Main File'!A:O,7,0),0) -> 0 | D17: =IFERROR(+VLOOKUP("LDBOND"&A17,'Main File'!A:O,8,0),0) -> 0 | E17: =IFERROR(+VLOOKUP("LDBOND"&A17,'Main File'!A:O,9,0),0) -> 0 | F17: =IFERROR(+VLOOKUP("LDBOND"&A17,'Main File'!A:O,10,0),0) -> 0 | G17: =IFERROR(+VLOOKUP("LDBOND"&A17,'Main File'!A:O,11,0),0) -> 0 | H17: =IFERROR(+VLOOKUP("LDBOND"&A17,'Main File'!A:O,12,0),0) -> 0 | I17: =IFERROR(+VLOOKUP("LDBOND"&A17,'Main File'!A:O,13,0),0) -> 0 | J17: =IFERROR(+VLOOKUP("LDBOND"&A17,'Main File'!A:O,14,0),0) -> 0 | K17: =IFERROR(+VLOOKUP("LDBOND"&A17,'Main File'!A:O,15,0),0) -> 0
... A34: =+A33+1 -> 43190 | B34: =IFERROR(+VLOOKUP("LDBOND"&A34,'Main File'!A:O,6,0),0) -> 0 | C34: =IFERROR(+VLOOKUP("LDBOND"&A34,'Main File'!A:O,7,0),0) -> 0 | D34: =IFERROR(+VLOOKUP("LDBOND"&A34,'Main File'!A:O,8,0),0) -> 0 | E34: =IFERROR(+VLOOKUP("LDBOND"&A34,'Main File'!A:O,9,0),0) -> 0 | F34: =IFERROR(+VLOOKUP("LDBOND"&A34,'Main File'!A:O,10,0),0) -> 0 | G34: =IFERROR(+VLOOKUP("LDBOND"&A34,'Main File'!A:O,11,0),0) -> 0 | H34: =IFERROR(+VLOOKUP("LDBOND"&A34,'Main File'!A:O,12,0),0) -> 0 | I34: =IFERROR(+VLOOKUP("LDBOND"&A34,'Main File'!A:O,13,0),0) -> 0 | J34: =IFERROR(+VLOOKUP("LDBOND"&A34,'Main File'!A:O,14,0),0) -> 0 | K34: =IFERROR(+VLOOKUP("LDBOND"&A34,'Main File'!A:O,15,0),0) -> 0
A36: Notes:
A37: 1. Base TER excludes additional expenses provided in Regulation 52(6A)(b) and 52(6A)(c) of SEBI (Mutual Funds) Regulations, 1996.
A38: 2. Additional Expenses not exceeding 0.30% in terms of Regulation 52(6A)(b) of SEBI (Mutual Funds) Regulations, 1996.
A39: 3. Additional Expenses not exceeding 0.20% in terms of Regulation 52(6A)(c) of SEBI (Mutual Funds) Regulations, 1996.
A40: 4. Present GST rate is 18 %.
A41: 5. Percentages mentioned above are annualized.

Sheet LDCPO2
A1: =+VLOOKUP(+(MID(CELL("filename",A1),FIND("]",CELL("filename",A1))+1,255)),'Main File'!C:E,3,0) -> LIC MF Capital Protection Oriented Fund-Series 2 | N1: Go to Index
B2: Regular Plan | G2: Direct Plan
A3: Date (DD/MM/YYYY) | B3: Base TER (%)1 | C3: Additional expense as per Regulation 52(6A)(b) (%)2 | D3: Additional expense as per Regulation 52(6A)(c) (%)3 | E3: GST (%)4 | F3: Total TER (%) | G3: Base TER (%)1 | H3: Additional expense as per Regulation 52(6A)(b) (%)2 | I3: Additional expense as per Regulation 52(6A)(c) (%)3 | J3: GST (%)4 | K3: Total TER (%)
A4: 43160 | B4: =IFERROR(+VLOOKUP("LDCPO2"&A4,'Main File'!A:O,6,0),0) -> 2.2500806 | C4: =IFERROR(+VLOOKUP("LDCPO2"&A4,'Main File'!A:O,7,0),0) -> 0 | D4: =IFERROR(+VLOOKUP("LDCPO2"&A4,'Main File'!A:O,8,0),0) -> 0 | E4: =IFERROR(+VLOOKUP("LDCPO2"&A4,'Main File'!A:O,9,0),0) -> 0.28801668 | F4: =IFERROR(+VLOOKUP("LDCPO2"&A4,'Main File'!A:O,10,0),0) -> 2.5380973 | G4: =IFERROR(+VLOOKUP("LDCPO2"&A4,'Main File'!A:O,11,0),0) -> 1.7500265 | H4: =IFERROR(+VLOOKUP("LDCPO2"&A4,'Main File'!A:O,12,0),0) -> 0 | I4: =IFERROR(+VLOOKUP("LDCPO2"&A4,'Main File'!A:O,13,0),0) -> 0 | J4: =IFERROR(+VLOOKUP("LDCPO2"&A4,'Main File'!A:O,14,0),0) -> 0.28808476 | K4: =IFERROR(+VLOOKUP("LDCPO2"&A4,'Main File'!A:O,15,0),0) -> 2.0381112
A5: 43161 | B5: =IFERROR(+VLOOKUP("LDCPO2"&A5,'Main File'!A:O,6,0),0) -> 2.2500768 | C5: =IFERROR(+VLOOKUP("LDCPO2"&A5,'Main File'!A:O,7,0),0) -> 0 | D5: =IFERROR(+VLOOKUP("LDCPO2"&A5,'Main File'!A:O,8,0),0) -> 0 | E5: =IFERROR(+VLOOKUP("LDCPO2"&A5,'Main File'!A:O,9,0),0) -> 0.2880168 | F5: =IFERROR(+VLOOKUP("LDCPO2"&A5,'Main File'!A:O,10,0),0) -> 2.5380935 | G5: =IFERROR(+VLOOKUP("LDCPO2"&A5,'Main File'!A:O,11,0),0) -> 1.7500081 | H5: =IFERROR(+VLOOKUP("LDCPO2"&A5,'Main File'!A:O,12,0),0) -> 0 | I5: =IFERROR(+VLOOKUP("LDCPO2"&A5,'Main File'!A:O,13,0),0) -> 0 | J5: =IFERROR(+VLOOKUP("LDCPO2"&A5,'Main File'!A:O,14,0),0) -> 0.28806556 | K5: =IFERROR(+VLOOKUP("LDCPO2"&A5,'Main File'!A:O,15,0),0) -> 2.0380737
A6: =+A5+1 -> 43162 | B6: =IFERROR(+VLOOKUP("LDCPO2"&A6,'Main File'!A:O,6,0),0) -> 2.2500786 | C6: =IFERROR(+VLOOKUP("LDCPO2"&A6,'Main File'!A:O,7,0),0) -> 0 | D6: =IFERROR(+VLOOKUP("LDCPO2"&A6,'Main File'!A:O,8,0),0) -> 0 | E6: =IFERROR(+VLOOKUP("LDCPO2"&A6,'Main File'!A:O,9,0),0) -> 0.28801692 | F6: =IFERROR(+VLOOKUP("LDCPO2"&A6,'Main File'!A:O,10,0),0) -> 2.5380956 | G6: =IFERROR(+VLOOKUP("LDCPO2"&A6,'Main File'!A:O,11,0),0) -> 1.7499898 | H6: =IFERROR(+VLOOKUP("LDCPO2"&A6,'Main File'!A:O,12,0),0) -> 0 | I6: =IFERROR(+VLOOKUP("LDCPO2"&A6,'Main File'!A:O,13,0),0) -> 0 | J6: =IFERROR(+VLOOKUP("LDCPO2"&A6,'Main File'!A:O,14,0),0) -> 0.28804637 | K6: =IFERROR(+VLOOKUP("LDCPO2"&A6,'Main File'!A:O,15,0),0) -> 2.0380361
A7: =+A6+1 -> 43163 | B7: =IFERROR(+VLOOKUP("LDCPO2"&A7,'Main File'!A:O,6,0),0) -> 2.2500805 | C7: =IFERROR(+VLOOKUP("LDCPO2"&A7,'Main File'!A:O,7,0),0) -> 0 | D7: =IFERROR(+VLOOKUP("LDCPO2"&A7,'Main File'!A:O,8,0),0) -> 0 | E7: =IFERROR(+VLOOKUP("LDCPO2"&A7,'Main File'!A:O,9,0),0) -> 0.28801704 | F7: =IFERROR(+VLOOKUP("LDCPO2"&A7,'Main File'!A:O,10,0),0) -> 2.5380976 | G7: =IFERROR(+VLOOKUP("LDCPO2"&A7,'Main File'!A:O,11,0),0) -> 1.7500697 | H7: =IFERROR(+VLOOKUP("LDCPO2"&A7,'Main File'!A:O,12,0),0) -> 0 | I7: =IFERROR(+VLOOKUP("LDCPO2"&A7,'Main File'!A:O,13,0),0) -> 0 | J7: =IFERROR(+VLOOKUP("LDCPO2"&A7,'Main File'!A:O,14,0),0) -> 0.28802718 | K7: =IFERROR(+VLOOKUP("LDCPO2"&A7,'Main File'!A:O,15,0),0) -> 2.0380969
A8: =+A7+1 -> 43164 | B8: =IFERROR(+VLOOKUP("LDCPO2"&A8,'Main File'!A:O,6,0),0) -> 2.2500818 | C8: =IFERROR(+VLOOKUP("LDCPO2"&A8,'Main File'!A:O,7,0),0) -> 0 | D8: =IFERROR(+VLOOKUP("LDCPO2"&A8,'Main File'!A:O,8,0),0) -> 0 | E8: =IFERROR(+VLOOKUP("LDCPO2"&A8,'Main File'!A:O,9,0),0) -> 0.28801622 | F8: =IFERROR(+VLOOKUP("LDCPO2"&A8,'Main File'!A:O,10,0),0) -> 2.538098 | G8: =IFERROR(+VLOOKUP("LDCPO2"&A8,'Main File'!A:O,11,0),0) -> 1.7500506 | H8: =IFERROR(+VLOOKUP("LDCPO2"&A8,'Main File'!A:O,12,0),0) -> 0 | I8: =IFERROR(+VLOOKUP("LDCPO2"&A8,'Main File'!A:O,13,0),0) -> 0 | J8: =IFERROR(+VLOOKUP("LDCPO2"&A8,'Main File'!A:O,14,0),0) -> 0.28810251 | K8: =IFERROR(+VLOOKUP("LDCPO2"&A8,'Main File'!A:O,15,0),0) -> 2.0381531
A9: =+A8+1 -> 43165 | B9: =IFERROR(+VLOOKUP("LDCPO2"&A9,'Main File'!A:O,6,0),0) -> 2.2500828 | C9: =IFERROR(+VLOOKUP("LDCPO2"&A9,'Main File'!A:O,7,0),0) -> 0 | D9: =IFERROR(+VLOOKUP("LDCPO2"&A9,'Main File'!A:O,8,0),0) -> 0 | E9: =IFERROR(+VLOOKUP("LDCPO2"&A9,'Main File'!A:O,9,0),0) -> 0.2880185 | F9: =IFERROR(+VLOOKUP("LDCPO2"&A9,'Main File'!A:O,10,0),0) -> 2.5381013 | G9: =IFERROR(+VLOOKUP("LDCPO2"&A9,'Main File'!A:O,11,0),0) -> 1.7500381 | H9: =IFERROR(+VLOOKUP("LDCPO2"&A9,'Main File'!A:O,12,0),0) -> 0 | I9: =IFERROR(+VLOOKUP("LDCPO2"&A9,'Main File'!A:O,13,0),0) -> 0 | J9: =IFERROR(+VLOOKUP("LDCPO2"&A9,'Main File'!A:O,14,0),0) -> 0.28806564 | K9: =IFERROR(+VLOOKUP("LDCPO2"&A9,'Main File'!A:O,15,0),0) -> 2.0381038
A10: =+A9+1 -> 43166 | B10: =IFERROR(+VLOOKUP("LDCPO2"&A10,'Main File'!A:O,6,0),0) -> 2.2500824 | C10: =IFERROR(+VLOOKUP("LDCPO2"&A10,'Main File'!A:O,7,0),0) -> 0 | D10: =IFERROR(+VLOOKUP("LDCPO2"&A10,'Main File'!A:O,8,0),0) -> 0 | E10: =IFERROR(+VLOOKUP("LDCPO2"&A10,'Main File'!A:O,9,0),0) -> 0.28801957 | F10: =IFERROR(+VLOOKUP("LDCPO2"&A10,'Main File'!A:O,10,0),0) -> 2.538102 | G10: =IFERROR(+VLOOKUP("LDCPO2"&A10,'Main File'!A:O,11,0),0) -> 1.7500846 | H10: =IFERROR(+VLOOKUP("LDCPO2"&A10,'Main File'!A:O,12,0),0) -> 0 | I10: =IFERROR(+VLOOKUP("LDCPO2"&A10,'Main File'!A:O,13,0),0) -> 0 | J10: =IFERROR(+VLOOKUP("LDCPO2"&A10,'Main File'!A:O,14,0),0) -> 0.28797366 | K10: =IFERROR(+VLOOKUP("LDCPO2"&A10,'Main File'!A:O,15,0),0) -> 2.0380583
A11: =+A10+1 -> 43167 | B11: =IFERROR(+VLOOKUP("LDCPO2"&A11,'Main File'!A:O,6,0),0) -> 2.2500756 | C11: =IFERROR(+VLOOKUP("LDCPO2"&A11,'Main File'!A:O,7,0),0) -> 0 | D11: =IFERROR(+VLOOKUP("LDCPO2"&A11,'Main File'!A:O,8,0),0) -> 0 | E11: =IFERROR(+VLOOKUP("LDCPO2"&A11,'Main File'!A:O,9,0),0) -> 0.28801829 | F11: =IFERROR(+VLOOKUP("LDCPO2"&A11,'Main File'!A:O,10,0),0) -> 2.5380939 | G11: =IFERROR(+VLOOKUP("LDCPO2"&A11,'Main File'!A:O,11,0),0) -> 1.7501253 | H11: =IFERROR(+VLOOKUP("LDCPO2"&A11,'Main File'!A:O,12,0),0) -> 0 | I11: =IFERROR(+VLOOKUP("LDCPO2"&A11,'Main File'!A:O,13,0),0) -> 0 | J11: =IFERROR(+VLOOKUP("LDCPO2"&A11,'Main File'!A:O,14,0),0) -> 0.28801523 | K11: =IFERROR(+VLOOKUP("LDCPO2"&A11,'Main File'!A:O,15,0),0) -> 2.0381406
A12: =+A11+1 -> 43168 | B12: =IFERROR(+VLOOKUP("LDCPO2"&A12,'Main File'!A:O,6,0),0) -> 2.2500782 | C12: =IFERROR(+VLOOKUP("LDCPO2"&A12,'Main File'!A:O,7,0),0) -> 0 | D12: =IFERROR(+VLOOKUP("LDCPO2"&A12,'Main File'!A:O,8,0),0) -> 0 | E12: =IFERROR(+VLOOKUP("LDCPO2"&A12,'Main File'!A:O,9,0),0) -> 0.28802048 | F12: =IFERROR(+VLOOKUP("LDCPO2"&A12,'Main File'!A:O,10,0),0) -> 2.5380987 | G12: =IFERROR(+VLOOKUP("LDCPO2"&A12,'Main File'!A:O,11,0),0) -> 1.7501591 | H12: =IFERROR(+VLOOKUP("LDCPO2"&A12,'Main File'!A:O,12,0),0) -> 0 | I12: =IFERROR(+VLOOKUP("LDCPO2"&A12,'Main File'!A:O,13,0),0) -> 0 | J12: =IFERROR(+VLOOKUP("LDCPO2"&A12,'Main File'!A:O,14,0),0) -> 0.28798592 | K12: =IFERROR(+VLOOKUP("LDCPO2"&A12,'Main File'!A:O,15,0),0) -> 2.038145
A13: =+A12+1 -> 43169 | B13: =IFERROR(+VLOOKUP("LDCPO2"&A13,'Main File'!A:O,6,0),0) -> 2.250079 | C13: =IFERROR(+VLOOKUP("LDCPO2"&A13,'Main File'!A:O,7,0),0) -> 0 | D13: =IFERROR(+VLOOKUP("LDCPO2"&A13,'Main File'!A:O,8,0),0) -> 0 | E13: =IFERROR(+VLOOKUP("LDCPO2"&A13,'Main File'!A:O,9,0),0) -> 0.28802027 | F13: =IFERROR(+VLOOKUP("LDCPO2"&A13,'Main File'!A:O,10,0),0) -> 2.5380992 | G13: =IFERROR(+VLOOKUP("LDCPO2"&A13,'Main File'!A:O,11,0),0) -> 1.750092 | H13: =IFERROR(+VLOOKUP("LDCPO2"&A13,'Main File'!A:O,12,0),0) -> 0 | I13: =IFERROR(+VLOOKUP("LDCPO2"&A13,'Main File'!A:O,13,0),0) -> 0 | J13: =IFERROR(+VLOOKUP("LDCPO2"&A13,'Main File'!A:O,14,0),0) -> 0.28795868 | K13: =IFERROR(+VLOOKUP("LDCPO2"&A13,'Main File'!A:O,15,0),0) -> 2.0380507
A14: =+A13+1 -> 43170 | B14: =IFERROR(+VLOOKUP("LDCPO2"&A14,'Main File'!A:O,6,0),0) -> 2.2500778 | C14: =IFERROR(+VLOOKUP("LDCPO2"&A14,'Main File'!A:O,7,0),0) -> 0 | D14: =IFERROR(+VLOOKUP("LDCPO2"&A14,'Main File'!A:O,8,0),0) -> 0 | E14: =IFERROR(+VLOOKUP("LDCPO2"&A14,'Main File'!A:O,9,0),0) -> 0.28802005 | F14: =IFERROR(+VLOOKUP("LDCPO2"&A14,'Main File'!A:O,10,0),0) -> 2.5380979 | G14: =IFERROR(+VLOOKUP("LDCPO2"&A14,'Main File'!A:O,11,0),0) -> 1.7501233 | H14: =IFERROR(+VLOOKUP("LDCPO2"&A14,'Main File'!A:O,12,0),0) -> 0 | I14: =IFERROR(+VLOOKUP("LDCPO2"&A14,'Main File'!A:O,13,0),0) -> 0 | J14: =IFERROR(+VLOOKUP("LDCPO2"&A14,'Main File'!A:O,14,0),0) -> 0.28793145 | K14: =IFERROR(+VLOOKUP("LDCPO2"&A14,'Main File'!A:O,15,0),0) -> 2.0380548
A15: =+A14+1 -> 43171 | B15: =IFERROR(+VLOOKUP("LDCPO2"&A15,'Main File'!A:O,6,0),0) -> 0 | C15: =IFERROR(+VLOOKUP("LDCPO2"&A15,'Main File'!A:O,7,0),0) -> 0 | D15: =IFERROR(+VLOOKUP("LDCPO2"&A15,'Main File'!A:O,8,0),0) -> 0 | E15: =IFERROR(+VLOOKUP("LDCPO2"&A15,'Main File'!A:O,9,0),0) -> 0 | F15: =IFERROR(+VLOOKUP("LDCPO2"&A15,'Main File'!A:O,10,0),0) -> 0 | G15: =IFERROR(+VLOOKUP("LDCPO2"&A15,'Main File'!A:O,11,0),0) -> 0 | H15: =IFERROR(+VLOOKUP("LDCPO2"&A15,'Main File'!A:O,12,0),0) -> 0 | I15: =IFERROR(+VLOOKUP("LDCPO2"&A15,'Main File'!A:O,13,0),0) -> 0 | J15: =IFERROR(+VLOOKUP("LDCPO2"&A15,'Main File'!A:O,14,0),0) -> 0 | K15: =IFERROR(+VLOOKUP("LDCPO2"&A15,'Main File'!A:O,15,0),0) -> 0
A16: =+A15+1 -> 43172 | B16: =IFERROR(+VLOOKUP("LDCPO2"&A16,'Main File'!A:O,6,0),0) -> 0 | C16: =IFERROR(+VLOOKUP("LDCPO2"&A16,'Main File'!A:O,7,0),0) -> 0 | D16: =IFERROR(+VLOOKUP("LDCPO2"&A16,'Main File'!A:O,8,0),0) -> 0 | E16: =IFERROR(+VLOOKUP("LDCPO2"&A16,'Main File'!A:O,9,0),0) -> 0 | F16: =IFERROR(+VLOOKUP("LDCPO2"&A16,'Main File'!A:O,10,0),0) -> 0 | G16: =IFERROR(+VLOOKUP("LDCPO2"&A16,'Main File'!A:O,11,0),0) -> 0 | H16: =IFERROR(+VLOOKUP("LDCPO2"&A16,'Main File'!A:O,12,0),0) -> 0 | I16: =IFERROR(+VLOOKUP("LDCPO2"&A16,'Main File'!A:O,13,0),0) -> 0 | J16: =IFERROR(+VLOOKUP("LDCPO2"&A16,'Main File'!A:O,14,0),0) -> 0 | K16: =IFERROR(+VLOOKUP("LDCPO2"&A16,'Main File'!A:O,15,0),0) -> 0
A17: =+A16+1 -> 43173 | B17: =IFERROR(+VLOOKUP("LDCPO2"&A17,'Main File'!A:O,6,0),0) -> 0 | C17: =IFERROR(+VLOOKUP("LDCPO2"&A17,'Main File'!A:O,7,0),0) -> 0 | D17: =IFERROR(+VLOOKUP("LDCPO2"&A17,'Main File'!A:O,8,0),0) -> 0 | E17: =IFERROR(+VLOOKUP("LDCPO2"&A17,'Main File'!A:O,9,0),0) -> 0 | F17: =IFERROR(+VLOOKUP("LDCPO2"&A17,'Main File'!A:O,10,0),0) -> 0 | G17: =IFERROR(+VLOOKUP("LDCPO2"&A17,'Main File'!A:O,11,0),0) -> 0 | H17: =IFERROR(+VLOOKUP("LDCPO2"&A17,'Main File'!A:O,12,0),0) -> 0 | I17: =IFERROR(+VLOOKUP("LDCPO2"&A17,'Main File'!A:O,13,0),0) -> 0 | J17: =IFERROR(+VLOOKUP("LDCPO2"&A17,'Main File'!A:O,14,0),0) -> 0 | K17: =IFERROR(+VLOOKUP("LDCPO2"&A17,'Main File'!A:O,15,0),0) -> 0
... A34: =+A33+1 -> 43190 | B34: =IFERROR(+VLOOKUP("LDCPO2"&A34,'Main File'!A:O,6,0),0) -> 0 | C34: =IFERROR(+VLOOKUP("LDCPO2"&A34,'Main File'!A:O,7,0),0) -> 0 | D34: =IFERROR(+VLOOKUP("LDCPO2"&A34,'Main File'!A:O,8,0),0) -> 0 | E34: =IFERROR(+VLOOKUP("LDCPO2"&A34,'Main File'!A:O,9,0),0) -> 0 | F34: =IFERROR(+VLOOKUP("LDCPO2"&A34,'Main File'!A:O,10,0),0) -> 0 | G34: =IFERROR(+VLOOKUP("LDCPO2"&A34,'Main File'!A:O,11,0),0) -> 0 | H34: =IFERROR(+VLOOKUP("LDCPO2"&A34,'Main File'!A:O,12,0),0) -> 0 | I34: =IFERROR(+VLOOKUP("LDCPO2"&A34,'Main File'!A:O,13,0),0) -> 0 | J34: =IFERROR(+VLOOKUP("LDCPO2"&A34,'Main File'!A:O,14,0),0) -> 0 | K34: =IFERROR(+VLOOKUP("LDCPO2"&A34,'Main File'!A:O,15,0),0) -> 0
A36: Notes:
A37: 1. Base TER excludes additional expenses provided in Regulation 52(6A)(b) and 52(6A)(c) of SEBI (Mutual Funds) Regulations, 1996.
A38: 2. Additional Expenses not exceeding 0.30% in terms of Regulation 52(6A)(b) of SEBI (Mutual Funds) Regulations, 1996.
A39: 3. Additional Expenses not exceeding 0.20% in terms of Regulation 52(6A)(c) of SEBI (Mutual Funds) Regulations, 1996.
A40: 4. Present GST rate is 18 %.
A41: 5. Percentages mentioned above are annualized.

Sheet LDDAF1
A1: =+VLOOKUP(+(MID(CELL("filename",A1),FIND("]",CELL("filename",A1))+1,255)),'Main File'!C:E,3,0) -> LIC MF Dual Advantage Fixed Term Plan-Series 1 | N1: Go to Index
B2: Regular Plan | G2: Direct Plan
A3: Date (DD/MM/YYYY) | B3: Base TER (%)1 | C3: Additional expense as per Regulation 52(6A)(b) (%)2 | D3: Additional expense as per Regulation 52(6A)(c) (%)3 | E3: GST (%)4 | F3: Total TER (%) | G3: Base TER (%)1 | H3: Additional expense as per Regulation 52(6A)(b) (%)2 | I3: Additional expense as per Regulation 52(6A)(c) (%)3 | J3: GST (%)4 | K3: Total TER (%)
A4: 43160 | B4: =IFERROR(+VLOOKUP("LDDAF1"&A4,'Main File'!A:O,6,0),0) -> 2.2500848 | C4: =IFERROR(+VLOOKUP("LDDAF1"&A4,'Main File'!A:O,7,0),0) -> 0 | D4: =IFERROR(+VLOOKUP("LDDAF1"&A4,'Main File'!A:O,8,0),0) -> 0 | E4: =IFERROR(+VLOOKUP("LDDAF1"&A4,'Main File'!A:O,9,0),0) -> 0.17461052 | F4: =IFERROR(+VLOOKUP("LDDAF1"&A4,'Main File'!A:O,10,0),0) -> 2.4246953 | G4: =IFERROR(+VLOOKUP("LDDAF1"&A4,'Main File'!A:O,11,0),0) -> 1.0800103 | H4: =IFERROR(+VLOOKUP("LDDAF1"&A4,'Main File'!A:O,12,0),0) -> 0 | I4: =IFERROR(+VLOOKUP("LDDAF1"&A4,'Main File'!A:O,13,0),0) -> 0 | J4: =IFERROR(+VLOOKUP("LDDAF1"&A4,'Main File'!A:O,14,0),0) -> 0.1746062 | K4: =IFERROR(+VLOOKUP("LDDAF1"&A4,'Main File'!A:O,15,0),0) -> 1.2546165
A5: 43161 | B5: =IFERROR(+VLOOKUP("LDDAF1"&A5,'Main File'!A:O,6,0),0) -> 2.2500876 | C5: =IFERROR(+VLOOKUP("LDDAF1"&A5,'Main File'!A:O,7,0),0) -> 0 | D5: =IFERROR(+VLOOKUP("LDDAF1"&A5,'Main File'!A:O,8,0),0) -> 0 | E5: =IFERROR(+VLOOKUP("LDDAF1"&A5,'Main File'!A:O,9,0),0) -> 0.17460991 | F5: =IFERROR(+VLOOKUP("LDDAF1"&A5,'Main File'!A:O,10,0),0) -> 2.4246975 | G5: =IFERROR(+VLOOKUP("LDDAF1"&A5,'Main File'!A:O,11,0),0) -> 1.0800101 | H5: =IFERROR(+VLOOKUP("LDDAF1"&A5,'Main File'!A:O,12,0),0) -> 0 | I5: =IFERROR(+VLOOKUP("LDDAF1"&A5,'Main File'!A:O,13,0),0) -> 0 | J5: =IFERROR(+VLOOKUP("LDDAF1"&A5,'Main File'!A:O,14,0),0) -> 0.17460885 | K5: =IFERROR(+VLOOKUP("LDDAF1"&A5,'Main File'!A:O,15,0),0) -> 1.2546189
A6: =+A5+1 -> 43162 | B6: =IFERROR(+VLOOKUP("LDDAF1"&A6,'Main File'!A:O,6,0),0) -> 2.2500852 | C6: =IFERROR(+VLOOKUP("LDDAF1"&A6,'Main File'!A:O,7,0),0) -> 0 | D6: =IFERROR(+VLOOKUP("LDDAF1"&A6,'Main File'!A:O,8,0),0) -> 0 | E6: =IFERROR(+VLOOKUP("LDDAF1"&A6,'Main File'!A:O,9,0),0) -> 0.17461135 | F6: =IFERROR(+VLOOKUP("LDDAF1"&A6,'Main File'!A:O,10,0),0) -> 2.4246965 | G6: =IFERROR(+VLOOKUP("LDDAF1"&A6,'Main File'!A:O,11,0),0) -> 1.0800119 | H6: =IFERROR(+VLOOKUP("LDDAF1"&A6,'Main File'!A:O,12,0),0) -> 0 | I6: =IFERROR(+VLOOKUP("LDDAF1"&A6,'Main File'!A:O,13,0),0) -> 0 | J6: =IFERROR(+VLOOKUP("LDDAF1"&A6,'Main File'!A:O,14,0),0) -> 0.17460726 | K6: =IFERROR(+VLOOKUP("LDDAF1"&A6,'Main File'!A:O,15,0),0) -> 1.2546192
A7: =+A6+1 -> 43163 | B7: =IFERROR(+VLOOKUP("LDDAF1"&A7,'Main File'!A:O,6,0),0) -> 2.2500859 | C7: =IFERROR(+VLOOKUP("LDDAF1"&A7,'Main File'!A:O,7,0),0) -> 0 | D7: =IFERROR(+VLOOKUP("LDDAF1"&A7,'Main File'!A:O,8,0),0) -> 0 | E7: =IFERROR(+VLOOKUP("LDDAF1"&A7,'Main File'!A:O,9,0),0) -> 0.17461074 | F7: =IFERROR(+VLOOKUP("LDDAF1"&A7,'Main File'!A:O,10,0),0) -> 2.4246966 | G7: =IFERROR(+VLOOKUP("LDDAF1"&A7,'Main File'!A:O,11,0),0) -> 1.0800117 | H7: =IFERROR(+VLOOKUP("LDDAF1"&A7,'Main File'!A:O,12,0),0) -> 0 | I7: =IFERROR(+VLOOKUP("LDDAF1"&A7,'Main File'!A:O,13,0),0) -> 0 | J7: =IFERROR(+VLOOKUP("LDDAF1"&A7,'Main File'!A:O,14,0),0) -> 0.17460567 | K7: =IFERROR(+VLOOKUP("LDDAF1"&A7,'Main File'!A:O,15,0),0) -> 1.2546173
A8: =+A7+1 -> 43164 | B8: =IFERROR(+VLOOKUP("LDDAF1"&A8,'Main File'!A:O,6,0),0) -> 2.2500858 | C8: =IFERROR(+VLOOKUP("LDDAF1"&A8,'Main File'!A:O,7,0),0) -> 0 | D8: =IFERROR(+VLOOKUP("LDDAF1"&A8,'Main File'!A:O,8,0),0) -> 0 | E8: =IFERROR(+VLOOKUP("LDDAF1"&A8,'Main File'!A:O,9,0),0) -> 0.17461295 | F8: =IFERROR(+VLOOKUP("LDDAF1"&A8,'Main File'!A:O,10,0),0) -> 2.4246988 | G8: =IFERROR(+VLOOKUP("LDDAF1"&A8,'Main File'!A:O,11,0),0) -> 1.0800125 | H8: =IFERROR(+VLOOKUP("LDDAF1"&A8,'Main File'!A:O,12,0),0) -> 0 | I8: =IFERROR(+VLOOKUP("LDDAF1"&A8,'Main File'!A:O,13,0),0) -> 0 | J8: =IFERROR(+VLOOKUP("LDDAF1"&A8,'Main File'!A:O,14,0),0) -> 0.17460448 | K8: =IFERROR(+VLOOKUP("LDDAF1"&A8,'Main File'!A:O,15,0),0) -> 1.254617
A9: =+A8+1 -> 43165 | B9: =IFERROR(+VLOOKUP("LDDAF1"&A9,'Main File'!A:O,6,0),0) -> 2.2500856 | C9: =IFERROR(+VLOOKUP("LDDAF1"&A9,'Main File'!A:O,7,0),0) -> 0 | D9: =IFERROR(+VLOOKUP("LDDAF1"&A9,'Main File'!A:O,8,0),0) -> 0 | E9: =IFERROR(+VLOOKUP("LDDAF1"&A9,'Main File'!A:O,9,0),0) -> 0.17461102 | F9: =IFERROR(+VLOOKUP("LDDAF1"&A9,'Main File'!A:O,10,0),0) -> 2.4246967 | G9: =IFERROR(+VLOOKUP("LDDAF1"&A9,'Main File'!A:O,11,0),0) -> 1.0800112 | H9: =IFERROR(+VLOOKUP("LDDAF1"&A9,'Main File'!A:O,12,0),0) -> 0 | I9: =IFERROR(+VLOOKUP("LDDAF1"&A9,'Main File'!A:O,13,0),0) -> 0 | J9: =IFERROR(+VLOOKUP("LDDAF1"&A9,'Main File'!A:O,14,0),0) -> 0.17460594 | K9: =IFERROR(+VLOOKUP("LDDAF1"&A9,'Main File'!A:O,15,0),0) -> 1.2546171
A10: =+A9+1 -> 43166 | B10: =IFERROR(+VLOOKUP("LDDAF1"&A10,'Main File'!A:O,6,0),0) -> 2.2500859 | C10: =IFERROR(+VLOOKUP("LDDAF1"&A10,'Main File'!A:O,7,0),0) -> 0 | D10: =IFERROR(+VLOOKUP("LDDAF1"&A10,'Main File'!A:O,8,0),0) -> 0 | E10: =IFERROR(+VLOOKUP("LDDAF1"&A10,'Main File'!A:O,9,0),0) -> 0.17461257 | F10: =IFERROR(+VLOOKUP("LDDAF1"&A10,'Main File'!A:O,10,0),0) -> 2.4246985 | G10: =IFERROR(+VLOOKUP("LDDAF1"&A10,'Main File'!A:O,11,0),0) -> 1.0800107 | H10: =IFERROR(+VLOOKUP("LDDAF1"&A10,'Main File'!A:O,12,0),0) -> 0 | I10: =IFERROR(+VLOOKUP("LDDAF1"&A10,'Main File'!A:O,13,0),0) -> 0 | J10: =IFERROR(+VLOOKUP("LDDAF1"&A10,'Main File'!A:O,14,0),0) -> 0.17460323 | K10: =IFERROR(+VLOOKUP("LDDAF1"&A10,'Main File'!A:O,15,0),0) -> 1.2546139
A11: =+A10+1 -> 43167 | B11: =IFERROR(+VLOOKUP("LDDAF1"&A11,'Main File'!A:O,6,0),0) -> 2.2500842 | C11: =IFERROR(+VLOOKUP("LDDAF1"&A11,'Main File'!A:O,7,0),0) -> 0 | D11: =IFERROR(+VLOOKUP("LDDAF1"&A11,'Main File'!A:O,8,0),0) -> 0 | E11: =IFERROR(+VLOOKUP("LDDAF1"&A11,'Main File'!A:O,9,0),0) -> 0.17461152 | F11: =IFERROR(+VLOOKUP("LDDAF1"&A11,'Main File'!A:O,10,0),0) -> 2.4246957 | G11: =IFERROR(+VLOOKUP("LDDAF1"&A11,'Main File'!A:O,11,0),0) -> 1.0800117 | H11: =IFERROR(+VLOOKUP("LDDAF1"&A11,'Main File'!A:O,12,0),0) -> 0 | I11: =IFERROR(+VLOOKUP("LDDAF1"&A11,'Main File'!A:O,13,0),0) -> 0 | J11: =IFERROR(+VLOOKUP("LDDAF1"&A11,'Main File'!A:O,14,0),0) -> 0.17460685 | K11: =IFERROR(+VLOOKUP("LDDAF1"&A11,'Main File'!A:O,15,0),0) -> 1.2546185
A12: =+A11+1 -> 43168 | B12: =IFERROR(+VLOOKUP("LDDAF1"&A12,'Main File'!A:O,6,0),0) -> 2.2500845 | C12: =IFERROR(+VLOOKUP("LDDAF1"&A12,'Main File'!A:O,7,0),0) -> 0 | D12: =IFERROR(+VLOOKUP("LDDAF1"&A12,'Main File'!A:O,8,0),0) -> 0 | E12: =IFERROR(+VLOOKUP("LDDAF1"&A12,'Main File'!A:O,9,0),0) -> 0.17461221 | F12: =IFERROR(+VLOOKUP("LDDAF1"&A12,'Main File'!A:O,10,0),0) -> 2.4246967 | G12: =IFERROR(+VLOOKUP("LDDAF1"&A12,'Main File'!A:O,11,0),0) -> 1.0800114 | H12: =IFERROR(+VLOOKUP("LDDAF1"&A12,'Main File'!A:O,12,0),0) -> 0 | I12: =IFERROR(+VLOOKUP("LDDAF1"&A12,'Main File'!A:O,13,0),0) -> 0 | J12: =IFERROR(+VLOOKUP("LDDAF1"&A12,'Main File'!A:O,14,0),0) -> 0.17460418 | K12: =IFERROR(+VLOOKUP("LDDAF1"&A12,'Main File'!A:O,15,0),0) -> 1.2546155
A13: =+A12+1 -> 43169 | B13: =IFERROR(+VLOOKUP("LDDAF1"&A13,'Main File'!A:O,6,0),0) -> 2.2500844 | C13: =IFERROR(+VLOOKUP("LDDAF1"&A13,'Main File'!A:O,7,0),0) -> 0 | D13: =IFERROR(+VLOOKUP("LDDAF1"&A13,'Main File'!A:O,8,0),0) -> 0 | E13: =IFERROR(+VLOOKUP("LDDAF1"&A13,'Main File'!A:O,9,0),0) -> 0.1746132 | F13: =IFERROR(+VLOOKUP("LDDAF1"&A13,'Main File'!A:O,10,0),0) -> 2.4246976 | G13: =IFERROR(+VLOOKUP("LDDAF1"&A13,'Main File'!A:O,11,0),0) -> 1.0800127 | H13: =IFERROR(+VLOOKUP("LDDAF1"&A13,'Main File'!A:O,12,0),0) -> 0 | I13: =IFERROR(+VLOOKUP("LDDAF1"&A13,'Main File'!A:O,13,0),0) -> 0 | J13: =IFERROR(+VLOOKUP("LDDAF1"&A13,'Main File'!A:O,14,0),0) -> 0.17460215 | K13: =IFERROR(+VLOOKUP("LDDAF1"&A13,'Main File'!A:O,15,0),0) -> 1.2546149
A14: =+A13+1 -> 43170 | B14: =IFERROR(+VLOOKUP("LDDAF1"&A14,'Main File'!A:O,6,0),0) -> 2.2500847 | C14: =IFERROR(+VLOOKUP("LDDAF1"&A14,'Main File'!A:O,7,0),0) -> 0 | D14: =IFERROR(+VLOOKUP("LDDAF1"&A14,'Main File'!A:O,8,0),0) -> 0 | E14: =IFERROR(+VLOOKUP("LDDAF1"&A14,'Main File'!A:O,9,0),0) -> 0.17460999 | F14: =IFERROR(+VLOOKUP("LDDAF1"&A14,'Main File'!A:O,10,0),0) -> 2.4246946 | G14: =IFERROR(+VLOOKUP("LDDAF1"&A14,'Main File'!A:O,11,0),0) -> 1.0800138 | H14: =IFERROR(+VLOOKUP("LDDAF1"&A14,'Main File'!A:O,12,0),0) -> 0 | I14: =IFERROR(+VLOOKUP("LDDAF1"&A14,'Main File'!A:O,13,0),0) -> 0 | J14: =IFERROR(+VLOOKUP("LDDAF1"&A14,'Main File'!A:O,14,0),0) -> 0.17460862 | K14: =IFERROR(+VLOOKUP("LDDAF1"&A14,'Main File'!A:O,15,0),0) -> 1.2546224
A15: =+A14+1 -> 43171 | B15: =IFERROR(+VLOOKUP("LDDAF1"&A15,'Main File'!A:O,6,0),0) -> 0 | C15: =IFERROR(+VLOOKUP("LDDAF1"&A15,'Main File'!A:O,7,0),0) -> 0 | D15: =IFERROR(+VLOOKUP("LDDAF1"&A15,'Main File'!A:O,8,0),0) -> 0 | E15: =IFERROR(+VLOOKUP("LDDAF1"&A15,'Main File'!A:O,9,0),0) -> 0 | F15: =IFERROR(+VLOOKUP("LDDAF1"&A15,'Main File'!A:O,10,0),0) -> 0 | G15: =IFERROR(+VLOOKUP("LDDAF1"&A15,'Main File'!A:O,11,0),0) -> 0 | H15: =IFERROR(+VLOOKUP("LDDAF1"&A15,'Main File'!A:O,12,0),0) -> 0 | I15: =IFERROR(+VLOOKUP("LDDAF1"&A15,'Main File'!A:O,13,0),0) -> 0 | J15: =IFERROR(+VLOOKUP("LDDAF1"&A15,'Main File'!A:O,14,0),0) -> 0 | K15: =IFERROR(+VLOOKUP("LDDAF1"&A15,'Main File'!A:O,15,0),0) -> 0
A16: =+A15+1 -> 43172 | B16: =IFERROR(+VLOOKUP("LDDAF1"&A16,'Main File'!A:O,6,0),0) -> 0 | C16: =IFERROR(+VLOOKUP("LDDAF1"&A16,'Main File'!A:O,7,0),0) -> 0 | D16: =IFERROR(+VLOOKUP("LDDAF1"&A16,'Main File'!A:O,8,0),0) -> 0 | E16: =IFERROR(+VLOOKUP("LDDAF1"&A16,'Main File'!A:O,9,0),0) -> 0 | F16: =IFERROR(+VLOOKUP("LDDAF1"&A16,'Main File'!A:O,10,0),0) -> 0 | G16: =IFERROR(+VLOOKUP("LDDAF1"&A16,'Main File'!A:O,11,0),0) -> 0 | H16: =IFERROR(+VLOOKUP("LDDAF1"&A16,'Main File'!A:O,12,0),0) -> 0 | I16: =IFERROR(+VLOOKUP("LDDAF1"&A16,'Main File'!A:O,13,0),0) -> 0 | J16: =IFERROR(+VLOOKUP("LDDAF1"&A16,'Main File'!A:O,14,0),0) -> 0 | K16: =IFERROR(+VLOOKUP("LDDAF1"&A16,'Main File'!A:O,15,0),0) -> 0
A17: =+A16+1 -> 43173 | B17: =IFERROR(+VLOOKUP("LDDAF1"&A17,'Main File'!A:O,6,0),0) -> 0 | C17: =IFERROR(+VLOOKUP("LDDAF1"&A17,'Main File'!A:O,7,0),0) -> 0 | D17: =IFERROR(+VLOOKUP("LDDAF1"&A17,'Main File'!A:O,8,0),0) -> 0 | E17: =IFERROR(+VLOOKUP("LDDAF1"&A17,'Main File'!A:O,9,0),0) -> 0 | F17: =IFERROR(+VLOOKUP("LDDAF1"&A17,'Main File'!A:O,10,0),0) -> 0 | G17: =IFERROR(+VLOOKUP("LDDAF1"&A17,'Main File'!A:O,11,0),0) -> 0 | H17: =IFERROR(+VLOOKUP("LDDAF1"&A17,'Main File'!A:O,12,0),0) -> 0 | I17: =IFERROR(+VLOOKUP("LDDAF1"&A17,'Main File'!A:O,13,0),0) -> 0 | J17: =IFERROR(+VLOOKUP("LDDAF1"&A17,'Main File'!A:O,14,0),0) -> 0 | K17: =IFERROR(+VLOOKUP("LDDAF1"&A17,'Main File'!A:O,15,0),0) -> 0
... A34: =+A33+1 -> 43190 | B34: =IFERROR(+VLOOKUP("LDDAF1"&A34,'Main File'!A:O,6,0),0) -> 0 | C34: =IFERROR(+VLOOKUP("LDDAF1"&A34,'Main File'!A:O,7,0),0) -> 0 | D34: =IFERROR(+VLOOKUP("LDDAF1"&A34,'Main File'!A:O,8,0),0) -> 0 | E34: =IFERROR(+VLOOKUP("LDDAF1"&A34,'Main File'!A:O,9,0),0) -> 0 | F34: =IFERROR(+VLOOKUP("LDDAF1"&A34,'Main File'!A:O,10,0),0) -> 0 | G34: =IFERROR(+VLOOKUP("LDDAF1"&A34,'Main File'!A:O,11,0),0) -> 0 | H34: =IFERROR(+VLOOKUP("LDDAF1"&A34,'Main File'!A:O,12,0),0) -> 0 | I34: =IFERROR(+VLOOKUP("LDDAF1"&A34,'Main File'!A:O,13,0),0) -> 0 | J34: =IFERROR(+VLOOKUP("LDDAF1"&A34,'Main File'!A:O,14,0),0) -> 0 | K34: =IFERROR(+VLOOKUP("LDDAF1"&A34,'Main File'!A:O,15,0),0) -> 0
A36: Notes:
A37: 1. Base TER excludes additional expenses provided in Regulation 52(6A)(b) and 52(6A)(c) of SEBI (Mutual Funds) Regulations, 1996.
A38: 2. Additional Expenses not exceeding 0.30% in terms of Regulation 52(6A)(b) of SEBI (Mutual Funds) Regulations, 1996.
A39: 3. Additional Expenses not exceeding 0.20% in terms of Regulation 52(6A)(c) of SEBI (Mutual Funds) Regulations, 1996.
A40: 4. Present GST rate is 18 %.
A41: 5. Percentages mentioned above are annualized.

Sheet LDDAF2
A1: =+VLOOKUP(+(MID(CELL("filename",A1),FIND("]",CELL("filename",A1))+1,255)),'Main File'!C:E,3,0) -> LIC MF Dual Advantage Fixed Term Plan-Series 2 | N1: Go to Index
B2: Regular Plan | G2: Direct Plan
A3: Date (DD/MM/YYYY) | B3: Base TER (%)1 | C3: Additional expense as per Regulation 52(6A)(b) (%)2 | D3: Additional expense as per Regulation 52(6A)(c) (%)3 | E3: GST (%)4 | F3: Total TER (%) | G3: Base TER (%)1 | H3: Additional expense as per Regulation 52(6A)(b) (%)2 | I3: Additional expense as per Regulation 52(6A)(c) (%)3 | J3: GST (%)4 | K3: Total TER (%)
A4: 43160 | B4: =IFERROR(+VLOOKUP("LDDAF2"&A4,'Main File'!A:O,6,0),0) -> 2.2500913 | C4: =IFERROR(+VLOOKUP("LDDAF2"&A4,'Main File'!A:O,7,0),0) -> 0 | D4: =IFERROR(+VLOOKUP("LDDAF2"&A4,'Main File'!A:O,8,0),0) -> 0 | E4: =IFERROR(+VLOOKUP("LDDAF2"&A4,'Main File'!A:O,9,0),0) -> 0.19801396 | F4: =IFERROR(+VLOOKUP("LDDAF2"&A4,'Main File'!A:O,10,0),0) -> 2.4481052 | G4: =IFERROR(+VLOOKUP("LDDAF2"&A4,'Main File'!A:O,11,0),0) -> 1.2200086 | H4: =IFERROR(+VLOOKUP("LDDAF2"&A4,'Main File'!A:O,12,0),0) -> 0 | I4: =IFERROR(+VLOOKUP("LDDAF2"&A4,'Main File'!A:O,13,0),0) -> 0 | J4: =IFERROR(+VLOOKUP("LDDAF2"&A4,'Main File'!A:O,14,0),0) -> 0.1980086 | K4: =IFERROR(+VLOOKUP("LDDAF2"&A4,'Main File'!A:O,15,0),0) -> 1.4180172
A5: 43161 | B5: =IFERROR(+VLOOKUP("LDDAF2"&A5,'Main File'!A:O,6,0),0) -> 2.2500903 | C5: =IFERROR(+VLOOKUP("LDDAF2"&A5,'Main File'!A:O,7,0),0) -> 0 | D5: =IFERROR(+VLOOKUP("LDDAF2"&A5,'Main File'!A:O,8,0),0) -> 0 | E5: =IFERROR(+VLOOKUP("LDDAF2"&A5,'Main File'!A:O,9,0),0) -> 0.19801174 | F5: =IFERROR(+VLOOKUP("LDDAF2"&A5,'Main File'!A:O,10,0),0) -> 2.448102 | G5: =IFERROR(+VLOOKUP("LDDAF2"&A5,'Main File'!A:O,11,0),0) -> 1.2200097 | H5: =IFERROR(+VLOOKUP("LDDAF2"&A5,'Main File'!A:O,12,0),0) -> 0 | I5: =IFERROR(+VLOOKUP("LDDAF2"&A5,'Main File'!A:O,13,0),0) -> 0 | J5: =IFERROR(+VLOOKUP("LDDAF2"&A5,'Main File'!A:O,14,0),0) -> 0.19800933 | K5: =IFERROR(+VLOOKUP("LDDAF2"&A5,'Main File'!A:O,15,0),0) -> 1.418019
A6: =+A5+1 -> 43162 | B6: =IFERROR(+VLOOKUP("LDDAF2"&A6,'Main File'!A:O,6,0),0) -> 2.2500928 | C6: =IFERROR(+VLOOKUP("LDDAF2"&A6,'Main File'!A:O,7,0),0) -> 0 | D6: =IFERROR(+VLOOKUP("LDDAF2"&A6,'Main File'!A:O,8,0),0) -> 0 | E6: =IFERROR(+VLOOKUP("LDDAF2"&A6,'Main File'!A:O,9,0),0) -> 0.19801346 | F6: =IFERROR(+VLOOKUP("LDDAF2"&A6,'Main File'!A:O,10,0),0) -> 2.4481063 | G6: =IFERROR(+VLOOKUP("LDDAF2"&A6,'Main File'!A:O,11,0),0) -> 1.2200046 | H6: =IFERROR(+VLOOKUP("LDDAF2"&A6,'Main File'!A:O,12,0),0) -> 0 | I6: =IFERROR(+VLOOKUP("LDDAF2"&A6,'Main File'!A:O,13,0),0) -> 0 | J6: =IFERROR(+VLOOKUP("LDDAF2"&A6,'Main File'!A:O,14,0),0) -> 0.19801081 | K6: =IFERROR(+VLOOKUP("LDDAF2"&A6,'Main File'!A:O,15,0),0) -> 1.4180154
A7: =+A6+1 -> 43163 | B7: =IFERROR(+VLOOKUP("LDDAF2"&A7,'Main File'!A:O,6,0),0) -> 2.2500902 | C7: =IFERROR(+VLOOKUP("LDDAF2"&A7,'Main File'!A:O,7,0),0) -> 0 | D7: =IFERROR(+VLOOKUP("LDDAF2"&A7,'Main File'!A:O,8,0),0) -> 0 | E7: =IFERROR(+VLOOKUP("LDDAF2"&A7,'Main File'!A:O,9,0),0) -> 0.19801181 | F7: =IFERROR(+VLOOKUP("LDDAF2"&A7,'Main File'!A:O,10,0),0) -> 2.4481021 | G7: =IFERROR(+VLOOKUP("LDDAF2"&A7,'Main File'!A:O,11,0),0) -> 1.2200128 | H7: =IFERROR(+VLOOKUP("LDDAF2"&A7,'Main File'!A:O,12,0),0) -> 0 | I7: =IFERROR(+VLOOKUP("LDDAF2"&A7,'Main File'!A:O,13,0),0) -> 0 | J7: =IFERROR(+VLOOKUP("LDDAF2"&A7,'Main File'!A:O,14,0),0) -> 0.19801211 | K7: =IFERROR(+VLOOKUP("LDDAF2"&A7,'Main File'!A:O,15,0),0) -> 1.4180249
A8: =+A7+1 -> 43164 | B8: =IFERROR(+VLOOKUP("LDDAF2"&A8,'Main File'!A:O,6,0),0) -> 2.2500874 | C8: =IFERROR(+VLOOKUP("LDDAF2"&A8,'Main File'!A:O,7,0),0) -> 0 | D8: =IFERROR(+VLOOKUP("LDDAF2"&A8,'Main File'!A:O,8,0),0) -> 0 | E8: =IFERROR(+VLOOKUP("LDDAF2"&A8,'Main File'!A:O,9,0),0) -> 0.19801202 | F8: =IFERROR(+VLOOKUP("LDDAF2"&A8,'Main File'!A:O,10,0),0) -> 2.4480995 | G8: =IFERROR(+VLOOKUP("LDDAF2"&A8,'Main File'!A:O,11,0),0) -> 1.2200136 | H8: =IFERROR(+VLOOKUP("LDDAF2"&A8,'Main File'!A:O,12,0),0) -> 0 | I8: =IFERROR(+VLOOKUP("LDDAF2"&A8,'Main File'!A:O,13,0),0) -> 0 | J8: =IFERROR(+VLOOKUP("LDDAF2"&A8,'Main File'!A:O,14,0),0) -> 0.19801398 | K8: =IFERROR(+VLOOKUP("LDDAF2"&A8,'Main File'!A:O,15,0),0) -> 1.4180276
A9: =+A8+1 -> 43165 | B9: =IFERROR(+VLOOKUP("LDDAF2"&A9,'Main File'!A:O,6,0),0) -> 2.2500915 | C9: =IFERROR(+VLOOKUP("LDDAF2"&A9,'Main File'!A:O,7,0),0) -> 0 | D9: =IFERROR(+VLOOKUP("LDDAF2"&A9,'Main File'!A:O,8,0),0) -> 0 | E9: =IFERROR(+VLOOKUP("LDDAF2"&A9,'Main File'!A:O,9,0),0) -> 0.19801159 | F9: =IFERROR(+VLOOKUP("LDDAF2"&A9,'Main File'!A:O,10,0),0) -> 2.4481031 | G9: =IFERROR(+VLOOKUP("LDDAF2"&A9,'Main File'!A:O,11,0),0) -> 1.220012 | H9: =IFERROR(+VLOOKUP("LDDAF2"&A9,'Main File'!A:O,12,0),0) -> 0 | I9: =IFERROR(+VLOOKUP("LDDAF2"&A9,'Main File'!A:O,13,0),0) -> 0 | J9: =IFERROR(+VLOOKUP("LDDAF2"&A9,'Main File'!A:O,14,0),0) -> 0.19801225 | K9: =IFERROR(+VLOOKUP("LDDAF2"&A9,'Main File'!A:O,15,0),0) -> 1.4180242
A10: =+A9+1 -> 43166 | B10: =IFERROR(+VLOOKUP("LDDAF2"&A10,'Main File'!A:O,6,0),0) -> 2.2500862 | C10: =IFERROR(+VLOOKUP("LDDAF2"&A10,'Main File'!A:O,7,0),0) -> 0 | D10: =IFERROR(+VLOOKUP("LDDAF2"&A10,'Main File'!A:O,8,0),0) -> 0 | E10: =IFERROR(+VLOOKUP("LDDAF2"&A10,'Main File'!A:O,9,0),0) -> 0.198014 | F10: =IFERROR(+VLOOKUP("LDDAF2"&A10,'Main File'!A:O,10,0),0) -> 2.4481002 | G10: =IFERROR(+VLOOKUP("LDDAF2"&A10,'Main File'!A:O,11,0),0) -> 1.2200173 | H10: =IFERROR(+VLOOKUP("LDDAF2"&A10,'Main File'!A:O,12,0),0) -> 0 | I10: =IFERROR(+VLOOKUP("LDDAF2"&A10,'Main File'!A:O,13,0),0) -> 0 | J10: =IFERROR(+VLOOKUP("LDDAF2"&A10,'Main File'!A:O,14,0),0) -> 0.19800842 | K10: =IFERROR(+VLOOKUP("LDDAF2"&A10,'Main File'!A:O,15,0),0) -> 1.4180257
A11: =+A10+1 -> 43167 | B11: =IFERROR(+VLOOKUP("LDDAF2"&A11,'Main File'!A:O,6,0),0) -> 2.2500906 | C11: =IFERROR(+VLOOKUP("LDDAF2"&A11,'Main File'!A:O,7,0),0) -> 0 | D11: =IFERROR(+VLOOKUP("LDDAF2"&A11,'Main File'!A:O,8,0),0) -> 0 | E11: =IFERROR(+VLOOKUP("LDDAF2"&A11,'Main File'!A:O,9,0),0) -> 0.19801644 | F11: =IFERROR(+VLOOKUP("LDDAF2"&A11,'Main File'!A:O,10,0),0) -> 2.4481071 | G11: =IFERROR(+VLOOKUP("LDDAF2"&A11,'Main File'!A:O,11,0),0) -> 1.220016 | H11: =IFERROR(+VLOOKUP("LDDAF2"&A11,'Main File'!A:O,12,0),0) -> 0 | I11: =IFERROR(+VLOOKUP("LDDAF2"&A11,'Main File'!A:O,13,0),0) -> 0 | J11: =IFERROR(+VLOOKUP("LDDAF2"&A11,'Main File'!A:O,14,0),0) -> 0.19800177 | K11: =IFERROR(+VLOOKUP("LDDAF2"&A11,'Main File'!A:O,15,0),0) -> 1.4180177
A12: =+A11+1 -> 43168 | B12: =IFERROR(+VLOOKUP("LDDAF2"&A12,'Main File'!A:O,6,0),0) -> 2.2500908 | C12: =IFERROR(+VLOOKUP("LDDAF2"&A12,'Main File'!A:O,7,0),0) -> 0 | D12: =IFERROR(+VLOOKUP("LDDAF2"&A12,'Main File'!A:O,8,0),0) -> 0 | E12: =IFERROR(+VLOOKUP("LDDAF2"&A12,'Main File'!A:O,9,0),0) -> 0.19801542 | F12: =IFERROR(+VLOOKUP("LDDAF2"&A12,'Main File'!A:O,10,0),0) -> 2.4481062 | G12: =IFERROR(+VLOOKUP("LDDAF2"&A12,'Main File'!A:O,11,0),0) -> 1.2200101 | H12: =IFERROR(+VLOOKUP("LDDAF2"&A12,'Main File'!A:O,12,0),0) -> 0 | I12: =IFERROR(+VLOOKUP("LDDAF2"&A12,'Main File'!A:O,13,0),0) -> 0 | J12: =IFERROR(+VLOOKUP("LDDAF2"&A12,'Main File'!A:O,14,0),0) -> 0.19800536 | K12: =IFERROR(+VLOOKUP("LDDAF2"&A12,'Main File'!A:O,15,0),0) -> 1.4180155
A13: =+A12+1 -> 43169 | B13: =IFERROR(+VLOOKUP("LDDAF2"&A13,'Main File'!A:O,6,0),0) -> 2.2500896 | C13: =IFERROR(+VLOOKUP("LDDAF2"&A13,'Main File'!A:O,7,0),0) -> 0 | D13: =IFERROR(+VLOOKUP("LDDAF2"&A13,'Main File'!A:O,8,0),0) -> 0 | E13: =IFERROR(+VLOOKUP("LDDAF2"&A13,'Main File'!A:O,9,0),0) -> 0.19801584 | F13: =IFERROR(+VLOOKUP("LDDAF2"&A13,'Main File'!A:O,10,0),0) -> 2.4481055 | G13: =IFERROR(+VLOOKUP("LDDAF2"&A13,'Main File'!A:O,11,0),0) -> 1.220015 | H13: =IFERROR(+VLOOKUP("LDDAF2"&A13,'Main File'!A:O,12,0),0) -> 0 | I13: =IFERROR(+VLOOKUP("LDDAF2"&A13,'Main File'!A:O,13,0),0) -> 0 | J13: =IFERROR(+VLOOKUP("LDDAF2"&A13,'Main File'!A:O,14,0),0) -> 0.19800557 | K13: =IFERROR(+VLOOKUP("LDDAF2"&A13,'Main File'!A:O,15,0),0) -> 1.4180206
A14: =+A13+1 -> 43170 | B14: =IFERROR(+VLOOKUP("LDDAF2"&A14,'Main File'!A:O,6,0),0) -> 2.2500904 | C14: =IFERROR(+VLOOKUP("LDDAF2"&A14,'Main File'!A:O,7,0),0) -> 0 | D14: =IFERROR(+VLOOKUP("LDDAF2"&A14,'Main File'!A:O,8,0),0) -> 0 | E14: =IFERROR(+VLOOKUP("LDDAF2"&A14,'Main File'!A:O,9,0),0) -> 0.19801304 | F14: =IFERROR(+VLOOKUP("LDDAF2"&A14,'Main File'!A:O,10,0),0) -> 2.4481034 | G14: =IFERROR(+VLOOKUP("LDDAF2"&A14,'Main File'!A:O,11,0),0) -> 1.220013 | H14: =IFERROR(+VLOOKUP("LDDAF2"&A14,'Main File'!A:O,12,0),0) -> 0 | I14: =IFERROR(+VLOOKUP("LDDAF2"&A14,'Main File'!A:O,13,0),0) -> 0 | J14: =IFERROR(+VLOOKUP("LDDAF2"&A14,'Main File'!A:O,14,0),0) -> 0.19800579 | K14: =IFERROR(+VLOOKUP("LDDAF2"&A14,'Main File'!A:O,15,0),0) -> 1.4180188
A15: =+A14+1 -> 43171 | B15: =IFERROR(+VLOOKUP("LDDAF2"&A15,'Main File'!A:O,6,0),0) -> 0 | C15: =IFERROR(+VLOOKUP("LDDAF2"&A15,'Main File'!A:O,7,0),0) -> 0 | D15: =IFERROR(+VLOOKUP("LDDAF2"&A15,'Main File'!A:O,8,0),0) -> 0 | E15: =IFERROR(+VLOOKUP("LDDAF2"&A15,'Main File'!A:O,9,0),0) -> 0 | F15: =IFERROR(+VLOOKUP("LDDAF2"&A15,'Main File'!A:O,10,0),0) -> 0 | G15: =IFERROR(+VLOOKUP("LDDAF2"&A15,'Main File'!A:O,11,0),0) -> 0 | H15: =IFERROR(+VLOOKUP("LDDAF2"&A15,'Main File'!A:O,12,0),0) -> 0 | I15: =IFERROR(+VLOOKUP("LDDAF2"&A15,'Main File'!A:O,13,0),0) -> 0 | J15: =IFERROR(+VLOOKUP("LDDAF2"&A15,'Main File'!A:O,14,0),0) -> 0 | K15: =IFERROR(+VLOOKUP("LDDAF2"&A15,'Main File'!A:O,15,0),0) -> 0
A16: =+A15+1 -> 43172 | B16: =IFERROR(+VLOOKUP("LDDAF2"&A16,'Main File'!A:O,6,0),0) -> 0 | C16: =IFERROR(+VLOOKUP("LDDAF2"&A16,'Main File'!A:O,7,0),0) -> 0 | D16: =IFERROR(+VLOOKUP("LDDAF2"&A16,'Main File'!A:O,8,0),0) -> 0 | E16: =IFERROR(+VLOOKUP("LDDAF2"&A16,'Main File'!A:O,9,0),0) -> 0 | F16: =IFERROR(+VLOOKUP("LDDAF2"&A16,'Main File'!A:O,10,0),0) -> 0 | G16: =IFERROR(+VLOOKUP("LDDAF2"&A16,'Main File'!A:O,11,0),0) -> 0 | H16: =IFERROR(+VLOOKUP("LDDAF2"&A16,'Main File'!A:O,12,0),0) -> 0 | I16: =IFERROR(+VLOOKUP("LDDAF2"&A16,'Main File'!A:O,13,0),0) -> 0 | J16: =IFERROR(+VLOOKUP("LDDAF2"&A16,'Main File'!A:O,14,0),0) -> 0 | K16: =IFERROR(+VLOOKUP("LDDAF2"&A16,'Main File'!A:O,15,0),0) -> 0
A17: =+A16+1 -> 43173 | B17: =IFERROR(+VLOOKUP("LDDAF2"&A17,'Main File'!A:O,6,0),0) -> 0 | C17: =IFERROR(+VLOOKUP("LDDAF2"&A17,'Main File'!A:O,7,0),0) -> 0 | D17: =IFERROR(+VLOOKUP("LDDAF2"&A17,'Main File'!A:O,8,0),0) -> 0 | E17: =IFERROR(+VLOOKUP("LDDAF2"&A17,'Main File'!A:O,9,0),0) -> 0 | F17: =IFERROR(+VLOOKUP("LDDAF2"&A17,'Main File'!A:O,10,0),0) -> 0 | G17: =IFERROR(+VLOOKUP("LDDAF2"&A17,'Main File'!A:O,11,0),0) -> 0 | H17: =IFERROR(+VLOOKUP("LDDAF2"&A17,'Main File'!A:O,12,0),0) -> 0 | I17: =IFERROR(+VLOOKUP("LDDAF2"&A17,'Main File'!A:O,13,0),0) -> 0 | J17: =IFERROR(+VLOOKUP("LDDAF2"&A17,'Main File'!A:O,14,0),0) -> 0 | K17: =IFERROR(+VLOOKUP("LDDAF2"&A17,'Main File'!A:O,15,0),0) -> 0
... A34: =+A33+1 -> 43190 | B34: =IFERROR(+VLOOKUP("LDDAF2"&A34,'Main File'!A:O,6,0),0) -> 0 | C34: =IFERROR(+VLOOKUP("LDDAF2"&A34,'Main File'!A:O,7,0),0) -> 0 | D34: =IFERROR(+VLOOKUP("LDDAF2"&A34,'Main File'!A:O,8,0),0) -> 0 | E34: =IFERROR(+VLOOKUP("LDDAF2"&A34,'Main File'!A:O,9,0),0) -> 0 | F34: =IFERROR(+VLOOKUP("LDDAF2"&A34,'Main File'!A:O,10,0),0) -> 0 | G34: =IFERROR(+VLOOKUP("LDDAF2"&A34,'Main File'!A:O,11,0),0) -> 0 | H34: =IFERROR(+VLOOKUP("LDDAF2"&A34,'Main File'!A:O,12,0),0) -> 0 | I34: =IFERROR(+VLOOKUP("LDDAF2"&A34,'Main File'!A:O,13,0),0) -> 0 | J34: =IFERROR(+VLOOKUP("LDDAF2"&A34,'Main File'!A:O,14,0),0) -> 0 | K34: =IFERROR(+VLOOKUP("LDDAF2"&A34,'Main File'!A:O,15,0),0) -> 0
A36: Notes:
A37: 1. Base TER excludes additional expenses provided in Regulation 52(6A)(b) and 52(6A)(c) of SEBI (Mutual Funds) Regulations, 1996.
A38: 2. Additional Expenses not exceeding 0.30% in terms of Regulation 52(6A)(b) of SEBI (Mutual Funds) Regulations, 1996.
A39: 3. Additional Expenses not exceeding 0.20% in terms of Regulation 52(6A)(c) of SEBI (Mutual Funds) Regulations, 1996.
A40: 4. Present GST rate is 18 %.
A41: 5. Percentages mentioned above are annualized.

Sheet LDDAF3
A1: =+VLOOKUP(+(MID(CELL("filename",A1),FIND("]",CELL("filename",A1))+1,255)),'Main File'!C:E,3,0) -> LIC MF Dual Advantage Fixed Term Plan-Series 3 | N1: Go to Index
B2: Regular Plan | G2: Direct Plan
A3: Date (DD/MM/YYYY) | B3: Base TER (%)1 | C3: Additional expense as per Regulation 52(6A)(b) (%)2 | D3: Additional expense as per Regulation 52(6A)(c) (%)3 | E3: GST (%)4 | F3: Total TER (%) | G3: Base TER (%)1 | H3: Additional expense as per Regulation 52(6A)(b) (%)2 | I3: Additional expense as per Regulation 52(6A)(c) (%)3 | J3: GST (%)4 | K3: Total TER (%)
A4: 43160 | B4: =IFERROR(+VLOOKUP("LDDAF3"&A4,'Main File'!A:O,6,0),0) -> 2.2500896 | C4: =IFERROR(+VLOOKUP("LDDAF3"&A4,'Main File'!A:O,7,0),0) -> 0 | D4: =IFERROR(+VLOOKUP("LDDAF3"&A4,'Main File'!A:O,8,0),0) -> 0 | E4: =IFERROR(+VLOOKUP("LDDAF3"&A4,'Main File'!A:O,9,0),0) -> 0.19621224 | F4: =IFERROR(+VLOOKUP("LDDAF3"&A4,'Main File'!A:O,10,0),0) -> 2.4463018 | G4: =IFERROR(+VLOOKUP("LDDAF3"&A4,'Main File'!A:O,11,0),0) -> 1.2300149 | H4: =IFERROR(+VLOOKUP("LDDAF3"&A4,'Main File'!A:O,12,0),0) -> 0 | I4: =IFERROR(+VLOOKUP("LDDAF3"&A4,'Main File'!A:O,13,0),0) -> 0 | J4: =IFERROR(+VLOOKUP("LDDAF3"&A4,'Main File'!A:O,14,0),0) -> 0.19620602 | K4: =IFERROR(+VLOOKUP("LDDAF3"&A4,'Main File'!A:O,15,0),0) -> 1.4262209
A5: 43161 | B5: =IFERROR(+VLOOKUP("LDDAF3"&A5,'Main File'!A:O,6,0),0) -> 2.2500878 | C5: =IFERROR(+VLOOKUP("LDDAF3"&A5,'Main File'!A:O,7,0),0) -> 0 | D5: =IFERROR(+VLOOKUP("LDDAF3"&A5,'Main File'!A:O,8,0),0) -> 0 | E5: =IFERROR(+VLOOKUP("LDDAF3"&A5,'Main File'!A:O,9,0),0) -> 0.19621483 | F5: =IFERROR(+VLOOKUP("LDDAF3"&A5,'Main File'!A:O,10,0),0) -> 2.4463026 | G5: =IFERROR(+VLOOKUP("LDDAF3"&A5,'Main File'!A:O,11,0),0) -> 1.2300154 | H5: =IFERROR(+VLOOKUP("LDDAF3"&A5,'Main File'!A:O,12,0),0) -> 0 | I5: =IFERROR(+VLOOKUP("LDDAF3"&A5,'Main File'!A:O,13,0),0) -> 0 | J5: =IFERROR(+VLOOKUP("LDDAF3"&A5,'Main File'!A:O,14,0),0) -> 0.19620615 | K5: =IFERROR(+VLOOKUP("LDDAF3"&A5,'Main File'!A:O,15,0),0) -> 1.4262216
A6: =+A5+1 -> 43162 | B6: =IFERROR(+VLOOKUP("LDDAF3"&A6,'Main File'!A:O,6,0),0) -> 2.2500862 | C6: =IFERROR(+VLOOKUP("LDDAF3"&A6,'Main File'!A:O,7,0),0) -> 0 | D6: =IFERROR(+VLOOKUP("LDDAF3"&A6,'Main File'!A:O,8,0),0) -> 0 | E6: =IFERROR(+VLOOKUP("LDDAF3"&A6,'Main File'!A:O,9,0),0) -> 0.19621327 | F6: =IFERROR(+VLOOKUP("LDDAF3"&A6,'Main File'!A:O,10,0),0) -> 2.4462994 | G6: =IFERROR(+VLOOKUP("LDDAF3"&A6,'Main File'!A:O,11,0),0) -> 1.2300185 | H6: =IFERROR(+VLOOKUP("LDDAF3"&A6,'Main File'!A:O,12,0),0) -> 0 | I6: =IFERROR(+VLOOKUP("LDDAF3"&A6,'Main File'!A:O,13,0),0) -> 0 | J6: =IFERROR(+VLOOKUP("LDDAF3"&A6,'Main File'!A:O,14,0),0) -> 0.19620669 | K6: =IFERROR(+VLOOKUP("LDDAF3"&A6,'Main File'!A:O,15,0),0) -> 1.4262252
A7: =+A6+1 -> 43163 | B7: =IFERROR(+VLOOKUP("LDDAF3"&A7,'Main File'!A:O,6,0),0) -> 2.2500858 | C7: =IFERROR(+VLOOKUP("LDDAF3"&A7,'Main File'!A:O,7,0),0) -> 0 | D7: =IFERROR(+VLOOKUP("LDDAF3"&A7,'Main File'!A:O,8,0),0) -> 0 | E7: =IFERROR(+VLOOKUP("LDDAF3"&A7,'Main File'!A:O,9,0),0) -> 0.19621162 | F7: =IFERROR(+VLOOKUP("LDDAF3"&A7,'Main File'!A:O,10,0),0) -> 2.4462974 | G7: =IFERROR(+VLOOKUP("LDDAF3"&A7,'Main File'!A:O,11,0),0) -> 1.230021 | H7: =IFERROR(+VLOOKUP("LDDAF3"&A7,'Main File'!A:O,12,0),0) -> 0 | I7: =IFERROR(+VLOOKUP("LDDAF3"&A7,'Main File'!A:O,13,0),0) -> 0 | J7: =IFERROR(+VLOOKUP("LDDAF3"&A7,'Main File'!A:O,14,0),0) -> 0.19620714 | K7: =IFERROR(+VLOOKUP("LDDAF3"&A7,'Main File'!A:O,15,0),0) -> 1.4262281
A8: =+A7+1 -> 43164 | B8: =IFERROR(+VLOOKUP("LDDAF3"&A8,'Main File'!A:O,6,0),0) -> 2.2500888 | C8: =IFERROR(+VLOOKUP("LDDAF3"&A8,'Main File'!A:O,7,0),0) -> 0 | D8: =IFERROR(+VLOOKUP("LDDAF3"&A8,'Main File'!A:O,8,0),0) -> 0 | E8: =IFERROR(+VLOOKUP("LDDAF3"&A8,'Main File'!A:O,9,0),0) -> 0.1962143 | F8: =IFERROR(+VLOOKUP("LDDAF3"&A8,'Main File'!A:O,10,0),0) -> 2.4463031 | G8: =IFERROR(+VLOOKUP("LDDAF3"&A8,'Main File'!A:O,11,0),0) -> 1.2300178 | H8: =IFERROR(+VLOOKUP("LDDAF3"&A8,'Main File'!A:O,12,0),0) -> 0 | I8: =IFERROR(+VLOOKUP("LDDAF3"&A8,'Main File'!A:O,13,0),0) -> 0 | J8: =IFERROR(+VLOOKUP("LDDAF3"&A8,'Main File'!A:O,14,0),0) -> 0.19620178 | K8: =IFERROR(+VLOOKUP("LDDAF3"&A8,'Main File'!A:O,15,0),0) -> 1.4262196
A9: =+A8+1 -> 43165 | B9: =IFERROR(+VLOOKUP("LDDAF3"&A9,'Main File'!A:O,6,0),0) -> 2.250086 | C9: =IFERROR(+VLOOKUP("LDDAF3"&A9,'Main File'!A:O,7,0),0) -> 0 | D9: =IFERROR(+VLOOKUP("LDDAF3"&A9,'Main File'!A:O,8,0),0) -> 0 | E9: =IFERROR(+VLOOKUP("LDDAF3"&A9,'Main File'!A:O,9,0),0) -> 0.19621366 | F9: =IFERROR(+VLOOKUP("LDDAF3"&A9,'Main File'!A:O,10,0),0) -> 2.4462997 | G9: =IFERROR(+VLOOKUP("LDDAF3"&A9,'Main File'!A:O,11,0),0) -> 1.2300231 | H9: =IFERROR(+VLOOKUP("LDDAF3"&A9,'Main File'!A:O,12,0),0) -> 0 | I9: =IFERROR(+VLOOKUP("LDDAF3"&A9,'Main File'!A:O,13,0),0) -> 0 | J9: =IFERROR(+VLOOKUP("LDDAF3"&A9,'Main File'!A:O,14,0),0) -> 0.19620676 | K9: =IFERROR(+VLOOKUP("LDDAF3"&A9,'Main File'!A:O,15,0),0) -> 1.4262299
A10: =+A9+1 -> 43166 | B10: =IFERROR(+VLOOKUP("LDDAF3"&A10,'Main File'!A:O,6,0),0) -> 2.2500881 | C10: =IFERROR(+VLOOKUP("LDDAF3"&A10,'Main File'!A:O,7,0),0) -> 0 | D10: =IFERROR(+VLOOKUP("LDDAF3"&A10,'Main File'!A:O,8,0),0) -> 0 | E10: =IFERROR(+VLOOKUP("LDDAF3"&A10,'Main File'!A:O,9,0),0) -> 0.19621406 | F10: =IFERROR(+VLOOKUP("LDDAF3"&A10,'Main File'!A:O,10,0),0) -> 2.4463022 | G10: =IFERROR(+VLOOKUP("LDDAF3"&A10,'Main File'!A:O,11,0),0) -> 1.2300212 | H10: =IFERROR(+VLOOKUP("LDDAF3"&A10,'Main File'!A:O,12,0),0) -> 0 | I10: =IFERROR(+VLOOKUP("LDDAF3"&A10,'Main File'!A:O,13,0),0) -> 0 | J10: =IFERROR(+VLOOKUP("LDDAF3"&A10,'Main File'!A:O,14,0),0) -> 0.19620545 | K10: =IFERROR(+VLOOKUP("LDDAF3"&A10,'Main File'!A:O,15,0),0) -> 1.4262267
A11: =+A10+1 -> 43167 | B11: =IFERROR(+VLOOKUP("LDDAF3"&A11,'Main File'!A:O,6,0),0) -> 2.2500843 | C11: =IFERROR(+VLOOKUP("LDDAF3"&A11,'Main File'!A:O,7,0),0) -> 0 | D11: =IFERROR(+VLOOKUP("LDDAF3"&A11,'Main File'!A:O,8,0),0) -> 0 | E11: =IFERROR(+VLOOKUP("LDDAF3"&A11,'Main File'!A:O,9,0),0) -> 0.19621302 | F11: =IFERROR(+VLOOKUP("LDDAF3"&A11,'Main File'!A:O,10,0),0) -> 2.4462974 | G11: =IFERROR(+VLOOKUP("LDDAF3"&A11,'Main File'!A:O,11,0),0) -> 1.2300187 | H11: =IFERROR(+VLOOKUP("LDDAF3"&A11,'Main File'!A:O,12,0),0) -> 0 | I11: =IFERROR(+VLOOKUP("LDDAF3"&A11,'Main File'!A:O,13,0),0) -> 0 | J11: =IFERROR(+VLOOKUP("LDDAF3"&A11,'Main File'!A:O,14,0),0) -> 0.19620467 | K11: =IFERROR(+VLOOKUP("LDDAF3"&A11,'Main File'!A:O,15,0),0) -> 1.4262233
A12: =+A11+1 -> 43168 | B12: =IFERROR(+VLOOKUP("LDDAF3"&A12,'Main File'!A:O,6,0),0) -> 2.2500885 | C12: =IFERROR(+VLOOKUP("LDDAF3"&A12,'Main File'!A:O,7,0),0) -> 0 | D12: =IFERROR(+VLOOKUP("LDDAF3"&A12,'Main File'!A:O,8,0),0) -> 0 | E12: =IFERROR(+VLOOKUP("LDDAF3"&A12,'Main File'!A:O,9,0),0) -> 0.19621312 | F12: =IFERROR(+VLOOKUP("LDDAF3"&A12,'Main File'!A:O,10,0),0) -> 2.4463017 | G12: =IFERROR(+VLOOKUP("LDDAF3"&A12,'Main File'!A:O,11,0),0) -> 1.2300184 | H12: =IFERROR(+VLOOKUP("LDDAF3"&A12,'Main File'!A:O,12,0),0) -> 0 | I12: =IFERROR(+VLOOKUP("LDDAF3"&A12,'Main File'!A:O,13,0),0) -> 0 | J12: =IFERROR(+VLOOKUP("LDDAF3"&A12,'Main File'!A:O,14,0),0) -> 0.19620934 | K12: =IFERROR(+VLOOKUP("LDDAF3"&A12,'Main File'!A:O,15,0),0) -> 1.4262278
