Workbook

Sheet AMFI Methodology
A1: Stress Test
A2: Pro-rata liquidation after removing bottom 20% of portfolio based on scrip liquidity (considering 10% PV with 3x volumes)
A3: Sample Working
A4: After removing 20% bottom liquid portfolio - Highlighted in red
A5: No. of days for 100% Pro-rata | B5: =J14 -> 66.666667
A6: No. of days for 50% Pro-rata | B6: =B5*50% -> 33.333333 | C6: 50% portfolio
A7: No. of days for 25% Pro-rata | B7: =B5*25% -> 16.666667 | C7: 25% portfolio
E8: =SUM(E11:E25) -> 13050 | F8: =E11/E8 -> 0.11494253
A10: Scheme Name | B10: Date | C10: Instrument Name | D10: Holding (%) | E10: Market Value (Crs) | F10: No of Shares | G10: Combined Volume of Shares | H10: 3x Volumes | I10: 10% of 3x volume | J10: No. of Days (10% Participation) | K10: Cummulative holding | L10: Scheme AUM
A11: ABC Midcap Fund | B11: 45322 | C11: Security 1 | D11: 10 | E11: =L11*D11% -> 1500 | F11: 7700000 | G11: 300000 | H11: =G11*3 -> 900000 | I11: =H11*10% -> 90000 | J11: =F11/I11 -> 85.555556 | K11: =D11 -> 10 | L11: 15000
A12: ABC Midcap Fund | B12: 45322 | C12: Security 2 | D12: 7 | E12: =L12*D12% -> 1050 | F12: 23000000 | G12: 1000000 | H12: =G12*3 -> 3000000 | I12: =H12*10% -> 300000 | J12: =F12/I12 -> 76.666667 | K12: =K11+D12 -> 17 | L12: 15000
A13: ABC Midcap Fund | B13: 45322 | C13: Security 3 | D13: 3 | E13: =L13*D13% -> 450 | F13: 35000000 | G13: 1700000 | H13: =G13*3 -> 5100000 | I13: =H13*10% -> 510000 | J13: =F13/I13 -> 68.627451 | K13: =K12+D13 -> 20 | L13: 15000
A14: ABC Midcap Fund | B14: 45322 | C14: Security 4 | D14: 10 | E14: =L14*D14% -> 1500 | F14: 5000000 | G14: 250000 | H14: =G14*3 -> 750000 | I14: =H14*10% -> 75000 | J14: =F14/I14 -> 66.666667 | K14: =K13+D14 -> 30 | L14: 15000
A15: ABC Midcap Fund | B15: 45322 | C15: Security 5 | D15: 9 | E15: =L15*D15% -> 1350 | F15: 45000000 | G15: 2800000 | H15: =G15*3 -> 8400000 | I15: =H15*10% -> 840000 | J15: =F15/I15 -> 53.571429 | K15: =K14+D15 -> 39 | L15: 15000
A16: ABC Midcap Fund | B16: 45322 | C16: Security 6 | D16: 10 | E16: =L16*D16% -> 1500 | F16: 24000000 | G16: 1500000 | H16: =G16*3 -> 4500000 | I16: =H16*10% -> 450000 | J16: =F16/I16 -> 53.333333 | K16: =K15+D16 -> 49 | L16: 15000
A17: ABC Midcap Fund | B17: 45322 | C17: Security 7 | D17: 5 | E17: =L17*D17% -> 750 | F17: 5000000 | G17: 1500000 | H17: =G17*3 -> 4500000 | I17: =H17*10% -> 450000 | J17: =F17/I17 -> 11.111111 | K17: =K16+D17 -> 54 | L17: 15000
A18: ABC Midcap Fund | B18: 45322 | C18: Security 8 | D18: 6 | E18: =L18*D18% -> 900 | F18: 10000000 | G18: 4500000 | H18: =G18*3 -> 13500000 | I18: =H18*10% -> 1350000 | J18: =F18/I18 -> 7.4074074 | K18: =K17+D18 -> 60 | L18: 15000
A19: ABC Midcap Fund | B19: 45322 | C19: Security 9 | D19: 12 | E19: =L19*D19% -> 1800 | F19: 18000000 | G19: 8500000 | H19: =G19*3 -> 25500000 | I19: =H19*10% -> 2550000 | J19: =F19/I19 -> 7.0588235 | K19: =K18+D19 -> 72 | L19: 15000
A20: ABC Midcap Fund | B20: 45322 | C20: Security 10 | D20: 8 | E20: =L20*D20% -> 1200 | F20: 9000000 | G20: 8000000 | H20: =G20*3 -> 24000000 | I20: =H20*10% -> 2400000 | J20: =F20/I20 -> 3.75 | K20: =K19+D20 -> 80 | L20: 15000
A21: ABC Midcap Fund | B21: 45322 | C21: Nifty Long_Current Month (Futures) | D21: 5 | E21: =L21*D21% -> 750 | F21: 3200000 | G21: 3000000 | H21: =G21*3 -> 9000000 | I21: =H21*10% -> 900000 | J21: =F21/I21 -> 3.5555556 | K21: =K20+D21 -> 85 | L21: 15000
A22: ABC Midcap Fund | B22: 45322 | C22: Nifty Short_Current Month (Futures) | D22: -5 | E22: =L22*D22% -> -750 | F22: 2000000 | G22: 3000000 | H22: =G22*3 -> 9000000 | I22: =H22*10% -> 900000 | J22: =F22/I22 -> 2.2222222 | K22: =K21-D22 -> 90 | L22: 15000
A23: ABC Midcap Fund | B23: 45322 | C23: Security 10 Short (Futures) | D23: -3 | E23: =L23*D23% -> -450 | F23: 2700000 | G23: 5000000 | H23: =G23*3 -> 15000000 | I23: =H23*10% -> 1500000 | J23: =F23/I23 -> 1.8 | K23: =K22 -> 90 | L23: 15000
A24: ABC Midcap Fund | B24: 45322 | C24: Security 11 Long (Futures) | D24: 5 | E24: =L24*D24% -> 750 | F24: 3000000 | G24: 7500000 | H24: =G24*3 -> 22500000 | I24: =H24*10% -> 2250000 | J24: =F24/I24 -> 1.3333333 | K24: =K23+D24 -> 95 | L24: 15000
A25: ABC Midcap Fund | B25: 45322 | C25: Cash | D25: 5 | E25: =L25*D25% -> 750 | F25: - | G25: 0 | H25: =G25*3 -> 0 | I25: =H25*10% -> 0 | J25: 0 | K25: =K24+D25 -> 100 | L25: 15000
A26: Total | D26: =SUM(D11:D20)+D21+D24+D25-D22 -> 100 | E26: =SUM(E11:E25) -> 13050 | L26: 15000
A28: Methodology
A29: No of days to liquidate each stock in the portfolio is calculated above.
A30: For this 3 times the combined volumes on NSE and BSE has been considered.
A31: Assuming a participation of 10%, number of days to liquidate each stock is calculated.
A32: No. of days for 100% pro rata is the most illiquid stock after excluding top illiquid stocks in the portfolio (comprising upto 20% of the AUM).
A33: No. of days for 50% and 25% Pro-rata is 50% and 25% of No. of days for 100% Pro-rata respectively.

Sheet Pls Chk
C2: 25 | D2: 50 | E2: 75 | F2: 100 | G2: 125 | H2: 150 | I2: 200 | J2: 250 | K2: 500 | L2: 1000 | M2: 2500 | N2: 5000
B3: Midcap | C3: =COUNTIFS(#REF!,">="&C$2) -> #REF! | D3: =COUNTIFS(#REF!,"<="&D$2,#REF!,">"&C$2) -> #REF! | E3: =COUNTIFS(#REF!,"<="&E$2,#REF!,">"&D$2) -> #REF! | F3: =COUNTIFS(#REF!,"<="&F$2,#REF!,">"&E$2) -> #REF! | G3: =COUNTIFS(#REF!,"<="&G$2,#REF!,">"&F$2) -> #REF! | H3: =COUNTIFS(#REF!,"<="&H$2,#REF!,">"&G$2) -> #REF! | I3: =COUNTIFS(#REF!,"<="&I$2,#REF!,">"&H$2) -> #REF! | J3: =COUNTIFS(#REF!,"<="&J$2,#REF!,">"&I$2) -> #REF! | K3: =COUNTIFS(#REF!,"<="&K$2,#REF!,">"&J$2) -> #REF! | L3: =COUNTIFS(#REF!,"<="&L$2,#REF!,">"&K$2) -> #REF! | N3: =COUNTIFS(#REF!,"<="&N$2,#REF!,">"&L$2) -> #REF!
B4: Weights | C4: =SUMIFS(#REF!,#REF!,"<="&C$2)% -> #REF! | D4: =SUMIFS(#REF!,#REF!,">"&C$2,#REF!,"<="&D$2)% -> #REF! | E4: =SUMIFS(#REF!,#REF!,">"&D$2,#REF!,"<="&E$2)% -> #REF! | F4: =SUMIFS(#REF!,#REF!,">"&E$2,#REF!,"<="&F$2)% -> #REF! | G4: =SUMIFS(#REF!,#REF!,">"&F$2,#REF!,"<="&G$2)% -> #REF! | H4: =SUMIFS(#REF!,#REF!,">"&G$2,#REF!,"<="&H$2)% -> #REF! | I4: =SUMIFS(#REF!,#REF!,">"&H$2,#REF!,"<="&I$2)% -> #REF! | J4: =SUMIFS(#REF!,#REF!,">"&I$2,#REF!,"<="&J$2)% -> #REF! | K4: =SUMIFS(#REF!,#REF!,">"&J$2,#REF!,"<="&K$2)% -> #REF! | L4: =SUMIFS(#REF!,#REF!,">"&K$2,#REF!,"<="&L$2)% -> #REF! | N4: =SUMIFS(#REF!,#REF!,">"&L$2,#REF!,"<="&N$2)% -> #REF! | O4: =SUM(C4:N4) -> #REF!
B8: P/E Rante | C8: 25 | D8: 50 | E8: 75 | F8: 100 | G8: 125 | H8: 150 | I8: 200 | J8: 250 | K8: 500 | L8: 1000 | M8: 2500 | N8: 5000
B9: Smallcap | C9: =COUNTIFS(#REF!,">="&C$8) -> #REF! | D9: =COUNTIFS(#REF!,"<="&D$8,#REF!,">"&C$8) -> #REF! | E9: =COUNTIFS(#REF!,"<="&E$8,#REF!,">"&D$8) -> #REF! | F9: =COUNTIFS(#REF!,"<="&F$8,#REF!,">"&E$8) -> #REF! | G9: =COUNTIFS(#REF!,"<="&G$8,#REF!,">"&F$8) -> #REF! | H9: =COUNTIFS(#REF!,"<="&H$8,#REF!,">"&G$8) -> #REF! | I9: =COUNTIFS(#REF!,"<="&I$8,#REF!,">"&H$8) -> #REF! | J9: =COUNTIFS(#REF!,"<="&J$8,#REF!,">"&I$8) -> #REF! | K9: =COUNTIFS(#REF!,"<="&K$8,#REF!,">"&J$8) -> #REF! | ... M9: =COUNTIFS(#REF!,"<="&M$8,#REF!,">"&L$8) -> #REF! | N9: =COUNTIFS(#REF!,"<="&N$8,#REF!,">"&L$8) -> #REF!
B10: Weights | C10: =SUMIFS(#REF!,#REF!,"<="&C$8)% -> #REF! | D10: =SUMIFS(#REF!,#REF!,">"&C$8,#REF!,"<="&D$8)% -> #REF! | E10: =SUMIFS(#REF!,#REF!,">"&D$8,#REF!,"<="&E$8)% -> #REF! | F10: =SUMIFS(#REF!,#REF!,">"&E$8,#REF!,"<="&F$8)% -> #REF! | G10: =SUMIFS(#REF!,#REF!,">"&F$8,#REF!,"<="&G$8)% -> #REF! | H10: =SUMIFS(#REF!,#REF!,">"&G$8,#REF!,"<="&H$8)% -> #REF! | I10: =SUMIFS(#REF!,#REF!,">"&H$8,#REF!,"<="&I$8)% -> #REF! | J10: =SUMIFS(#REF!,#REF!,">"&I$8,#REF!,"<="&J$8)% -> #REF! | K10: =SUMIFS(#REF!,#REF!,">"&J$8,#REF!,"<="&K$8)% -> #REF! | ... N10: =SUMIFS(#REF!,#REF!,">"&M$8,#REF!,"<="&N$8)% -> #REF! | O10: =SUM(C10:N10) -> #REF!
C14: LIC MF Midcap Fund | J14: LIC MF Smallcap Fund
B15: ISIN | C15: Security Name | D15: % Holding | E15: EPS | F15: PE Ratio | I15: ISIN | J15: Security Name | K15: % Holding | L15: EPS | M15: PE Ratio | U15: Smallcap
B16: INE908D01010 | C16: SHAKTI PUMPS (INDIA) LTD | D16: 5.5187 | E16: 76.910004 | F16: 55.609804 | I16: INE717A01029 | J16: KENNAMETAL INDIA LTD | K16: 2.7999 | L16: 39.91 | M16: 84.690554 | U16: Nof Stocks
B17: INE221J01015 | C17: SHARDA CROPCHEM LTD | D17: 1.3292 | E17: 3.53 | F17: 160.77903 | I17: INE0LCL01028 | J17: AVALON TECHNOLOGIES LTD. | K17: 1.3899 | L17: 4.29 | M17: 121.66667
B18: INE384C01016 | C18: YUKEN INDIA LIMITED | D18: 0.4193 | E18: 14.75 | F18: 87.813559 | I18: INE025R01021 | J18: ARTEMIS MEDICARE SERVICES LTD | K18: 1.7444 | L18: 3.619796 | M18: 72.865987
B19: INE317I01021 | C19: METRO BRANDS LIMITED | D19: 1.2614 | E19: 15.18 | F19: 89.054674 | I19: INE999A01023 | J19: KSB LIMITED | K19: 2.3201 | L19: 11.994 | M19: 80.177589
B20: INE955V01021 | C20: ARVIND FASHIONS LTD | D20: 1.4191 | E20: 6.0700002 | F20: 135.75597 | I20: INE955V01021 | J20: ARVIND FASHIONS LTD | K20: 2.4402 | L20: 6.0700002 | M20: 135.75597
B21: INE470A01017 | C21: 3M INDIA LTD | D21: 1.7658 | E21: 517.90002 | F21: 75.855955 | I21: INE464A01036 | J21: BHARAT BIJLEE LIMITED | K21: 2.7436 | L21: 58.145 | M21: 86.540543
B22: INE913H01037 | C22: ENDURANCE TECHNOLOGIES LTD | D22: 1.7818 | E22: 48.380001 | F22: 53.759815 | I22: INE254N01026 | J22: HINDUSTAN FOODS LIMITED | K22: 0.7892 | L22: 8.2299995 | M22: 71.38518
B23: INE342J01019 | C23: ZF COMMERCIAL VEHICLE CTRL SYS IND LTD. | D23: 1.863 | E23: 213.41 | F23: 74.187714 | I23: INE278M01019 | J23: NAVKAR CORPORATION LTD | K23: 1.9786 | L23: -0.12 | M23: 388.3243
B24: INE405E01023 | C24: UNO MINDA LTD | D24: 3.444 | E24: 15.36 | F24: 67.773439 | I24: INE908D01010 | J24: SHAKTI PUMPS (INDIA) LTD | K24: 4.0699 | L24: 76.910004 | M24: 55.609804
B25: INE474Q01031 | C25: GLOBAL HEALTH LTD. | D25: 1.418 | E25: 17.799999 | F25: 69.769667 | I25: INE221J01015 | J25: SHARDA CROPCHEM LTD | K25: 0.9856 | L25: 3.53 | M25: 160.77903
B26: INE671A01010 | C26: HONEYWELL AUTOMATION INDIA LTD | D26: 1.2553 | E26: 567.09686 | F26: 96.027597 | I26: INE419M01027 | J26: TD POWER SYSTEMS LTD | K26: 1.809 | L26: 7.5799999 | M26: 54.802111
B27: INE513A01022 | C27: SCHAEFFLER INDIA LTD | D27: 1.9259 | E27: 57.5 | F27: 74.214784 | I27: INE200A01026 | J27: GE T&D INDIA LTD | K27: 1.0091 | L27: 7.0700002 | M27: 224.19378
B28: INE151A01013 | C28: TATA COMMUNICATIONS LTD | D28: 1.7557 | E28: 33.98 | F28: 58.585934 | I28: INE285A01027 | J28: ELGI EQUIPMENTS LTD | K28: 1.4937 | L28: 9.8599997 | M28: 70.263693
... B50: INE263A01024 | C50: BHARAT ELECTRONICS LTD | D50: 2.9627 | E50: 5.4499998 | F50: 57.990825 | I50: INE067A01029 | J50: CG POWER AND INDUSTRIAL SOLUTIONS LTD | K50: 0.9908 | L50: 9.3400002 | M50: 129.12281
B51: INE758T01015 | C51: ZOMATO LTD | D51: 1.6517 | E51: 0.41 | F51: 559.63414

Sheet Portfolio Data
A1: Fund ID | B1: FUND NAME | C1: ISIN | D1: Security Desc | E1: ISSUER_NAME | F1: INV_TYPE | G1: Maturity Date | H1: HOLDING | I1: YTM | J1: Market Price | K1: Accrued Interest | L1: SEC_RATING_SHORT_TERM | M1: RATING_PROV | N1: SEC_RATING_LONG_TERM | O1: RATING PROV | P1: ASS_INDUSTRY | Q1: MAT_VALUE | R1: Maturity In Years | S1: Total Face Value | T1: NAV_DATE | U1: GTI | V1: SEC CODE | W1: SEC_CURR | X1: WT COST | Y1: Book Cost | Z1: AMORT_COST | AA1: Prev Market Price | AB1: % Price Var | AC1: Mkt Val- Sec curr | AD1: MKT_VAL_FUND_CURR | AE1: YTD Amort-Sec Curr | AF1: Ureal G/L-Currt Day | AG1: Ureal G/L-Prev Day | AH1: Ureal G/L Per Day | AI1: Realised Gain/Loss | AJ1: TNA | AK1: Percentage of TNA | AL1: SEC_CODE_AMC | AM1: PRICE_SOURCE | AN1: ISSUER_ID | AO1: BASIC_MAIN_INDUS | AP1: INT_RATE | AQ1: LAST_COUPON_DT | AR1: NEXT_COUPON_DT | AS1: DAYS_TO_MAT | AT1: INT_FREQ | AU1: PRICE_DT | AV1: SECQUOTPLACE | AW1: Face Value | AX1: Put/Call | AY1: Listed/Unlisted | AZ1: Closing FX rate | BA1: Rating_Crisil | BB1: Rating_ICRA | BC1: Yield_Crisils | BD1: Yield_ICRAs | BE1: Price_Crisils | BF1: Price_ICRAs | BG1: Fund_Type | BH1: Fund Code_Client | BI1: Modified Duration CRISIL | BJ1: Modified Duration ICRA | BK1: Aggregated Modified Duration | BL1: Value of incl Market Value + Accrued Int | BM1: Percentage of TNA Incl. Accrued interest | BN1: Sector | BO1: Aggregated MacD | BP1: Total Amount | BQ1: Amt Outstanding | BR1: Bespoke Pct | BS1: Bespoke Flag | BT1: Annualised_Yield
A2: LDBOND | B2: LIC MF Medium to Long Duration Fund | C2: INE040A08807 | D2: 8% HDFC BANK LTD NCD RED 27-07-2032 | E2: HDFC Bank Ltd. | F2: Investment - Corporate Bonds / Debentures | G2: 48422 | H2: 1000000 | I2: 0.072 | J2: 104.3431 | K2: 6093150.7 | L2: AAA | M2: CRISIL | N2: AAA | O2: CRISIL | P2: Private Sector Bank | Q2: 100000000 | R2: 7.25 | S2: 100000000 | T2: 45777 | U2: 202 | V2: 147277 | W2: INR | X2: 100.25 | Y2: 100250000 | AA2: 104.4715 | AB2: -0.12 | AC2: 104343100 | AD2: 104343100 | AE2: 0 | AF2: 4093100 | AG2: 4221500 | AH2: -128400 | AJ2: 1.9805488e+09 | AK2: 5.2684 | AL2: BBG018YWGNF9 | AM2: SLV | AN2: 6884 | AO2: Banks | AP2: 8 | AQ2: 45500 | AR2: 45865 | AS2: 2645 | AT2: Year | AU2: 45777 | AV2: CBV | AW2: 100 | AY2: LISTED | AZ2: 1 | BA2: CRISIL AAA | BB2: [ICRA]AAA | BC2: 0.0719 | BD2: 0.0721 | BE2: 104.3996 | BF2: 104.2865 | BG2: Debt | BH2: LIC33 | BI2: 5.12229 | BJ2: 5.12029 | BK2: 5.12129 | BL2: 1.1043625e+08 | BM2: 5.576 | BN2: Financial Services | BO2: 5.49003 | BQ2: 110000000000 | BR2: 0.09 | BS2: N
A3: LDBOND | B3: LIC MF Medium to Long Duration Fund | C3: INE936D07190 | D3: 7.43% JAMNAGAR UTI& PWR SR PPD8 24-10-34 | E3: Jamnagar Utilities & Power Pvt. Ltd. | F3: Investment - Corporate Bonds / Debentures | G3: 49241 | H3: 1000000 | I3: 0.0726 | J3: 101.0721 | K3: 3847315.1 | L3: AAA | M3: CRISIL | N3: AAA | O3: CRISIL | P3: Power Generation | Q3: 100000000 | R3: 9.49 | S3: 100000000 | T3: 45777 | U3: 202 | V3: 176167 | W3: INR | X3: 100 | Y3: 100000000 | AA3: 101.0723 | AB3: 0 | AC3: 101072100 | AD3: 101072100 | AE3: 0 | AF3: 1072100 | AG3: 1072300 | AH3: -200 | AJ3: 1.9805488e+09 | AK3: 5.1032 | AL3: BBG01QB93M61 | AM3: SLV | AN3: 772543 | AO3: Power | AP3: 7.43 | AQ3: 45589 | AR3: 45954 | AS3: 3464 | AT3: Year | AU3: 45777 | AV3: CBV | AW3: 100 | AY3: LISTED | AZ3: 1 | BA3: CRISIL AAA | BB3: CRISIL AAA | BC3: 0.0729 | BD3: 0.0723 | BE3: 100.8697 | BF3: 101.2745 | BG3: Debt | BH3: LIC33 | BI3: 6.42527 | BJ3: 6.43436 | BK3: 6.42982 | BL3: 1.0491942e+08 | BM3: 5.2975 | BN3: Power | BO3: 6.89662 | BQ3: 100000000000 | BR3: 6.25 | BS3: N
A4: LDBOND | B4: LIC MF Medium to Long Duration Fund | C4: IN0020240126 | D4: 6.79% GOVT OF INDIA RED 07-10-2034 | E4: Government of India | F4: Investment - Government Bonds | G4: 49224 | H4: 500000 | I4: 0.06359 | J4: 103.02 | K4: 226333.33 | L4: SOV | M4: SOVEREIGN | N4: SOV | O4: SOVEREIGN | P4: Government of India | Q4: 50000000 | R4: 9.31 | S4: 50000000 | T4: 45777 | U4: 203 | V4: 175034 | W4: INR | X4: 100.0193 | Y4: 50009643 | AA4: 103.1427 | AB4: -0.12 | AC4: 51510000 | AD4: 51510000 | AE4: 0 | AF4: 1500357.1 | AG4: 1561707.1 | AH4: -61350 | AJ4: 1.9805488e+09 | AK4: 2.6008 | AL4: BBG01Q35RT30 | AM4: SLV | AN4: 73639 | AO4: Government of India | AP4: 6.79 | AQ4: 45754 | AR4: 45937 | AS4: 3397 | AT4: Half-year | AU4: 45777 | AV4: CBV | AW4: 100 | AY4: LISTED | AZ4: 1 | BA4: Sovereign | BB4: Sovereign | BC4: 0.06359 | BD4: 0.06359 | BE4: 103.0199 | BF4: 103.0201 | BG4: Debt | BH4: LIC33 | BI4: 6.90654 | BJ4: 6.90655 | BK4: 6.90655 | BL4: 51736333 | BM4: 2.6122 | BN4: Government of India | BO4: 7.12612 | BT4: 0.0646
A5: LDBOND | B5: LIC MF Medium to Long Duration Fund | C5: IN0020240019 | D5: 7.10% GOVT OF INDIA RED 08-04-2034 | E5: Government of India | F5: Investment - Government Bonds | G5: 49042 | H5: 4050000 | I5: 0.06367 | J5: 104.9345 | K5: 1837125 | L5: SOV | M5: SOVEREIGN | N5: SOV | O5: SOVEREIGN | P5: Government of India | Q5: 405000000 | R5: 8.82 | S5: 405000000 | T5: 45777 | U5: 203 | V5: 168644 | W5: INR | X5: 102.4646 | Y5: 4.1498152e+08 | AA5: 105.013 | AB5: -0.07 | AC5: 424984725 | AD5: 424984725 | AE5: 0 | AF5: 10003207 | AG5: 10321132 | AH5: -317925 | AJ5: 1.9805488e+09 | AK5: 21.4579 | AL5: BBG01M86JP48 | AM5: SLV | AN5: 73639 | AO5: Government of India | AP5: 7.1 | AQ5: 45755 | AR5: 45938 | AS5: 3218 | AT5: Half-year | AU5: 45777 | AV5: CBV | AW5: 100 | AY5: LISTED | AZ5: 1 | BA5: Sovereign | BB5: Sovereign | BC5: 0.06367 | BD5: 0.06367 | BE5: 104.9346 | BF5: 104.9344 | BG5: Debt | BH5: LIC33 | BI5: 6.58768 | BJ5: 6.58767 | BK5: 6.58768 | BL5: 426821850 | BM5: 21.5507 | BN5: Government of India | BO5: 6.79738 | BT5: 0.06468
A6: LDBOND | B6: LIC MF Medium to Long Duration Fund | C6: IN0020230085 | D6: 7.18% GOVT OF INDIA RED 14-08-2033 | E6: Government of India | F6: Investment - Government Bonds | G6: 48805 | H6: 1250000 | I6: 0.06351 | J6: 105.2655 | K6: 1919652.8 | L6: SOV | M6: SOVEREIGN | N6: SOV | O6: SOVEREIGN | P6: Government of India | Q6: 125000000 | R6: 8.18 | S6: 125000000 | T6: 45777 | U6: 203 | V6: 160576 | W6: INR | X6: 100.0096 | Y6: 1.2501199e+08 | AA6: 105.312 | AB6: -0.04 | AC6: 131581875 | AD6: 131581875 | AE6: 0 | AF6: 6569882.1 | AG6: 6628007.1 | AH6: -58125 | AJ6: 1.9805488e+09 | AK6: 6.6437 | AL6: BBG01HT0LQW3 | AM6: SLV | AN6: 73639 | AO6: Government of India | AP6: 7.18 | AQ6: 45702 | AR6: 45883 | AS6: 2984 | AT6: Half-year | AU6: 45777 | AV6: CBV | AW6: 100 | AY6: LISTED | AZ6: 1 | BA6: Sovereign | BB6: Sovereign | BC6: 0.06351 | BD6: 0.06351 | BE6: 105.2656 | BF6: 105.2653 | BG6: Debt | BH6: LIC33 | BI6: 6.15649 | BJ6: 6.15649 | BK6: 6.15649 | BL6: 1.3350153e+08 | BM6: 6.7406 | BN6: Government of India | BO6: 6.35198 | BT6: 0.06452
A7: LDBOND | B7: LIC MF Medium to Long Duration Fund | C7: IN1520220055 | D7: 7.8% GUJARAT SDL RED 20-07-2032 | E7: State Government of Gujarat | F7: Investment - State Development Loans | G7: 48415 | H7: 2500000 | I7: 0.06657 | J7: 106.453 | K7: 5470833.3 | L7: SOV | M7: SOVEREIGN | N7: SOV | O7: SOVEREIGN | P7: Government of India | Q7: 250000000 | R7: 7.12 | S7: 250000000 | T7: 45777 | U7: 227 | V7: 146896 | W7: INR | X7: 102.4656 | Y7: 256164000 | AA7: 106.4805 | AB7: -0.03 | AC7: 266132500 | AD7: 266132500 | AE7: 0 | AF7: 9968500 | AG7: 10037250 | AH7: -68750 | AJ7: 1.9805488e+09 | AK7: 13.4373 | AL7: BBG018W6VWQ9 | AM7: SLV | AN7: 8133 | AO7: Government of India | AP7: 7.8 | AQ7: 45677 | AR7: 45858 | AS7: 2600 | AT7: Half-year | AU7: 45777 | AV7: CBV | AW7: 100 | AY7: LISTED | AZ7: 1 | BA7: Sovereign | BB7: Sovereign | BC7: 0.06644 | BD7: 0.0667 | BE7: 106.5298 | BF7: 106.3762 | BG7: Debt | BH7: LIC33 | BI7: 5.41834 | BJ7: 5.41631 | BK7: 5.41732 | BL7: 2.7160333e+08 | BM7: 13.7135 | BN7: Government of India | BO7: 5.59764 | BT7: 0.06768
A8: LDBOND | B8: LIC MF Medium to Long Duration Fund | C8: IN2220240401 | D8: 7.12% MAHARASHTRA SDL RED 05-02-2036 | E8: State Government of Maharashtra | F8: Investment - State Development Loans | G8: 49710 | H8: 1000000 | I8: 0.06726 | J8: 102.9721 | K8: 1700888.9 | L8: SOV | M8: SOVEREIGN | N8: SOV | O8: SOVEREIGN | P8: Government of India | Q8: 100000000 | R8: 10.62 | S8: 100000000 | T8: 45777 | U8: 227 | V8: 180360 | W8: INR | X8: 100.59 | Y8: 100590000 | AA8: 102.8543 | AB8: 0.11 | AC8: 102972100 | AD8: 102972100 | AE8: 0 | AF8: 2382100 | AG8: 2264300 | AH8: 117800 | AJ8: 1.9805488e+09 | AK8: 5.1992 | AL8: BBG01S3KMK55 | AM8: SLV | AN8: 8142 | AO8: Government of India | AP8: 7.12 | AQ8: 45693 | AR8: 45874 | AS8: 3875 | AT8: Half-year | AU8: 45777 | AV8: CBV | AW8: 100 | AY8: LISTED | AZ8: 1 | BA8: Sovereign | BB8: Sovereign | BC8: 0.06731 | BD8: 0.0672 | BE8: 102.9293 | BF8: 103.0149 | BG8: Debt | BH8: LIC33 | BI8: 7.37311 | BJ8: 7.37495 | BK8: 7.37403 | BL8: 1.0467299e+08 | BM8: 5.285 | BN8: Government of India | BO8: 7.622 | BT8: 0.06839
A9: LDBOND | B9: LIC MF Medium to Long Duration Fund | C9: IN2220220114 | D9: 7.64% MAHARASHTRA SDL RED 28-09-2032 | E9: State Government of Maharashtra | F9: Investment - State Development Loans | G9: 48485 | H9: 1500000 | I9: 0.06652 | J9: 105.6949 | K9: 1050500 | L9: SOV | M9: SOVEREIGN | N9: SOV | O9: SOVEREIGN | P9: Government of India | Q9: 150000000 | R9: 7.31 | S9: 150000000 | T9: 45777 | U9: 227 | V9: 151713 | W9: INR | X9: 100.58 | Y9: 150870000 | AA9: 105.6836 | AB9: 0.01 | AC9: 158542350 | AD9: 158542350 | AE9: 0 | AF9: 7672350 | AG9: 7655400 | AH9: 16950 | AJ9: 1.9805488e+09 | AK9: 8.005 | AL9: BBG019TX0861 | AM9: SLV | AN9: 8142 | AO9: Government of India | AP9: 7.64 | AQ9: 45744 | AR9: 45928 | AS9: 2668 | AT9: Half-year | AU9: 45777 | AV9: CBV | AW9: 100 | AY9: LISTED | AZ9: 1 | BA9: Sovereign | BB9: Sovereign | BC9: 0.06635 | BD9: 0.0667 | BE9: 105.8007 | BF9: 105.5891 | BG9: Debt | BH9: LIC33 | BI9: 5.62051 | BJ9: 5.61774 | BK9: 5.61912 | BL9: 159592850 | BM9: 8.058 | BN9: Government of India | BO9: 5.80602 | BT9: 0.06763
A10: LDBOND | B10: LIC MF Medium to Long Duration Fund | C10: IN2220220205 | D10: 7.7% MAHARASHTRA SDL RED 08-03-2033 | E10: State Government of Maharashtra | F10: Investment - State Development Loans | G10: 48646 | H10: 3250000 | I10: 0.0668 | J10: 106.1415 | K10: 3684236.1 | L10: SOV | M10: SOVEREIGN | N10: SOV | O10: SOVEREIGN | P10: Government of India | Q10: 325000000 | R10: 7.75 | S10: 325000000 | T10: 45777 | U10: 227 | V10: 154831 | W10: INR | X10: 100.07 | Y10: 325227500 | AA10: 106.2382 | AB10: -0.09 | AC10: 344959875 | AD10: 344959875 | AE10: 0 | AF10: 19732375 | AG10: 20046650 | AH10: -314275 | AJ10: 1.9805488e+09 | AK10: 17.4174 | AL10: BBG01FQH8BJ6 | AM10: SLV | AN10: 8142 | AO10: Government of India | AP10: 7.7 | AQ10: 45724 | AR10: 45908 | AS10: 2828 | AT10: Half-year | AU10: 45777 | AV10: CBV | AW10: 100 | AY10: LISTED | AZ10: 1 | BA10: Sovereign | BB10: Sovereign | BC10: 0.0668 | BD10: 0.0668 | BE10: 106.141 | BF10: 106.1419 | BG10: Debt | BH10: LIC33 | BI10: 5.84016 | BJ10: 5.84017 | BK10: 5.84016 | BL10: 3.4864411e+08 | BM10: 17.6034 | BN10: Government of India | BO10: 6.03523 | BT10: 0.06792
A11: LDBOND | B11: LIC MF Medium to Long Duration Fund | C11: IN2220230139 | D11: 7.71% MAHARASHTRA SDL RED 08-11-2033 | E11: State Government of Maharashtra | F11: Investment - State Development Loans | G11: 48891 | H11: 1250000 | I11: 0.0668 | J11: 106.607 | K11: 4631354.2 | L11: SOV | M11: SOVEREIGN | N11: SOV | O11: SOVEREIGN | P11: Government of India | Q11: 125000000 | R11: 8.41 | S11: 125000000 | T11: 45777 | U11: 227 | V11: 163099 | W11: INR | X11: 100.2178 | Y11: 1.2527228e+08 | AA11: 106.7095 | AB11: -0.1 | AC11: 133258750 | AD11: 133258750 | AE11: 0 | AF11: 7986465.9 | AG11: 8114590.9 | AH11: -128125 | AJ11: 1.9805488e+09 | AK11: 6.7284 | AL11: BBG01K1CW2Z8 | AM11: SLV | AN11: 8142 | AO11: Government of India | AP11: 7.71 | AQ11: 45604 | AR11: 45785 | AS11: 3068 | AT11: Half-year | AU11: 45777 | AV11: CBV | AW11: 100 | AY11: LISTED | AZ11: 1 | BA11: Sovereign | BB11: Sovereign | BC11: 0.0668 | BD11: 0.0668 | BE11: 106.6065 | BF11: 106.6075 | BG11: Debt | BH11: LIC33 | BI11: 6.05635 | BJ11: 6.05636 | BK11: 6.05635 | BL11: 1.378901e+08 | BM11: 6.9622 | BN11: Government of India | BO11: 6.25864 | BT11: 0.06792
A12: LDBOND | B12: LIC MF Medium to Long Duration Fund | C12: IN2220220072 | D12: 7.72% MAHARASHTRA SDL RED 25-05-2034 | E12: State Government of Maharashtra | F12: Investment - State Development Loans | G12: 49089 | H12: 300000 | I12: 0.0669 | J12: 106.9108 | K12: 1003600 | L12: SOV | M12: SOVEREIGN | N12: SOV | O12: SOVEREIGN | P12: Government of India | Q12: 30000000 | R12: 8.95 | S12: 30000000 | T12: 45777 | U12: 227 | V12: 168121 | W12: INR | X12: 102.0291 | Y12: 30608730 | AA12: 106.9471 | AB12: -0.03 | AC12: 32073240 | AD12: 32073240 | AE12: 0 | AF12: 1464510 | AG12: 1475400 | AH12: -10890 | AJ12: 1.9805488e+09 | AK12: 1.6194 | AL12: BBG017Q9Y3Y4 | AM12: SLV | AN12: 8142 | AO12: Government of India | AP12: 7.72 | AQ12: 45621 | AR12: 45802 | AS12: 3265 | AT12: Half-year | AU12: 45777 | AV12: CBV | AW12: 100 | AY12: LISTED | AZ12: 1 | BA12: Sovereign | BB12: Sovereign | BC12: 0.0668 | BD12: 0.067 | BE12: 106.9808 | BF12: 106.8407 | BG12: Debt | BH12: LIC33 | BI12: 6.35731 | BJ12: 6.35484 | BK12: 6.35608 | BL12: 33076840 | BM12: 1.6701 | BN12: Government of India | BO12: 6.56869 | BT12: 0.06802
A13: LDBOND | B13: LIC MF Medium to Long Duration Fund | C13: INTREP020525 | D13: TREPS_RED_02.05.2025 | E13: Clearing Corporation of India Ltd. | F13: Investment - TREPS | G13: 45779 | H13: 939970.96 | J13: 99.98357 | K13: 0 | P13: Others | Q13: 93997096 | R13: 0.01 | S13: 93997096 | T13: 45777 | U13: 247 | V13: 178347 | W13: INR | X13: 99.9671 | Y13: 93966214 | Z13: 93981655 | AC13: 93981655 | AD13: 93981655 | AE13: 15440.9 | AF13: 0 | AH13: 0 | AJ13: 1.9805488e+09 | AK13: 4.7452 | AL13: BBG01TS2WWP7 | AM13: UNL | AN13: 73640 | AO13: Others | AS13: 2 | AU13: 45777 | AV13: UNL | AW13: 100 | AY13: UNLISTED | AZ13: 1 | BG13: Debt | BH13: LIC33 | BL13: 93981655 | BM13: 4.7452 | BN13: Others
A14: LDBOND | B14: LIC MF Medium to Long Duration Fund | C14: INF0RQ622028 | D14: SBI CDMDF--A2 | E14: SBI Funds Management Ltd. | F14: Investment CDMDF | H14: 455.106 | J14: 11118.122 | K14: 0 | P14: AIF | R14: 0 | S14: 4551060 | T14: 45777 | U14: 620 | V14: 162785 | W14: INR | X14: 10021.338 | Y14: 4560771.2 | AA14: 11115.958 | AB14: 0.02 | AC14: 5059924.2 | AD14: 5059924.2 | AE14: 0 | AF14: 499153.01 | AG14: 498168.16 | AH14: 984.85 | AJ14: 1.9805488e+09 | AK14: 0.2555 | AL14: BBG01JXKFGP7 | AM14: UNL | AN14: 797694 | AO14: AIF | AS14: 0 | AU14: 45777 | AV14: UNL | AW14: 10000 | AY14: UNLISTED | AZ14: 1 | BG14: Debt | BH14: LIC33 | BL14: 5059924.2 | BM14: 0.2555 | BN14: AIF
A15: LDBOND | B15: LIC MF Medium to Long Duration Fund | F15: Other Net Assets | P15: MISCELLANEOUS | R15: 0 | T15: 45777 | AC15: 30076605 | AD15: 30076605 | AH15: 0 | AK15: 1.5186 | AO15: MISCELLANEOUS | AY15: LISTED | AZ15: 1 | BG15: Debt | BH15: LIC33 | BL15: -1388383.9 | BM15: -0.0699 | BN15: MISCELLANEOUS
A16: LDGETF | B16: LIC MF Nifty 8-13 yr G-Sec ETF | C16: IN0020240126 | D16: 6.79% GOVT OF INDIA RED 07-10-2034 | E16: Government of India | F16: Investment - Government Bonds | G16: 49224 | H16: 119800000 | I16: 0.06359 | J16: 103.02 | K16: 54248328 | L16: SOV | M16: SOVEREIGN | N16: SOV | O16: SOVEREIGN | P16: Government of India | Q16: 11980000000 | R16: 9.31 | S16: 11980000000 | T16: 45777 | U16: 203 | V16: 175034 | W16: INR | X16: 100.4482 | Y16: 1.2033694e+10 | AA16: 103.1427 | AB16: -0.12 | AC16: 12341796000 | AD16: 12341796000 | AE16: 0 | AF16: 3.0810151e+08 | AG16: 3.2283077e+08 | AH16: -14729260 | AJ16: 2.5253379e+10 | AK16: 48.8719 | AL16: BBG01Q35RT30 | AM16: SLV | AN16: 73639 | AO16: Government of India | AP16: 6.79 | AQ16: 45754 | AR16: 45937 | AS16: 3397 | AT16: Half-year | AU16: 45777 | AV16: CBV | AW16: 100 | AY16: LISTED | AZ16: 1 | BA16: Sovereign | BB16: Sovereign | BC16: 0.06359 | BD16: 0.06359 | BE16: 103.0199 | BF16: 103.0201 | BG16: Debt | BH16: LIC168 | BI16: 6.90654 | BJ16: 6.90655 | BK16: 6.90655 | BL16: 1.2396044e+10 | BM16: 49.0867 | BN16: Government of India | BO16: 7.12612 | BT16: 0.0646
A17: LDGETF | B17: LIC MF Nifty 8-13 yr G-Sec ETF | C17: IN0020240019 | D17: 7.10% GOVT OF INDIA RED 08-04-2034 | E17: Government of India | F17: Investment - Government Bonds | G17: 49042 | H17: 62654000 | I17: 0.06367 | J17: 104.9345 | K17: 28420551 | L17: SOV | M17: SOVEREIGN | N17: SOV | O17: SOVEREIGN | P17: Government of India | Q17: 6265400000 | R17: 8.82 | S17: 6265400000 | T17: 45777 | U17: 203 | V17: 168644 | W17: INR | X17: 101.234 | Y17: 6.3427122e+09 | AA17: 105.013 | AB17: -0.07 | AC17: 6574566163 | AD17: 6574566163 | AE17: 0 | AF17: 2.3185395e+08 | AG17: 2.3677229e+08 | AH17: -4918339 | AJ17: 2.5253379e+10 | AK17: 26.0344 | AL17: BBG01M86JP48 | AM17: SLV | AN17: 73639 | AO17: Government of India | AP17: 7.1 | AQ17: 45755 | AR17: 45938 | AS17: 3218 | AT17: Half-year | AU17: 45777 | AV17: CBV | AW17: 100 | AY17: LISTED | AZ17: 1 | BA17: Sovereign | BB17: Sovereign | BC17: 0.06367 | BD17: 0.06367 | BE17: 104.9346 | BF17: 104.9344 | BG17: Debt | BH17: LIC168 | BI17: 6.58768 | BJ17: 6.58767 | BK17: 6.58768 | BL17: 6.6029867e+09 | BM17: 26.1469 | BN17: Government of India | BO17: 6.79738 | BT17: 0.06468
A18: LDGETF | B18: LIC MF Nifty 8-13 yr G-Sec ETF | C18: IN0020230085 | D18: 7.18% GOVT OF INDIA RED 14-08-2033 | E18: Government of India | F18: Investment - Government Bonds | G18: 48805 | H18: 58071100 | I18: 0.06351 | J18: 105.2655 | K18: 89161134 | L18: SOV | M18: SOVEREIGN | N18: SOV | O18: SOVEREIGN | P18: Government of India | Q18: 5807110000 | R18: 8.18 | S18: 5807110000 | T18: 45777 | U18: 203 | V18: 160576 | W18: INR | X18: 100.4509 | Y18: 5.8332961e+09 | AA18: 105.312 | AB18: -0.04 | AC18: 6.1128834e+09 | AD18: 6.1128834e+09 | AE18: 0 | AF18: 2.7958727e+08 | AG18: 2.8714864e+08 | AH18: -7561374.3 | AI18: 4949068.2 | AJ18: 2.5253379e+10 | AK18: 24.2062 | AL18: BBG01HT0LQW3 | AM18: SLV | AN18: 73639 | AO18: Government of India | AP18: 7.18 | AQ18: 45702 | AR18: 45883 | AS18: 2984 | AT18: Half-year | AU18: 45777 | AV18: CBV | AW18: 100 | AY18: LISTED | AZ18: 1 | BA18: Sovereign | BB18: Sovereign | BC18: 0.06351 | BD18: 0.06351 | BE18: 105.2656 | BF18: 105.2653 | BG18: Debt | BH18: LIC168 | BI18: 6.15649 | BJ18: 6.15649 | BK18: 6.15649 | BL18: 6.2020445e+09 | BM18: 24.5593 | BN18: Government of India | BO18: 6.35198 | BT18: 0.06452
A19: LDGETF | B19: LIC MF Nifty 8-13 yr G-Sec ETF | C19: INTREP020525 | D19: TREPS_RED_02.05.2025 | E19: Clearing Corporation of India Ltd. | F19: Investment - TREPS | G19: 45779 | H19: 348440.38 | J19: 99.98357 | K19: 0 | P19: Others | Q19: 34844037 | R19: 0.01 | S19: 34844037 | T19: 45777 | U19: 247 | V19: 178347 | W19: INR | X19: 99.9671 | Y19: 34832590 | Z19: 34838314 | AC19: 34838314 | AD19: 34838314 | AE19: 5723.83 | AF19: 0 | AH19: 0 | AJ19: 2.5253379e+10 | AK19: 0.138 | AL19: BBG01TS2WWP7 | AM19: UNL | AN19: 73640 | AO19: Others | AS19: 2 | AU19: 45777 | AV19: UNL | AW19: 100 | AY19: UNLISTED | AZ19: 1 | BG19: Debt | BH19: LIC168 | BL19: 34838314 | BM19: 0.138 | BN19: Others
A20: LDGETF | B20: LIC MF Nifty 8-13 yr G-Sec ETF | F20: Other Net Assets | P20: MISCELLANEOUS | R20: 0 | T20: 45777 | AC20: 1.8929487e+08 | AD20: 1.8929487e+08 | AH20: 0 | AK20: 0.7495 | AO20: MISCELLANEOUS | AY20: LISTED | AZ20: 1 | BG20: Debt | BH20: LIC168 | BL20: 17464853 | BM20: 0.0691 | BN20: MISCELLANEOUS
A21: LDGSEC | B21: LIC MF Gilt Fund | C21: IN0020250018 | D21: 6.9% GOVT OF INDIA RED 15-04-2065 | E21: Government of India | F21: Investment - Government Bonds | G21: 60372 | H21: 1500000 | I21: 0.06795 | J21: 101.4394 | K21: 460000 | L21: SOV | M21: SOVEREIGN | N21: SOV | O21: SOVEREIGN | P21: Government of India | Q21: 150000000 | R21: 39.41 | S21: 150000000 | T21: 45777 | U21: 203 | V21: 182808 | W21: INR | X21: 100.3 | Y21: 150450000 | AA21: 101.5177 | AB21: -0.08 | AC21: 152159100 | AD21: 152159100 | AE21: 0 | AF21: 1709100 | AG21: 1826550 | AH21: -117450 | AJ21: 9.2412355e+08 | AK21: 16.4652 | AL21: BBG01TB005Q2 | AM21: SLV | AN21: 73639 | AO21: Government of India | AP21: 6.9 | AQ21: 45762 | AR21: 45945 | AS21: 14385 | AT21: Half-year | AU21: 45777 | AV21: CBV | AW21: 100 | AY21: LISTED | AZ21: 1 | BA21: Sovereign | BB21: Sovereign | BC21: 0.06795 | BD21: 0.06795 | BE21: 101.4382 | BF21: 101.4405 | BG21: Debt | BH21: LIC34 | BI21: 13.62222 | BJ21: 13.63185 | BK21: 13.63185 | BL21: 152619100 | BM21: 16.515 | BN21: Government of India | BO21: 14.09496 | BT21: 0.0691
A22: LDGSEC | B22: LIC MF Gilt Fund | C22: IN0020240175 | D22: 6.98% GOVT OF INDIA SGRB RED 16-12-2054 | E22: Government of India | F22: Investment - Government Bonds | G22: 56599 | H22: 500000 | I22: 0.06782 | J22: 102.4999 | K22: 1308750 | L22: SOV | M22: SOVEREIGN | N22: SOV | O22: SOVEREIGN | P22: Government of India | Q22: 50000000 | R22: 29.22 | S22: 50000000 | T22: 45777 | U22: 203 | V22: 182919 | W22: INR | X22: 101.41 | Y22: 50705000 | AA22: 102.7998 | AB22: -0.29 | AC22: 51249950 | AD22: 51249950 | AE22: 0 | AF22: 544950 | AG22: 694900 | AH22: -149950 | AJ22: 9.2412355e+08 | AK22: 5.5458 | AL22: BBG01R6PXDK0 | AM22: SLV | AN22: 73639 | AO22: Government of India | AP22: 6.98 | AQ22: 45642 | AR22: 45824 | AS22: 10666 | AT22: Half-year | AU22: 45777 | AV22: CBV | AW22: 100 | AY22: LISTED | AZ22: 1 | BA22: Sovereign | BB22: Sovereign | BC22: 0.06782 | BD22: 0.06782 | BE22: 102.4999 | BF22: 102.4999 | BG22: Debt | BH22: LIC34 | BI22: 12.32551 | BJ22: 12.32551 | BK22: 12.32551 | BL22: 52558700 | BM22: 5.6874 | BN22: Government of India | BO22: 12.74349 | BT22: 0.06897
A23: LDGSEC | B23: LIC MF Gilt Fund | C23: IN0020240019 | D23: 7.10% GOVT OF INDIA RED 08-04-2034 | E23: Government of India | F23: Investment - Government Bonds | G23: 49042 | H23: 200000 | I23: 0.06367 | J23: 104.9345 | K23: 90722.22 | L23: SOV | M23: SOVEREIGN | N23: SOV | O23: SOVEREIGN | P23: Government of India | Q23: 20000000 | R23: 8.82 | S23: 20000000 | T23: 45777 | U23: 203 | V23: 168644 | W23: INR | X23: 102.0187 | Y23: 20403747 | AA23: 105.013 | AB23: -0.07 | AC23: 20986900 | AD23: 20986900 | AE23: 0 | AF23: 583153.13 | AG23: 598853.13 | AH23: -15700 | AJ23: 9.2412355e+08 | AK23: 2.271 | AL23: BBG01M86JP48 | AM23: SLV | AN23: 73639 | AO23: Government of India | AP23: 7.1 | AQ23: 45755 | AR23: 45938 | AS23: 3218 | AT23: Half-year | AU23: 45777 | AV23: CBV | AW23: 100 | AY23: LISTED | AZ23: 1 | BA23: Sovereign | BB23: Sovereign | BC23: 0.06367 | BD23: 0.06367 | BE23: 104.9346 | BF23: 104.9344 | BG23: Debt | BH23: LIC34 | BI23: 6.58768 | BJ23: 6.58767 | BK23: 6.58768 | BL23: 21077622 | BM23: 2.2808 | BN23: Government of India | BO23: 6.79738 | BT23: 0.06468
A24: LDGSEC | B24: LIC MF Gilt Fund | C24: IN0020240027 | D24: 7.23% GOVT OF INDIA RED 15-04-2039 | E24: Government of India | F24: Investment - Government Bonds | G24: 50875 | H24: 1000000 | I24: 0.06456 | J24: 107.041 | K24: 321333.33 | L24: SOV | M24: SOVEREIGN | N24: SOV | O24: SOVEREIGN | P24: Government of India | Q24: 100000000 | R24: 13.77 | S24: 100000000 | T24: 45777 | U24: 203 | V24: 168826 | W24: INR | X24: 103.545 | Y24: 103545000 | AA24: 107.0947 | AB24: -0.05 | AC24: 107041000 | AD24: 107041000 | AE24: 0 | AF24: 3496000 | AG24: 3549700 | AH24: -53700 | AJ24: 9.2412355e+08 | AK24: 11.583 | AL24: BBG01MBTPT21 | AM24: SLV | AN24: 73639 | AO24: Government of India | AP24: 7.23 | AQ24: 45762 | AR24: 45945 | AS24: 5025 | AT24: Half-year | AU24: 45777 | AV24: CBV | AW24: 100 | AY24: LISTED | AZ24: 1 | BA24: Sovereign | BB24: Sovereign | BC24: 0.06456 | BD24: 0.06456 | BE24: 107.041 | BF24: 107.041 | BG24: Debt | BH24: LIC34 | BI24: 8.87856 | BJ24: 8.87856 | BK24: 8.87856 | BL24: 1.0736233e+08 | BM24: 11.6177 | BN24: Government of India | BO24: 9.16518 | BT24: 0.06561
A25: LDGSEC | B25: LIC MF Gilt Fund | C25: IN0020230051 | D25: 7.30% GOVT OF INDIA RED 19-06-2053 | E25: Government of India | F25: Investment - Government Bonds | G25: 56054 | H25: 1250000 | I25: 0.06781 | J25: 106.4731 | K25: 3345833.3 | L25: SOV | M25: SOVEREIGN | N25: SOV | O25: SOVEREIGN | P25: Government of India | Q25: 125000000 | R25: 27.75 | S25: 125000000 | T25: 45777 | U25: 203 | V25: 158644 | W25: INR | X25: 101.794 | Y25: 127242500 | AA25: 106.5995 | AB25: -0.12 | AC25: 133091375 | AD25: 133091375 | AE25: 0 | AF25: 5848875 | AG25: 6006875 | AH25: -158000 | AJ25: 9.2412355e+08 | AK25: 14.4019 | AL25: BBG01GZZ8QY4 | AM25: SLV | AN25: 73639 | AO25: Government of India | AP25: 7.3 | AQ25: 45645 | AR25: 45827 | AS25: 10129 | AT25: Half-year | AU25: 45777 | AV25: CBV | AW25: 100 | AY25: LISTED | AZ25: 1 | BA25: Sovereign | BB25: Sovereign | BC25: 0.06781 | BD25: 0.06781 | BE25: 106.4729 | BF25: 106.4733 | BG25: Debt | BH25: LIC34 | BI25: 12.02681 | BJ25: 12.02684 | BK25: 12.02684 | BL25: 1.3643721e+08 | BM25: 14.764 | BN25: Government of India | BO25: 12.43459 | BT25: 0.06896
A26: LDGSEC | B26: LIC MF Gilt Fund | C26: IN0020240035 | D26: 7.34% GOVT OF INDIA RED 22-04-2064 | E26: Government of India | F26: Investment - Government Bonds | G26: 60014 | H26: 2750000 | I26: 0.06811 | J26: 107.2003 | K26: 504625 | L26: SOV | M26: SOVEREIGN | N26: SOV | O26: SOVEREIGN | P26: Government of India | Q26: 275000000 | R26: 38.44 | S26: 275000000 | T26: 45777 | U26: 203 | V26: 169651 | W26: INR | X26: 103.8324 | Y26: 2.8553897e+08 | AA26: 107.3224 | AB26: -0.11 | AC26: 294800825 | AD26: 294800825 | AE26: 0 | AF26: 9261854.4 | AG26: 9597629.4 | AH26: -335775 | AJ26: 9.2412355e+08 | AK26: 31.9006 | AL26: BBG01MFT8NR2 | AM26: SLV | AN26: 73639 | AO26: Government of India | AP26: 7.34 | AQ26: 45769 | AR26: 45952 | AS26: 14032 | AT26: Half-year | AU26: 45777 | AV26: CBV | AW26: 100 | AY26: LISTED | AZ26: 1 | BA26: Sovereign | BB26: Sovereign | BC26: 0.06811 | BD26: 0.06811 | BE26: 107.2003 | BF26: 107.2003 | BG26: Debt | BH26: LIC34 | BI26: 13.45299 | BJ26: 13.45299 | BK26: 13.45299 | BL26: 295305450 | BM26: 31.9552 | BN26: Government of India | BO26: 13.9111 | BT26: 0.06926
A27: LDGSEC | B27: LIC MF Gilt Fund | C27: IN2220230139 | D27: 7.71% MAHARASHTRA SDL RED 08-11-2033 | E27: State Government of Maharashtra | F27: Investment - State Development Loans | G27: 48891 | H27: 250000 | I27: 0.0668 | J27: 106.607 | K27: 926270.83 | L27: SOV | M27: SOVEREIGN | N27: SOV | O27: SOVEREIGN | P27: Government of India | Q27: 25000000 | R27: 8.41 | S27: 25000000 | T27: 45777 | U27: 227 | V27: 163099 | W27: INR | X27: 100.6731 | Y27: 25168275 | AA27: 106.7095 | AB27: -0.1 | AC27: 26651750 | AD27: 26651750 | AE27: 0 | AF27: 1483475 | AG27: 1509100 | AH27: -25625 | AJ27: 9.2412355e+08 | AK27: 2.884 | AL27: BBG01K1CW2Z8 | AM27: SLV | AN27: 8142 | AO27: Government of India | AP27: 7.71 | AQ27: 45604 | AR27: 45785 | AS27: 3068 | AT27: Half-year | AU27: 45777 | AV27: CBV | AW27: 100 | AY27: LISTED | AZ27: 1 | BA27: Sovereign | BB27: Sovereign | BC27: 0.0668 | BD27: 0.0668 | BE27: 106.6065 | BF27: 106.6075 | BG27: Debt | BH27: LIC34 | BI27: 6.05635 | BJ27: 6.05636 | BK27: 6.05635 | BL27: 27578021 | BM27: 2.9842 | BN27: Government of India | BO27: 6.25864 | BT27: 0.06792
A28: LDGSEC | B28: LIC MF Gilt Fund | C28: IN2220220072 | D28: 7.72% MAHARASHTRA SDL RED 25-05-2034 | E28: State Government of Maharashtra | F28: Investment - State Development Loans | G28: 49089 | H28: 200000 | I28: 0.0669 | J28: 106.9108 | K28: 669066.67 | L28: SOV | M28: SOVEREIGN | N28: SOV | O28: SOVEREIGN | P28: Government of India | Q28: 20000000 | R28: 8.95 | S28: 20000000 | T28: 45777 | U28: 227 | V28: 168121 | W28: INR | X28: 102.0291 | Y28: 20405820 | AA28: 106.9471 | AB28: -0.03 | AC28: 21382160 | AD28: 21382160 | AE28: 0 | AF28: 976340 | AG28: 983600 | AH28: -7260 | AJ28: 9.2412355e+08 | AK28: 2.3138 | AL28: BBG017Q9Y3Y4 | AM28: SLV | AN28: 8142 | AO28: Government of India | AP28: 7.72 | AQ28: 45621 | AR28: 45802 | AS28: 3265 | AT28: Half-year | AU28: 45777 | AV28: CBV | AW28: 100 | AY28: LISTED | AZ28: 1 | BA28: Sovereign | BB28: Sovereign | BC28: 0.0668 | BD28: 0.067 | BE28: 106.9808 | BF28: 106.8407 | BG28: Debt | BH28: LIC34 | BI28: 6.35731 | BJ28: 6.35484 | BK28: 6.35608 | BL28: 22051227 | BM28: 2.3862 | BN28: Government of India | BO28: 6.56869 | BT28: 0.06802
A29: LDGSEC | B29: LIC MF Gilt Fund | C29: INTREP020525 | D29: TREPS_RED_02.05.2025 | E29: Clearing Corporation of India Ltd. | F29: Investment - TREPS | G29: 45779 | H29: 1097666.8 | J29: 99.98357 | K29: 0 | P29: Others | Q29: 1.0976668e+08 | R29: 0.01 | S29: 1.0976668e+08 | T29: 45777 | U29: 247 | V29: 178347 | W29: INR | X29: 99.9671 | Y29: 1.0973061e+08 | Z29: 1.0974865e+08 | AC29: 1.0974865e+08 | AD29: 1.0974865e+08 | AE29: 18031.33 | AF29: 0 | AH29: 0 | AJ29: 9.2412355e+08 | AK29: 11.876 | AL29: BBG01TS2WWP7 | AM29: UNL | AN29: 73640 | AO29: Others | AS29: 2 | AU29: 45777 | AV29: UNL | AW29: 100 | AY29: UNLISTED | AZ29: 1 | BG29: Debt | BH29: LIC34 | BL29: 1.0974865e+08 | BM29: 11.876 | BN29: Others
A30: LDGSEC | B30: LIC MF Gilt Fund | F30: Other Net Assets | P30: MISCELLANEOUS | R30: 0 | T30: 45777 | AC30: 7011848.4 | AD30: 7011848.4 | AH30: 0 | AK30: 0.7587 | AO30: MISCELLANEOUS | AY30: LISTED | AZ30: 1 | BG30: Debt | BH30: LIC34 | BL30: -614753.02 | BM30: -0.0665 | BN30: MISCELLANEOUS
A31: LDINPF | B31: LIC MF Banking & PSU Fund | C31: INE238AD6AM2 | D31: AXIS BANK LTD CD RED 04-02-2026 | E31: Axis Bank Ltd. | F31: Investment - Certificate of Deposit | G31: 46057 | H31: 1500000 | I31: 0.06712 | J31: 95.1202 | K31: 0 | L31: A1+ | M31: CRISIL | N31: AAA | O31: CRISIL | P31: Private Sector Bank | Q31: 150000000 | R31: 0.77 | S31: 150000000 | T31: 45777 | U31: 209 | V31: 180164 | W31: INR | X31: 94.0911 | Y31: 141136650 | Z31: 1.421246e+08 | AA31: 95.1175 | AB31: 0 | AC31: 142680300 | AD31: 142680300 | AE31: 987952.5 | AF31: 555697.5 | AG31: 579874.5 | AH31: -24177 | AJ31: 1.828812e+10 | AK31: 0.7802 | AL31: BBG01S4ML894 | AM31: SLV | AN31: 6155 | AO31: Banks | AS31: 280 | AU31: 45777 | AV31: UNL | AW31: 100 | AY31: UNLISTED | AZ31: 1 | BA31: CRISIL A1+ | BB31: [ICRA]A1+ | BC31: 0.06713 | BD31: 0.0671 | BE31: 95.1192 | BF31: 95.1212 | BG31: Debt | BH31: LIC72 | BL31: 142680300 | BM31: 0.7802 | BN31: Financial Services | BQ31: 0 | BR31: 0 | BS31: N
A32: LDINPF | B32: LIC MF Banking & PSU Fund | C32: INE238AD6918 | D32: AXIS BANK LTD CD RED 09-09-2025 | E32: Axis Bank Ltd. | F32: Investment - Certificate of Deposit | G32: 45909 | H32: 5000000 | I32: 0.0666 | J32: 97.6656 | K32: 0 | L32: A1+ | M32: CRISIL | N32: AAA | O32: CRISIL | P32: Private Sector Bank | Q32: 500000000 | R32: 0.36 | S32: 500000000 | T32: 45777 | U32: 209 | V32: 174375 | W32: INR | X32: 97.4954 | Y32: 487477000 | Z32: 488365155 | AA32: 97.658 | AB32: 0.01 | AC32: 488328000 | AD32: 488328000 | AE32: 888155 | AF32: -37155 | AG32: 13660 | AH32: -50815 | AJ32: 1.828812e+10 | AK32: 2.6702 | AL32: BBG01PMJX402 | AM32: SLV | AN32: 6155 | AO32: Banks | AS32: 132 | AU32: 45777 | AV32: UNL | AW32: 100 | AY32: UNLISTED | AZ32: 1 | BA32: CRISIL A1+ | BB32: [ICRA]A1+ | BC32: 0.0666 | BD32: 0.0666 | BE32: 97.6656 | BF32: 97.6655 | BG32: Debt | BH32: LIC72 | BL32: 488328000 | BM32: 2.6702 | BN32: Financial Services | BQ32: 41000000000 | BR32: 4.878 | BS32: N
A33: LDINPF | B33: LIC MF Banking & PSU Fund | C33: INE476A16ZA9 | D33: CANARA BANK CD RED 03-09-2025 | E33: Canara Bank | F33: Investment - Certificate of Deposit | G33: 45903 | H33: 2500000 | I33: 0.0663 | J33: 97.7799 | K33: 0 | L33: A1+ | M33: CRISIL | N33: AAA | O33: CRISIL | P33: Public Sector Bank | Q33: 250000000 | R33: 0.35 | S33: 250000000 | T33: 45777 | U33: 209 | V33: 175518 | W33: INR | X33: 97.5995 | Y33: 243998750 | Z33: 2.4444329e+08 | AA33: 97.7741 | AB33: 0.01 | AC33: 244449750 | AD33: 244449750 | AE33: 444537.5 | AF33: 6462.5 | AG33: 36417.5 | AH33: -29955 | AJ33: 1.828812e+10 | AK33: 1.3367 | AL33: BBG01PKKFS08 | AM33: SLV | AN33: 6343 | AO33: Banks | AS33: 126 | AU33: 45777 | AV33: UNL | AW33: 100 | AY33: UNLISTED | AZ33: 1 | BA33: CRISIL A1+ | BB33: CRISIL A1+ | BC33: 0.0663 | BD33: 0.0663 | BE33: 97.7799 | BF33: 97.7799 | BG33: Debt | BH33: LIC72 | BL33: 244449750 | BM33: 1.3367 | BN33: Financial Services | BQ33: 22500000000 | BR33: 1.111 | BS33: N
A34: LDINPF | B34: LIC MF Banking & PSU Fund | C34: INE476A16ZT9 | D34: CANARA BANK CD RED 18-12-2025 | E34: Canara Bank | F34: Investment - Certificate of Deposit | G34: 46009 | H34: 5000000 | I34: 0.0669 | J34: 95.938 | K34: 0 | L34: A1+ | M34: CRISIL | N34: AAA | O34: CRISIL | P34: Public Sector Bank | Q34: 500000000 | R34: 0.64 | S34: 500000000 | T34: 45777 | U34: 209 | V34: 178041 | W34: INR | X34: 95.8984 | Y34: 479492000 | Z34: 479668035 | AA34: 95.9153 | AB34: 0.02 | AC34: 479690000 | AD34: 479690000 | AE34: 176035 | AF34: 21965 | AG34: -3520 | AH34: 25485 | AJ34: 1.828812e+10 | AK34: 2.623 | AL34: BBG01R9R9W73 | AM34: SLV | AN34: 6343 | AO34: Banks | AS34: 232 | AU34: 45777 | AV34: UNL | AW34: 100 | AY34: UNLISTED | AZ34: 1 | BA34: CRISIL A1+ | BB34: CRISIL A1+ | BC34: 0.0669 | BD34: 0.0669 | BE34: 95.938 | BF34: 95.938 | BG34: Debt | BH34: LIC72 | BL34: 479690000 | BM34: 2.623 | BN34: Financial Services | BQ34: 30100000000 | BR34: 1.661 | BS34: N
A35: LDINPF | B35: LIC MF Banking & PSU Fund | C35: INE040A16FY5 | D35: HDFC BANK CD RED 04-12-2025 | E35: HDFC Bank Ltd. | F35: Investment - Certificate of Deposit | G35: 45995 | H35: 1500000 | I35: 0.067 | J35: 96.1693 | K35: 0 | L35: A1+ | M35: CRISIL | N35: AAA | O35: CRISIL | P35: Private Sector Bank | Q35: 150000000 | R35: 0.6 | S35: 150000000 | T35: 45777 | U35: 209 | V35: 177493 | W35: INR | X35: 92.9887 | Y35: 139483050 | Z35: 143747457 | AA35: 96.1545 | AB35: 0.02 | AC35: 144253950 | AD35: 144253950 | AE35: 4264407 | AF35: 506493 | AG35: 513106.5 | AH35: -6613.5 | AJ35: 1.828812e+10 | AK35: 0.7888 | AL35: BBG01R3GZY34 | AM35: SLV | AN35: 6884 | AO35: Banks | AS35: 218 | AU35: 45777 | AV35: UNL | AW35: 100 | AY35: UNLISTED | AZ35: 1 | BA35: CRISIL A1+ | BB35: CARE A1+ | BC35: 0.067 | BD35: 0.067 | BE35: 96.1693 | BF35: 96.1693 | BG35: Debt | BH35: LIC72 | BL35: 144253950 | BM35: 0.7888 | BN35: Financial Services | BQ35: 152500000000 | BR35: 0.524 | BS35: N
A36: LDINPF | B36: LIC MF Banking & PSU Fund | C36: INE562A16NV8 | D36: INDIAN BANK CD RED 08-01-2026 | E36: Indian Bank | F36: Investment - Certificate of Deposit | G36: 46030 | H36: 4000000 | I36: 0.0667 | J36: 95.5977 | K36: 0 | L36: A1+ | M36: CRISIL | N36: AAA | O36: CRISIL | P36: Public Sector Bank | Q36: 400000000 | R36: 0.69 | S36: 400000000 | T36: 45777 | U36: 209 | V36: 182151 | W36: INR | X36: 94.5544 | Y36: 378217600 | Z36: 380807116 | AA36: 95.6123 | AB36: -0.02 | AC36: 382390800 | AD36: 382390800 | AE36: 2589516 | AF36: 1583684 | AG36: 1718244 | AH36: -134560 | AJ36: 1.828812e+10 | AK36: 2.0909 | AL36: BBG01RP0YR77 | AM36: SLV | AN36: 73286 | AO36: Banks | AS36: 253 | AU36: 45777 | AV36: UNL | AW36: 100 | AY36: UNLISTED | AZ36: 1 | BA36: CRISIL A1+ | BB36: CRISIL A1+ | BC36: 0.0667 | BD36: 0.0667 | BE36: 95.5976 | BF36: 95.5977 | BG36: Debt | BH36: LIC72 | BL36: 382390800 | BM36: 2.0909 | BN36: Financial Services | BQ36: 40000000000 | BR36: 2.5 | BS36: N
A37: LDINPF | B37: LIC MF Banking & PSU Fund | C37: INE028A08281 | D37: 7.39% BANK OF BARODA NCD RED 17-08-29 | E37: Bank of Baroda | F37: Investment - Corporate Bonds / Debentures | G37: 47347 | H37: 5000000 | I37: 0.06885 | J37: 101.7732 | K37: 26016849 | L37: AAA | M37: ICRA | N37: AAA | O37: ICRA | P37: Public Sector Bank | Q37: 500000000 | R37: 4.3 | S37: 500000000 | T37: 45777 | U37: 202 | V37: 148070 | W37: INR | X37: 100 | Y37: 500000000 | AA37: 101.8106 | AB37: -0.04 | AC37: 508866000 | AD37: 508866000 | AE37: 0 | AF37: 8866000 | AG37: 9053000 | AH37: -187000 | AJ37: 1.828812e+10 | AK37: 2.7825 | AL37: BBG0196W1PD1 | AM37: SLV | AN37: 6194 | AO37: Banks | AP37: 7.39 | AQ37: 45521 | AR37: 45886 | AS37: 1570 | AT37: Year | AU37: 45777 | AV37: CBV | AW37: 100 | AY37: LISTED | AZ37: 1 | BA37: [ICRA]AAA | BB37: [ICRA]AAA | BC37: 0.0688 | BD37: 0.0689 | BE37: 101.7915 | BF37: 101.7548 | BG37: Debt | BH37: LIC72 | BI37: 3.42522 | BJ37: 3.42477 | BK37: 3.42499 | BL37: 5.3488285e+08 | BM37: 2.9248 | BN37: Financial Services | BO37: 3.6608 | BQ37: 10000000000 | BR37: 5 | BS37: N
A38: LDINPF | B38: LIC MF Banking & PSU Fund | C38: INE514E08FH3 | D38: 7.02% EXIM BANK NCD RED SR T 25-11-2031 | E38: Export Import Bank of India | F38: Investment - Corporate Bonds / Debentures | G38: 48177 | H38: 5000000 | I38: 0.06836 | J38: 100.8938 | K38: 15097808 | L38: AAA | M38: CRISIL | N38: AAA | O38: CRISIL | P38: Financial Institution | Q38: 500000000 | R38: 6.58 | S38: 500000000 | T38: 45777 | U38: 202 | V38: 94676 | W38: INR | X38: 99.4406 | Y38: 497203000 | AA38: 100.8942 | AB38: 0 | AC38: 504469000 | AD38: 504469000 | AE38: 0 | AF38: 7266000 | AG38: 7268000 | AH38: -2000 | AJ38: 1.828812e+10 | AK38: 2.7585 | AL38: BBG00HDPFFR3 | AM38: SLV | AN38: 6648 | AO38: Finance | AP38: 7.02 | AQ38: 45621 | AR38: 45986 | AS38: 2400 | AT38: Year | AU38: 45777 | AV38: CBV | AW38: 100 | AY38: LISTED | AZ38: 1 | BA38: CRISIL AAA | BB38: [ICRA]AAA | BC38: 0.06821 | BD38: 0.0685 | BE38: 100.9686 | BF38: 100.819 | BG38: Debt | BH38: LIC72 | BI38: 4.99985 | BJ38: 4.99749 | BK38: 4.99867 | BL38: 5.1956681e+08 | BM38: 2.841 | BN38: Financial Services | BO38: 5.34036
A39: LDINPF | B39: LIC MF Banking & PSU Fund | C39: INE514E08GD0 | D39: 7.14% EXIM BOND SR AA01 NCD 13-12-2029 | E39: Export Import Bank of India | F39: Investment - Corporate Bonds / Debentures | G39: 47465 | H39: 2500000 | I39: 0.06791 | J39: 101.2917 | K39: 6797671.2 | L39: AAA | M39: CRISIL | N39: AAA | O39: CRISIL | P39: Financial Institution | Q39: 250000000 | R39: 4.62 | S39: 250000000 | T39: 45777 | U39: 202 | V39: 177985 | W39: INR | X39: 100 | Y39: 250000000 | AA39: 101.3315 | AB39: -0.04 | AC39: 253229250 | AD39: 253229250 | AE39: 0 | AF39: 3229250 | AG39: 3328750 | AH39: -99500 | AJ39: 1.828812e+10 | AK39: 1.3847 | AL39: BBG01R76TPW6 | AM39: SLV | AN39: 6648 | AO39: Finance | AP39: 7.14 | AQ39: 45639 | AR39: 46004 | AS39: 1688 | AT39: Year | AU39: 45777 | AV39: CBV | AW39: 100 | AY39: LISTED | AZ39: 1 | BA39: CRISIL AAA | BB39: [ICRA]AAA | BC39: 0.06791 | BD39: 0.0679 | BE39: 101.2893 | BF39: 101.294 | BG39: Debt | BH39: LIC72 | BI39: 3.74625 | BJ39: 3.74631 | BK39: 3.74628 | BL39: 2.6002692e+08 | BM39: 1.4218 | BN39: Financial Services | BO39: 4.00067
A40: LDINPF | B40: LIC MF Banking & PSU Fund | C40: INE514E08GB4 | D40: 7.45% EXIM BOND SR Z01 NCD 12-04-2028 | E40: Export Import Bank of India | F40: Investment - Corporate Bonds / Debentures | G40: 46855 | H40: 5500000 | I40: 0.0681 | J40: 101.6477 | K40: 8756301.4 | L40: AAA | M40: CRISIL | N40: AAA | O40: CRISIL | P40: Financial Institution | Q40: 550000000 | R40: 2.95 | S40: 550000000 | T40: 45777 | U40: 202 | V40: 166757 | W40: INR | X40: 100.0914 | Y40: 5.5050288e+08 | AA40: 101.7756 | AB40: -0.13 | AC40: 559062350 | AD40: 559062350 | AE40: 0 | AF40: 8559466.7 | AG40: 9262916.7 | AH40: -703450 | AJ40: 1.828812e+10 | AK40: 3.057 | AL40: BBG01LDV4ZK5 | AM40: SLV | AN40: 6648 | AO40: Finance | AP40: 7.45 | AQ40: 45700 | AR40: 46065 | AS40: 1078 | AT40: Year | AU40: 45777 | AV40: CBV | AW40: 100 | AY40: LISTED | AZ40: 1 | BA40: CRISIL AAA | BB40: [ICRA]AAA | BC40: 0.06809 | BD40: 0.0681 | BE40: 101.6487 | BF40: 101.6466 | BG40: Debt | BH40: LIC72 | BI40: 2.54421 | BJ40: 2.54419 | BK40: 2.5442 | BL40: 5.6781865e+08 | BM40: 3.1048 | BN40: Financial Services | BO40: 2.71745
...

Sheet capitaline data
A1: CAPITALINE CODE | B1: CO_NAME | C1: [Year End[Latest]] | D1: [EPS (Adj)(Unit Curr.)[Latest]] | E1: [Year End[Latest1]] | F1: [EPS (Adj)(Unit Curr.)[Latest1]] | G1: [Year End[Latest2]] | H1: [EPS (Adj)(Unit Curr.)[Latest2]] | I1: [Year End[Latest3]] | J1: [EPS (Adj)(Unit Curr.)[Latest3]] | K1: [Company Long Name | L1: [BSE Code | M1: [NSE Symbol | N1: [Bloomberg | O1: [ISIN No | Q1: EPS T12
A2: 6 | B2: ACC | C2: 202503 | D2: 39.99 | E2: 202412 | F2: 58.14 | G2: 202409 | H2: 10.55 | I2: 202406 | J2: 19.24 | K2: ACC Ltd | L2: 500410 | M2: ACC | N2: ACC IN | O2: INE012A01025 | Q2: =D2+F2+H2+J2 -> 127.92
A3: 9 | B3: Aegis Logistics | C3: 202412 | D3: 3.54 | E3: 202409 | F3: 3.59 | G3: 202406 | H3: 3.75 | I3: 202403 | J3: 5.59 | K3: Aegis Logistics Ltd | L3: 500003 | M3: AEGISLOG | N3: AEGISLOG IN | O3: INE208C01025 | Q3: =D3+F3+H3+J3 -> 16.47
A4: 11 | B4: Alfred Herbert | C4: 202412 | D4: 86.43 | E4: 202409 | F4: -0.39 | G4: 202406 | H4: -4.24 | I4: 202403 | J4: 0.24 | K4: Alfred Herbert (India) Ltd | L4: 505216 | M4: ALFREDHERB | N4: ALFRD IN | O4: INE782D01027 | Q4: =D4+F4+H4+J4 -> 82.04
A5: 14 | B5: Ambalal Sarabhai | C5: 202412 | D5: 0.29 | E5: 202409 | F5: 0.34 | G5: 202406 | H5: 0.05 | I5: 202403 | J5: 1.18 | K5: Ambalal Sarabhai Enterprises Ltd | L5: 500009 | M5: AMBASARABH | N5: SARA IN | O5: INE432A01017 | Q5: =D5+F5+H5+J5 -> 1.86
A6: 23 | B6: Apollo Tyres | C6: 202412 | D6: 5.31 | E6: 202409 | F6: 4.68 | G6: 202406 | H6: 4.76 | I6: 202403 | J6: 5.58 | K6: Apollo Tyres Ltd | L6: 500877 | M6: APOLLOTYRE | N6: APTY IN | O6: INE438A01022 | Q6: =D6+F6+H6+J6 -> 20.33
A7: 24 | B7: Utique Enterp. | C7: 202112 | D7: 0.5 | E7: 202109 | F7: -0.03 | G7: 202106 | H7: 0.15 | I7: 202103 | J7: -0.04 | K7: Utique Enterprises Ltd | L7: 500014 | M7: APPLEIND | N7: UTIQUE IN | O7: INE096A01010 | Q7: =D7+F7+H7+J7 -> 0.58
A8: 29 | B8: Arvind Ltd | C8: 202412 | D8: 3.96 | E8: 202409 | F8: 2.28 | G8: 202406 | H8: 1.5 | I8: 202403 | J8: 3.79 | K8: Arvind Ltd | L8: 500101 | M8: ARVIND | N8: ARVND IN | O8: INE034A01011 | Q8: =D8+F8+H8+J8 -> 11.53
A9: 31 | B9: Ashok Leyland | C9: 202412 | D9: 2.59 | E9: 202409 | F9: 2.4 | G9: 202406 | H9: 1.73 | I9: 202403 | J9: 2.91 | K9: Ashok Leyland Ltd | L9: 500477 | M9: ASHOKLEY | N9: AL IN | O9: INE208A01029 | Q9: =D9+F9+H9+J9 -> 9.63
A10: 33 | B10: Asian Hotels (N) | C10: 202212 | D10: -8.68 | E10: 202209 | F10: -15.34 | G10: 202206 | H10: -17.19 | I10: 202203 | J10: -23.12 | K10: Asian Hotels (North) Ltd | L10: 500023 | M10: ASIANHOTNR | N10: AHOT IN | O10: INE363A01022 | Q10: =D10+F10+H10+J10 -> -64.33
A11: 34 | B11: Asian Paints | C11: 202503 | D11: 7.22 | E11: 202412 | F11: 11.58 | G11: 202409 | H11: 7.25 | I11: 202406 | J11: 12.2 | K11: Asian Paints Ltd | L11: 500820 | M11: ASIANPAINT | N11: APNT IN | O11: INE021A01026 | Q11: =D11+F11+H11+J11 -> 38.25
A12: 37 | B12: SKF India | C12: 202412 | D12: 22.1 | E12: 202409 | F12: 19.1 | G12: 202406 | H12: 32.1 | I12: 202403 | J12: 35.4 | K12: SKF India Ltd | L12: 500472 | M12: SKFINDIA | N12: SKF IN | O12: INE640A01023 | Q12: =D12+F12+H12+J12 -> 108.7
A13: 38 | B13: Asi Industries | C13: 202212 | D13: 0.89 | E13: 202209 | F13: -0.45 | G13: 202206 | H13: -1.7 | I13: 202203 | J13: -6.03 | K13: Asi Industries Ltd | L13: 502015 | M13: ASOCSTONE | N13: ASIIL IN | O13: INE443A01030 | Q13: =D13+F13+H13+J13 -> -7.29
... A59: 142 | B59: Diamines & Chem. | C59: 202412 | D59: 0.77 | E59: 202409 | F59: 2.58 | G59: 202406 | H59: -1.74 | I59: 202403 | J59: 2.25 | K59: Diamines & Chemicals Ltd | L59: 500120 | M59: DIAMINESQ | N59: DIAMINES IN | O59: INE591D01014 | Q59: =D59+F59+H59+J59 -> 3.86
A60: 146 | B60: Fermenta Biotec. | C60: 202412 | D60: 12.71 | E60: 202409 | F60: 3.94 | G60: 202406 | H60: -2.01 | I60: 202403 | J60: -2.41 | K60: Fermenta Biotech Ltd | L60: 506414 | N60: FERMENTA IN | O60: INE225B01021 | Q60: =D60+F60+H60+J60 -> 12.23
A61: 148 | B61: EID Parry | C61: 202412 | D61: 10.97 | E61: 202409 | F61: 17.22 | G61: 202406 | H61: 5.14 | I61: 202403 | J61: 12.41 | K61: EID Parry (India) Ltd | L61: 500125 | M61: EIDPARRY | N61: EID IN | O61: INE126A01031 | Q61: =D61+F61+H61+J61 -> 45.74
A62: 150 | B62: EIH | C62: 202412 | D62: 4.23 | E62: 202409 | F62: 2.08 | G62: 202406 | H62: 1.47 | I62: 202403 | J62: 3.56 | K62: EIH Ltd | L62: 500840 | M62: EIHOTEL | N62: EIH IN | O62: INE230A01023 | Q62: =D62+F62+H62+J62 -> 11.34
A63: 151 | B63: Eicher Motors | C63: 202412 | D63: 42.7 | E63: 202409 | F63: 40.15 | G63: 202406 | H63: 40.21 | I63: 202403 | J63: 39.1 | K63: Eicher Motors Ltd | L63: 505200 | M63: EICHERMOT | N63: EIM IN | O63: INE066A01021 | Q63: =D63+F63+H63+J63 -> 162.16
A64: 152 | B64: Elecon Engg.Co | C64: 202503 | D64: 6.53 | E64: 202412 | F64: 4.79 | G64: 202409 | H64: 3.91 | I64: 202406 | J64: 3.27 | K64: Elecon Engineering Company Ltd | L64: 505700 | M64: ELECON | N64: ELCN IN | O64: INE205B01031 | Q64: =D64+F64+H64+J64 -> 18.5
A65: 154 | B65: Electrost.Cast. | C65: 202503 | D65: 2.72 | E65: 202412 | F65: 2.59 | G65: 202409 | H65: 2.51 | I65: 202406 | J65: 3.65 | K65: Electrosteel Castings Ltd | L65: 500128 | M65: ELECTCAST | N65: ELSC IN | O65: INE086A01029 | Q65: =D65+F65+H65+J65 -> 11.47
A66: 155 | B66: Elgi Equipments | C66: 202412 | D66: 2.55 | E66: 202409 | F66: 2.99 | G66: 202406 | H66: 2.3 | I66: 202403 | J66: 2.41 | K66: Elgi Equipments Ltd | L66: 522074 | M66: ELGIEQUIP | N66: ELEQ IN | O66: INE285A01027 | Q66: =D66+F66+H66+J66 -> 10.25
A67: 156 | B67: Elpro Internatio | C67: 202412 | D67: -1.24 | E67: 202409 | F67: 1.9 | G67: 202406 | H67: 2.81 | I67: 202403 | J67: 1.42 | K67: Elpro International Ltd | L67: 504000 | M67: ELPROINTL | N67: ELPR IN | O67: INE579B01039 | Q67: =D67+F67+H67+J67 -> 4.89
A68: 161 | B68: Escorts Kubota | C68: 202503 | D68: 28.96 | E68: 202412 | F68: 29.16 | G68: 202409 | H68: 29.48 | I68: 202406 | J68: 27.46 | K68: Escorts Kubota Ltd | L68: 500495 | M68: ESCORTS | N68: ESCORTS IN | O68: INE042A01014 | Q68: =D68+F68+H68+J68 -> 115.06
A69: 164 | B69: EPL Ltd | C69: 202503 | D69: 3.58 | E69: 202412 | F69: 2.93 | G69: 202409 | H69: 2.73 | I69: 202406 | J69: 2.02 | K69: EPL Ltd | L69: 500135 | M69: EPL | N69: EPLL IN | O69: INE255A01020 | Q69: =D69+F69+H69+J69 -> 11.26
A70: 165 | B70: Everest Inds. | C70: 202412 | D70: -9.78 | E70: 202409 | F70: -7.39 | G70: 202406 | H70: 10.07 | I70: 202403 | J70: 3.45 | K70: Everest Industries Ltd | L70: 508906 | M70: EVERESTIND | N70: EVI IN | O70: INE295A01018 | Q70: =D70+F70+H70+J70 -> -3.65
A71: 166 | B71: Excel Industries | C71: 202412 | D71: 4.93 | E71: 202409 | F71: 28.39 | G71: 202406 | H71: 24.68 | I71: 202403 | J71: 5.31 | K71: Excel Industries Ltd | L71: 500650 | M71: EXCELINDUS | N71: EXL IN | O71: INE369A01029 | Q71: =D71+F71+H71+J71 -> 63.31
A72: 171 | B72: Finolex Cables | C72: 202412 | D72: 9.63 | E72: 202409 | F72: 7.71 | G72: 202406 | H72: 15.95 | I72: 202403 | J72: 12.17 | K72: Finolex Cables Ltd | L72: 500144 | M72: FINCABLES | N72: FNXC IN | O72: INE235A01022 | Q72: =D72+F72+H72+J72 -> 45.46
... A74: 176 | B74: Foods & Inns | C74: 202412 | D74: 0.1 | E74: 202409 | F74: 1.53 | G74: 202406 | H74: 1.15 | I74: 202403 | J74: 0.93 | K74: Foods & Inns Ltd | L74: 507552 | M74: FOODSIN | N74: FI IN | O74: INE976E01023 | Q74: =D74+F74+H74+J74 -> 3.71
A75: 181 | B75: Graviss Hospital | C75: 202412 | D75: 0.2 | E75: 202409 | F75: 1.26 | G75: 202406 | H75: -0.1 | I75: 202403 | J75: 0.14 | K75: Graviss Hospitality Ltd | L75: 509546 | N75: GHL IN | O75: INE214F01026 | Q75: =D75+F75+H75+J75 -> 1.5
A76: 183 | B76: Delta Manufact. | C76: 202412 | D76: -5.39 | E76: 202409 | F76: -2.73 | G76: 202406 | H76: -2.68 | I76: 202403 | J76: -2.67 | K76: Delta Manufacturing Ltd | L76: 504286 | M76: DELTAMAGNT | N76: DELTAMAG IN | O76: INE393A01011 | Q76: =D76+F76+H76+J76 -> -13.47
A77: 184 | B77: Gabriel India | C77: 202412 | D77: 4.18 | E77: 202409 | F77: 4.38 | G77: 202406 | H77: 4.01 | I77: 202403 | J77: 3.41 | K77: Gabriel India Ltd | L77: 505714 | M77: GABRIEL | N77: GABR IN | O77: INE524A01029 | Q77: =D77+F77+H77+J77 -> 15.98
A78: 186 | B78: Gammon India | C78: 202312 | D78: -4.6 | E78: 202309 | F78: -9.18 | G78: 202306 | H78: -8.14 | I78: 202303 | J78: -2.08 | K78: Gammon India Ltd | L78: 509550 | M78: GAMMONIND | N78: GMON IN | O78: INE259B01020 | Q78: =D78+F78+H78+J78 -> -24
A79: 189 | B79: Garware Hi Tech | C79: 202412 | D79: 26.17 | E79: 202409 | F79: 44.88 | G79: 202406 | H79: 38.03 | I79: 202403 | J79: 24.88 | K79: Garware Hi Tech Films Ltd | L79: 500655 | M79: GRWRHITECH | N79: GRWRHITE IN | O79: INE291A01017 | Q79: =D79+F79+H79+J79 -> 133.96
A80: 190 | B80: Garware Tech. | C80: 202412 | D80: 4.8 | E80: 202409 | F80: 6.62 | G80: 202406 | H80: 4.68 | I80: 202403 | J80: 6.82 | K80: Garware Technical Fibres Ltd | L80: 509557 | M80: GARFIBRES | N80: GTFL IN | O80: INE276A01018 | Q80: =D80+F80+H80+J80 -> 22.92
A81: 195 | B81: Glaxosmi. Pharma | C81: 202412 | D81: 13.57 | E81: 202409 | F81: 14.67 | G81: 202406 | H81: 10.76 | I81: 202403 | J81: 11.37 | K81: Glaxosmithkline Pharmaceuticals Ltd | L81: 500660 | M81: GLAXO | N81: GLXO IN | O81: INE159A01016 | Q81: =D81+F81+H81+J81 -> 50.37
A82: 197 | B82: Federal-Mogul Go | C82: 202412 | D82: 5.2 | E82: 202409 | F82: 6.87 | G82: 202406 | H82: 6.38 | I82: 202403 | J82: 7.25 | K82: Federal-Mogul Goetze (India) Ltd | L82: 505744 | M82: FMGOETZE | N82: FMGI IN | O82: INE529A01010 | Q82: =D82+F82+H82+J82 -> 25.7
A83: 198 | B83: Forbes & Co | C83: 202503 | D83: 80.77 | E83: 202412 | F83: 7.46 | G83: 202409 | H83: 4.04 | I83: 202406 | J83: 4.15 | K83: Forbes & Company Ltd | L83: 502865 | M83: FORBESGOK | N83: FG IN | O83: INE518A01013 | Q83: =D83+F83+H83+J83 -> 96.42
