Workbook

Sheet Sheet1
C1: All Regular
B2: LIC Mutual Fund
B4: Name of the fund | C4: LICMF Nifty 50 ETF | D4: LICMF Nifty 100 ETF | E4: LICMF S&P BSE Sensex ETF | F4: LICMF Nifty 50 Index fund | G4: LICMF S&P BSE Sensex Index fund | H4: LIC MF Nifty 8-13 yr G-Sec ETF
B5: Category (Debt/Equity) | C5: Equity | D5: Equity | E5: Equity | F5: Equity | G5: Equity | H5: Debt
B6: Launch Date (DD/MM/YYYY) | C6: 42328 | D6: 42446 | E6: 42338 | F6: 37595 | G6: 37595 | H6: 41997
B7: AUM as on Oct 31, 2022(INR in Cr.) | C7: 676.38224 | D7: 564.43614 | E7: 612.0849 | F7: 54.331315 | G7: 56.919419 | H7: 925.68703 | I7: Factsheet
B8: Underlying Index Name | C8: Nifty 50 TRI | D8: Nifty 100 TRI | E8: S&P BSE Sensex TRI | F8: Nifty 50 TRI | G8: S&P BSE Sensex TRI | H8: Nifty 8-13 yr G-Sec Index
B9: Tracking differnce for month ended October 2022
B10: Tracking Difference based on 1 Year | C10: -0.046550035 | D10: -0.18591285 | E10: -0.1433897 | F10: -0.9998244 | G10: -1.1542016 | H10: -0.28743923 | I10: Dashboard
B11: Tracking Difference based on 3 Year | C11: -0.14937282 | D11: -0.35774946 | E11: -0.14744282 | F11: -1.3319349 | G11: -1.1755216 | H11: -0.38244545 | I11: Dashboard
B12: Tracking Difference based on 5 Year | C12: -0.12243867 | D12: -0.33242583 | E12: -0.084507465 | F12: -1.4383411 | G12: -1.3057613 | H12: -0.38347721 | I12: Dashboard
B13: Tracking Difference based on 10 Year | C13: NA | D13: NA | E13: NA | F13: NA | G13: NA | H13: NA | I13: Dashboard
B14: Tracking Difference based on Since Launch | C14: -0.19183301 | D14: -0.38361621 | E14: -0.088069336 | F14: -4.1712861 | G14: -4.0738037 | H14: -0.36344141 | I14: Dashboard

Sheet Sheet7
B2: Daily Tracking Error on 1 year rolling basis
A5: Name of the fund | B5: LICMF Nifty 50 ETF | C5: LICMF Nifty 100 ETF | D5: LICMF S&P BSE Sensex ETF | E5: LICMF Nifty 50 Index fund | F5: LICMF S&P BSE Sensex Index fund | G5: LIC MF Nifty 8-13 yr G-Sec ETF
A7: =+'LIC MF Nifty 50 ETF'!A1638 -> 44743 | B7: =+'LIC MF Nifty 50 ETF'!H1638 -> 0.078958795 | C7: =+'LIC MF Nifty 100 ETF'!H1559 -> 0.076257434 | D7: =+'LIC MF S & P BSE Sensex ETF'!H1633 -> 0.10231167 | E7: =+'LIC MF Nifty 50 Index Fund - Gr'!H3495 -> 0.13244905 | F7: =+'LIC MF S&P BSE Sensex Index Gr'!H3486 -> 0.18178307 | G7: =+'LIC MF Nifty 8-13 yr G-Sec ETF'!H252 -> 0.42507703
A8: =+'LIC MF Nifty 50 ETF'!A1639 -> 44746 | B8: =+'LIC MF Nifty 50 ETF'!H1639 -> 0.078958795 | C8: =+'LIC MF Nifty 100 ETF'!H1560 -> 0.075462258 | D8: =+'LIC MF S & P BSE Sensex ETF'!H1634 -> 0.10273419 | E8: =+'LIC MF Nifty 50 Index Fund - Gr'!H3496 -> 0.13244905 | F8: =+'LIC MF S&P BSE Sensex Index Gr'!H3487 -> 0.18180534 | G8: =+'LIC MF Nifty 8-13 yr G-Sec ETF'!H253 -> 0.42679503
A9: =+'LIC MF Nifty 50 ETF'!A1640 -> 44747 | B9: =+'LIC MF Nifty 50 ETF'!H1640 -> 0.079543292 | C9: =+'LIC MF Nifty 100 ETF'!H1561 -> 0.075462258 | D9: =+'LIC MF S & P BSE Sensex ETF'!H1635 -> 0.10273419 | E9: =+'LIC MF Nifty 50 Index Fund - Gr'!H3497 -> 0.13244905 | F9: =+'LIC MF S&P BSE Sensex Index Gr'!H3488 -> 0.18178307 | G9: =+'LIC MF Nifty 8-13 yr G-Sec ETF'!H254 -> 0.42679503
A10: =+'LIC MF Nifty 50 ETF'!A1641 -> 44748 | B10: =+'LIC MF Nifty 50 ETF'!H1641 -> 0.079543292 | C10: =+'LIC MF Nifty 100 ETF'!H1562 -> 0.075462258 | D10: =+'LIC MF S & P BSE Sensex ETF'!H1636 -> 0.10273419 | E10: =+'LIC MF Nifty 50 Index Fund - Gr'!H3498 -> 0.13247045 | F10: =+'LIC MF S&P BSE Sensex Index Gr'!H3489 -> 0.18178307 | G10: =+'LIC MF Nifty 8-13 yr G-Sec ETF'!H255 -> 0.42679503
A11: =+'LIC MF Nifty 50 ETF'!A1642 -> 44749 | B11: =+'LIC MF Nifty 50 ETF'!H1642 -> 0.078958795 | C11: =+'LIC MF Nifty 100 ETF'!H1563 -> 0.075991524 | D11: =+'LIC MF S & P BSE Sensex ETF'!H1637 -> 0.10273419 | E11: =+'LIC MF Nifty 50 Index Fund - Gr'!H3499 -> 0.13248878 | F11: =+'LIC MF S&P BSE Sensex Index Gr'!H3490 -> 0.18178307 | G11: =+'LIC MF Nifty 8-13 yr G-Sec ETF'!H256 -> 0.42712339
A12: =+'LIC MF Nifty 50 ETF'!A1643 -> 44750 | B12: =+'LIC MF Nifty 50 ETF'!H1643 -> 0.078260502 | C12: =+'LIC MF Nifty 100 ETF'!H1564 -> 0.075991524 | D12: =+'LIC MF S & P BSE Sensex ETF'!H1638 -> 0.10273419 | E12: =+'LIC MF Nifty 50 Index Fund - Gr'!H3500 -> 0.13248878 | F12: =+'LIC MF S&P BSE Sensex Index Gr'!H3491 -> 0.18178307 | G12: =+'LIC MF Nifty 8-13 yr G-Sec ETF'!H257 -> 0.42766993
A13: =+'LIC MF Nifty 50 ETF'!A1644 -> 44753 | B13: =+'LIC MF Nifty 50 ETF'!H1644 -> 0.078260502 | C13: =+'LIC MF Nifty 100 ETF'!H1565 -> 0.075991524 | D13: =+'LIC MF S & P BSE Sensex ETF'!H1639 -> 0.10315106 | E13: =+'LIC MF Nifty 50 Index Fund - Gr'!H3501 -> 0.13250406 | F13: =+'LIC MF S&P BSE Sensex Index Gr'!H3492 -> 0.18180534 | G13: =+'LIC MF Nifty 8-13 yr G-Sec ETF'!H258 -> 0.42667647
A14: =+'LIC MF Nifty 50 ETF'!A1645 -> 44754 | B14: =+'LIC MF Nifty 50 ETF'!H1645 -> 0.078260502 | C14: =+'LIC MF Nifty 100 ETF'!H1566 -> 0.075462258 | D14: =+'LIC MF S & P BSE Sensex ETF'!H1640 -> 0.10371079 | E14: =+'LIC MF Nifty 50 Index Fund - Gr'!H3502 -> 0.13248878 | F14: =+'LIC MF S&P BSE Sensex Index Gr'!H3493 -> 0.18233677 | G14: =+'LIC MF Nifty 8-13 yr G-Sec ETF'!H259 -> 0.42655391
A15: =+'LIC MF Nifty 50 ETF'!A1646 -> 44755 | B15: =+'LIC MF Nifty 50 ETF'!H1646 -> 0.078260502 | C15: =+'LIC MF Nifty 100 ETF'!H1567 -> 0.075462258 | D15: =+'LIC MF S & P BSE Sensex ETF'!H1641 -> 0.10371079 | E15: =+'LIC MF Nifty 50 Index Fund - Gr'!H3503 -> 0.13247045 | F15: =+'LIC MF S&P BSE Sensex Index Gr'!H3494 -> 0.18233677 | G15: =+'LIC MF Nifty 8-13 yr G-Sec ETF'!H260 -> 0.42552068
A16: =+'LIC MF Nifty 50 ETF'!A1647 -> 44756 | B16: =+'LIC MF Nifty 50 ETF'!H1647 -> 0.078260502 | C16: =+'LIC MF Nifty 100 ETF'!H1568 -> 0.075462258 | D16: =+'LIC MF S & P BSE Sensex ETF'!H1642 -> 0.10371079 | E16: =+'LIC MF Nifty 50 Index Fund - Gr'!H3504 -> 0.13248878 | F16: =+'LIC MF S&P BSE Sensex Index Gr'!H3495 -> 0.18233677 | G16: =+'LIC MF Nifty 8-13 yr G-Sec ETF'!H261 -> 0.4275807
A17: =+'LIC MF Nifty 50 ETF'!A1648 -> 44757 | B17: =+'LIC MF Nifty 50 ETF'!H1648 -> 0.077666352 | C17: =+'LIC MF Nifty 100 ETF'!H1569 -> 0.075462258 | D17: =+'LIC MF S & P BSE Sensex ETF'!H1643 -> 0.10412374 | E17: =+'LIC MF Nifty 50 Index Fund - Gr'!H3505 -> 0.13248878 | F17: =+'LIC MF S&P BSE Sensex Index Gr'!H3496 -> 0.18235897 | G17: =+'LIC MF Nifty 8-13 yr G-Sec ETF'!H262 -> 0.42715844
A18: =+'LIC MF Nifty 50 ETF'!A1649 -> 44760 | B18: =+'LIC MF Nifty 50 ETF'!H1649 -> 0.078260502 | C18: =+'LIC MF Nifty 100 ETF'!H1570 -> 0.075462258 | D18: =+'LIC MF S & P BSE Sensex ETF'!H1644 -> 0.10412374 | E18: =+'LIC MF Nifty 50 Index Fund - Gr'!H3506 -> 0.13326267 | F18: =+'LIC MF S&P BSE Sensex Index Gr'!H3497 -> 0.18235897 | G18: =+'LIC MF Nifty 8-13 yr G-Sec ETF'!H263 -> 0.42721371
... A175: =+'LIC MF Nifty 50 ETF'!A1806 -> 44991 | B175: =+'LIC MF Nifty 50 ETF'!H1806 -> 0.10878913 | C175: =+'LIC MF Nifty 100 ETF'!H1727 -> 0.0864116 | D175: =+'LIC MF S & P BSE Sensex ETF'!H1801 -> 0.08515625 | E175: =+'LIC MF Nifty 50 Index Fund - Gr'!H3663 -> 0.15027666 | F175: =+'LIC MF S&P BSE Sensex Index Gr'!H3654 -> 0.21350587 | G175: =+'LIC MF Nifty 8-13 yr G-Sec ETF'!H420 -> 0.41393203

Sheet LIC MF Nifty 50 ETF
A1: ETF - TRACKING ERROR
A2: Since November 20, 2015
A4: LICMF NIFTY PLAN - GROWTH
C5: Rb | D5: LETF50G | E5: Rp | F5: Rp-Rb | G5: TE | H5: Annualised
A6: Calculation | B6: TRI Benchmark | C6: Returns | D6: LICMF NIFTY | E6: Returns | H6: TE | I6: NIFTY Levels | J6: Returns | S6: TE | X6: Annualised TE
A7: date | B7: Nifty Levels | C7: % | D7: NAV | E7: % | I7: NIFTY Levels | J7: % | S7: 6 Months | T7: 1 Year | U7: 3 Years | V7: 5 Years | X7: 6 Months | Y7: 1 Year | Z7: 3 Years | AA7: 5 Years
A8: 42328 | B8: 10456.115 | D8: 78.2374 | I8: 7856.55
A9: 42331 | B9: 10446.4 | C9: =ROUND(((B9-B8)/B8)*100,2) -> -0.09 | D9: 78.2095 | E9: =ROUND(((D9-D8)/D8)*100,2) -> -0.04 | F9: =E9-C9 -> 0.05 | H9: =+G9*(SQRT(250)) -> 0 | I9: 7849.25 | J9: =+((I9-I8)/I8)*100 -> -0.092916102
A10: 42332 | B10: 10422.856 | C10: =ROUND(((B10-B9)/B9)*100,2) -> -0.23 | D10: 78.0341 | E10: =ROUND(((D10-D9)/D9)*100,2) -> -0.22 | F10: =E10-C10 -> 0.01 | G10: =+STDEV($F$9:F10) -> 0.028284271 | H10: =+G10*(SQRT(250)) -> 0.4472136 | I10: 7831.6 | J10: =+((I10-I9)/I9)*100 -> -0.22486225
A11: 42334 | B11: 10492.355 | C11: =ROUND(((B11-B10)/B10)*100,2) -> 0.67 | D11: 78.5513 | E11: =ROUND(((D11-D10)/D10)*100,2) -> 0.66 | F11: =E11-C11 -> -0.01 | G11: =+STDEV($F$9:F11) -> 0.030550505 | H11: =+G11*(SQRT(250)) -> 0.48304589 | I11: 7883.8 | J11: =+((I11-I10)/I10)*100 -> 0.66653047
A12: 42335 | B12: 10570.757 | C12: =ROUND(((B12-B11)/B11)*100,2) -> 0.75 | D12: 79.1351 | E12: =ROUND(((D12-D11)/D11)*100,2) -> 0.74 | F12: =E12-C12 -> -0.01 | G12: =+STDEV($F$9:F12) -> 0.028284271 | H12: =+G12*(SQRT(250)) -> 0.4472136 | I12: 7942.7 | J12: =+((I12-I11)/I11)*100 -> 0.74710165
A13: 42338 | B13: 10560.841 | C13: =ROUND(((B13-B12)/B12)*100,2) -> -0.09 | D13: 79.0608 | E13: =ROUND(((D13-D12)/D12)*100,2) -> -0.09 | F13: =E13-C13 -> 0 | G13: =+STDEV($F$9:F13) -> 0.024899799 | H13: =+G13*(SQRT(250)) -> 0.39370039 | I13: 7935.25 | J13: =+((I13-I12)/I12)*100 -> -0.09379682
A14: 42339 | B14: 10586.993 | C14: =ROUND(((B14-B13)/B13)*100,2) -> 0.25 | D14: 79.2554 | E14: =ROUND(((D14-D13)/D13)*100,2) -> 0.25 | F14: =E14-C14 -> 0 | G14: =+STDEV($F$9:F14) -> 0.022509257 | H14: =+G14*(SQRT(250)) -> 0.35590261 | I14: 7954.9 | J14: =+((I14-I13)/I13)*100 -> 0.24762925
A15: 42340 | B15: 10555.624 | C15: =ROUND(((B15-B14)/B14)*100,2) -> -0.3 | D15: 79.0217 | E15: =ROUND(((D15-D14)/D14)*100,2) -> -0.29 | F15: =E15-C15 -> 0.01 | G15: =+STDEV($F$9:F15) -> 0.020586635 | H15: =+G15*(SQRT(250)) -> 0.32550327 | I15: 7931.35 | J15: =+((I15-I14)/I14)*100 -> -0.29604395
A16: 42341 | B16: 10466.19 | C16: =ROUND(((B16-B15)/B15)*100,2) -> -0.85 | D16: 78.3555 | E16: =ROUND(((D16-D15)/D15)*100,2) -> -0.84 | F16: =E16-C16 -> 0.01 | G16: =+STDEV($F$9:F16) -> 0.01908627 | H16: =+G16*(SQRT(250)) -> 0.30178043 | I16: 7864.15 | J16: =+((I16-I15)/I15)*100 -> -0.84727064
A17: 42342 | B17: 10356.712 | C17: =ROUND(((B17-B16)/B16)*100,2) -> -1.05 | D17: 77.5424 | E17: =ROUND(((D17-D16)/D16)*100,2) -> -1.04 | F17: =E17-C17 -> 0.01 | G17: =+STDEV($F$9:F17) -> 0.017873009 | H17: =+G17*(SQRT(250)) -> 0.28259708 | I17: 7781.9 | J17: =+((I17-I16)/I16)*100 -> -1.0458854
A18: 42345 | B18: 10334.766 | C18: =ROUND(((B18-B17)/B17)*100,2) -> -0.21 | D18: 77.3786 | E18: =ROUND(((D18-D17)/D17)*100,2) -> -0.21 | F18: =E18-C18 -> 0 | G18: =+STDEV($F$9:F18) -> 0.017029386 | H18: =+G18*(SQRT(250)) -> 0.26925824 | I18: 7765.4 | J18: =+((I18-I17)/I17)*100 -> -0.21203048
A19: 42346 | B19: 10250.029 | C19: =ROUND(((B19-B18)/B18)*100,2) -> -0.82 | D19: 76.7473 | E19: =ROUND(((D19-D18)/D18)*100,2) -> -0.82 | F19: =E19-C19 -> 0 | G19: =+STDEV($F$9:F19) -> 0.016292776 | H19: =+G19*(SQRT(250)) -> 0.25761141 | I19: 7701.7 | J19: =+((I19-I18)/I18)*100 -> -0.82030546
A20: 42347 | B20: 10131.262 | C20: =ROUND(((B20-B19)/B19)*100,2) -> -1.16 | D20: 75.8619 | E20: =ROUND(((D20-D19)/D19)*100,2) -> -1.15 | F20: =E20-C20 -> 0.01 | G20: =+STDEV($F$9:F20) -> 0.015569979 | H20: =+G20*(SQRT(250)) -> 0.24618298 | I20: 7612.5 | J20: =+((I20-I19)/I19)*100 -> -1.1581859
A21: 42348 | B21: 10225.541 | C21: =ROUND(((B21-B20)/B20)*100,2) -> 0.93 | D21: 76.5654 | E21: =ROUND(((D21-D20)/D20)*100,2) -> 0.93 | F21: =E21-C21 -> 0 | G21: =+STDEV($F$9:F21) -> 0.015021352 | H21: =+G21*(SQRT(250)) -> 0.23750843 | I21: 7683.3 | J21: =+((I21-I20)/I20)*100 -> 0.93004926
... A58: 42404 | B58: 9857.8233 | C58: =ROUND(((B58-B57)/B57)*100,2) -> 0.57 | D58: 73.8274 | E58: =ROUND(((D58-D57)/D57)*100,2) -> 0.57 | F58: =E58-C58 -> 0 | G58: =+STDEV($F$9:F58) -> 0.0097499346 | H58: =+G58*(SQRT(250)) -> 0.15416 | I58: 7404 | J58: =+((I58-I57)/I57)*100 -> 0.57322937
A59: 42405 | B59: 9972.0497 | C59: =ROUND(((B59-B58)/B58)*100,2) -> 1.16 | D59: 74.6821 | E59: =ROUND(((D59-D58)/D58)*100,2) -> 1.16 | F59: =E59-C59 -> 0 | G59: =+STDEV($F$9:F59) -> 0.0096568578 | H59: =+G59*(SQRT(250)) -> 0.15268833 | I59: 7489.1 | J59: =+((I59-I58)/I58)*100 -> 1.1493787 | K59: =+I59-I58 -> 85.1
A60: 42408 | B60: 9836.4055 | C60: =ROUND(((B60-B59)/B59)*100,2) -> -1.36 | D60: 73.6681 | E60: =ROUND(((D60-D59)/D59)*100,2) -> -1.36 | F60: =E60-C60 -> 0 | G60: =+STDEV($F$9:F60) -> 0.009566391 | H60: =+G60*(SQRT(250)) -> 0.15125792 | I60: 7387.25 | J60: =+((I60-I59)/I59)*100 -> -1.3599765 | K60: =+I60-I59 -> -101.85
A61: 42409 | B61: 9717.8716 | C61: =ROUND(((B61-B60)/B60)*100,2) -> -1.21 | D61: 72.7823 | E61: =ROUND(((D61-D60)/D60)*100,2) -> -1.2 | F61: =E61-C61 -> 0.01 | G61: =+STDEV($F$9:F61) -> 0.0095356637 | H61: =+G61*(SQRT(250)) -> 0.15077208 | I61: 7298.2 | J61: =+((I61-I60)/I60)*100 -> -1.2054553 | K61: =+I61-I60 -> -89.05
A62: 42410 | B62: 9607.9795 | C62: =ROUND(((B62-B61)/B61)*100,2) -> -1.13 | D62: 71.9611 | E62: =ROUND(((D62-D61)/D61)*100,2) -> -1.13 | F62: =E62-C62 -> 0 | G62: =+STDEV($F$9:F62) -> 0.0094503003 | H62: =+G62*(SQRT(250)) -> 0.14942237 | I62: 7215.7 | J62: =+((I62-I61)/I61)*100 -> -1.1304157 | K62: =+I62-I61 -> -82.5
A63: 42411 | B63: 9289.2883 | C63: =ROUND(((B63-B62)/B62)*100,2) -> -3.32 | D63: 69.5808 | E63: =ROUND(((D63-D62)/D62)*100,2) -> -3.31 | F63: =E63-C63 -> 0.01 | G63: =+STDEV($F$9:F63) -> 0.0094209452 | H63: =+G63*(SQRT(250)) -> 0.14895822 | I63: 6976.35 | J63: =+((I63-I62)/I62)*100 -> -3.3170725 | K63: =+I63-I62 -> -239.35
A64: 42412 | B64: 9295.4134 | C64: =ROUND(((B64-B63)/B63)*100,2) -> 0.07 | D64: 69.627 | E64: =ROUND(((D64-D63)/D63)*100,2) -> 0.07 | F64: =E64-C64 -> 0 | G64: =+STDEV($F$9:F64) -> 0.0093402494 | H64: =+G64*(SQRT(250)) -> 0.14768231 | I64: 6980.95 | J64: =+((I64-I63)/I63)*100 -> 0.065937059
A65: 42415 | B65: 9537.7407 | C65: =ROUND(((B65-B64)/B64)*100,2) -> 2.61 | D65: 71.4346 | E65: =ROUND(((D65-D64)/D64)*100,2) -> 2.6 | F65: =E65-C65 -> -0.01 | G65: =+STDEV($F$9:F65) -> 0.0093992481 | H65: =+G65*(SQRT(250)) -> 0.14861516 | I65: 7162.95 | J65: =+((I65-I64)/I64)*100 -> 2.607095
A66: 42416 | B66: 9385.3598 | C66: =ROUND(((B66-B65)/B65)*100,2) -> -1.6 | D66: 70.2977 | E66: =ROUND(((D66-D65)/D65)*100,2) -> -1.59 | F66: =E66-C66 -> 0.01 | G66: =+STDEV($F$9:F66) -> 0.0093739287 | H66: =+G66*(SQRT(250)) -> 0.14821483 | I66: 7201.25 | J66: =+((I66-I65)/I65)*100 -> 0.5346959
A67: 42417 | B67: 9465.5214 | C67: =ROUND(((B67-B66)/B66)*100,2) -> 0.85 | D67: 70.8964 | E67: =ROUND(((D67-D66)/D66)*100,2) -> 0.85 | F67: =E67-C67 -> 0 | G67: =+STDEV($F$9:F67) -> 0.0092973479 | H67: =+G67*(SQRT(250)) -> 0.14700398 | I67: 7108.45 | J67: =+((I67-I66)/I66)*100 -> -1.2886652
A68: 42418 | B68: 9576.4559 | C68: =ROUND(((B68-B67)/B67)*100,2) -> 1.17 | D68: 71.7246 | E68: =ROUND(((D68-D67)/D67)*100,2) -> 1.17 | F68: =E68-C68 -> 0 | G68: =+STDEV($F$9:F68) -> 0.0092226079 | H68: =+G68*(SQRT(250)) -> 0.14582224 | I68: 7191.75 | J68: =+((I68-I67)/I67)*100 -> 1.1718448
A69: 42419 | B69: 9601.7694 | C69: =ROUND(((B69-B68)/B68)*100,2) -> 0.26 | D69: 71.9132 | E69: =ROUND(((D69-D68)/D68)*100,2) -> 0.26 | F69: =E69-C69 -> 0 | G69: =+STDEV($F$9:F69) -> 0.0091496364 | H69: =+G69*(SQRT(250)) -> 0.14466845 | I69: 7210.75 | J69: =+((I69-I68)/I68)*100 -> 0.26419161
A70: 42422 | B70: 9633.8259 | C70: =ROUND(((B70-B69)/B69)*100,2) -> 0.33 | D70: 72.1528 | E70: =ROUND(((D70-D69)/D69)*100,2) -> 0.33 | F70: =E70-C70 -> 0 | G70: =+STDEV($F$9:F70) -> 0.009078365 | H70: =+G70*(SQRT(250)) -> 0.14354155 | I70: 7234.55 | J70: =+((I70-I69)/I69)*100 -> 0.33006275
A71: 42423 | B71: 9467.4102 | C71: =ROUND(((B71-B70)/B70)*100,2) -> -1.73 | D71: 70.9105 | E71: =ROUND(((D71-D70)/D70)*100,2) -> -1.72 | F71: =E71-C71 -> 0.01 | G71: =+STDEV($F$9:F71) -> 0.009059738 | H71: =+G71*(SQRT(250)) -> 0.14324704 | I71: 7109.55 | J71: =+((I71-I70)/I70)*100 -> -1.72782
A72: 42424 | B72: 9346.3903 | C72: =ROUND(((B72-B71)/B71)*100,2) -> -1.28 | D72: 70.0066 | E72: =ROUND(((D72-D71)/D71)*100,2) -> -1.27 | F72: =E72-C72 -> 0.01 | G72: =+STDEV($F$9:F72) -> 0.0090399795 | H72: =+G72*(SQRT(250)) -> 0.14293463 | I72: 7018.7 | J72: =+((I72-I71)/I71)*100 -> -1.2778587
A73: 42425 | B73: 9282.3781 | C73: =ROUND(((B73-B72)/B72)*100,2) -> -0.68 | D73: 69.5288 | E73: =ROUND(((D73-D72)/D72)*100,2) -> -0.68 | F73: =E73-C73 -> 0 | G73: =+STDEV($F$9:F73) -> 0.0089737866 | H73: =+G73*(SQRT(250)) -> 0.14188802 | I73: 6970.6 | J73: =+((I73-I72)/I72)*100 -> -0.68531209
A74: 42426 | B74: 9361.105 | C74: =ROUND(((B74-B73)/B73)*100,2) -> 0.85 | D74: 70.1193 | E74: =ROUND(((D74-D73)/D73)*100,2) -> 0.85 | F74: =E74-C74 -> 0 | G74: =+STDEV($F$9:F74) -> 0.0089090196 | H74: =+G74*(SQRT(250)) -> 0.14086397 | I74: 7029.75 | J74: =+((I74-I73)/I73)*100 -> 0.84856397
A75: 42429 | B75: 9304.257 | C75: =ROUND(((B75-B74)/B74)*100,2) -> -0.61 | D75: 69.6964 | E75: =ROUND(((D75-D74)/D74)*100,2) -> -0.6 | F75: =E75-C75 -> 0.01 | G75: =+STDEV($F$9:F75) -> 0.0088915268 | H75: =+G75*(SQRT(250)) -> 0.14058738 | I75: 6987.05 | J75: =+((I75-I74)/I74)*100 -> -0.60741847
... A342: 42825 | B342: 12406.688 | C342: =ROUND(((B342-B341)/B341)*100,2) -> 0.02 | D342: 92.7624 | E342: =ROUND(((D342-D341)/D341)*100,2) -> -0.02 | F342: =E342-C342 -> -0.04 | G342: =+STDEV($F$9:F342) -> 0.0082835271 | H342: =+G342*(SQRT(250)) -> 0.13097406 | I342: 9173.75 | J342: =+((I342-I341)/I341)*100 -> 0
A343: 42828 | B343: 12493.391 | C343: =ROUND(((B343-B342)/B342)*100,2) -> 0.7 | D343: 93.4229 | E343: =ROUND(((D343-D342)/D342)*100,2) -> 0.71 | F343: =E343-C343 -> 0.01 | G343: =+STDEV(F96:F343) -> 0.0055185288 | H343: =+G343*(SQRT(250)) -> 0.087255601 | I343: 9237.85 | J343: =+((I343-I342)/I342)*100 -> 0.6987328
...

Sheet LIC MF Nifty 100 ETF
A1: ETF - TRACKING ERROR
A2: Since November 20, 2015
A4: LICMF NIFTY 100 PLAN - GROWTH
C5: Rb | D5: LET100G | E5: Rp | F5: Rp-Rb | G5: TE | H5: Annualised
A6: Calculation | B6: TRI Benchmark | C6: Returns | D6: LICMF NIFTY 100 | E6: Returns | H6: TE | I6: NIFTY Levels | J6: Returns | L6: TE | Q6: Annualised TE
A7: date | B7: Nifty 100 Levels | C7: % | D7: NAV | E7: % | I7: NIFTY100 Levels | J7: % | L7: 6 Months | M7: 1 Year | N7: 3 Years | O7: 5 Years | Q7: 6 Months | R7: 1 Year | S7: 3 Years | T7: 5 Years
A8: 42446 | B8: 9290.9324 | D8: 75.7861 | F8: =E8-C8 -> 0 | H8: =+G8*(SQRT(250)) -> 0 | I8: 7601.75
A9: ='[1]175 since Nov 2015'!A88 -> 42447 | B9: 9395.422 | C9: =ROUND(((B9-B8)/B8)*100,2) -> 1.12 | D9: 76.6404 | E9: =ROUND(((D9-D8)/D8)*100,2) -> 1.13 | F9: =E9-C9 -> 0.01 | G9: =+STDEV($F$8:F9) -> 0.0070710678 | H9: =+G9*(SQRT(250)) -> 0.1118034 | I9: 7686.6 | J9: =+((I9-I8)/I8)*100 -> 1.1161904
A10: ='[1]175 since Nov 2015'!A89 -> 42450 | B10: 9522.0889 | C10: =ROUND(((B10-B9)/B9)*100,2) -> 1.35 | D10: 77.6919 | E10: =ROUND(((D10-D9)/D9)*100,2) -> 1.37 | F10: =E10-C10 -> 0.02 | G10: =+STDEV($F$9:F10) -> 0.0070710678 | H10: =+G10*(SQRT(250)) -> 0.1118034 | I10: 7789.25 | J10: =+((I10-I9)/I9)*100 -> 1.3354409
A11: ='[1]175 since Nov 2015'!A90 -> 42451 | B11: 9540.1546 | C11: =ROUND(((B11-B10)/B10)*100,2) -> 0.19 | D11: 77.8394 | E11: =ROUND(((D11-D10)/D10)*100,2) -> 0.19 | F11: =E11-C11 -> 0 | G11: =+STDEV($F$9:F11) -> 0.01 | H11: =+G11*(SQRT(250)) -> 0.15811388 | I11: 7803.1 | J11: =+((I11-I10)/I10)*100 -> 0.17780916
A12: ='[1]175 since Nov 2015'!A91 -> 42452 | B12: 9544.0669 | C12: =ROUND(((B12-B11)/B11)*100,2) -> 0.04 | D12: 77.8706 | E12: =ROUND(((D12-D11)/D11)*100,2) -> 0.04 | F12: =E12-C12 -> 0 | G12: =+STDEV($F$9:F12) -> 0.0095742711 | H12: =+G12*(SQRT(250)) -> 0.15138252 | I12: 7806.3 | J12: =+((I12-I11)/I11)*100 -> 0.041009342
A13: ='[1]175 since Nov 2015'!A92 -> 42457 | B13: 9416.4508 | C13: =ROUND(((B13-B12)/B12)*100,2) -> -1.34 | D13: 76.8351 | E13: =ROUND(((D13-D12)/D12)*100,2) -> -1.33 | F13: =E13-C13 -> 0.01 | G13: =+STDEV($F$9:F13) -> 0.0083666003 | H13: =+G13*(SQRT(250)) -> 0.13228757 | I13: 7701.9 | J13: =+((I13-I12)/I12)*100 -> -1.3373813
A14: ='[1]175 since Nov 2015'!A93 -> 42458 | B14: 9397.0724 | C14: =ROUND(((B14-B13)/B13)*100,2) -> -0.21 | D14: 76.6779 | E14: =ROUND(((D14-D13)/D13)*100,2) -> -0.2 | F14: =E14-C14 -> 0.01 | G14: =+STDEV($F$9:F14) -> 0.0075277265 | H14: =+G14*(SQRT(250)) -> 0.11902381 | I14: 7686.05 | J14: =+((I14-I13)/I13)*100 -> -0.20579338
A15: ='[1]175 since Nov 2015'!A94 -> 42459 | B15: 9565.7675 | C15: =ROUND(((B15-B14)/B14)*100,2) -> 1.8 | D15: 78.0499 | E15: =ROUND(((D15-D14)/D14)*100,2) -> 1.79 | F15: =E15-C15 -> -0.01 | G15: =+STDEV($F$9:F15) -> 0.0097590007 | H15: =+G15*(SQRT(250)) -> 0.15430335 | I15: 7822.9 | J15: =+((I15-I14)/I14)*100 -> 1.7804984
A16: ='[1]175 since Nov 2015'!A95 -> 42460 | B16: 9577.1273 | C16: =ROUND(((B16-B15)/B15)*100,2) -> 0.12 | D16: 78.1417 | E16: =ROUND(((D16-D15)/D15)*100,2) -> 0.12 | F16: =E16-C16 -> 0 | G16: =+STDEV($F$9:F16) -> 0.009258201 | H16: =+G16*(SQRT(250)) -> 0.14638501 | I16: 7832.15 | J16: =+((I16-I15)/I15)*100 -> 0.1182426
A17: ='[1]175 since Nov 2015'!A96 -> 42461 | B17: 9550.8739 | C17: =ROUND(((B17-B16)/B16)*100,2) -> -0.27 | D17: 77.9175 | E17: =ROUND(((D17-D16)/D16)*100,2) -> -0.29 | F17: =E17-C17 -> -0.02 | G17: =+STDEV($F$9:F17) -> 0.012018504 | H17: =+G17*(SQRT(250)) -> 0.19002924 | I17: 7810.7 | J17: =+((I17-I16)/I16)*100 -> -0.27387116
A18: ='[1]175 since Nov 2015'!A97 -> 42464 | B18: 9602.6959 | C18: =ROUND(((B18-B17)/B17)*100,2) -> 0.54 | D18: 78.3281 | E18: =ROUND(((D18-D17)/D17)*100,2) -> 0.53 | F18: =E18-C18 -> -0.01 | G18: =+STDEV($F$9:F18) -> 0.01197219 | H18: =+G18*(SQRT(250)) -> 0.18929694 | I18: 7853.1 | J18: =+((I18-I17)/I17)*100 -> 0.54284507 | K18: 21915.541
A19: ='[1]175 since Nov 2015'!A98 -> 42465 | B19: 9417.6016 | C19: =ROUND(((B19-B18)/B18)*100,2) -> -1.93 | D19: 76.8256 | E19: =ROUND(((D19-D18)/D18)*100,2) -> -1.92 | F19: =E19-C19 -> 0.01 | G19: =+STDEV($F$9:F19) -> 0.011677484 | H19: =+G19*(SQRT(250)) -> 0.18463724 | I19: 7701.7 | J19: =+((I19-I18)/I18)*100 -> -1.9279011
A20: ='[1]175 since Nov 2015'!A99 -> 42466 | B20: 9438.1863 | C20: =ROUND(((B20-B19)/B19)*100,2) -> 0.22 | D20: 76.99 | E20: =ROUND(((D20-D19)/D19)*100,2) -> 0.21 | F20: =E20-C20 -> -0.01 | G20: =+STDEV($F$9:F20) -> 0.011645002 | H20: =+G20*(SQRT(250)) -> 0.18412364 | I20: 7718.45 | J20: =+((I20-I19)/I19)*100 -> 0.21748445
A21: ='[1]175 since Nov 2015'!A100 -> 42467 | B21: 9360.6969 | C21: =ROUND(((B21-B20)/B20)*100,2) -> -0.82 | D21: 76.3562 | E21: =ROUND(((D21-D20)/D20)*100,2) -> -0.82 | F21: =E21-C21 -> 0 | G21: =+STDEV($F$9:F21) -> 0.011151636 | H21: =+G21*(SQRT(250)) -> 0.17632284 | I21: 7655.1 | J21: =+((I21-I20)/I20)*100 -> -0.82076064
A22: ='[1]175 since Nov 2015'!A101 -> 42468 | B22: 9377.0092 | C22: =ROUND(((B22-B21)/B21)*100,2) -> 0.17 | D22: 76.4834 | E22: =ROUND(((D22-D21)/D21)*100,2) -> 0.17 | F22: =E22-C22 -> 0 | G22: =+STDEV($F$9:F22) -> 0.010716117 | H22: =+G22*(SQRT(250)) -> 0.16943669 | I22: 7668.4 | J22: =+((I22-I21)/I21)*100 -> 0.17374038
A23: ='[1]175 since Nov 2015'!A102 -> 42471 | B23: 9511.7627 | C23: =ROUND(((B23-B22)/B22)*100,2) -> 1.44 | D23: 77.5809 | E23: =ROUND(((D23-D22)/D22)*100,2) -> 1.43 | F23: =E23-C23 -> -0.01 | G23: =+STDEV($F$9:F23) -> 0.01069045 | H23: =+G23*(SQRT(250)) -> 0.16903085 | I23: 7778.6 | J23: =+((I23-I22)/I22)*100 -> 1.4370664
A24: ='[1]175 since Nov 2015'!A103 -> 42472 | B24: 9561.6288 | C24: =ROUND(((B24-B23)/B23)*100,2) -> 0.52 | D24: 77.9859 | E24: =ROUND(((D24-D23)/D23)*100,2) -> 0.52 | F24: =E24-C24 -> 0 | G24: =+STDEV($F$9:F24) -> 0.010327956 | H24: =+G24*(SQRT(250)) -> 0.16329932 | I24: 7819.4 | J24: =+((I24-I23)/I23)*100 -> 0.52451598
A25: ='[1]175 since Nov 2015'!A104 -> 42473 | B25: 9726.9845 | C25: =ROUND(((B25-B24)/B24)*100,2) -> 1.73 | D25: 79.3342 | E25: =ROUND(((D25-D24)/D24)*100,2) -> 1.73 | F25: =E25-C25 -> 0 | G25: =+STDEV($F$9:F25) -> 0.01 | H25: =+G25*(SQRT(250)) -> 0.15811388 | I25: 7954.6 | J25: =+((I25-I24)/I24)*100 -> 1.7290329
A26: ='[1]175 since Nov 2015'!A105 -> 42478 | B26: 9809.7935 | C26: =ROUND(((B26-B25)/B25)*100,2) -> 0.85 | D26: 80.0052 | E26: =ROUND(((D26-D25)/D25)*100,2) -> 0.85 | F26: =E26-C26 -> 0 | G26: =+STDEV($F$9:F26) -> 0.009701425 | H26: =+G26*(SQRT(250)) -> 0.153393 | I26: 8022.3 | J26: =+((I26-I25)/I25)*100 -> 0.85107988
A27: ='[1]175 since Nov 2015'!A106 -> 42480 | B27: 9811.8356 | C27: =ROUND(((B27-B26)/B26)*100,2) -> 0.02 | D27: 80.0216 | E27: =ROUND(((D27-D26)/D26)*100,2) -> 0.02 | F27: =E27-C27 -> 0 | G27: =+STDEV($F$9:F27) -> 0.0094280904 | H27: =+G27*(SQRT(250)) -> 0.1490712 | I27: 8023.95 | J27: =+((I27-I26)/I26)*100 -> 0.020567668
A28: ='[1]175 since Nov 2015'!A107 -> 42481 | B28: 9808.4973 | C28: =ROUND(((B28-B27)/B27)*100,2) -> -0.03 | D28: 79.9956 | E28: =ROUND(((D28-D27)/D27)*100,2) -> -0.03 | F28: =E28-C28 -> 0 | G28: =+STDEV($F$9:F28) -> 0.0091766294 | H28: =+G28*(SQRT(250)) -> 0.14509525 | I28: 8021.25 | J28: =+((I28-I27)/I27)*100 -> -0.033649263
A29: ='[1]175 since Nov 2015'!A108 -> 42482 | B29: 9797.3575 | C29: =ROUND(((B29-B28)/B28)*100,2) -> -0.11 | D29: 79.9026 | E29: =ROUND(((D29-D28)/D28)*100,2) -> -0.12 | F29: =E29-C29 -> -0.01 | G29: =+STDEV($F$9:F29) -> 0.0092066229 | H29: =+G29*(SQRT(250)) -> 0.14556949 | I29: 8012.15 | J29: =+((I29-I28)/I28)*100 -> -0.11344865
A30: ='[1]175 since Nov 2015'!A109 -> 42485 | B30: 9741.4137 | C30: =ROUND(((B30-B29)/B29)*100,2) -> -0.57 | D30: 79.4479 | E30: =ROUND(((D30-D29)/D29)*100,2) -> -0.57 | F30: =E30-C30 -> 0 | G30: =+STDEV($F$9:F30) -> 0.0089853175 | H30: =+G30*(SQRT(250)) -> 0.14207034 | I30: 7966.4 | J30: =+((I30-I29)/I29)*100 -> -0.57100778
... A263: ='[1]175 since Nov 2015'!A342 -> 42825 | B263: 11741.066 | C263: =ROUND(((B263-B262)/B262)*100,2) -> 0.08 | D263: 95.5162 | E263: =ROUND(((D263-D262)/D262)*100,2) -> 0.08 | F263: =E263-C263 -> 0 | G263: =+STDEV($F$9:F263) -> 0.0057847232 | H263: =+G263*(SQRT(250)) -> 0.091464505 | I263: 9467.1 | J263: =+((I263-I262)/I262)*100 -> 0.067648271
A264: ='[1]175 since Nov 2015'!A343 -> 42828 | B264: 11817.325 | C264: =ROUND(((B264-B263)/B263)*100,2) -> 0.65 | D264: 96.1366 | E264: =ROUND(((D264-D263)/D263)*100,2) -> 0.65 | F264: =E264-C264 -> 0 | G264: =+STDEV(F16:F264) -> 0.0055501226 | H264: =+G264*(SQRT(250)) -> 0.087755143 | I264: 9528.6 | J264: =+((I264-I263)/I263)*100 -> 0.64961815
A265: ='[1]175 since Nov 2015'!A344 -> 42830 | B265: 11866.139 | C265: =ROUND(((B265-B264)/B264)*100,2) -> 0.41 | D265: 96.5326 | E265: =ROUND(((D265-D264)/D264)*100,2) -> 0.41 | F265: =E265-C265 -> 0 | G265: =+STDEV(F17:F265) -> 0.0055501226 | H265: =+G265*(SQRT(250)) -> 0.087755143 | I265: 9567.95 | J265: =+((I265-I264)/I264)*100 -> 0.41296728
A266: ='[1]175 since Nov 2015'!A345 -> 42831 | B266: 11868.893 | C266: =ROUND(((B266-B265)/B265)*100,2) -> 0.02 | D266: 96.5535 | E266: =ROUND(((D266-D265)/D265)*100,2) -> 0.02 | F266: =E266-C266 -> 0 | G266: =+STDEV(F18:F266) -> 0.0054142433 | H266: =+G266*(SQRT(250)) -> 0.085606703 | I266: 9570.15 | J266: =+((I266-I265)/I265)*100 -> 0.022993431
A267: ='[1]175 since Nov 2015'!A346 -> 42832 | B267: 11799.789 | C267: =ROUND(((B267-B266)/B266)*100,2) -> -0.58 | D267: 95.9887 | E267: =ROUND(((D267-D266)/D266)*100,2) -> -0.58 | F267: =E267-C267 -> 0 | G267: =+STDEV(F19:F267) -> 0.0053821448 | H267: =+G267*(SQRT(250)) -> 0.085099182 | I267: 9514.45 | J267: =+((I267-I266)/I266)*100 -> -0.58201805
A268: ='[1]175 since Nov 2015'!A347 -> 42835 | B268: 11795.154 | C268: =ROUND(((B268-B267)/B267)*100,2) -> -0.04 | D268: 95.9458 | E268: =ROUND(((D268-D267)/D267)*100,2) -> -0.04 | F268: =E268-C268 -> 0 | G268: =+STDEV(F20:F268) -> 0.0053392489 | H268: =+G268*(SQRT(250)) -> 0.084420937 | I268: 9510.6 | J268: =+((I268-I267)/I267)*100 -> -0.040464767
A269: ='[1]175 since Nov 2015'!A348 -> 42836 | B269: 11870.982 | C269: =ROUND(((B269-B268)/B268)*100,2) -> 0.64 | D269: 96.555 | E269: =ROUND(((D269-D268)/D268)*100,2) -> 0.63 | F269: =E269-C269 -> -0.01 | G269: =+STDEV(F21:F269) -> 0.0053392489 | H269: =+G269*(SQRT(250)) -> 0.084420937 | I269: 9567.25 | J269: =+((I269-I268)/I268)*100 -> 0.59565117
A270: ='[1]175 since Nov 2015'!A349 -> 42837 | B270: 11838.039 | C270: =ROUND(((B270-B269)/B269)*100,2) -> -0.28 | D270: 96.2871 | E270: =ROUND(((D270-D269)/D269)*100,2) -> -0.28 | F270: =E270-C270 -> 0 | G270: =+STDEV(F22:F270) -> 0.0053392489 | H270: =+G270*(SQRT(250)) -> 0.084420937 | I270: 9540.7 | J270: =+((I270-I269)/I269)*100 -> -0.27750921
A271: ='[1]175 since Nov 2015'!A350 -> 42838 | B271: 11778.183 | C271: =ROUND(((B271-B270)/B270)*100,2) -> -0.51 | D271: 95.7918 | E271: =ROUND(((D271-D270)/D270)*100,2) -> -0.51 | F271: =E271-C271 -> 0 | G271: =+STDEV(F23:F271) -> 0.0053392489 | H271: =+G271*(SQRT(250)) -> 0.084420937 | I271: 9492.45 | J271: =+((I271-I270)/I270)*100 -> -0.50572809
A272: ='[1]175 since Nov 2015'!A351 -> 42842 | B272: 11761.383 | C272: =ROUND(((B272-B271)/B271)*100,2) -> -0.14 | D272: 95.6488 | E272: =ROUND(((D272-D271)/D271)*100,2) -> -0.15 | F272: =E272-C272 -> -0.01 | G272: =+STDEV(F24:F272) -> 0.0053392489 | H272: =+G272*(SQRT(250)) -> 0.084420937 | I272: 9478.9 | J272: =+((I272-I271)/I271)*100 -> -0.14274502
A273: ='[1]175 since Nov 2015'!A352 -> 42843 | B273: 11704.157 | C273: =ROUND(((B273-B272)/B272)*100,2) -> -0.49 | D273: 95.1855 | E273: =ROUND(((D273-D272)/D272)*100,2) -> -0.48 | F273: =E273-C273 -> 0.01 | G273: =+STDEV(F25:F273) -> 0.0053821448 | H273: =+G273*(SQRT(250)) -> 0.085099182 | I273: 9432.8 | J273: =+((I273-I272)/I272)*100 -> -0.48634335
...

Sheet LIC MF S & P BSE Sensex ETF
A1: ETF - TRACKING ERROR
A2: Since November 15, 2015
A4: LICMF SENSEX PLAN - GROWTH
C5: Rb | D5: LETFSXG | E5: Rp | F5: Rp-Rb | G5: TE | H5: Annualised
B6: TRI Benchmark | C6: Returns | D6: LICMF Sensex | E6: Returns | H6: TE | J6: Returns | L6: TE | Q6: Annualised TE
B7: Sensex Levels | C7: % | D7: NAV | E7: % | I7: Sensex Levels | J7: % | L7: 6 Months | M7: 1 Year | N7: 3 Years | O7: 5 Years | Q7: 6 Months | R7: 1 Year | S7: 3 Years | T7: 5 Years
A8: 42338 | B8: 36254.845 | D8: 261.2972 | I8: 26145.667
A9: ='[1]175 since Nov 2015'!A14 -> 42339 | B9: 36287.77 | C9: =ROUND(((B9-B8)/B8)*100,2) -> 0.09 | D9: 261.8551 | E9: =ROUND(((D9-D8)/D8)*100,2) -> 0.21 | F9: =+E9-C9 -> 0.12 | I9: 26169.412 | J9: =+((I9-I8)/I8)*100 -> 0.090815382
A10: ='[1]175 since Nov 2015'!A15 -> 42340 | B10: 36216.276 | C10: =ROUND(((B10-B9)/B9)*100,2) -> -0.2 | D10: 261.3077 | E10: =ROUND(((D10-D9)/D9)*100,2) -> -0.21 | F10: =+E10-C10 -> -0.01 | G10: =+STDEV($F$9:F10) -> 0.091923882 | H10: =+G10*(SQRT(250)) -> 1.4534442 | I10: 26117.853 | J10: =+((I10-I9)/I9)*100 -> -0.19701987
A11: ='[1]175 since Nov 2015'!A16 -> 42341 | B11: 35895.637 | C11: =ROUND(((B11-B10)/B10)*100,2) -> -0.89 | D11: 258.9517 | E11: =ROUND(((D11-D10)/D10)*100,2) -> -0.9 | F11: =+E11-C11 -> -0.01 | G11: =+STDEV($F$9:F11) -> 0.075055535 | H11: =+G11*(SQRT(250)) -> 1.1867322 | I11: 25886.62 | J11: =+((I11-I10)/I10)*100 -> -0.88534406
A12: ='[1]175 since Nov 2015'!A17 -> 42342 | B12: 35551.041 | C12: =ROUND(((B12-B11)/B11)*100,2) -> -0.96 | D12: 256.3924 | E12: =ROUND(((D12-D11)/D11)*100,2) -> -0.99 | F12: =+E12-C12 -> -0.03 | G12: =+STDEV($F$9:F12) -> 0.068980674 | H12: =+G12*(SQRT(250)) -> 1.0906802 | I12: 25638.109 | J12: =+((I12-I11)/I11)*100 -> -0.95999513
A13: ='[1]175 since Nov 2015'!A18 -> 42345 | B13: 35401.281 | C13: =ROUND(((B13-B12)/B12)*100,2) -> -0.42 | D13: 255.2697 | E13: =ROUND(((D13-D12)/D12)*100,2) -> -0.44 | F13: =+E13-C13 -> -0.02 | G13: =+STDEV($F$9:F13) -> 0.062048368 | H13: =+G13*(SQRT(250)) -> 0.98107084 | I13: 25530.108 | J13: =+((I13-I12)/I12)*100 -> -0.42125273
A14: ='[1]175 since Nov 2015'!A19 -> 42346 | B14: 35096.528 | C14: =ROUND(((B14-B13)/B13)*100,2) -> -0.86 | D14: 253.1621 | E14: =ROUND(((D14-D13)/D13)*100,2) -> -0.83 | F14: =+E14-C14 -> 0.03 | G14: =+STDEV($F$9:F14) -> 0.056095157 | H14: =+G14*(SQRT(250)) -> 0.88694231 | I14: 25310.331 | J14: =+((I14-I13)/I13)*100 -> -0.86085424
A15: ='[1]175 since Nov 2015'!A20 -> 42347 | B15: 34716.202 | C15: =ROUND(((B15-B14)/B14)*100,2) -> -1.08 | D15: 250.4207 | E15: =ROUND(((D15-D14)/D14)*100,2) -> -1.08 | F15: =+E15-C15 -> 0 | G15: =+STDEV($F$9:F15) -> 0.05145502 | H15: =+G15*(SQRT(250)) -> 0.8135753 | I15: 25036.054 | J15: =+((I15-I14)/I14)*100 -> -1.0836577
A16: ='[1]175 since Nov 2015'!A21 -> 42348 | B16: 35016.084 | C16: =ROUND(((B16-B15)/B15)*100,2) -> 0.86 | D16: 252.585 | E16: =ROUND(((D16-D15)/D15)*100,2) -> 0.86 | F16: =+E16-C16 -> 0 | G16: =+STDEV($F$9:F16) -> 0.047809144 | H16: =+G16*(SQRT(250)) -> 0.75592895 | I16: 25252.318 | J16: =+((I16-I15)/I15)*100 -> 0.86381114
A17: ='[1]175 since Nov 2015'!A22 -> 42349 | B17: 34727.815 | C17: =ROUND(((B17-B16)/B16)*100,2) -> -0.82 | D17: 250.5107 | E17: =ROUND(((D17-D16)/D16)*100,2) -> -0.82 | F17: =+E17-C17 -> 0 | G17: =+STDEV($F$9:F17) -> 0.044845413 | H17: =+G17*(SQRT(250)) -> 0.70906825 | I17: 25044.429 | J17: =+((I17-I16)/I16)*100 -> -0.82324897
A18: ='[1]175 since Nov 2015'!A23 -> 42352 | B18: 34874.686 | C18: =ROUND(((B18-B17)/B17)*100,2) -> 0.42 | D18: 251.5647 | E18: =ROUND(((D18-D17)/D17)*100,2) -> 0.42 | F18: =+E18-C18 -> 0 | G18: =+STDEV($F$9:F18) -> 0.042373996 | H18: =+G18*(SQRT(250)) -> 0.66999171 | I18: 25150.347 | J18: =+((I18-I17)/I17)*100 -> 0.42292191
A19: ='[1]175 since Nov 2015'!A24 -> 42353 | B19: 35110.54 | C19: =ROUND(((B19-B18)/B18)*100,2) -> 0.68 | D19: 253.2631 | E19: =ROUND(((D19-D18)/D18)*100,2) -> 0.68 | F19: =+E19-C19 -> 0 | G19: =+STDEV($F$9:F19) -> 0.040271804 | H19: =+G19*(SQRT(250)) -> 0.63675313 | I19: 25320.436 | J19: =+((I19-I18)/I18)*100 -> 0.67629055
A20: ='[1]175 since Nov 2015'!A25 -> 42354 | B20: 35351.731 | C20: =ROUND(((B20-B19)/B19)*100,2) -> 0.69 | D20: 255.0086 | E20: =ROUND(((D20-D19)/D19)*100,2) -> 0.69 | F20: =+E20-C20 -> 0 | G20: =+STDEV($F$9:F20) -> 0.038455011 | H20: =+G20*(SQRT(250)) -> 0.60802711 | I20: 25494.375 | J20: =+((I20-I19)/I19)*100 -> 0.68694763
A21: ='[1]175 since Nov 2015'!A26 -> 42355 | B21: 35780.767 | C21: =ROUND(((B21-B20)/B20)*100,2) -> 1.21 | D21: 258.0974 | E21: =ROUND(((D21-D20)/D20)*100,2) -> 1.21 | F21: =+E21-C21 -> 0 | G21: =+STDEV($F$9:F21) -> 0.036864269 | H21: =+G21*(SQRT(250)) -> 0.58287528 | I21: 25803.779 | J21: =+((I21-I20)/I20)*100 -> 1.2136187
... A337: ='[1]175 since Nov 2015'!A342 -> 42825 | B337: 41779.958 | C337: =ROUND(((B337-B336)/B336)*100,2) -> -0.09 | D337: 300.9934 | E337: =ROUND(((D337-D336)/D336)*100,2) -> -0.09 | F337: =+E337-C337 -> 0 | G337: =+STDEV($F$9:F337) -> 0.0091062134 | H337: =+G337*(SQRT(250)) -> 0.14398188 | I337: 29620.503 | J337: =+((I337-I336)/I336)*100 -> -0.090796487
A338: ='[1]175 since Nov 2015'!A343 -> 42828 | B338: 42188.613 | C338: =ROUND(((B338-B337)/B337)*100,2) -> 0.98 | D338: 303.9326 | E338: =ROUND(((D338-D337)/D337)*100,2) -> 0.98 | F338: =+E338-C338 -> 0 | G338: =+STDEV(F90:F338) -> 0.0056438656 | H338: =+G338*(SQRT(250)) -> 0.089237351 | I338: 29910.225 | J338: =+((I338-I337)/I337)*100 -> 0.9781121
A339: ='[1]175 since Nov 2015'!A344 -> 42830 | B339: 42278.908 | C339: =ROUND(((B339-B338)/B338)*100,2) -> 0.21 | D339: 304.5823 | E339: =ROUND(((D339-D338)/D338)*100,2) -> 0.21 | F339: =+E339-C339 -> 0 | G339: =+STDEV(F91:F339) -> 0.0056438656 | H339: =+G339*(SQRT(250)) -> 0.089237351 | I339: 29974.24 | J339: =+((I339-I338)/I338)*100 -> 0.21402405
A340: ='[1]175 since Nov 2015'!A345 -> 42831 | B340: 42212.753 | C340: =ROUND(((B340-B339)/B339)*100,2) -> -0.16 | D340: 304.1084 | E340: =ROUND(((D340-D339)/D339)*100,2) -> -0.16 | F340: =+E340-C340 -> 0 | G340: =+STDEV(F92:F340) -> 0.0056438656 | H340: =+G340*(SQRT(250)) -> 0.089237351 | I340: 29927.34 | J340: =+((I340-I339)/I339)*100 -> -0.1564689
A341: ='[1]175 since Nov 2015'!A346 -> 42832 | B341: 41901.417 | C341: =ROUND(((B341-B340)/B340)*100,2) -> -0.74 | D341: 301.864 | E341: =ROUND(((D341-D340)/D340)*100,2) -> -0.74 | F341: =+E341-C341 -> 0 | G341: =+STDEV(F93:F341) -> 0.0056438656 | H341: =+G341*(SQRT(250)) -> 0.089237351 | I341: 29706.61 | J341: =+((I341-I340)/I340)*100 -> -0.73755182
A342: ='[1]175 since Nov 2015'!A347 -> 42835 | B342: 41716.815 | C342: =ROUND(((B342-B341)/B341)*100,2) -> -0.44 | D342: 300.534 | E342: =ROUND(((D342-D341)/D341)*100,2) -> -0.44 | F342: =+E342-C342 -> 0 | G342: =+STDEV(F94:F342) -> 0.0056081738 | H342: =+G342*(SQRT(250)) -> 0.088673013 | I342: 29575.737 | J342: =+((I342-I341)/I341)*100 -> -0.44055051
A343: ='[1]175 since Nov 2015'!A348 -> 42836 | B343: 42016.707 | C343: =ROUND(((B343-B342)/B342)*100,2) -> 0.72 | D343: 302.6854 | E343: =ROUND(((D343-D342)/D342)*100,2) -> 0.72 | F343: =+E343-C343 -> 0 | G343: =+STDEV(F95:F343) -> 0.0056081738 | H343: =+G343*(SQRT(250)) -> 0.088673013 | I343: 29788.35 | J343: =+((I343-I342)/I342)*100 -> 0.71887492
A344: ='[1]175 since Nov 2015'!A349 -> 42837 | B344: 41812.37 | C344: =ROUND(((B344-B343)/B343)*100,2) -> -0.49 | D344: 301.2144 | E344: =ROUND(((D344-D343)/D343)*100,2) -> -0.49 | F344: =+E344-C344 -> 0 | G344: =+STDEV(F96:F344) -> 0.0056081738 | H344: =+G344*(SQRT(250)) -> 0.088673013 | I344: 29643.48 | J344: =+((I344-I343)/I343)*100 -> -0.48633086
A345: ='[1]175 since Nov 2015'!A350 -> 42838 | B345: 41555.607 | C345: =ROUND(((B345-B344)/B344)*100,2) -> -0.61 | D345: 299.3651 | E345: =ROUND(((D345-D344)/D344)*100,2) -> -0.61 | F345: =+E345-C345 -> 0 | G345: =+STDEV(F97:F345) -> 0.0056081738 | H345: =+G345*(SQRT(250)) -> 0.088673013 | I345: 29461.447 | J345: =+((I345-I344)/I344)*100 -> -0.61407531
A346: ='[1]175 since Nov 2015'!A351 -> 42842 | B346: 41488.21 | C346: =ROUND(((B346-B345)/B345)*100,2) -> -0.16 | D346: 298.8789 | E346: =ROUND(((D346-D345)/D345)*100,2) -> -0.16 | F346: =+E346-C346 -> 0 | G346: =+STDEV(F98:F346) -> 0.0056081738 | H346: =+G346*(SQRT(250)) -> 0.088673013 | I346: 29413.664 | J346: =+((I346-I345)/I345)*100 -> -0.16218579
A347: ='[1]175 since Nov 2015'!A352 -> 42843 | B347: 41354.827 | C347: =ROUND(((B347-B346)/B346)*100,2) -> -0.32 | D347: 297.9152 | E347: =ROUND(((D347-D346)/D346)*100,2) -> -0.32 | F347: =+E347-C347 -> 0 | G347: =+STDEV(F99:F347) -> 0.0056081738 | H347: =+G347*(SQRT(250)) -> 0.088673013 | I347: 29319.1 | J347: =+((I347-I346)/I346)*100 -> -0.32149829
A348: ='[1]175 since Nov 2015'!A353 -> 42844 | B348: 41379.47 | C348: =ROUND(((B348-B347)/B347)*100,2) -> 0.06 | D348: 298.0953 | E348: =ROUND(((D348-D347)/D347)*100,2) -> 0.06 | F348: =+E348-C348 -> 0 | G348: =+STDEV(F100:F348) -> 0.0055719626 | H348: =+G348*(SQRT(250)) -> 0.088100465 | I348: 29336.572 | J348: =+((I348-I347)/I347)*100 -> 0.05959133
A349: ='[1]175 since Nov 2015'!A354 -> 42845 | B349: 41500.514 | C349: =ROUND(((B349-B348)/B348)*100,2) -> 0.29 | D349: 298.9616 | E349: =ROUND(((D349-D348)/D348)*100,2) -> 0.29 | F349: =+E349-C349 -> 0 | G349: =+STDEV(F101:F349) -> 0.0055719626 | H349: =+G349*(SQRT(250)) -> 0.088100465 | I349: 29422.39 | J349: =+((I349-I348)/I348)*100 -> 0.29253029
... A581: ='[1]175 since Nov 2015'!A586 -> 43186 | B581: 47380.688 | C581: =ROUND(((B581-B580)/B580)*100,2) -> 0.33 | D581: 341.2233 | E581: =ROUND(((D581-D580)/D580)*100,2) -> 0.33 | F581: =+E581-C581 -> 0 | G581: =+STDEV(F333:F581) -> 0.0061859492 | H581: =+G581*(SQRT(250)) -> 0.097808444 | I581: 33174.393 | J581: =+((I581-I580)/I580)*100 -> 0.3265635
A582: ='[1]175 since Nov 2015'!A587 -> 43187 | B582: 47087 | C582: =ROUND(((B582-B581)/B581)*100,2) -> -0.62 | D582: 339.1114 | E582: =ROUND(((D582-D581)/D581)*100,2) -> -0.62 | F582: =+E582-C582 -> 0 | G582: =+STDEV(F334:F582) -> 0.0061859492 | H582: =+G582*(SQRT(250)) -> 0.097808444 | I582: 32968.684 | J582: =+((I582-I581)/I581)*100 -> -0.62008376 | K582: =D582/D460-1 -> 0.057351683
A583: ='[1]175 since Nov 2015'!A588 -> 43192 | B583: 47496.329 | C583: =ROUND(((B583-B582)/B582)*100,2) -> 0.87 | D583: 342.0486 | E583: =ROUND(((D583-D582)/D582)*100,2) -> 0.87 | F583: =+E583-C583 -> 0 | G583: =+STDEV(F335:F583) -> 0.0061859492 | H583: =+G583*(SQRT(250)) -> 0.097808444 | I583: 33255.361 | J583: =+((I583-I582)/I582)*100 -> 0.86954279
A584: ='[1]175 since Nov 2015'!A589 -> 43193 | B584: 47661 | C584: =ROUND(((B584-B583)/B583)*100,2) -> 0.35 | D584: 343.2303 | E584: =ROUND(((D584-D583)/D583)*100,2) -> 0.35 | F584: =+E584-C584 -> 0 | G584: =+STDEV(F336:F584) -> 0.0061859492 | H584: =+G584*(SQRT(250)) -> 0.097808444 | I584: 33370.625 | J584: =+((I584-I583)/I583)*100 -> 0.34660418
A585: ='[1]175 since Nov 2015'!A590 -> 43194 | B585: 47158.851 | C585: =ROUND(((B585-B584)/B584)*100,2) -> -1.05 | D585: 339.6176 | E585: =ROUND(((D585-D584)/D584)*100,2) -> -1.05 | F585: =+E585-C585 -> 0 | G585: =+STDEV(F337:F585) -> 0.0061859492 | H585: =+G585*(SQRT(250)) -> 0.097808444 | I585: 33019.071 | J585: =+((I585-I584)/I584)*100 -> -1.0534859
A586: ='[1]175 since Nov 2015'!A591 -> 43195 | B586: 47984 | C586: =ROUND(((B586-B585)/B585)*100,2) -> 1.75 | D586: 345.544 | E586: =ROUND(((D586-D585)/D585)*100,2) -> 1.75 | F586: =+E586-C586 -> 0 | G586: =+STDEV(F338:F586) -> 0.0061859492 | H586: =+G586*(SQRT(250)) -> 0.097808444 | I586: 33596.795 | J586: =+((I586-I585)/I585)*100 -> 1.7496701
A587: ='[1]175 since Nov 2015'!A592 -> 43196 | B587: 48027 | C587: =ROUND(((B587-B586)/B586)*100,2) -> 0.09 | D587: 345.8533 | E587: =ROUND(((D587-D586)/D586)*100,2) -> 0.09 | F587: =+E587-C587 -> 0 | G587: =+STDEV(F339:F587) -> 0.0061859492 | H587: =+G587*(SQRT(250)) -> 0.097808444 | I587: 33626.967 | J587: =+((I587-I586)/I586)*100 -> 0.089805087
...

Sheet LIC MF Nifty 50 Index Fund - Gr
A1: INDEX FUND - TRACKING ERROR
A2: Since April 01, 08
A4: LICMF NIFTY PLAN - GROWTH
C5: Rb | E5: Rp | F5: Rp-Rb | G5: TE | H5: Annualised
B6: TRI Benchmark | C6: Returns | D6: LICMF Nifty | E6: Returns | H6: TE | K6: Total Fund | P6: Returns | Q6: TE | V6: Annualised TE
B7: Nifty Levels | C7: % | D7: NAV | E7: % | I7: Cash % | J7: % mkt value | K7: ( in lacs) | L7: Average Rp-Rb | N7: Remark | O7: Nifty Levels | P7: % | Q7: 6 Months | R7: 1 Year | S7: 3 Years | T7: 5 Years | V7: 6 Months | W7: 1 Year | X7: 3 Years | Y7: 5 Years
A8: 39538 | B8: 5762.88 | D8: 27.7469
A9: 39539 | B9: 5769.05 | C9: 0.10706452 | D9: 27.76 | E9: 0.047212481 | F9: -0.059852042 | L9: -0.059852042
A10: 39540 | B10: 5786.85 | C10: 0.308543 | D10: 27.8004 | E10: 0.14553314 | F10: -0.16300986 | G10: 0.072943593 | H10: 1.1533395 | L10: -0.11143095
A11: 39541 | B11: 5808.01 | C11: 0.36565662 | D11: 27.8968 | E11: 0.3467576 | F11: -0.018899017 | G11: 0.074259254 | H11: 1.1741419 | L11: -0.080586973
A12: 39542 | B12: 5656.4 | C12: -2.6103605 | D12: 27.1733 | E12: -2.5934874 | F12: 0.016873094 | G12: 0.077787578 | H12: 1.2299296 | L12: -0.056221956
A13: 39545 | B13: 5795.39 | C13: 2.4572166 | D13: 27.8467 | E13: 2.4781679 | F13: 0.020951303 | G13: 0.075692291 | H13: 1.1968002 | L13: -0.040787304
A14: 39546 | B14: 5732.64 | C14: -1.0827572 | D14: 27.5465 | E14: -1.0780452 | F14: 0.0047120026 | G14: 0.070203201 | H14: 1.1100101 | L14: -0.033204086
A15: 39547 | B15: 5778.16 | C15: 0.79404951 | D15: 27.7672 | E15: 0.80119071 | F15: 0.0071412009 | G15: 0.06587571 | H15: 1.0415864 | L15: -0.027440474
A16: 39548 | B16: 5761.35 | C16: -0.29092306 | D16: 27.6773 | E16: -0.32376329 | F16: -0.032840227 | G16: 0.061018929 | H16: 0.96479398 | L16: -0.028115443
A17: 39549 | B17: 5815.89 | C17: 0.94665313 | D17: 27.9394 | E17: 0.94698544 | F17: 0.00033230754 | G17: 0.057860309 | H17: 0.91485181 | L17: -0.024954582
A18: 39553 | B18: 5939.87 | C18: 2.131746 | D18: 28.5231 | E18: 2.0891644 | F18: -0.042581552 | G18: 0.05483527 | H18: 0.86702175 | L18: -0.026717279
A19: 39554 | B19: 5949.2 | C19: 0.15707414 | D19: 28.5657 | E19: 0.14935263 | F19: -0.0077215147 | G19: 0.052335645 | H19: 0.82749921 | L19: -0.024990391
A20: 39555 | B20: 6035.71 | C20: 1.4541451 | D20: 28.9771 | E20: 1.4401888 | F20: -0.013956337 | G20: 0.050001638 | H20: 0.79059531 | L20: -0.024070887
A21: 39559 | B21: 6131.62 | C21: 1.5890425 | D21: 29.4455 | E21: 1.6164489 | F21: 0.027406303 | G21: 0.049956535 | H21: 0.78988217 | L21: -0.020111103
... A38: 39583 | B38: 6230.52 | C38: 2.0648803 | D38: 29.8559 | E38: 2.027154 | F38: -0.037726303 | G38: 0.037410149 | H38: 0.59150639 | L38: -0.015966758
A39: 39584 | B39: 6282.21 | C39: 0.82962578 | D39: 30.1075 | E39: 0.84271451 | F39: 0.013088728 | G39: 0.037149718 | H39: ftp://LICN2964:8sRSfBDC@edx.standardandpoors.com | L39: -0.015029485
A40: 39588 | B40: 6217.98 | C40: -1.0224109 | D40: 29.7988 | E40: -1.0253259 | F40: -0.0029150123 | G40: 0.03660831 | H40: 0.57882821 | L40: -0.014650907
A41: 39589 | B41: 6233.83 | C41: 0.25490593 | D41: 29.8768 | E41: 0.26175551 | F41: 0.0068495729 | G41: 0.036225631 | H41: 0.57277752 | L41: -0.013999378
A42: 39590 | B42: 6121.51 | C42: -1.8017816 | D42: 29.3302 | E42: -1.8295132 | F42: -0.027731632 | G42: 0.03575019 | H42: 0.56526014 | L42: -0.014403267
A43: 39591 | B43: 6025.43 | C43: -1.5695474 | D43: 28.8635 | E43: -1.5911927 | F43: -0.021645313 | G43: 0.035241795 | H43: 0.5572217 | L43: -0.014610183
A44: 39594 | B44: 5938.4 | C44: -1.4443782 | D44: 28.4306 | E44: -1.4998181 | F44: -0.055439866 | G44: 0.035395002 | H44: 0.55964412 | L44: -0.015744341
A45: 39595 | B45: 5919.8 | C45: -0.31321568 | D45: 28.3285 | E45: -0.3591201 | F45: -0.045904422 | G45: 0.035250399 | H45: 0.55735774 | L45: -0.016559478
A46: 39596 | B46: 5991.15 | C46: 1.2052772 | D46: 28.6757 | E46: 1.2256208 | F46: 0.020343636 | G46: 0.03528236 | H46: 0.5578631 | L46: -0.015588344
A47: 39597 | B47: 5895.41 | C47: -1.5980238 | D47: 28.2166 | E47: -1.6010071 | F47: -0.0029833728 | G47: 0.034873484 | H47: 0.55139819 | L47: -0.015265139
A48: 39598 | B48: 5937.81 | C48: 0.71920358 | D48: 28.4086 | E48: 0.68045051 | F48: -0.038753069 | G48: 0.034623234 | H48: 0.5474414 | L48: -0.015852337
A49: 39601 | B49: 5778.7 | C49: -2.6796075 | D49: 27.6291 | E49: -2.7438874 | F49: -0.06427995 | G49: 0.035014282 | H49: 0.55362441 | L49: -0.017033499
A50: 39602 | B50: 5749.83 | C50: -0.49959333 | D50: 27.4898 | E50: -0.50417857 | F50: -0.0045852312 | G50: 0.034637942 | H50: 0.54767395 | L50: -0.016737111
A51: 39603 | B51: 5590.94 | C51: -2.763386 | D51: 26.7396 | E51: -2.7290122 | F51: 0.034373832 | G51: 0.035099466 | H51: 0.55497128 | L51: -0.015548485
... A103: 39678 | B103: 5374.12 | C103: -0.83752959 | D103: 25.6536 | E103: -0.86139934 | F103: -0.023869747 | G103: 0.053959574 | H103: 0.85317577 | L103: -0.0097676293
A104: 39679 | B104: 5343.76 | C104: -0.5649297 | D104: 25.5104 | E104: -0.55820626 | F104: 0.0067234445 | G104: 0.053701207 | H104: 0.84909064 | L104: -0.0095958473 | N104: nav calculated mannually
A105: 39680 | B105: 5402.6 | C105: 1.1010974 | D105: 25.7824 | E105: 1.0662318 | F105: -0.034865543 | G105: 0.053482361 | H105: 0.84563038 | L105: -0.0098563596
A106: 39681 | B106: 5242.06 | C106: -2.9715322 | D106: 25.0355 | E106: -2.8969374 | F106: 0.07459478 | G106: 0.053885528 | H106: 0.85200501 | L106: -0.0089946133
A107: 39682 | B107: 5295.39 | C107: 1.0173481 | D107: 25.2821 | E107: 0.9850013 | F107: -0.032346844 | G107: 0.053661247 | H107: 0.84845881 | L107: -0.0092304944
A108: 39685 | B108: 5305.47 | C108: 0.19035425 | D108: 25.3215 | E108: 0.15584148 | F108: -0.034512767 | G108: 0.05344937 | H108: 0.84510875 | L108: -0.0094833171
...

Sheet LIC MF S&P BSE Sensex Index Gr
A1: INDEX FUND - TRACKING ERROR
A2: Since April 01, 08
A4: LICMF Sensex PLAN - GROWTH
C5: Rb | E5: Rp | F5: Rp-Rb | G5: TE | H5: Annualised
B6: TRI Benchmark | C6: Returns | D6: LICMF Sensex | E6: Returns | H6: TE | K6: Total Fund | Q6: TE | V6: Annualised TE
B7: Sensex Levels | C7: % | D7: NAV | E7: % | I7: Cash % | J7: % mkt value | K7: ( in lacs) | L7: Average Rp-Rb | N7: Remark | Q7: 6 Months | R7: 1 Year | S7: 3 Years | T7: 5 Years | V7: 6 Months | W7: 1 Year | X7: 3 Years | Y7: 5 Years
A8: 39539 | B8: 19298.23 | C8: -0.11 | D8: 32.2507 | E8: -0.14 | F8: =+E8-C8 -> -0.03 | G8: 0 | H8: 0 | J8: -100
A9: 39540 | B9: 19451.1 | C9: =ROUND(((B9-B8)/B8)*100,2) -> 0.79 | D9: 32.5037 | E9: =ROUND(((D9-D8)/D8)*100,2) -> 0.78 | F9: =+E9-C9 -> -0.01 | G9: 0.02 | H9: 0.28 | J9: #DIV/0!
A10: 39541 | B10: 19552.55 | C10: =ROUND(((B10-B9)/B9)*100,2) -> 0.52 | D10: 32.6576 | E10: =ROUND(((D10-D9)/D9)*100,2) -> 0.47 | F10: =+E10-C10 -> -0.05 | G10: 0.02 | H10: 0.33 | J10: #DIV/0!
A11: 39542 | B11: 18948.12 | C11: =ROUND(((B11-B10)/B10)*100,2) -> -3.09 | D11: 31.6969 | E11: =ROUND(((D11-D10)/D10)*100,2) -> -2.94 | F11: =+E11-C11 -> 0.15 | G11: 0.09 | H11: 1.42 | J11: #DIV/0!
A12: 39545 | B12: 19459.35 | C12: =ROUND(((B12-B11)/B11)*100,2) -> 2.7 | D12: 32.5217 | E12: =ROUND(((D12-D11)/D11)*100,2) -> 2.6 | F12: =+E12-C12 -> -0.1 | G12: 0.09 | H12: 1.47 | J12: #DIV/0!
A13: 39546 | B13: 19250.07 | C13: =ROUND(((B13-B12)/B12)*100,2) -> -1.08 | D13: 32.191 | E13: =ROUND(((D13-D12)/D12)*100,2) -> -1.02 | F13: =+E13-C13 -> 0.06 | G13: 0.09 | H13: 1.39 | J13: #DIV/0!
A14: 39547 | B14: 19500.63 | C14: =ROUND(((B14-B13)/B13)*100,2) -> 1.3 | D14: 32.602 | E14: =ROUND(((D14-D13)/D13)*100,2) -> 1.28 | F14: =+E14-C14 -> -0.02 | G14: 0.08 | H14: 1.28 | J14: #DIV/0!
A15: 39548 | B15: 19384.83 | C15: =ROUND(((B15-B14)/B14)*100,2) -> -0.59 | D15: 32.4347 | E15: =ROUND(((D15-D14)/D14)*100,2) -> -0.51 | F15: =+E15-C15 -> 0.08 | G15: 0.08 | H15: 1.26 | J15: #DIV/0!
A16: 39549 | B16: 19523.83 | C16: =ROUND(((B16-B15)/B15)*100,2) -> 0.72 | D16: 32.6164 | E16: =ROUND(((D16-D15)/D15)*100,2) -> 0.56 | F16: =+E16-C16 -> -0.16 | G16: 0.09 | H16: 1.48 | J16: #DIV/0!
A17: 39553 | B17: 19951.19 | C17: =ROUND(((B17-B16)/B16)*100,2) -> 2.19 | D17: 33.1738 | E17: =ROUND(((D17-D16)/D16)*100,2) -> 1.71 | F17: =+E17-C17 -> -0.48 | G17: 0.17 | H17: 2.74 | J17: #DIV/0!
A18: 39554 | B18: 20063.01 | C18: =ROUND(((B18-B17)/B17)*100,2) -> 0.56 | D18: 33.391 | E18: =ROUND(((D18-D17)/D17)*100,2) -> 0.65 | F18: =+E18-C18 -> 0.09 | G18: 0.17 | H18: 2.7 | J18: #DIV/0!
A19: 39555 | B19: 20355.73 | C19: =ROUND(((B19-B18)/B18)*100,2) -> 1.46 | D19: 33.8659 | E19: =ROUND(((D19-D18)/D18)*100,2) -> 1.42 | F19: =+E19-C19 -> -0.04 | G19: 0.16 | H19: 2.57 | J19: #DIV/0!
A20: 39559 | B20: 20674.55 | C20: =ROUND(((B20-B19)/B19)*100,2) -> 1.57 | D20: 34.2586 | E20: =ROUND(((D20-D19)/D19)*100,2) -> 1.16 | F20: =+E20-C20 -> -0.41 | G20: 0.19 | H20: 2.95 | J20: #DIV/0!
... A376: 40106 | B376: 21791.42 | C376: =ROUND(((B376-B375)/B375)*100,2) -> -0.58 | D376: 32.1046 | E376: =ROUND(((D376-D375)/D375)*100,2) -> -0.59 | F376: =+E376-C376 -> -0.01 | G376: 0.32 | H376: 5.1 | J376: #DIV/0!
A377: 40107 | B377: 21520.86 | C377: =ROUND(((B377-B376)/B376)*100,2) -> -1.24 | D377: 31.7055 | E377: =ROUND(((D377-D376)/D376)*100,2) -> -1.24 | F377: =+E377-C377 -> 0 | G377: 0.32 | H377: 5.1
A378: 40108 | B378: 21243.22 | C378: =ROUND(((B378-B377)/B377)*100,2) -> -1.29 | D378: 31.2931 | E378: =ROUND(((D378-D377)/D377)*100,2) -> -1.3 | F378: =+E378-C378 -> -0.01 | G378: 0.32 | H378: 5.09
A379: 40109 | B379: 21269.88 | C379: =ROUND(((B379-B378)/B378)*100,2) -> 0.13 | D379: 31.3313 | E379: =ROUND(((D379-D378)/D378)*100,2) -> 0.12 | F379: =+E379-C379 -> -0.01 | G379: 0.32 | H379: 5.08
A380: 40112 | B380: 21180.92 | C380: =ROUND(((B380-B379)/B379)*100,2) -> -0.42 | D380: 31.1944 | E380: =ROUND(((D380-D379)/D379)*100,2) -> -0.44 | F380: =+E380-C380 -> -0.02 | G380: 0.32 | H380: 5.08
A381: 40113 | B381: 20691.14 | C381: =ROUND(((B381-B380)/B380)*100,2) -> -2.31 | D381: 30.4777 | E381: =ROUND(((D381-D380)/D380)*100,2) -> -2.3 | F381: =+E381-C381 -> 0.01 | G381: 0.32 | H381: 5.07
A382: 40114 | B382: 20604.36 | C382: =ROUND(((B382-B381)/B381)*100,2) -> -0.42 | D382: 30.35 | E382: =ROUND(((D382-D381)/D381)*100,2) -> -0.42 | F382: =+E382-C382 -> 0 | G382: 0.32 | H382: 5.06
A383: 40115 | B383: 20313 | C383: =ROUND(((B383-B382)/B382)*100,2) -> -1.41 | D383: 29.9266 | E383: =ROUND(((D383-D382)/D382)*100,2) -> -1.4 | F383: =+E383-C383 -> 0.01 | G383: 0.32 | H383: 5.06
A384: 40116 | B384: 20115.04 | C384: =ROUND(((B384-B383)/B383)*100,2) -> -0.97 | D384: 29.6391 | E384: =ROUND(((D384-D383)/D383)*100,2) -> -0.96 | F384: =+E384-C384 -> 0.01 | G384: 0.32 | H384: 5.05
A385: 40120 | B385: 19493.3 | C385: =ROUND(((B385-B384)/B384)*100,2) -> -3.09 | D385: 28.7395 | E385: =ROUND(((D385-D384)/D384)*100,2) -> -3.04 | F385: =+E385-C385 -> 0.05 | G385: 0.32 | H385: 5.04
A386: 40121 | B386: 20135.09 | C386: =ROUND(((B386-B385)/B385)*100,2) -> 3.29 | D386: 29.661 | E386: =ROUND(((D386-D385)/D385)*100,2) -> 3.21 | F386: =+E386-C386 -> -0.08 | G386: 0.32 | H386: 5.04
A387: 40122 | B387: 20327.14 | C387: =ROUND(((B387-B386)/B386)*100,2) -> 0.95 | D387: 29.9449 | E387: =ROUND(((D387-D386)/D386)*100,2) -> 0.96 | F387: =+E387-C387 -> 0.01 | G387: 0.32 | H387: 5.03
A388: 40123 | B388: 20452.14 | C388: =ROUND(((B388-B387)/B387)*100,2) -> 0.61 | D388: 30.1225 | E388: =ROUND(((D388-D387)/D387)*100,2) -> 0.59 | F388: =+E388-C388 -> -0.02 | G388: 0.32 | H388: 5.02
... A483: 40268 | B483: 22220.6 | C483: =ROUND(((B483-B482)/B482)*100,2) -> -0.35 | D483: 32.5682 | E483: =ROUND(((D483-D482)/D482)*100,2) -> -0.35 | F483: =+E483-C483 -> 0 | G483: 7.8504623e-17 | H483: 1.2412671e-15
A484: 40269 | B484: 22429.58 | C484: =ROUND(((B484-B483)/B483)*100,2) -> 0.94 | D484: 32.8726 | E484: =ROUND(((D484-D483)/D483)*100,2) -> 0.93 | F484: =+E484-C484 -> -0.01 | G484: =+STDEV($F$484:F484) -> #DIV/0! | H484: 0.091287093
A485: 40273 | B485: 22737.72 | C485: =ROUND(((B485-B484)/B484)*100,2) -> 1.37 | D485: 33.3193 | E485: =ROUND(((D485-D484)/D484)*100,2) -> 1.36 | F485: =+E485-C485 -> -0.01 | G485: =+STDEV($F$484:F485) -> 7.8504623e-17 | H485: 0.091287093
A486: 40274 | B486: 22744.93 | C486: =ROUND(((B486-B485)/B485)*100,2) -> 0.03 | D486: 33.3283 | E486: =ROUND(((D486-D485)/D485)*100,2) -> 0.03 | F486: =+E486-C486 -> 0 | G486: =+STDEV($F$484:F486) -> 0.0057735027 | H486: 0.13228757
A487: 40275 | B487: 22781.25 | C487: =ROUND(((B487-B486)/B486)*100,2) -> 0.16 | D487: 33.3809 | E487: =ROUND(((D487-D486)/D486)*100,2) -> 0.16 | F487: =+E487-C487 -> 0 | G487: =+STDEV($F$484:F487) -> 0.0057735027 | H487: 0.21602469
A488: 40276 | B488: 22457.19 | C488: =ROUND(((B488-B487)/B487)*100,2) -> -1.42 | D488: 32.8997 | E488: =ROUND(((D488-D487)/D487)*100,2) -> -1.44 | F488: =+E488-C488 -> -0.02 | G488: =+STDEV($F$484:F488) -> 0.0083666003 | H488: 0.20118695
A489: 40277 | B489: 22734.5 | C489: =ROUND(((B489-B488)/B488)*100,2) -> 1.23 | D489: 33.3096 | E489: =ROUND(((D489-D488)/D488)*100,2) -> 1.25 | F489: =+E489-C489 -> 0.02 | G489: =+STDEV($F$484:F489) -> 0.013662601 | H489: 0.18898224
A490: 40280 | B490: 22632.9 | C490: =ROUND(((B490-B489)/B489)*100,2) -> -0.45 | D490: 33.1563 | E490: =ROUND(((D490-D489)/D489)*100,2) -> -0.46 | F490: =+E490-C490 -> -0.01 | G490: =+STDEV($F$484:F490) -> 0.01272418 | H490: 0.17873009
...

Sheet LIC MF Nifty 8-13 yr G-Sec ETF
C5: Rb | E5: Rp | F5: Rp-Rb | G5: TE | H5: Annualised
B6: TRI Benchmark | C6: Returns | D6: LIC MF Nifty 8-13 yr G-Sec ETF | E6: Returns | H6: TE
B7: Nifty 8 minus 13 Year Gsec Index | C7: % | D7: NAV | E7: %
A8: 44377 | B8: 2269.69 | D8: 22.175
A9: 44378 | B9: 2271.65 | C9: =ROUND(((B9-B8)/B8)*100,2) -> 0.09 | D9: 22.1938 | E9: =ROUND(((D9-D8)/D8)*100,2) -> 0.08 | F9: =+E9-C9 -> -0.01
A10: 44379 | B10: 2269.51 | C10: =ROUND(((B10-B9)/B9)*100,2) -> -0.09 | D10: 22.1705 | E10: =ROUND(((D10-D9)/D9)*100,2) -> -0.1 | F10: =+E10-C10 -> -0.01
A11: 44382 | B11: 2269.08 | C11: =ROUND(((B11-B10)/B10)*100,2) -> -0.02 | D11: 22.1682 | E11: =ROUND(((D11-D10)/D10)*100,2) -> -0.01 | F11: =+E11-C11 -> 0.01
A12: 44383 | B12: 2257.2 | C12: =ROUND(((B12-B11)/B11)*100,2) -> -0.52 | D12: 22.0517 | E12: =ROUND(((D12-D11)/D11)*100,2) -> -0.53 | F12: =+E12-C12 -> -0.01
A13: 44384 | B13: 2260.76 | C13: =ROUND(((B13-B12)/B12)*100,2) -> 0.16 | D13: 22.0859 | E13: =ROUND(((D13-D12)/D12)*100,2) -> 0.16 | F13: =+E13-C13 -> 0
A14: 44385 | B14: 2267.28 | C14: =ROUND(((B14-B13)/B13)*100,2) -> 0.29 | D14: 22.1426 | E14: =ROUND(((D14-D13)/D13)*100,2) -> 0.26 | F14: =+E14-C14 -> -0.03
A15: 44386 | B15: 2263.69 | C15: =ROUND(((B15-B14)/B14)*100,2) -> -0.16 | D15: 22.1106 | E15: =ROUND(((D15-D14)/D14)*100,2) -> -0.14 | F15: =+E15-C15 -> 0.02
A16: 44389 | B16: 2258.65 | C16: =ROUND(((B16-B15)/B15)*100,2) -> -0.22 | D16: 22.0678 | E16: =ROUND(((D16-D15)/D15)*100,2) -> -0.19 | F16: =+E16-C16 -> 0.03
A17: 44390 | B17: 2261.54 | C17: =ROUND(((B17-B16)/B16)*100,2) -> 0.13 | D17: 22.0971 | E17: =ROUND(((D17-D16)/D16)*100,2) -> 0.13 | F17: =+E17-C17 -> 0
A18: 44391 | B18: 2261.76 | C18: =ROUND(((B18-B17)/B17)*100,2) -> 0.01 | D18: 22.0952 | E18: =ROUND(((D18-D17)/D17)*100,2) -> -0.01 | F18: =+E18-C18 -> -0.02
A19: 44392 | B19: 2262.53 | C19: =ROUND(((B19-B18)/B18)*100,2) -> 0.03 | D19: 22.1004 | E19: =ROUND(((D19-D18)/D18)*100,2) -> 0.02 | F19: =+E19-C19 -> -0.01
A20: 44393 | B20: 2260.64 | C20: =ROUND(((B20-B19)/B19)*100,2) -> -0.08 | D20: 22.0797 | E20: =ROUND(((D20-D19)/D19)*100,2) -> -0.09 | F20: =+E20-C20 -> -0.01
... A251: 44742 | B251: 2232.97 | C251: =ROUND(((B251-B250)/B250)*100,2) -> 0.17 | D251: 21.7591 | E251: =ROUND(((D251-D250)/D250)*100,2) -> 0.17 | F251: =+E251-C251 -> 0
A252: 44743 | B252: 2236.77 | C252: =ROUND(((B252-B251)/B251)*100,2) -> 0.17 | D252: 21.7984 | E252: =ROUND(((D252-D251)/D251)*100,2) -> 0.18 | F252: =+E252-C252 -> 0.01 | G252: =+STDEV(F9:F252) -> 0.026884232 | H252: =+G252*(SQRT(250)) -> 0.42507703
A253: 44746 | B253: 2244.83 | C253: =ROUND(((B253-B252)/B252)*100,2) -> 0.36 | D253: 21.8687 | E253: =ROUND(((D253-D252)/D252)*100,2) -> 0.32 | F253: =+E253-C253 -> -0.04 | G253: =+STDEV(F10:F253) -> 0.026992888 | H253: =+G253*(SQRT(250)) -> 0.42679503
A254: 44747 | B254: 2243.65 | C254: =ROUND(((B254-B253)/B253)*100,2) -> -0.05 | D254: 21.8559 | E254: =ROUND(((D254-D253)/D253)*100,2) -> -0.06 | F254: =+E254-C254 -> -0.01 | G254: =+STDEV(F11:F254) -> 0.026992888 | H254: =+G254*(SQRT(250)) -> 0.42679503
A255: 44748 | B255: 2257.17 | C255: =ROUND(((B255-B254)/B254)*100,2) -> 0.6 | D255: 21.989 | E255: =ROUND(((D255-D254)/D254)*100,2) -> 0.61 | F255: =+E255-C255 -> 0.01 | G255: =+STDEV(F12:F255) -> 0.026992888 | H255: =+G255*(SQRT(250)) -> 0.42679503
A256: 44749 | B256: 2251.27 | C256: =ROUND(((B256-B255)/B255)*100,2) -> -0.26 | D256: 21.9279 | E256: =ROUND(((D256-D255)/D255)*100,2) -> -0.28 | F256: =+E256-C256 -> -0.02 | G256: =+STDEV(F13:F256) -> 0.027013655 | H256: =+G256*(SQRT(250)) -> 0.42712339
A257: 44750 | B257: 2243.84 | C257: =ROUND(((B257-B256)/B256)*100,2) -> -0.33 | D257: 21.8596 | E257: =ROUND(((D257-D256)/D256)*100,2) -> -0.31 | F257: =+E257-C257 -> 0.02 | G257: =+STDEV(F14:F257) -> 0.027048222 | H257: =+G257*(SQRT(250)) -> 0.42766993
A258: 44753 | B258: 2240.54 | C258: =ROUND(((B258-B257)/B257)*100,2) -> -0.15 | D258: 21.8279 | E258: =ROUND(((D258-D257)/D257)*100,2) -> -0.15 | F258: =+E258-C258 -> 0 | G258: =+STDEV(F15:F258) -> 0.026985389 | H258: =+G258*(SQRT(250)) -> 0.42667647
A259: 44754 | B259: 2245.09 | C259: =ROUND(((B259-B258)/B258)*100,2) -> 0.2 | D259: 21.8666 | E259: =ROUND(((D259-D258)/D258)*100,2) -> 0.18 | F259: =+E259-C259 -> -0.02 | G259: =+STDEV(F16:F259) -> 0.026977638 | H259: =+G259*(SQRT(250)) -> 0.42655391
A260: 44755 | B260: 2252.74 | C260: =ROUND(((B260-B259)/B259)*100,2) -> 0.34 | D260: 21.943 | E260: =ROUND(((D260-D259)/D259)*100,2) -> 0.35 | F260: =+E260-C260 -> 0.01 | G260: =+STDEV(F17:F260) -> 0.026912291 | H260: =+G260*(SQRT(250)) -> 0.42552068
A261: 44756 | B261: 2247.32 | C261: =ROUND(((B261-B260)/B260)*100,2) -> -0.24 | D261: 21.8991 | E261: =ROUND(((D261-D260)/D260)*100,2) -> -0.2 | F261: =+E261-C261 -> 0.04 | G261: =+STDEV(F18:F261) -> 0.027042578 | H261: =+G261*(SQRT(250)) -> 0.4275807
A262: 44757 | B262: 2240.1 | C262: =ROUND(((B262-B261)/B261)*100,2) -> -0.32 | D262: 21.8292 | E262: =ROUND(((D262-D261)/D261)*100,2) -> -0.32 | F262: =+E262-C262 -> 0 | G262: =+STDEV(F19:F262) -> 0.027015872 | H262: =+G262*(SQRT(250)) -> 0.42715844
A263: 44760 | B263: 2242.83 | C263: =ROUND(((B263-B262)/B262)*100,2) -> 0.12 | D263: 21.8574 | E263: =ROUND(((D263-D262)/D262)*100,2) -> 0.13 | F263: =+E263-C263 -> 0.01 | G263: =+STDEV(F20:F263) -> 0.027019367 | H263: =+G263*(SQRT(250)) -> 0.42721371
... A269: 44768 | B269: 2255.34 | C269: =ROUND(((B269-B268)/B268)*100,2) -> 0.08 | D269: 21.9627 | E269: =ROUND(((D269-D268)/D268)*100,2) -> 0.04 | F269: =+E269-C269 -> -0.04 | G269: =+STDEV(F26:F269) -> 0.027246622 | H269: =+G269*(SQRT(250)) -> 0.43080692
A270: =A269+1 -> 44769 | B270: 2259.53 | C270: =ROUND(((B270-B269)/B269)*100,2) -> 0.19 | D270: 22.0109 | E270: =ROUND(((D270-D269)/D269)*100,2) -> 0.22 | F270: =+E270-C270 -> 0.03 | G270: =+STDEV(F27:F270) -> 0.027320708 | H270: =+G270*(SQRT(250)) -> 0.43197833
