Workbook

Sheet LIC MF Nifty 50 ETF
B1: Disclosure in line with paragraph 4.5.6 of SEBI Master Circular for Mutual Funds applicable to ETFs/ Index Funds
B3: Index Name: Nifty 50 index
B5: Scheme Name: LIC MF Nifty 50 ETF
B7: As on 30th Sep 2026
B10: Top 7 Stocks | C10: % of NAV
B11: HDFC Bank Ltd. | C11: 10.3893
B12: ICICI Bank Ltd. | C12: 9.0444
B13: Reliance Industries Ltd. | C13: 7.5778
B14: Bharti Airtel Ltd. | C14: 5.1
B15: Larsen & Toubro Ltd. | C15: 4.2064
B16: State Bank of India | C16: 3.7935
B17: Axis Bank Ltd. | C17: 3.3603
B18: Total | C18: =SUM(C11:C17) -> 43.4717
B20: Top 7 Groups | C20: % of NAV
B21: HDFC Group | C21: 10.9256
B22: Govt of India | C22: 9.524
B23: ICICI Group | C23: 9.0445
B24: Reliance Mukesh Ambani group | C24: 8.2591
B25: Tata Group | C25: 7.2755
B26: Bharti Group | C26: 5.1
B27: L&T Group | C27: 4.2064
B28: Total | C28: =SUM(C21:C27) -> 54.3351
B30: Top 4 Sectors | C30: % of NAV
B31: Banks | C31: 29.5247
B32: Petroleum Products | C32: 7.5778
B33: IT - Software | C33: 7.5456
B34: Automobiles | C34: 6.653
B35: Total | C35: =(SUM(C31:C34)) -> 51.3011

Sheet LIC MF Nifty 50 Index Fund
B1: ='LIC MF Nifty 50 ETF'!B1 -> Disclosure in line with paragraph 4.5.6 of SEBI Master Circular for Mutual Funds applicable to ETFs/ Index Funds
B3: Index Name: Nifty 50 index
B5: Scheme Name: LIC MF Nifty 50 Index Fund
B7: ='LIC MF Nifty 50 ETF'!$B$7 -> As on 30th Sep 2026
B11: Top 7 Stocks | C11: % of NAV
B12: HDFC Bank Ltd. | C12: 10.3821
B13: ICICI Bank Ltd. | C13: 9.053
B14: Reliance Industries Ltd. | C14: 7.5901
B15: Bharti Airtel Ltd. | C15: 5.1019
B16: Larsen & Toubro Ltd. | C16: 4.207
B17: State Bank of India | C17: 3.792
B18: Axis Bank Ltd. | C18: 3.3699
B19: Total | C19: =SUM(C12:C18) -> 43.496
B21: Top 7 Groups | C21: % of NAV
B22: HDFC Group | C22: 10.9156
B23: Govt of India | C23: 9.5216
B24: ICICI Group | C24: 9.053
B25: Reliance Mukesh Ambani group | C25: 8.2675
B26: Tata Group | C26: 7.2617
B27: Bharti Group | C27: 5.102
B28: L&T Group | C28: 4.207
B29: Total | C29: =SUM(C22:C28) -> 54.3284
B31: Top 4 Sectors | C31: % of NAV
B32: Banks | C32: 29.5238
B33: Petroleum Products | C33: 7.5901
B34: IT - Software | C34: 7.5226
B35: Automobiles | C35: 6.6526
B36: Total | C36: =SUM(C32:C35) -> 51.2891

Sheet LIC MF Nifty Next 50 Index Fund
B1: ='LIC MF Nifty 50 ETF'!B1 -> Disclosure in line with paragraph 4.5.6 of SEBI Master Circular for Mutual Funds applicable to ETFs/ Index Funds
B3: Index Name: Nifty Next 50 index
B5: Scheme Name: LIC MF Nifty Next 50 Index
B7: ='LIC MF Nifty 50 ETF'!B7 -> As on 30th Sep 2026
B10: Top 7 Stocks | C10: % of NAV
B11: Divi's Laboratories Ltd. | C11: 4.9034
B12: TVS Motor Company Ltd. | C12: 4.0018
B13: Hindustan Aeronautics Ltd. | C13: 3.6721
B14: Tata Motors Ltd. | C14: 3.6608
B15: Adani Power Ltd. | C15: 3.5122
B16: Samvardhana Motherson International Ltd. | C16: 2.9923
B17: Torrent Pharmaceuticals Ltd. | C17: 2.9245
B18: Total | C18: =SUM(C11:C17) -> 25.6671
B20: Top 7 Groups | C20: % of NAV
B21: Govt of India | C21: 19.9212
B22: Adani Group | C22: 8.0467
B23: Tata Group | C23: 6.8721
B24: Vedanta group | C24: 5.6658
B25: Murugappa Group | C25: 5.3444
B26: Divi's Laboratories Group | C26: 4.9034
B27: TVS GROUP | C27: 4.0019
B28: Total | C28: =SUM(C21:C27) -> 54.7555
B30: Top 4 Sectors | C30: % of NAV
B31: Power | C31: 9.5709
B32: Finance | C32: 9.4069
B33: Pharmaceuticals & Biotechnology | C33: 9.0314
B34: Electrical Equipment | C34: 7.6509
B35: Total | C35: =(SUM(C31:C34)) -> 35.6601

Sheet LIC MF Nifty 100 ETF
B1: ='LIC MF Nifty 50 ETF'!B1 -> Disclosure in line with paragraph 4.5.6 of SEBI Master Circular for Mutual Funds applicable to ETFs/ Index Funds
B3: Index Name: Nifty 100 index
B5: Scheme Name: LIC MF Nifty 100 ETF
B7: ='LIC MF Nifty 50 ETF'!$B$7 -> As on 30th Sep 2026
B11: Top 7 Stocks | C11: % of NAV
B12: HDFC Bank Ltd. | C12: 8.3376
B13: ICICI Bank Ltd. | C13: 7.2806
B14: Reliance Industries Ltd. | C14: 6.0925
B15: Bharti Airtel Ltd. | C15: 4.1006
B16: Larsen & Toubro Ltd. | C16: 3.3758
B17: State Bank of India | C17: 3.0468
B18: Axis Bank Ltd. | C18: 2.7116
B19: Total | C19: =SUM(C12:C18) -> 34.9455
B21: Top 7 Groups | C21: % of NAV
B22: Govt of India | C22: 11.4308
B23: HDFC Group | C23: 9.1437
B24: ICICI Group | C24: 7.2807
B25: Tata Group | C25: 7.1598
B26: Reliance Mukesh Ambani group | C26: 6.6474
B27: Bharti Group | C27: 4.1006
B28: L&T Group | C28: 3.6686
B29: Total | C29: =SUM(C22:C28) -> 49.4316
B31: Top 4 Sectors | C31: % of NAV
B32: Banks | C32: 24.946
B33: Petroleum Products | C33: 6.9649
B34: IT - Software | C34: 6.6948
B35: Automobiles | C35: 6.3441
B36: Total | C36: =SUM(C32:C35) -> 44.9498

Sheet LIC MF Nifty Midcap 100 ETF
B1: ='LIC MF Nifty 50 ETF'!B1 -> Disclosure in line with paragraph 4.5.6 of SEBI Master Circular for Mutual Funds applicable to ETFs/ Index Funds
B3: Index Name: Nifty Midcap 100 index
B5: Scheme Name: LIC MF Nifty Midcap 100 ETF
B7: ='LIC MF Nifty 50 ETF'!$B$7 -> As on 30th Sep 2026
B11: Top 7 Stocks | C11: % of NAV
B12: Multi Commodity Exchange Of India Ltd. | C12: 2.6203
B13: The Federal Bank Ltd. | C13: 2.4308
B14: Laurus Labs Ltd. | C14: 2.3907
B15: One 97 Communications Ltd. | C15: 2.1966
B16: Hero MotoCorp Ltd. | C16: 2.1091
B17: The Indian Hotels Company Ltd. | C17: 1.9196
B18: Coforge Ltd. | C18: 1.8932
B19: Total | C19: =SUM(C12:C18) -> 15.5603
B21: Top 7 Groups | C21: % of NAV
B22: Govt of India | C22: 12.8255
B23: Tata Group | C23: 3.2814
B24: Hinduja Group | C24: 3.2198
B25: Multi Comm. Exc of india | C25: 2.6203
B26: The Federal Bank Ltd | C26: 2.4309
B27: Laurus Labs Group | C27: 2.3907
B28: Vijay Shekhar Sharma | C28: 2.1967
B29: Total | C29: =SUM(C22:C28) -> 28.9653
B31: Top 4 Sectors | C31: % of NAV
B32: Banks | C32: 10.7497
B33: Pharmaceuticals & Biotechnology | C33: 8.1437
B34: Electrical Equipment | C34: 7.0262
B35: Retailing | C35: 6.1396
B36: Total | C36: =SUM(C32:C35) -> 32.0592

Sheet LIC MF BSE Sensex ETF
B1: ='LIC MF Nifty 50 ETF'!B1 -> Disclosure in line with paragraph 4.5.6 of SEBI Master Circular for Mutual Funds applicable to ETFs/ Index Funds
B3: Index Name: BSE Sensex
B5: Scheme Name: LIC MF BSE Sensex ETF
B7: ='LIC MF Nifty 50 ETF'!$B$7 -> As on 30th Sep 2026
B11: Top 7 Stocks | C11: % of NAV
B12: HDFC Bank Ltd. | C12: 12.566
B13: ICICI Bank Ltd. | C13: 10.9623
B14: Reliance Industries Ltd. | C14: 9.0808
B15: Bharti Airtel Ltd. | C15: 6.3214
B16: Larsen & Toubro Ltd. | C16: 5.0868
B17: State Bank of India | C17: 4.5959
B18: Axis Bank Ltd. | C18: 4.1006
B19: Total | C19: =SUM(C12:C18) -> 52.7138
B21: Top 7 Groups | C21: % of NAV
B22: HDFC Group | C22: 12.5661
B23: ICICI Group | C23: 10.9623
B24: Govt of India | C24: 9.3787
B25: Reliance Mukesh Ambani group | C25: 9.0808
B26: Tata Group | C26: 7.4233
B27: Bharti Group | C27: 6.3214
B28: L&T Group | C28: 5.0869
B29: Total | C29: =SUM(C22:C28) -> 60.8195
B31: Top 4 Sectors | C31: % of NAV
B32: Banks | C32: 35.805
B33: IT - Software | C33: 9.1466
B34: Petroleum Products | C34: 9.0808
B35: Telecom - Services | C35: 6.3214
B36: Total | C36: =SUM(C32:C35) -> 60.3538

Sheet LIC MF BSE Sensex Index F
B1: ='LIC MF Nifty 50 ETF'!B1 -> Disclosure in line with paragraph 4.5.6 of SEBI Master Circular for Mutual Funds applicable to ETFs/ Index Funds
B3: Index Name: BSE Sensex
B5: Scheme Name: LIC MF BSE Sensex Index Fund
B7: ='LIC MF Nifty 50 ETF'!$B$7 -> As on 30th Sep 2026
B11: Top 7 Stocks | C11: % of NAV
B12: HDFC Bank Ltd. | C12: 12.5153
B13: ICICI Bank Ltd. | C13: 10.9611
B14: Reliance Industries Ltd. | C14: 9.0851
B15: Bharti Airtel Ltd. | C15: 6.3126
B16: Larsen & Toubro Ltd. | C16: 5.0812
B17: State Bank of India | C17: 4.6104
B18: Axis Bank Ltd. | C18: 4.0538
B19: Total | C19: =SUM(C12:C18) -> 52.6195
B21: Top 7 Groups | C21: % of NAV
B22: HDFC Group | C22: 12.5154
B23: ICICI Group | C23: 10.9612
B24: Govt of India | C24: 9.3443
B25: Reliance Mukesh Ambani group | C25: 9.0852
B26: Tata Group | C26: 7.3163
B27: Bharti Group | C27: 6.3127
B28: L&T Group | C28: 5.0812
B29: Total | C29: =SUM(C22:C28) -> 60.6163
B31: Top 4 Sectors | C31: % of NAV
B32: Banks | C32: 35.6925
B33: IT - Software | C33: 9.0892
B34: Petroleum Products | C34: 9.0851
B35: Telecom - Services | C35: 6.3126
B36: Total | C36: =SUM(C32:C35) -> 60.1794

Sheet LIC MF Nifty 8-13 Year G-sec ET
B1: ='LIC MF Nifty 50 ETF'!B1 -> Disclosure in line with paragraph 4.5.6 of SEBI Master Circular for Mutual Funds applicable to ETFs/ Index Funds
B3: Index Name: Nifty 8-13 Year G-Sec Index
B5: Scheme Name: LIC MF Nifty 8-13 yr G-Sec ETF
B7: ='LIC MF Nifty 50 ETF'!$B$7 -> As on 30th Sep 2026
B11: Top 7 Stocks | C11: % of NAV
B12: Government Bond | C12: 99.4959
B19: Total | C19: =SUM(C12:C18) -> 99.4959
B21: Top 7 Groups | C21: % of NAV
B22: Other | C22: 99.496
B29: Total | C29: =SUM(C22:C28) -> 99.496
B31: Top 4 Sectors | C31: % of NAV
B32: Government of India | C32: 99.4959
B36: Total | C36: =SUM(C32:C35) -> 99.4959

Sheet LIC MF Gold ETF
B1: ='LIC MF Nifty 50 ETF'!B1 -> Disclosure in line with paragraph 4.5.6 of SEBI Master Circular for Mutual Funds applicable to ETFs/ Index Funds
B3: Index Name: Domestic Price of Gold
B5: Scheme Name: LIC MF Gold Exchange Traded Fund
B7: ='LIC MF Nifty 50 ETF'!$B$7 -> As on 30th Sep 2026
B11: Top 7 Stocks | C11: % of NAV
B12: Gold | C12: 98.1219
B19: Total | C19: =SUM(C12:C18) -> 98.1219
B21: Top 7 Groups | C21: % of NAV
B22: Other | C22: 98.122
B29: Total | C29: =SUM(C22:C28) -> 98.122
B31: Top 4 Sectors | C31: % of NAV
B32: MISCELLANEOUS | C32: 98.1219
B36: Total | C36: =SUM(C32:C35) -> 98.1219
