Workbook

Sheet LIC MF Nifty 50 ETF
B1: Additional Disclosure pursuant to SEBI Circular SEBI/HO/IMD/DOF2/P/CIR/2022/69 dated May 23, 2022
B3: Index Name: Nifty 50 index
B5: Scheme Name: LIC MF Nifty 50 ETF
B7: As on 31st August 2024
B10: Top 7 Stocks | C10: % of NAV
B11: HDFC Bank Ltd. | C11: 10.9487
B12: Reliance Industries Ltd. | C12: 9.1666
B13: ICICI Bank Ltd. | C13: 7.7426
B14: Infosys Ltd. | C14: 6.2789
B15: ITC Ltd. | C15: 4.1483
B16: Tata Consultancy Services Ltd. | C16: 4.1074
B17: Larsen & Toubro Ltd. | C17: 3.8761
B18: Total | C18: =SUM(C11:C17) -> 46.2686
B20: Top 7 Groups | C20: % of NAV
B21: HDFC Group | C21: 11.648
B22: Tata Group | C22: 9.3453
B23: Reliance Mukesh Ambani group | C23: 9.1666
B24: Govt of India | C24: 8.7259
B25: ICICI Group | C25: 7.7426
B26: Infosys Group | C26: 6.279
B27: L&T Group | C27: 4.3867
B28: Total | C28: =SUM(C21:C27) -> 57.2941
B30: Top 4 Sectors | C30: % of NAV
B31: Banks | C31: 27.6495
B32: IT - Software | C32: 14.1791
B33: Petroleum Products | C33: 9.7817
B34: Automobiles | C34: 8.2995
B35: Total | C35: =(SUM(C31:C34)) -> 59.9098

Sheet LIC MF Nifty 50 Index Fund
B1: Additional Disclosure pursuant to SEBI Circular SEBI/HO/IMD/DOF2/P/CIR/2022/69 dated May 23, 2022
B3: Index Name: Nifty 50 index
B5: Scheme Name: LIC MF Nifty 50 Index Fund
B7: ='LIC MF Nifty 50 ETF'!$B$7 -> As on 31st August 2024
B11: Top 7 Stocks | C11: % of NAV
B12: HDFC Bank Ltd. | C12: 11.0407
B13: Reliance Industries Ltd. | C13: 9.1274
B14: ICICI Bank Ltd. | C14: 7.7238
B15: Infosys Ltd. | C15: 6.2678
B16: ITC Ltd. | C16: 4.1208
B17: Tata Consultancy Services Ltd. | C17: 4.1163
B18: Larsen & Toubro Ltd. | C18: 3.8589
B19: Total | C19: =SUM(C12:C18) -> 46.2557
B21: Top 7 Groups | C21: % of NAV
B22: HDFC Group | C22: 11.7338
B23: Tata Group | C23: 9.3489
B24: Reliance Mukesh Ambani group | C24: 9.1275
B25: Govt of India | C25: 8.7751
B26: ICICI Group | C26: 7.7239
B27: Infosys Group | C27: 6.2679
B28: L&T Group | C28: 4.3605
B29: Total | C29: =SUM(C22:C28) -> 57.3376
B31: Top 4 Sectors | C31: % of NAV
B32: Banks | C32: 27.7126
B33: IT - Software | C33: 14.1498
B34: Petroleum Products | C34: 9.7505
B35: Automobiles | C35: 8.3066
B36: Total | C36: =SUM(C32:C35) -> 59.9195

Sheet LIC MF Nifty Next 50 Index Fund
B1: Additional Disclosure pursuant to SEBI Circular SEBI/HO/IMD/DOF2/P/CIR/2022/69 dated May 23, 2022
B3: Index Name: Nifty Next 50 index
B5: Scheme Name: LIC MF Nifty Next 50 Index
B7: ='LIC MF Nifty 50 ETF'!B7 -> As on 31st August 2024
B10: Top 7 Stocks | C10: % of NAV
B11: Trent Ltd. | C11: 6.8332
B12: Bharat Electronics Ltd. | C12: 4.6577
B13: Hindustan Aeronautics Ltd. | C13: 3.7807
B14: InterGlobe Aviation Ltd. | C14: 3.4828
B15: Power Finance Corporation Ltd. | C15: 3.4676
B16: Vedanta Ltd. | C16: 3.423
B17: REC Ltd. | C17: 3.3347
B18: Total | C18: =SUM(C11:C17) -> 28.9797
B20: Top 7 Groups | C20: % of NAV
B21: Govt of India | C21: 27.6423
B22: Tata Group | C22: 10.0132
B23: Info Edge Group | C23: 4.7525
B24: Adani Group | C24: 4.1616
B25: ICICI Group | C25: 3.5017
B26: INDIGO GROUP | C26: 3.4828
B27: Vedanta group | C27: 3.423
B28: Total | C28: =SUM(C21:C27) -> 56.9771
B30: Top 4 Sectors | C30: % of NAV
B31: Finance | C31: 12.9395
B32: Retailing | C32: 12.6181
B33: Aerospace & Defense | C33: 8.4384
B34: Personal Products | C34: 6.1287
B35: Total | C35: =(SUM(C31:C34)) -> 40.1247

Sheet LIC MF Nifty 100 ETF
B1: Additional Disclosure pursuant to SEBI Circular SEBI/HO/IMD/DOF2/P/CIR/2022/69 dated May 23, 2022
B3: Index Name: Nifty 100 index
B5: Scheme Name: LIC MF Nifty 100 ETF
B7: ='LIC MF Nifty 50 ETF'!$B$7 -> As on 31st August 2024
B11: Top 7 Stocks | C11: % of NAV
B12: HDFC Bank Ltd. | C12: 8.8169
B13: Reliance Industries Ltd. | C13: 7.3082
B14: ICICI Bank Ltd. | C14: 6.1812
B15: Infosys Ltd. | C15: 5.0189
B16: ITC Ltd. | C16: 3.3135
B17: Tata Consultancy Services Ltd. | C17: 3.305
B18: Larsen & Toubro Ltd. | C18: 3.1005
B19: Total | C19: =SUM(C12:C18) -> 37.0442
B21: Top 7 Groups | C21: % of NAV
B22: Govt of India | C22: 11.7236
B23: HDFC Group | C23: 9.3705
B24: Tata Group | C24: 9.1465
B25: Reliance Mukesh Ambani group | C25: 8.0711
B26: ICICI Group | C26: 6.7599
B27: Infosys Group | C27: 5.019
B28: L&T Group | C28: 3.5034
B29: Total | C29: =SUM(C22:C28) -> 53.594
B31: Top 4 Sectors | C31: % of NAV
B32: Banks | C32: 23.0298
B33: IT - Software | C33: 11.3502
B34: Petroleum Products | C34: 8.268
B35: Automobiles | C35: 7.1141
B36: Total | C36: =SUM(C32:C35) -> 49.7621

Sheet LIC MF Nifty Midcap 100 ETF
B1: Additional Disclosure pursuant to SEBI Circular SEBI/HO/IMD/DOF2/P/CIR/2022/69 dated May 23, 2022
B3: Index Name: Nifty Midcap 100 index
B5: Scheme Name: LIC MF Nifty Midcap 100 ETF
B7: ='LIC MF Nifty 50 ETF'!$B$7 -> As on 31st August 2024
B11: Top 7 Stocks | C11: % of NAV
B12: Suzlon Energy Ltd. | C12: 2.9589
B13: Max Healthcare Institute Ltd. | C13: 2.3427
B14: The Indian Hotels Company Ltd. | C14: 2.0733
B15: Persistent Systems Ltd. | C15: 1.9986
B16: Lupin Ltd. | C16: 1.9874
B17: PB Fintech Ltd. | C17: 1.9666
B18: Cummins India Ltd. | C18: 1.8751
B19: Total | C19: =SUM(C12:C18) -> 15.2026
B21: Top 7 Groups | C21: % of NAV
B22: Govt of India | C22: 14.0318
B23: Tata Group | C23: 6.297
B24: MAX GROUP | C24: 3.318
B25: Murugappa Group | C25: 3.2161
B26: SUZLON Group | C26: 2.9589
B27: Aditya Birla Group | C27: 2.164
B28: Persistent Group | C28: 1.9986
B29: Total | C29: =SUM(C22:C28) -> 33.9844
B31: Top 4 Sectors | C31: % of NAV
B32: Banks | C32: 9.0296
B33: Pharmaceuticals & Biotechnology | C33: 7.9907
B34: IT - Software | C34: 7.5261
B35: Auto Components | C35: 6.5331
B36: Total | C36: =SUM(C32:C35) -> 31.0795

Sheet LIC MF BSE Sensex ETF
B1: Additional Disclosure pursuant to SEBI Circular SEBI/HO/IMD/DOF2/P/CIR/2022/69 dated May 23, 2022
B3: Index Name: BSE Sensex
B5: Scheme Name: LIC MF BSE Sensex ETF
B7: ='LIC MF Nifty 50 ETF'!$B$7 -> As on 31st August 2024
B11: Top 7 Stocks | C11: % of NAV
B12: HDFC Bank Ltd. | C12: 12.9445
B13: Reliance Industries Ltd. | C13: 10.8548
B14: ICICI Bank Ltd. | C14: 9.1718
B15: Infosys Ltd. | C15: 7.439
B16: ITC Ltd. | C16: 4.9094
B17: Tata Consultancy Services Ltd. | C17: 4.8603
B18: Larsen & Toubro Ltd. | C18: 4.5875
B19: Total | C19: =SUM(C12:C18) -> 54.7673
B21: Top 7 Groups | C21: % of NAV
B22: HDFC Group | C22: 12.9445
B23: Reliance Mukesh Ambani group | C23: 10.8548
B24: Tata Group | C24: 10.2281
B25: ICICI Group | C25: 9.1719
B26: Infosys Group | C26: 7.4391
B27: Govt of India | C27: 6.9897
B28: ITC Group | C28: 4.9094
B29: Total | C29: =SUM(C22:C28) -> 62.5375
B31: Top 4 Sectors | C31: % of NAV
B32: Banks | C32: 32.69
B33: IT - Software | C33: 15.3748
B34: Petroleum Products | C34: 10.8548
B35: Diversified FMCG | C35: 7.5273
B36: Total | C36: =SUM(C32:C35) -> 66.4469

Sheet LIC MF BSE Sensex Index F
B1: Additional Disclosure pursuant to SEBI Circular SEBI/HO/IMD/DOF2/P/CIR/2022/69 dated May 23, 2022
B3: Index Name: BSE Sensex
B5: Scheme Name: LIC MF BSE Sensex Index Fund
B7: ='LIC MF Nifty 50 ETF'!$B$7 -> As on 31st August 2024
B11: Top 7 Stocks | C11: % of NAV
B12: HDFC Bank Ltd. | C12: 12.9639
B13: Reliance Industries Ltd. | C13: 10.8856
B14: ICICI Bank Ltd. | C14: 9.1806
B15: Infosys Ltd. | C15: 7.4375
B16: ITC Ltd. | C16: 4.9194
B17: Tata Consultancy Services Ltd. | C17: 4.8743
B18: Larsen & Toubro Ltd. | C18: 4.5951
B19: Total | C19: =SUM(C12:C18) -> 54.8564
B21: Top 7 Groups | C21: % of NAV
B22: HDFC Group | C22: 12.9639
B23: Reliance Mukesh Ambani group | C23: 10.8856
B24: Tata Group | C24: 10.2535
B25: ICICI Group | C25: 9.1807
B26: Infosys Group | C26: 7.4375
B27: Govt of India | C27: 7.0035
B28: ITC Group | C28: 4.9195
B29: Total | C29: =SUM(C22:C28) -> 62.6442
B31: Top 4 Sectors | C31: % of NAV
B32: Banks | C32: 32.7382
B33: IT - Software | C33: 15.3907
B34: Petroleum Products | C34: 10.8856
B35: Diversified FMCG | C35: 7.5282
B36: Total | C36: =SUM(C32:C35) -> 66.5427
