Workbook

Sheet Asso invt
A3: Scheme code | B3: Row Labels | C3: Sum of Net value
A4: LIC08 | B4: LIC MF Balanced Fund | C4: 60389830
A5: LIC171 | B5: LIC MF Banking and Financial Ser Fund | C5: 6962978.8
A6: LIC33 | B6: LIC MF Bond Fund | C6: 0
A7: LIC142 | B7: LIC MF Cap Protection Oriented Fund-Sr 2 | C7: 0
A8: LIC35 | B8: LIC MF Children’s Gift Fund | C8: 0
A9: LIC165 | B9: LIC MF DIVERSIFIED EQUITY FUND SERIES-2 | C9: 0
A10: LIC172 | B10: LIC MF Dual Advantage Fixed Term Pl-Sr 1 | C10: 0
A11: LIC173 | B11: LIC MF Dual Advantage Fixed Term Pl-Sr 2 | C11: 0
A12: LIC174 | B12: LIC MF Dual Advantage Fixed Term Pl-Sr 3 | C12: 0
A13: LIC17 | B13: LIC MF Equity Fund | C13: 31151544
A14: LIC177 | B14: LIC MF ETF-Nifty 100 | C14: 0
A15: LIC175 | B15: LIC MF ETF-Nifty 50 | C15: 3300546.4
... A32: LIC02 | B32: LIC MF Unit Linked Insurance Sch(ULIS) | C32: 0
B33: Grand Total | C33: 2.4113031e+08

Sheet AMFI AUM 31 March 2018
A1: Conkey(scheme code and plan code) | B1: Plan Code as per financials | C1: Scheme Code as per financials | D1: Scheme Code | E1: Scheme Name | F1: Net Asset Value | G1: Repurchase Price | H1: Sale Price | I1: Date
A2: =+C2&B2 -> LIC08ZD | B2: =+VLOOKUP(D2,'Plan mapping'!A:B,2,0) -> ZD | C2: =+VLOOKUP(D2,'Plan mapping'!A:C,3,0) -> LIC08 | D2: 120260 | E2: LIC MF Balanced Fund-Direct Plan-Dividend | F2: 14.7565 | G2: 14.6089 | H2: 14.7565 | I2: 43187
A3: =+C3&B3 -> LIC08ZG | B3: =+VLOOKUP(D3,'Plan mapping'!A:B,2,0) -> ZG | C3: =+VLOOKUP(D3,'Plan mapping'!A:C,3,0) -> LIC08 | D3: 120261 | E3: LIC MF Balanced Fund-Direct Plan-Growth | F3: 98.2333 | G3: 97.251 | H3: 98.2333 | I3: 43187
A4: =+C4&B4 -> LIC08RD | B4: =+VLOOKUP(D4,'Plan mapping'!A:B,2,0) -> RD | C4: =+VLOOKUP(D4,'Plan mapping'!A:C,3,0) -> LIC08 | D4: 100321 | E4: LIC MF Balanced Fund-Regular Plan-Dividend | F4: 14.0805 | G4: 13.9397 | H4: 14.0805 | I4: 43187
A5: =+C5&B5 -> LIC08RG | B5: =+VLOOKUP(D5,'Plan mapping'!A:B,2,0) -> RG | C5: =+VLOOKUP(D5,'Plan mapping'!A:C,3,0) -> LIC08 | D5: 100323 | E5: LIC MF Balanced Fund-Regular Plan-Growth | F5: 93.9447 | G5: 93.0053 | H5: 93.9447 | I5: 43187
A6: =+C6&B6 -> LIC28ZD | B6: =+VLOOKUP(D6,'Plan mapping'!A:B,2,0) -> ZD | C6: =+VLOOKUP(D6,'Plan mapping'!A:C,3,0) -> LIC28 | D6: 120269 | E6: LIC MF Tax Plan-Direct Plan-Dividend | F6: 18.2139 | G6: 18.2139 | H6: 18.2139 | I6: 43187
A7: =+C7&B7 -> LIC28ZG | B7: =+VLOOKUP(D7,'Plan mapping'!A:B,2,0) -> ZG | C7: =+VLOOKUP(D7,'Plan mapping'!A:C,3,0) -> LIC28 | D7: 120270 | E7: LIC MF Tax Plan-Direct Plan-Growth | F7: 65.3216 | G7: 65.3216 | H7: 65.3216 | I7: 43187
A8: =+C8&B8 -> LIC28RD | B8: =+VLOOKUP(D8,'Plan mapping'!A:B,2,0) -> RD | C8: =+VLOOKUP(D8,'Plan mapping'!A:C,3,0) -> LIC28 | D8: 100864 | E8: LIC MF Tax Plan-Regular Plan-Dividend | F8: 17.3037 | G8: 17.3037 | H8: 17.3037 | I8: 43187
A9: =+C9&B9 -> LIC28RG | B9: =+VLOOKUP(D9,'Plan mapping'!A:B,2,0) -> RG | C9: =+VLOOKUP(D9,'Plan mapping'!A:C,3,0) -> LIC28 | D9: 100865 | E9: LIC MF Tax Plan-Regular Plan-Growth | F9: 62.2874 | G9: 62.2874 | H9: 62.2874 | I9: 43187
A10: =+C10&B10 -> LIC02ZD | B10: =+VLOOKUP(D10,'Plan mapping'!A:B,2,0) -> ZD | C10: =+VLOOKUP(D10,'Plan mapping'!A:C,3,0) -> LIC02 | D10: 134878 | E10: LIC MF ULIS (10 Yrs. Regular Premium Reducing Cover Half-Yearly)-Direct Plan-Dividend Reinvestment | F10: 17.7736 | G10: 17.7736 | H10: 17.7736 | I10: 43187
A11: =+C11&B11 -> LIC02RD | B11: =+VLOOKUP(D11,'Plan mapping'!A:B,2,0) -> RD | C11: =+VLOOKUP(D11,'Plan mapping'!A:C,3,0) -> LIC02 | D11: 134865 | E11: LIC MF ULIS (10 Yrs. Regular Premium Reducing Cover Half-Yearly)-Regular Plan-Dividend Reinvestment | F11: 17.1373 | G11: 17.1373 | H11: 17.1373 | I11: 43187
A12: =+C12&B12 -> IgnoreIgnore | B12: =+VLOOKUP(D12,'Plan mapping'!A:B,2,0) -> Ignore | C12: =+VLOOKUP(D12,'Plan mapping'!A:C,3,0) -> Ignore | D12: 134876 | E12: LIC MF ULIS (10 Yrs. Regular Premium Reducing Cover Monthly)-Direct Plan-Dividend Reinvestment | G12: 17.7736 | H12: 17.7736 | I12: 43187
A13: =+C13&B13 -> IgnoreIgnore | B13: =+VLOOKUP(D13,'Plan mapping'!A:B,2,0) -> Ignore | C13: =+VLOOKUP(D13,'Plan mapping'!A:C,3,0) -> Ignore | D13: 134847 | E13: LIC MF ULIS (10 Yrs. Regular Premium Reducing Cover Monthly)-Regular Plan-Dividend Reinvestment | G13: 17.1373 | H13: 17.1373 | I13: 43187
A14: =+C14&B14 -> IgnoreIgnore | B14: =+VLOOKUP(D14,'Plan mapping'!A:B,2,0) -> Ignore | C14: =+VLOOKUP(D14,'Plan mapping'!A:C,3,0) -> Ignore | D14: 135976 | E14: LIC MF ULIS (10 Yrs. Regular Premium Reducing Cover Quarterly)-Direct Plan-Dividend Reinvestment | G14: 17.7736 | H14: 17.7736 | I14: 43187
A15: =+C15&B15 -> IgnoreIgnore | B15: =+VLOOKUP(D15,'Plan mapping'!A:B,2,0) -> Ignore | C15: =+VLOOKUP(D15,'Plan mapping'!A:C,3,0) -> Ignore | D15: 135979 | E15: LIC MF ULIS (10 Yrs. Regular Premium Reducing Cover Quarterly)-Regular Plan-Dividend Reinvestment | G15: 17.1373 | H15: 17.1373 | I15: 43187
A16: =+C16&B16 -> IgnoreIgnore | B16: =+VLOOKUP(D16,'Plan mapping'!A:B,2,0) -> Ignore | C16: =+VLOOKUP(D16,'Plan mapping'!A:C,3,0) -> Ignore | D16: 134877 | E16: LIC MF ULIS (10 Yrs. Regular Premium Reducing Cover Yearly)-Direct Plan-Dividend Reinvestment | G16: 17.7736 | H16: 17.7736 | I16: 43187
A17: =+C17&B17 -> IgnoreIgnore | B17: =+VLOOKUP(D17,'Plan mapping'!A:B,2,0) -> Ignore | C17: =+VLOOKUP(D17,'Plan mapping'!A:C,3,0) -> Ignore | D17: 134864 | E17: LIC MF ULIS (10 Yrs. Regular Premium Reducing Cover Yearly)-Regular Plan-Dividend Reinvestment | G17: 17.1373 | H17: 17.1373 | I17: 43187
A18: =+C18&B18 -> IgnoreIgnore | B18: =+VLOOKUP(D18,'Plan mapping'!A:B,2,0) -> Ignore | C18: =+VLOOKUP(D18,'Plan mapping'!A:C,3,0) -> Ignore | D18: 134879 | E18: LIC MF ULIS (10 Yrs. Regular Premium Uniform Cover Half-Yearly)-Direct Plan-Dividend Reinvestment | G18: 17.7736 | H18: 17.7736 | I18: 43187
A19: =+C19&B19 -> IgnoreIgnore | B19: =+VLOOKUP(D19,'Plan mapping'!A:B,2,0) -> Ignore | C19: =+VLOOKUP(D19,'Plan mapping'!A:C,3,0) -> Ignore | D19: 134867 | E19: LIC MF ULIS (10 Yrs. Regular Premium Uniform Cover Half-Yearly)-Regular Plan-Dividend Reinvestment | G19: 17.1373 | H19: 17.1373 | I19: 43187
A20: =+C20&B20 -> IgnoreIgnore | B20: =+VLOOKUP(D20,'Plan mapping'!A:B,2,0) -> Ignore | C20: =+VLOOKUP(D20,'Plan mapping'!A:C,3,0) -> Ignore | D20: 134881 | E20: LIC MF ULIS (10 Yrs. Regular Premium Uniform Cover Monthly)-Direct Plan-Dividend Reinvestment | G20: 17.7736 | H20: 17.7736 | I20: 43187
A21: =+C21&B21 -> IgnoreIgnore | B21: =+VLOOKUP(D21,'Plan mapping'!A:B,2,0) -> Ignore | C21: =+VLOOKUP(D21,'Plan mapping'!A:C,3,0) -> Ignore | D21: 134863 | E21: LIC MF ULIS (10 Yrs. Regular Premium Uniform Cover Monthly)-Regular Plan-Dividend Reinvestment | G21: 17.1373 | H21: 17.1373 | I21: 43187
A22: =+C22&B22 -> IgnoreIgnore | B22: =+VLOOKUP(D22,'Plan mapping'!A:B,2,0) -> Ignore | C22: =+VLOOKUP(D22,'Plan mapping'!A:C,3,0) -> Ignore | D22: 135977 | E22: LIC MF ULIS (10 Yrs. Regular Premium Uniform Cover Quarterly)-Direct Plan-Dividend Reinvestment | G22: 17.7736 | H22: 17.7736 | I22: 43187
A23: =+C23&B23 -> IgnoreIgnore | B23: =+VLOOKUP(D23,'Plan mapping'!A:B,2,0) -> Ignore | C23: =+VLOOKUP(D23,'Plan mapping'!A:C,3,0) -> Ignore | D23: 135983 | E23: LIC MF ULIS (10 Yrs. Regular Premium Uniform Cover Quarterly)-Regular Plan-Dividend Reinvestment | G23: 17.1373 | H23: 17.1373 | I23: 43187
... A45: =+C45&B45 -> IgnoreIgnore | B45: =+VLOOKUP(D45,'Plan mapping'!A:B,2,0) -> Ignore | C45: =+VLOOKUP(D45,'Plan mapping'!A:C,3,0) -> Ignore | D45: 100325 | E45: LIC MF ULIS (5 Yrs. Single Premium)-Regular Plan-Dividend Reinvestment | G45: 17.1373 | H45: 17.1373 | I45: 43187
A46: =+C46&B46 -> LIC34ZD | B46: =+VLOOKUP(D46,'Plan mapping'!A:B,2,0) -> ZD | C46: =+VLOOKUP(D46,'Plan mapping'!A:C,3,0) -> LIC34 | D46: 120283 | E46: LIC MF Govt. Securities Fund-Direct Plan-Dividend | F46: 10.9291 | G46: 10.9018 | H46: 10.9291 | I46: 43187
A47: =+C47&B47 -> LIC34ZG | B47: =+VLOOKUP(D47,'Plan mapping'!A:B,2,0) -> ZG | C47: =+VLOOKUP(D47,'Plan mapping'!A:C,3,0) -> LIC34 | D47: 120282 | E47: LIC MF Govt. Securities Fund-Direct Plan-Growth | F47: 38.2158 | G47: 38.1203 | H47: 38.2158 | I47: 43187
A48: =+C48&B48 -> LIC34PD | B48: =+VLOOKUP(D48,'Plan mapping'!A:B,2,0) -> PD | C48: =+VLOOKUP(D48,'Plan mapping'!A:C,3,0) -> LIC34 | D48: 100318 | E48: LIC MF Govt. Securities Fund-PF Plan-Dividend | F48: 13.6913 | G48: 13.6571 | H48: 13.6913 | I48: 43187
A49: =+C49&B49 -> LIC34PG | B49: =+VLOOKUP(D49,'Plan mapping'!A:B,2,0) -> PG | C49: =+VLOOKUP(D49,'Plan mapping'!A:C,3,0) -> LIC34 | D49: 100319 | E49: LIC MF Govt. Securities Fund-PF Plan-Growth | F49: 21.1581 | G49: 21.1052 | H49: 21.1581 | I49: 43187
A50: =+C50&B50 -> LIC34RD | B50: =+VLOOKUP(D50,'Plan mapping'!A:B,2,0) -> RD | C50: =+VLOOKUP(D50,'Plan mapping'!A:C,3,0) -> LIC34 | D50: 100316 | E50: LIC MF Govt. Securities Fund-Regular Plan-Dividend | F50: 10.5595 | G50: 10.5331 | H50: 10.5595 | I50: 43187
A51: =+C51&B51 -> LIC34RG | B51: =+VLOOKUP(D51,'Plan mapping'!A:B,2,0) -> RG | C51: =+VLOOKUP(D51,'Plan mapping'!A:C,3,0) -> LIC34 | D51: 100317 | E51: LIC MF Govt. Securities Fund-Regular Plan-Growth | F51: 36.6334 | G51: 36.5418 | H51: 36.6334 | I51: 43187
A52: =+C52&B52 -> LIC171ZD | B52: =+VLOOKUP(D52,'Plan mapping'!A:B,2,0) -> ZD | C52: =+VLOOKUP(D52,'Plan mapping'!A:C,3,0) -> LIC171 | D52: 133908 | E52: LIC MF Banking and Financial Services Fund-Direct Plan-Dividend | F52: 10.7637 | G52: 10.6561 | H52: 10.7637 | I52: 43187
A53: =+C53&B53 -> LIC171ZG | B53: =+VLOOKUP(D53,'Plan mapping'!A:B,2,0) -> ZG | C53: =+VLOOKUP(D53,'Plan mapping'!A:C,3,0) -> LIC171 | D53: 134017 | E53: LIC MF Banking and Financial Services Fund-Direct Plan-Growth | F53: 10.7784 | G53: 10.6706 | H53: 10.7784 | I53: 43187
A54: =+C54&B54 -> LIC171RD | B54: =+VLOOKUP(D54,'Plan mapping'!A:B,2,0) -> RD | C54: =+VLOOKUP(D54,'Plan mapping'!A:C,3,0) -> LIC171 | D54: 134015 | E54: LIC MF Banking and Financial Services Fund-Regular Plan-Dividend | F54: 10.4616 | G54: 10.357 | H54: 10.4616 | I54: 43187
A55: =+C55&B55 -> LIC171RG | B55: =+VLOOKUP(D55,'Plan mapping'!A:B,2,0) -> RG | C55: =+VLOOKUP(D55,'Plan mapping'!A:C,3,0) -> LIC171 | D55: 134016 | E55: LIC MF Banking and Financial Services Fund-Regular Plan-Growth | F55: 10.4624 | G55: 10.3578 | H55: 10.4624 | I55: 43187
A56: =+C56&B56 -> LIC35ZG | B56: =+VLOOKUP(D56,'Plan mapping'!A:B,2,0) -> ZG | C56: =+VLOOKUP(D56,'Plan mapping'!A:C,3,0) -> LIC35 | D56: 120285 | E56: LIC MF Children's Gift Fund-Direct Plan-Growth | F56: 17.2989 | G56: 17.2989 | H56: 17.2989 | I56: 43187
A57: =+C57&B57 -> LIC35RG | B57: =+VLOOKUP(D57,'Plan mapping'!A:B,2,0) -> RG | C57: =+VLOOKUP(D57,'Plan mapping'!A:C,3,0) -> LIC35 | D57: 101271 | E57: LIC MF Children's Gift Fund-Regular Plan-Growth | F57: 16.4795 | G57: 16.4795 | H57: 16.4795 | I57: 43187
... A180: =+C180&B180 -> LIC1670 | B180: =+VLOOKUP(D180,'Plan mapping'!A:B,2,0) -> 0 | C180: =+VLOOKUP(D180,'Plan mapping'!A:C,3,0) -> LIC167 | D180: 133227 | E180: LIC MF Fixed Maturity Plan-Series 92-Regular Plan-Growth | F180: 12.586 | G180: 0 | H180: 0 | I180: 43082

Sheet March 2018 HY 
D1: LIC MUTUAL FUND
D2: Half-yearly Unaudited Financial Results for the period ended March 31, 2018
D4: (Persuant to regulation 59 of SEBI) Mutual Funds Regulations 1996) | E4: LIC02 | F4: LIC08 | G4: LIC17 | H4: LIC19 | I4: LIC28 | J4: LIC31 | K4: LIC33 | L4: LIC34 | M4: LIC35 | N4: LIC36 | O4: LIC37 | P4: LIC38 | Q4: LIC40 | R4: LIC72 | S4: LIC86 | T4: LIC94 | U4: LIC95 | V4: LIC96 | W4: LIC103 | X4: LIC127 | Y4: LIC137 | Z4: LIC140 | AA4: LIC142 | AB4: LIC146 | AC4: LIC152 | AD4: LIC153 | AE4: LIC154 | AF4: LIC156 | AG4: LIC157 | AH4: LIC158 | AI4: LIC160 | AJ4: LIC162 | AK4: LIC163 | AL4: LIC164 | AM4: LIC165 | AN4: LIC167 | AO4: LIC168 | AP4: LIC169 | AQ4: LIC170 | AR4: LIC171 | AS4: LIC172 | AT4: LIC173 | AU4: LIC174 | AV4: LIC175 | AW4: LIC176 | AX4: LIC177
C5: Sr No | D5: Particulars | E5: LIC MF Unit Linked Insurance Scheme | F5: LIC MF Balanced Fund | G5: LIC MF Equity Fund | H5: LIC MF Growth Fund | I5: LIC MF Tax Plan | J5: LIC MF Monthly Income Plan | K5: LIC MF Bond Fund | L5: LIC MF Government Securities Fund | M5: LIC MF Childrens Gift Fund^ | N5: LIC MF Liquid Fund | O5: LIC MF-Index Sensex Plan | P5: LIC MF-Index Nifty Plan | Q5: LIC MF Savings Plus Fund | R5: LIC MF Income Plus Fund | S5: LIC MF Infrastructure Fund | T5: LIC MF Interval Fund Quarterly - 1 @@ | U5: LIC MF Interval Fund Monthly - 1 @@ | V5: LIC MF Interval Fund Yearly - 1 @@ | W5: LIC MF Interval Fund Quarterly -2 @@ | X5: LIC MF FIXED MATURITY PLAN SERIES 64 @@ | Y5: LIC MF CAPITAL PROTECTION ORIENTED FUND SERIES 1 @@ | Z5: LIC MF FIXED MATURITY PLAN SERIES 72 @@ | AA5: LIC MF Capital Protection Oriented Fund Series 2 | AB5: LIC MF RGESS FUND SERIES 2 @@ | AC5: LIC MF CAPITAL PROTECTION ORIENTED FUND SERIES 3 @@ | AD5: LIC MF FIXED MATURITY PLAN SERIES 82 @@ | AE5: LIC MF FIXED MATURITY PLAN SERIES 83 @@ | AF5: LIC MF FIXED MATURITY PLAN SERIES 85 @@ | AG5: LIC MF FIXED MATURITY PLAN SERIES 86@@ | AH5: LIC MF CAPITAL PROTECTION ORIENTED FUND SERIES 4@@ | AI5: LIC MF DIVERSIFIED EQUITY FUND SERIES-1 @@ | AJ5: LIC MF Capital Protection Oriented Fund Series 5 @@ | AK5: LIC MF Fixed Maturity Plan – Series 89 @@ | AL5: LIC MF Fixed Maturity Plan – Series 90 @@ | AM5: LIC MF Diversified Equity Fund Series-2(1100 Days) @@ | AN5: LIC MF Fixed Maturity Plan Series 92(1100 Days) @@ | AO5: LIC MF G-Sec Long Term Exchange Traded Fund | AP5: LIC MF RGESS Fund Series 3 @@ | AQ5: LIC MF Midcap Fund | AR5: LIC MF Banking And Financial Services Fund | AS5: LIC MF Dual Advantage Fixed Term Plan-Series-1 | AT5: LIC MF Dual Advantage Fixed Term Plan- Series 2 | AU5: LIC MF Dual Advantage Fixed Term Plan- Series 3 | AV5: LIC MF ETF - Nifty 50 | AW5: LIC MF ETF - Sensex | AX5: LIC MF Exchange Traded Fund – Nifty 100
C6: 1.1 | D6: Unit Capital At The Beginning Of The Half-Year Period (Rs. In Crores) | E6: =+HLOOKUP(E$4,'Sep 2017 HY'!$3:$6,4,0) -> 143.3993 | F6: =+HLOOKUP(F$4,'Sep 2017 HY'!$3:$6,4,0) -> 86.912815 | G6: =+HLOOKUP(G$4,'Sep 2017 HY'!$3:$6,4,0) -> 91.191091 | H6: =+HLOOKUP(H$4,'Sep 2017 HY'!$3:$6,4,0) -> 89.205726 | I6: =+HLOOKUP(I$4,'Sep 2017 HY'!$3:$6,4,0) -> 29.356514 | J6: =+HLOOKUP(J$4,'Sep 2017 HY'!$3:$6,4,0) -> 32.894602 | K6: =+HLOOKUP(K$4,'Sep 2017 HY'!$3:$6,4,0) -> 125.87296 | L6: =+HLOOKUP(L$4,'Sep 2017 HY'!$3:$6,4,0) -> 26.403873 | ... AX6: =+HLOOKUP(AX$4,'Sep 2017 HY'!$3:$6,4,0) -> 26.644242
C7: 1.2 | D7: Unit Capital At The End Of The Period (Rs. In Crores) | E7: =-SUMIF('TB Mar18'!$A:$A,E$4&"Unit Capital",'TB Mar18'!$AB:$AB) -> 145.16074 | F7: =-SUMIF('TB Mar18'!$A:$A,F$4&"Unit Capital",'TB Mar18'!$AB:$AB) -> 131.59568 | G7: =-SUMIF('TB Mar18'!$A:$A,G$4&"Unit Capital",'TB Mar18'!$AB:$AB) -> 90.339479 | H7: =-SUMIF('TB Mar18'!$A:$A,H$4&"Unit Capital",'TB Mar18'!$AB:$AB) -> 100.97462 | I7: =-SUMIF('TB Mar18'!$A:$A,I$4&"Unit Capital",'TB Mar18'!$AB:$AB) -> 35.474167 | J7: =-SUMIF('TB Mar18'!$A:$A,J$4&"Unit Capital",'TB Mar18'!$AB:$AB) -> 28.620189 | K7: =-SUMIF('TB Mar18'!$A:$A,K$4&"Unit Capital",'TB Mar18'!$AB:$AB) -> 76.884567 | L7: =-SUMIF('TB Mar18'!$A:$A,L$4&"Unit Capital",'TB Mar18'!$AB:$AB) -> 23.032377 | ... W7: =-SUMIF('TB Mar18'!$A:$A,W$4&"Unit Capital",'TB Mar18'!$AB:$AB) -> 0 | X7: =+SUMIF('TB Mar18'!$A:$A,X$4&"Unit Capital",'TB Mar18'!$AB:$AB) -> 0 | Y7: =+SUMIF('TB Mar18'!$A:$A,Y$4&"Unit Capital",'TB Mar18'!$AB:$AB) -> 0 | Z7: =+SUMIF('TB Mar18'!$A:$A,Z$4&"Unit Capital",'TB Mar18'!$AB:$AB) -> 0 | AA7: =-SUMIF('TB Mar18'!$A:$A,AA$4&"Unit Capital",'TB Mar18'!$AB:$AB) -> 15.242215 | AB7: =+SUMIF('TB Mar18'!$A:$A,AB$4&"Unit Capital",'TB Mar18'!$AB:$AB) -> 0 | AC7: =+SUMIF('TB Mar18'!$A:$A,AC$4&"Unit Capital",'TB Mar18'!$AB:$AB) -> 0 | AD7: =+SUMIF('TB Mar18'!$A:$A,AD$4&"Unit Capital",'TB Mar18'!$AB:$AB) -> 0 | AE7: =+SUMIF('TB Mar18'!$A:$A,AE$4&"Unit Capital",'TB Mar18'!$AB:$AB) -> 0 | AF7: =+SUMIF('TB Mar18'!$A:$A,AF$4&"Unit Capital",'TB Mar18'!$AB:$AB) -> 0 | AG7: =+SUMIF('TB Mar18'!$A:$A,AG$4&"Unit Capital",'TB Mar18'!$AB:$AB) -> 0 | AH7: =+SUMIF('TB Mar18'!$A:$A,AH$4&"Unit Capital",'TB Mar18'!$AB:$AB) -> 0 | AI7: =+SUMIF('TB Mar18'!$A:$A,AI$4&"Unit Capital",'TB Mar18'!$AB:$AB) -> 0 | AJ7: =-SUMIF('TB Mar18'!$A:$A,AJ$4&"Unit Capital",'TB Mar18'!$AB:$AB) -> 0 | AK7: =-SUMIF('TB Mar18'!$A:$A,AK$4&"Unit Capital",'TB Mar18'!$AB:$AB) -> 0 | AL7: =-SUMIF('TB Mar18'!$A:$A,AL$4&"Unit Capital",'TB Mar18'!$AB:$AB) -> 0 | AM7: =-SUMIF('TB Mar18'!$A:$A,AM$4&"Unit Capital",'TB Mar18'!$AB:$AB) -> 0 | AN7: =-SUMIF('TB Mar18'!$A:$A,AN$4&"Unit Capital",'TB Mar18'!$AB:$AB) -> 0 | AO7: =-SUMIF('TB Mar18'!$A:$A,AO$4&"Unit Capital",'TB Mar18'!$AB:$AB) -> 42.225513 | AP7: =-SUMIF('TB Mar18'!$A:$A,AP$4&"Unit Capital",'TB Mar18'!$AB:$AB) -> 0 | AQ7: =-SUMIF('TB Mar18'!$A:$A,AQ$4&"Unit Capital",'TB Mar18'!$AB:$AB) -> 198.38541 | ... AX7: =-SUMIF('TB Mar18'!$A:$A,AX$4&"Unit Capital",'TB Mar18'!$AB:$AB) -> 26.644242 | AZ7: 7223.98 | BA7: 7.22398e+10 | BB7: 6.7645278e+10
C8: 2 | D8: Reserves & surplus (Rs. In Crores) | E8: =+E11-E7 -> 103.76976 | F8: =+F11-F7 -> 199.89161 | G8: =+G11-G7 -> 242.15293 | H8: =+H11-H7 -> 138.67952 | I8: =+I11-I7 -> 124.88526 | J8: =+J11-J7 -> 75.928703 | K8: =+K11-K7 -> 252.38408 | L8: =+L11-L7 -> 53.270279 | ... AX8: =+AX11-AX7 -> 258.32995 | AZ8: 11577.29 | BB8: 0
C10: 3.1 | D10: Total Net Assets At The Beginning Of The Half-Year Period (Rs. In Crores) | E10: =+HLOOKUP(E$4,'Sep 2017 HY'!$3:$10,8,0) -> 237.07746 | F10: =+HLOOKUP(F$4,'Sep 2017 HY'!$3:$10,8,0) -> 224.74974 | G10: =+HLOOKUP(G$4,'Sep 2017 HY'!$3:$10,8,0) -> 329.04341 | H10: =+HLOOKUP(H$4,'Sep 2017 HY'!$3:$10,8,0) -> 214.35784 | I10: =+HLOOKUP(I$4,'Sep 2017 HY'!$3:$10,8,0) -> 123.7925 | J10: =+HLOOKUP(J$4,'Sep 2017 HY'!$3:$10,8,0) -> 112.51108 | K10: =+HLOOKUP(K$4,'Sep 2017 HY'!$3:$10,8,0) -> 531.01172 | L10: =+HLOOKUP(L$4,'Sep 2017 HY'!$3:$10,8,0) -> 88.513448 | ... AX10: =+HLOOKUP(AX$4,'Sep 2017 HY'!$3:$10,8,0) -> 274.74467
C11: 3.2 | D11: Total Net Assets At The End Of The Period (Rs. In Crores) | E11: =+VLOOKUP(E$4,'SIM NAV 31 03 2018'!$A:$AL,38,0) -> 248.9305 | F11: =+VLOOKUP(F$4,'SIM NAV 31 03 2018'!$A:$AL,38,0) -> 331.48729 | G11: =+VLOOKUP(G$4,'SIM NAV 31 03 2018'!$A:$AL,38,0) -> 332.49241 | H11: =+VLOOKUP(H$4,'SIM NAV 31 03 2018'!$A:$AL,38,0) -> 239.65415 | I11: =+VLOOKUP(I$4,'SIM NAV 31 03 2018'!$A:$AL,38,0) -> 160.35943 | J11: =+VLOOKUP(J$4,'SIM NAV 31 03 2018'!$A:$AL,38,0) -> 104.54889 | K11: =+VLOOKUP(K$4,'SIM NAV 31 03 2018'!$A:$AL,38,0) -> 329.26865 | L11: =+VLOOKUP(L$4,'SIM NAV 31 03 2018'!$A:$AL,38,0) -> 76.302656 | ... S11: =+VLOOKUP(S$4,'SIM NAV 31 03 2018'!$A:$AL,38,0) -> 68.908268 | T11: 0 | U11: 0 | V11: 0 | W11: 0 | X11: =+VLOOKUP(X$4,'SIM NAV 31 03 2018'!$A:$AL,38,0) -> #N/A | Y11: =+VLOOKUP(Y$4,'SIM NAV 31 03 2018'!$A:$AL,38,0) -> #N/A | Z11: =+VLOOKUP(Z$4,'SIM NAV 31 03 2018'!$A:$AL,38,0) -> #N/A | AA11: =+VLOOKUP(AA$4,'SIM NAV 31 03 2018'!$A:$AL,38,0) -> 19.335219 | AB11: =+VLOOKUP(AB$4,'SIM NAV 31 03 2018'!$A:$AL,38,0) -> #N/A | AC11: =+VLOOKUP(AC$4,'SIM NAV 31 03 2018'!$A:$AL,38,0) -> #N/A | AD11: =+VLOOKUP(AD$4,'SIM NAV 31 03 2018'!$A:$AL,38,0) -> #N/A | AE11: =+VLOOKUP(AE$4,'SIM NAV 31 03 2018'!$A:$AL,38,0) -> #N/A | ... AI11: =+VLOOKUP(AI$4,'SIM NAV 31 03 2018'!$A:$AL,38,0) -> #N/A | AJ11: 0 | AK11: 0 | AL11: 0 | AM11: 0 | AN11: 0 | AO11: =+VLOOKUP(AO$4,'SIM NAV 31 03 2018'!$A:$AL,38,0) -> 71.628395 | AP11: =+VLOOKUP(AP$4,'SIM NAV 31 03 2018'!$A:$AL,38,0) -> 0 | AQ11: =+VLOOKUP(AQ$4,'SIM NAV 31 03 2018'!$A:$AL,38,0) -> 284.84526 | AR11: =+VLOOKUP(AR$4,'SIM NAV 31 03 2018'!$A:$AL,38,0) -> 65.068895 | AS11: =+VLOOKUP(AS$4,'SIM NAV 31 03 2018'!$A:$AL,38,0) -> 52.221198 | AT11: =+VLOOKUP(AT$4,'SIM NAV 31 03 2018'!$A:$AL,38,0) -> 32.616977 | AU11: =+VLOOKUP(AU$4,'SIM NAV 31 03 2018'!$A:$AL,38,0) -> 24.474017 | AV11: =+VLOOKUP(AV$4,'SIM NAV 31 03 2018'!$A:$AL,38,0) -> 443.24579 | ... AX11: =+VLOOKUP(AX$4,'SIM NAV 31 03 2018'!$A:$AL,38,0) -> 284.97419 | AZ11: 18801.27 | BA11: 1.880127e+11 | BB11: 0
C13: 4.1 | D13: NAV at the begining of the period
C14: RD | D14: Dividend | E14: =+HLOOKUP(E$4,'Sep 2017 HY'!$3:$30,28,0) -> 16.5232 | F14: =+HLOOKUP(F$4,'Sep 2017 HY'!$3:$30,28,0) -> 14.3344 | G14: =+HLOOKUP(G$4,'Sep 2017 HY'!$3:$30,28,0) -> 13.6116 | H14: =+HLOOKUP(H$4,'Sep 2017 HY'!$3:$30,28,0) -> 17.2766 | I14: =+HLOOKUP(I$4,'Sep 2017 HY'!$3:$30,28,0) -> 17.2092 | J14: =+HLOOKUP(J$4,'Sep 2017 HY'!$3:$30,28,0) -> 0 | K14: =+HLOOKUP(K$4,'Sep 2017 HY'!$3:$30,28,0) -> 10.469 | L14: =+HLOOKUP(L$4,'Sep 2017 HY'!$3:$30,28,0) -> 10.8006 | ... W14: =+HLOOKUP(W$4,'Sep 2017 HY'!$3:$30,28,0) -> 10.0651 | X14: =+HLOOKUP(X$4,'Sep 2017 HY'!$3:$13,11,0) -> 0 | Y14: =+HLOOKUP(Y$4,'Sep 2017 HY'!$3:$13,11,0) -> 0 | Z14: =+HLOOKUP(Z$4,'Sep 2017 HY'!$3:$13,11,0) -> 0 | AA14: =+HLOOKUP(AA$4,'Sep 2017 HY'!$3:$30,28,0) -> 10.3917 | AB14: =+HLOOKUP(AB$4,'Sep 2017 HY'!$3:$13,11,0) -> 0 | AC14: =+HLOOKUP(AC$4,'Sep 2017 HY'!$3:$13,11,0) -> 12.2504 | AD14: =+HLOOKUP(AD$4,'Sep 2017 HY'!$3:$13,11,0) -> 0 | AE14: =+HLOOKUP(AE$4,'Sep 2017 HY'!$3:$13,11,0) -> 0 | AF14: =+HLOOKUP(AF$4,'Sep 2017 HY'!$3:$13,11,0) -> 0 | AG14: =+HLOOKUP(AG$4,'Sep 2017 HY'!$3:$13,11,0) -> 11.4714 | AH14: =+HLOOKUP(AH$4,'Sep 2017 HY'!$3:$13,11,0) -> 11.9796 | AI14: =+HLOOKUP(AI$4,'Sep 2017 HY'!$3:$13,11,0) -> 10.9516 | AJ14: =+HLOOKUP(AJ$4,'Sep 2017 HY'!$3:$30,28,0) -> 11.9716 | AK14: =+HLOOKUP(AK$4,'Sep 2017 HY'!$3:$30,28,0) -> 12.6506 | AL14: =+HLOOKUP(AL$4,'Sep 2017 HY'!$3:$30,28,0) -> 12.4996 | AM14: =+HLOOKUP(AM$4,'Sep 2017 HY'!$3:$30,28,0) -> 10.2613 | AN14: =+HLOOKUP(AN$4,'Sep 2017 HY'!$3:$30,28,0) -> 12.4492 | AO14: =+HLOOKUP(AO$4,'Sep 2017 HY'!$3:$30,28,0) -> 0 | AP14: =+HLOOKUP(AP$4,'Sep 2017 HY'!$3:$30,28,0) -> 10.2931 | AQ14: =+HLOOKUP(AQ$4,'Sep 2017 HY'!$3:$30,28,0) -> 13.214 | ... AX14: =+HLOOKUP(AX$4,'Sep 2017 HY'!$3:$30,28,0) -> 0
C15: RG | D15: Growth | E15: =+HLOOKUP(E$4,'Sep 2017 HY'!$3:$31,29,0) -> 0 | F15: =+HLOOKUP(F$4,'Sep 2017 HY'!$3:$31,29,0) -> 91.3413 | G15: =+HLOOKUP(G$4,'Sep 2017 HY'!$3:$31,29,0) -> 41.5905 | H15: =+HLOOKUP(H$4,'Sep 2017 HY'!$3:$31,29,0) -> 24.022 | I15: =+HLOOKUP(I$4,'Sep 2017 HY'!$3:$31,29,0) -> 58.6231 | J15: =+HLOOKUP(J$4,'Sep 2017 HY'!$3:$31,29,0) -> 50.503 | K15: =+HLOOKUP(K$4,'Sep 2017 HY'!$3:$31,29,0) -> 46.0635 | L15: =+HLOOKUP(L$4,'Sep 2017 HY'!$3:$31,29,0) -> 36.9376 | ... W15: =+HLOOKUP(W$4,'Sep 2017 HY'!$3:$31,29,0) -> 20.1794 | X15: =+'Sep 2017 HY'!X31 -> 0 | Y15: =+'Sep 2017 HY'!Y31 -> 0 | Z15: =+'Sep 2017 HY'!Z31 -> 0 | AA15: =+HLOOKUP(AA$4,'Sep 2017 HY'!$3:$31,29,0) -> 13.0286 | AB15: =+'Sep 2017 HY'!AB31 -> 0 | AC15: =+'Sep 2017 HY'!AC31 -> 0 | AD15: =+'Sep 2017 HY'!AD31 -> 0 | AE15: =+'Sep 2017 HY'!AE31 -> 0 | AF15: =+'Sep 2017 HY'!AF31 -> 0 | AG15: =+'Sep 2017 HY'!AG31 -> 0 | AH15: =+'Sep 2017 HY'!AH31 -> 0 | AI15: =+'Sep 2017 HY'!AI31 -> 0 | AJ15: =+HLOOKUP(AJ$4,'Sep 2017 HY'!$3:$31,29,0) -> 11.9716 | AK15: =+HLOOKUP(AK$4,'Sep 2017 HY'!$3:$31,29,0) -> 12.6506 | AL15: =+HLOOKUP(AL$4,'Sep 2017 HY'!$3:$31,29,0) -> 12.4996 | AM15: =+HLOOKUP(AM$4,'Sep 2017 HY'!$3:$31,29,0) -> 10.2612 | AN15: =+HLOOKUP(AN$4,'Sep 2017 HY'!$3:$31,29,0) -> 12.4492 | AO15: =+HLOOKUP(AO$4,'Sep 2017 HY'!$3:$31,29,0) -> 17.1437 | AP15: =+HLOOKUP(AP$4,'Sep 2017 HY'!$3:$31,29,0) -> 10.293 | AQ15: =+HLOOKUP(AQ$4,'Sep 2017 HY'!$3:$31,29,0) -> 13.7149 | ... AX15: =+HLOOKUP(AX$4,'Sep 2017 HY'!$3:$31,29,0) -> 103.1167
C16: ZD | D16: Direct Dividend | E16: =+HLOOKUP(E$4,'Sep 2017 HY'!$3:$32,30,0) -> 17.0414 | F16: =+HLOOKUP(F$4,'Sep 2017 HY'!$3:$32,30,0) -> 14.8591 | G16: =+HLOOKUP(G$4,'Sep 2017 HY'!$3:$32,30,0) -> 16.5252 | H16: =+HLOOKUP(H$4,'Sep 2017 HY'!$3:$32,30,0) -> 19.3038 | I16: =+HLOOKUP(I$4,'Sep 2017 HY'!$3:$32,30,0) -> 17.9637 | J16: =+HLOOKUP(J$4,'Sep 2017 HY'!$3:$32,30,0) -> 0 | K16: =+HLOOKUP(K$4,'Sep 2017 HY'!$3:$32,30,0) -> 11.4009 | L16: =+HLOOKUP(L$4,'Sep 2017 HY'!$3:$32,30,0) -> 11.2701 | ... W16: =+HLOOKUP(W$4,'Sep 2017 HY'!$3:$32,30,0) -> 10.0675 | X16: =+'Sep 2017 HY'!X32 -> 0 | Y16: =+'Sep 2017 HY'!Y32 -> 0 | Z16: =+'Sep 2017 HY'!Z32 -> 0 | AA16: =+HLOOKUP(AA$4,'Sep 2017 HY'!$3:$32,30,0) -> 0 | AB16: =+'Sep 2017 HY'!AB32 -> 0 | AC16: =+'Sep 2017 HY'!AC32 -> 0 | AD16: =+'Sep 2017 HY'!AD32 -> 0 | AE16: =+'Sep 2017 HY'!AE32 -> 0 | AF16: =+'Sep 2017 HY'!AF32 -> 0 | AG16: =+'Sep 2017 HY'!AG32 -> 0 | AH16: =+'Sep 2017 HY'!AH32 -> 0 | AI16: =+'Sep 2017 HY'!AI32 -> 0 | AJ16: =+HLOOKUP(AJ$4,'Sep 2017 HY'!$3:$32,30,0) -> 12.0336 | AK16: =+HLOOKUP(AK$4,'Sep 2017 HY'!$3:$32,30,0) -> 0 | AL16: =+HLOOKUP(AL$4,'Sep 2017 HY'!$3:$32,30,0) -> 12.6458 | AM16: =+HLOOKUP(AM$4,'Sep 2017 HY'!$3:$32,30,0) -> 10.4056 | AN16: =+HLOOKUP(AN$4,'Sep 2017 HY'!$3:$32,30,0) -> 0 | AO16: =+HLOOKUP(AO$4,'Sep 2017 HY'!$3:$32,30,0) -> 0 | AP16: =+HLOOKUP(AP$4,'Sep 2017 HY'!$3:$32,30,0) -> 10.3019 | AQ16: =+HLOOKUP(AQ$4,'Sep 2017 HY'!$3:$32,30,0) -> 13.5758 | ... AX16: =+HLOOKUP(AX$4,'Sep 2017 HY'!$3:$32,30,0) -> 0
C17: ZG | D17: Direct Growth | E17: =+HLOOKUP(E$4,'Sep 2017 HY'!$3:$33,31,0) -> 0 | F17: =+HLOOKUP(F$4,'Sep 2017 HY'!$3:$33,31,0) -> 94.6414 | G17: =+HLOOKUP(G$4,'Sep 2017 HY'!$3:$33,31,0) -> 42.8481 | H17: =+HLOOKUP(H$4,'Sep 2017 HY'!$3:$33,31,0) -> 24.9664 | I17: =+HLOOKUP(I$4,'Sep 2017 HY'!$3:$33,31,0) -> 61.0857 | J17: =+HLOOKUP(J$4,'Sep 2017 HY'!$3:$33,31,0) -> 52.1908 | K17: =+HLOOKUP(K$4,'Sep 2017 HY'!$3:$33,31,0) -> 47.1966 | L17: =+HLOOKUP(L$4,'Sep 2017 HY'!$3:$33,31,0) -> 38.361 | ... W17: =+HLOOKUP(W$4,'Sep 2017 HY'!$3:$33,31,0) -> 20.3326 | X17: =+'Sep 2017 HY'!X33 -> 0 | Y17: =+'Sep 2017 HY'!Y33 -> 0 | Z17: =+'Sep 2017 HY'!Z33 -> 0 | AA17: =+HLOOKUP(AA$4,'Sep 2017 HY'!$3:$33,31,0) -> 13.2715 | AB17: =+'Sep 2017 HY'!AB33 -> 0 | AC17: =+'Sep 2017 HY'!AC33 -> 0 | AD17: =+'Sep 2017 HY'!AD33 -> 0 | AE17: =+'Sep 2017 HY'!AE33 -> 0 | AF17: =+'Sep 2017 HY'!AF33 -> 0 | AG17: =+'Sep 2017 HY'!AG33 -> 0 | AH17: =+'Sep 2017 HY'!AH33 -> 0 | AI17: =+'Sep 2017 HY'!AI33 -> 0 | AJ17: =+HLOOKUP(AJ$4,'Sep 2017 HY'!$3:$33,31,0) -> 12.0334 | AK17: =+HLOOKUP(AK$4,'Sep 2017 HY'!$3:$33,31,0) -> 12.8177 | AL17: =+HLOOKUP(AL$4,'Sep 2017 HY'!$3:$33,31,0) -> 12.6458 | AM17: =+HLOOKUP(AM$4,'Sep 2017 HY'!$3:$33,31,0) -> 10.4057 | AN17: =+HLOOKUP(AN$4,'Sep 2017 HY'!$3:$33,31,0) -> 12.6648 | AO17: =+HLOOKUP(AO$4,'Sep 2017 HY'!$3:$33,31,0) -> 0 | AP17: =+HLOOKUP(AP$4,'Sep 2017 HY'!$3:$33,31,0) -> 10.3022 | AQ17: =+HLOOKUP(AQ$4,'Sep 2017 HY'!$3:$33,31,0) -> 14.084 | ... AX17: =+HLOOKUP(AX$4,'Sep 2017 HY'!$3:$33,31,0) -> 0
C18: RM | D18: Monthly Dividend | E18: =+HLOOKUP(E$4,'Sep 2017 HY'!$3:$34,32,0) -> 0 | F18: =+HLOOKUP(F$4,'Sep 2017 HY'!$3:$34,32,0) -> 0 | G18: =+HLOOKUP(G$4,'Sep 2017 HY'!$3:$34,32,0) -> 0 | H18: =+HLOOKUP(H$4,'Sep 2017 HY'!$3:$34,32,0) -> 0 | I18: =+HLOOKUP(I$4,'Sep 2017 HY'!$3:$34,32,0) -> 0 | J18: =+HLOOKUP(J$4,'Sep 2017 HY'!$3:$34,32,0) -> 10.5047 | K18: =+HLOOKUP(K$4,'Sep 2017 HY'!$3:$34,32,0) -> 0 | L18: =+HLOOKUP(L$4,'Sep 2017 HY'!$3:$34,32,0) -> 0 | ... W18: =+HLOOKUP(W$4,'Sep 2017 HY'!$3:$34,32,0) -> 0 | X18: =+'Sep 2017 HY'!X34 -> 0 | Y18: =+'Sep 2017 HY'!Y34 -> 0 | Z18: =+'Sep 2017 HY'!Z34 -> 0 | AA18: =+HLOOKUP(AA$4,'Sep 2017 HY'!$3:$34,32,0) -> 0 | AB18: =+'Sep 2017 HY'!AB34 -> 0 | AC18: =+'Sep 2017 HY'!AC34 -> 0 | AD18: =+'Sep 2017 HY'!AD34 -> 0 | AE18: =+'Sep 2017 HY'!AE34 -> 0 | AF18: =+'Sep 2017 HY'!AF34 -> 0 | AG18: =+'Sep 2017 HY'!AG34 -> 0 | AH18: =+'Sep 2017 HY'!AH34 -> 0 | AI18: =+'Sep 2017 HY'!AI34 -> 0 | AJ18: =+HLOOKUP(AJ$4,'Sep 2017 HY'!$3:$34,32,0) -> 0 | AK18: =+HLOOKUP(AK$4,'Sep 2017 HY'!$3:$34,32,0) -> 0 | AL18: =+HLOOKUP(AL$4,'Sep 2017 HY'!$3:$34,32,0) -> 0 | AM18: =+HLOOKUP(AM$4,'Sep 2017 HY'!$3:$34,32,0) -> 0 | AN18: =+HLOOKUP(AN$4,'Sep 2017 HY'!$3:$34,32,0) -> 0 | AO18: =+HLOOKUP(AO$4,'Sep 2017 HY'!$3:$34,32,0) -> 0 | AP18: =+HLOOKUP(AP$4,'Sep 2017 HY'!$3:$34,32,0) -> 0 | AQ18: =+HLOOKUP(AQ$4,'Sep 2017 HY'!$3:$34,32,0) -> 0 | ... AX18: =+HLOOKUP(AX$4,'Sep 2017 HY'!$3:$34,32,0) -> 0
C19: RQ | D19: Quarterly Dividend | E19: =+HLOOKUP(E$4,'Sep 2017 HY'!$3:$35,33,0) -> 0 | F19: =+HLOOKUP(F$4,'Sep 2017 HY'!$3:$35,33,0) -> 0 | G19: =+HLOOKUP(G$4,'Sep 2017 HY'!$3:$35,33,0) -> 0 | H19: =+HLOOKUP(H$4,'Sep 2017 HY'!$3:$35,33,0) -> 0 | I19: =+HLOOKUP(I$4,'Sep 2017 HY'!$3:$35,33,0) -> 0 | J19: =+HLOOKUP(J$4,'Sep 2017 HY'!$3:$35,33,0) -> 10.6462 | K19: =+HLOOKUP(K$4,'Sep 2017 HY'!$3:$35,33,0) -> 0 | L19: =+HLOOKUP(L$4,'Sep 2017 HY'!$3:$35,33,0) -> 0 | ... W19: =+HLOOKUP(W$4,'Sep 2017 HY'!$3:$35,33,0) -> 0 | X19: =+'Sep 2017 HY'!X35 -> 0 | Y19: =+'Sep 2017 HY'!Y35 -> 0 | Z19: =+'Sep 2017 HY'!Z35 -> 0 | AA19: =+HLOOKUP(AA$4,'Sep 2017 HY'!$3:$35,33,0) -> 0 | AB19: =+'Sep 2017 HY'!AB35 -> 0 | AC19: =+'Sep 2017 HY'!AC35 -> 0 | AD19: =+'Sep 2017 HY'!AD35 -> 0 | AE19: =+'Sep 2017 HY'!AE35 -> 0 | AF19: =+'Sep 2017 HY'!AF35 -> 0 | AG19: =+'Sep 2017 HY'!AG35 -> 0 | AH19: =+'Sep 2017 HY'!AH35 -> 0 | AI19: =+'Sep 2017 HY'!AI35 -> 0 | AJ19: =+HLOOKUP(AJ$4,'Sep 2017 HY'!$3:$35,33,0) -> 0 | AK19: =+HLOOKUP(AK$4,'Sep 2017 HY'!$3:$35,33,0) -> 0 | AL19: =+HLOOKUP(AL$4,'Sep 2017 HY'!$3:$35,33,0) -> 0 | AM19: =+HLOOKUP(AM$4,'Sep 2017 HY'!$3:$35,33,0) -> 0 | AN19: =+HLOOKUP(AN$4,'Sep 2017 HY'!$3:$35,33,0) -> 0 | AO19: =+HLOOKUP(AO$4,'Sep 2017 HY'!$3:$35,33,0) -> 0 | AP19: =+HLOOKUP(AP$4,'Sep 2017 HY'!$3:$35,33,0) -> 0 | AQ19: =+HLOOKUP(AQ$4,'Sep 2017 HY'!$3:$35,33,0) -> 0 | ... AX19: =+HLOOKUP(AX$4,'Sep 2017 HY'!$3:$35,33,0) -> 0
C20: RY | D20: Yearly Dividend | E20: =+HLOOKUP(E$4,'Sep 2017 HY'!$3:$36,34,0) -> 0 | F20: =+HLOOKUP(F$4,'Sep 2017 HY'!$3:$36,34,0) -> 0 | G20: =+HLOOKUP(G$4,'Sep 2017 HY'!$3:$36,34,0) -> 0 | H20: =+HLOOKUP(H$4,'Sep 2017 HY'!$3:$36,34,0) -> 0 | I20: =+HLOOKUP(I$4,'Sep 2017 HY'!$3:$36,34,0) -> 0 | J20: =+HLOOKUP(J$4,'Sep 2017 HY'!$3:$36,34,0) -> 11.5512 | K20: =+HLOOKUP(K$4,'Sep 2017 HY'!$3:$36,34,0) -> 0 | L20: =+HLOOKUP(L$4,'Sep 2017 HY'!$3:$36,34,0) -> 0 | ... W20: =+HLOOKUP(W$4,'Sep 2017 HY'!$3:$36,34,0) -> 0 | X20: =+'Sep 2017 HY'!X36 -> 0 | Y20: =+'Sep 2017 HY'!Y36 -> 0 | Z20: =+'Sep 2017 HY'!Z36 -> 0 | AA20: =+HLOOKUP(AA$4,'Sep 2017 HY'!$3:$36,34,0) -> 0 | AB20: =+'Sep 2017 HY'!AB36 -> 0 | AC20: =+'Sep 2017 HY'!AC36 -> 0 | AD20: =+'Sep 2017 HY'!AD36 -> 0 | AE20: =+'Sep 2017 HY'!AE36 -> 0 | AF20: =+'Sep 2017 HY'!AF36 -> 0 | AG20: =+'Sep 2017 HY'!AG36 -> 0 | AH20: =+'Sep 2017 HY'!AH36 -> 0 | AI20: =+'Sep 2017 HY'!AI36 -> 0 | AJ20: =+HLOOKUP(AJ$4,'Sep 2017 HY'!$3:$36,34,0) -> 0 | AK20: =+HLOOKUP(AK$4,'Sep 2017 HY'!$3:$36,34,0) -> 0 | AL20: =+HLOOKUP(AL$4,'Sep 2017 HY'!$3:$36,34,0) -> 0 | AM20: =+HLOOKUP(AM$4,'Sep 2017 HY'!$3:$36,34,0) -> 0 | AN20: =+HLOOKUP(AN$4,'Sep 2017 HY'!$3:$36,34,0) -> 0 | AO20: =+HLOOKUP(AO$4,'Sep 2017 HY'!$3:$36,34,0) -> 0 | AP20: =+HLOOKUP(AP$4,'Sep 2017 HY'!$3:$36,34,0) -> 0 | AQ20: =+HLOOKUP(AQ$4,'Sep 2017 HY'!$3:$36,34,0) -> 0 | ... AX20: =+HLOOKUP(AX$4,'Sep 2017 HY'!$3:$36,34,0) -> 0
C21: ZM | D21: Direct Monthly Dividend | E21: =+HLOOKUP(E$4,'Sep 2017 HY'!$3:$37,35,0) -> 0 | F21: =+HLOOKUP(F$4,'Sep 2017 HY'!$3:$37,35,0) -> 0 | G21: =+HLOOKUP(G$4,'Sep 2017 HY'!$3:$37,35,0) -> 0 | H21: =+HLOOKUP(H$4,'Sep 2017 HY'!$3:$37,35,0) -> 0 | I21: =+HLOOKUP(I$4,'Sep 2017 HY'!$3:$37,35,0) -> 0 | J21: =+HLOOKUP(J$4,'Sep 2017 HY'!$3:$37,35,0) -> 10.5863 | K21: =+HLOOKUP(K$4,'Sep 2017 HY'!$3:$37,35,0) -> 0 | L21: =+HLOOKUP(L$4,'Sep 2017 HY'!$3:$37,35,0) -> 0 | ... W21: =+HLOOKUP(W$4,'Sep 2017 HY'!$3:$37,35,0) -> 0 | X21: =+'Sep 2017 HY'!X37 -> 0 | Y21: =+'Sep 2017 HY'!Y37 -> 0 | Z21: =+'Sep 2017 HY'!Z37 -> 0 | AA21: =+HLOOKUP(AA$4,'Sep 2017 HY'!$3:$37,35,0) -> 0 | AB21: =+'Sep 2017 HY'!AB37 -> 0 | AC21: =+'Sep 2017 HY'!AC37 -> 0 | AD21: =+'Sep 2017 HY'!AD37 -> 0 | AE21: =+'Sep 2017 HY'!AE37 -> 0 | AF21: =+'Sep 2017 HY'!AF37 -> 0 | AG21: =+'Sep 2017 HY'!AG37 -> 0 | AH21: =+'Sep 2017 HY'!AH37 -> 0 | AI21: =+'Sep 2017 HY'!AI37 -> 0 | AJ21: =+HLOOKUP(AJ$4,'Sep 2017 HY'!$3:$37,35,0) -> 0 | AK21: =+HLOOKUP(AK$4,'Sep 2017 HY'!$3:$37,35,0) -> 0 | AL21: =+HLOOKUP(AL$4,'Sep 2017 HY'!$3:$37,35,0) -> 0 | AM21: =+HLOOKUP(AM$4,'Sep 2017 HY'!$3:$37,35,0) -> 0 | AN21: =+HLOOKUP(AN$4,'Sep 2017 HY'!$3:$37,35,0) -> 0 | AO21: =+HLOOKUP(AO$4,'Sep 2017 HY'!$3:$37,35,0) -> 0 | AP21: =+HLOOKUP(AP$4,'Sep 2017 HY'!$3:$37,35,0) -> 0 | AQ21: =+HLOOKUP(AQ$4,'Sep 2017 HY'!$3:$37,35,0) -> 0 | ... AX21: =+HLOOKUP(AX$4,'Sep 2017 HY'!$3:$37,35,0) -> 0
C22: ZQ | D22: Direct Quarterly Dividend | E22: =+HLOOKUP(E$4,'Sep 2017 HY'!$3:$38,36,0) -> 0 | F22: =+HLOOKUP(F$4,'Sep 2017 HY'!$3:$38,36,0) -> 0 | G22: =+HLOOKUP(G$4,'Sep 2017 HY'!$3:$38,36,0) -> 0 | H22: =+HLOOKUP(H$4,'Sep 2017 HY'!$3:$38,36,0) -> 0 | I22: =+HLOOKUP(I$4,'Sep 2017 HY'!$3:$38,36,0) -> 0 | J22: =+HLOOKUP(J$4,'Sep 2017 HY'!$3:$38,36,0) -> 11.0698 | K22: =+HLOOKUP(K$4,'Sep 2017 HY'!$3:$38,36,0) -> 0 | L22: =+HLOOKUP(L$4,'Sep 2017 HY'!$3:$38,36,0) -> 0 | ... W22: =+HLOOKUP(W$4,'Sep 2017 HY'!$3:$38,36,0) -> 0 | X22: =+'Sep 2017 HY'!X38 -> 0 | Y22: =+'Sep 2017 HY'!Y38 -> 0 | Z22: =+'Sep 2017 HY'!Z38 -> 0 | AA22: =+HLOOKUP(AA$4,'Sep 2017 HY'!$3:$38,36,0) -> 0 | AB22: =+'Sep 2017 HY'!AB38 -> 0 | AC22: =+'Sep 2017 HY'!AC38 -> 0 | AD22: =+'Sep 2017 HY'!AD38 -> 0 | AE22: =+'Sep 2017 HY'!AE38 -> 0 | AF22: =+'Sep 2017 HY'!AF38 -> 0 | AG22: =+'Sep 2017 HY'!AG38 -> 0 | AH22: =+'Sep 2017 HY'!AH38 -> 0 | AI22: =+'Sep 2017 HY'!AI38 -> 0 | AJ22: =+HLOOKUP(AJ$4,'Sep 2017 HY'!$3:$38,36,0) -> 0 | AK22: =+HLOOKUP(AK$4,'Sep 2017 HY'!$3:$38,36,0) -> 0 | AL22: =+HLOOKUP(AL$4,'Sep 2017 HY'!$3:$38,36,0) -> 0 | AM22: =+HLOOKUP(AM$4,'Sep 2017 HY'!$3:$38,36,0) -> 0 | AN22: =+HLOOKUP(AN$4,'Sep 2017 HY'!$3:$38,36,0) -> 0 | AO22: =+HLOOKUP(AO$4,'Sep 2017 HY'!$3:$38,36,0) -> 0 | AP22: =+HLOOKUP(AP$4,'Sep 2017 HY'!$3:$38,36,0) -> 0 | AQ22: =+HLOOKUP(AQ$4,'Sep 2017 HY'!$3:$38,36,0) -> 0 | ... AX22: =+HLOOKUP(AX$4,'Sep 2017 HY'!$3:$38,36,0) -> 0
C23: ZY | D23: Direct Yearly Dividend | E23: =+HLOOKUP(E$4,'Sep 2017 HY'!$3:$39,37,0) -> 0 | F23: =+HLOOKUP(F$4,'Sep 2017 HY'!$3:$39,37,0) -> 0 | G23: =+HLOOKUP(G$4,'Sep 2017 HY'!$3:$39,37,0) -> 0 | H23: =+HLOOKUP(H$4,'Sep 2017 HY'!$3:$39,37,0) -> 0 | I23: =+HLOOKUP(I$4,'Sep 2017 HY'!$3:$39,37,0) -> 0 | J23: =+HLOOKUP(J$4,'Sep 2017 HY'!$3:$39,37,0) -> 11.9174 | K23: =+HLOOKUP(K$4,'Sep 2017 HY'!$3:$39,37,0) -> 0 | L23: =+HLOOKUP(L$4,'Sep 2017 HY'!$3:$39,37,0) -> 0 | ... W23: =+HLOOKUP(W$4,'Sep 2017 HY'!$3:$39,37,0) -> 0 | X23: =+'Sep 2017 HY'!X39 -> 0 | Y23: =+'Sep 2017 HY'!Y39 -> 0 | Z23: =+'Sep 2017 HY'!Z39 -> 0 | AA23: =+HLOOKUP(AA$4,'Sep 2017 HY'!$3:$39,37,0) -> 0 | AB23: =+'Sep 2017 HY'!AB39 -> 0 | AC23: =+'Sep 2017 HY'!AC39 -> 0 | AD23: =+'Sep 2017 HY'!AD39 -> 0 | AE23: =+'Sep 2017 HY'!AE39 -> 0 | AF23: =+'Sep 2017 HY'!AF39 -> 0 | AG23: =+'Sep 2017 HY'!AG39 -> 0 | AH23: =+'Sep 2017 HY'!AH39 -> 0 | AI23: =+'Sep 2017 HY'!AI39 -> 0 | AJ23: =+HLOOKUP(AJ$4,'Sep 2017 HY'!$3:$39,37,0) -> 0 | AK23: =+HLOOKUP(AK$4,'Sep 2017 HY'!$3:$39,37,0) -> 0 | AL23: =+HLOOKUP(AL$4,'Sep 2017 HY'!$3:$39,37,0) -> 0 | AM23: =+HLOOKUP(AM$4,'Sep 2017 HY'!$3:$39,37,0) -> 0 | AN23: =+HLOOKUP(AN$4,'Sep 2017 HY'!$3:$39,37,0) -> 0 | AO23: =+HLOOKUP(AO$4,'Sep 2017 HY'!$3:$39,37,0) -> 0 | AP23: =+HLOOKUP(AP$4,'Sep 2017 HY'!$3:$39,37,0) -> 0 | AQ23: =+HLOOKUP(AQ$4,'Sep 2017 HY'!$3:$39,37,0) -> 0 | ... AX23: =+HLOOKUP(AX$4,'Sep 2017 HY'!$3:$39,37,0) -> 0
C24: PD | D24: PF Dividend | E24: =+HLOOKUP(E$4,'Sep 2017 HY'!$3:$40,38,0) -> 0 | F24: =+HLOOKUP(F$4,'Sep 2017 HY'!$3:$40,38,0) -> 0 | G24: =+HLOOKUP(G$4,'Sep 2017 HY'!$3:$40,38,0) -> 0 | H24: =+HLOOKUP(H$4,'Sep 2017 HY'!$3:$40,38,0) -> 0 | I24: =+HLOOKUP(I$4,'Sep 2017 HY'!$3:$40,38,0) -> 0 | J24: =+HLOOKUP(J$4,'Sep 2017 HY'!$3:$40,38,0) -> 0 | K24: =+HLOOKUP(K$4,'Sep 2017 HY'!$3:$40,38,0) -> 0 | L24: =+HLOOKUP(L$4,'Sep 2017 HY'!$3:$40,38,0) -> 13.805 | ... W24: =+HLOOKUP(W$4,'Sep 2017 HY'!$3:$40,38,0) -> 0 | X24: =+'Sep 2017 HY'!X40 -> 0 | Y24: =+'Sep 2017 HY'!Y40 -> 0 | Z24: =+'Sep 2017 HY'!Z40 -> 0 | AA24: =+HLOOKUP(AA$4,'Sep 2017 HY'!$3:$40,38,0) -> 0 | AB24: =+'Sep 2017 HY'!AB40 -> 0 | AC24: =+'Sep 2017 HY'!AC40 -> 0 | AD24: =+'Sep 2017 HY'!AD40 -> 0 | AE24: =+'Sep 2017 HY'!AE40 -> 0 | AF24: =+'Sep 2017 HY'!AF40 -> 0 | AG24: =+'Sep 2017 HY'!AG40 -> 0 | AH24: =+'Sep 2017 HY'!AH40 -> 0 | AI24: =+'Sep 2017 HY'!AI40 -> 0 | AJ24: =+HLOOKUP(AJ$4,'Sep 2017 HY'!$3:$40,38,0) -> 0 | AK24: =+HLOOKUP(AK$4,'Sep 2017 HY'!$3:$40,38,0) -> 0 | AL24: =+HLOOKUP(AL$4,'Sep 2017 HY'!$3:$40,38,0) -> 0 | AM24: =+HLOOKUP(AM$4,'Sep 2017 HY'!$3:$40,38,0) -> 0 | AN24: =+HLOOKUP(AN$4,'Sep 2017 HY'!$3:$40,38,0) -> 0 | AO24: =+HLOOKUP(AO$4,'Sep 2017 HY'!$3:$40,38,0) -> 0 | AP24: =+HLOOKUP(AP$4,'Sep 2017 HY'!$3:$40,38,0) -> 0 | AQ24: =+HLOOKUP(AQ$4,'Sep 2017 HY'!$3:$40,38,0) -> 0 | ... AX24: =+HLOOKUP(AX$4,'Sep 2017 HY'!$3:$40,38,0) -> 0
C25: PG | D25: PF Growth | E25: =+HLOOKUP(E$4,'Sep 2017 HY'!$3:$41,39,0) -> 0 | F25: =+HLOOKUP(F$4,'Sep 2017 HY'!$3:$41,39,0) -> 0 | G25: =+HLOOKUP(G$4,'Sep 2017 HY'!$3:$41,39,0) -> 0 | H25: =+HLOOKUP(H$4,'Sep 2017 HY'!$3:$41,39,0) -> 0 | I25: =+HLOOKUP(I$4,'Sep 2017 HY'!$3:$41,39,0) -> 0 | J25: =+HLOOKUP(J$4,'Sep 2017 HY'!$3:$41,39,0) -> 0 | K25: =+HLOOKUP(K$4,'Sep 2017 HY'!$3:$41,39,0) -> 0 | L25: =+HLOOKUP(L$4,'Sep 2017 HY'!$3:$41,39,0) -> 21.3337 | ... W25: =+HLOOKUP(W$4,'Sep 2017 HY'!$3:$41,39,0) -> 0 | X25: =+'Sep 2017 HY'!X41 -> 0 | Y25: =+'Sep 2017 HY'!Y41 -> 0 | Z25: =+'Sep 2017 HY'!Z41 -> 0 | AA25: =+HLOOKUP(AA$4,'Sep 2017 HY'!$3:$41,39,0) -> 0 | AB25: =+'Sep 2017 HY'!AB41 -> 0 | AC25: =+'Sep 2017 HY'!AC41 -> 0 | AD25: =+'Sep 2017 HY'!AD41 -> 0 | AE25: =+'Sep 2017 HY'!AE41 -> 0 | AF25: =+'Sep 2017 HY'!AF41 -> 0 | AG25: =+'Sep 2017 HY'!AG41 -> 0 | AH25: =+'Sep 2017 HY'!AH41 -> 0 | AI25: =+'Sep 2017 HY'!AI41 -> 0 | AJ25: =+HLOOKUP(AJ$4,'Sep 2017 HY'!$3:$41,39,0) -> 0 | AK25: =+HLOOKUP(AK$4,'Sep 2017 HY'!$3:$41,39,0) -> 0 | AL25: =+HLOOKUP(AL$4,'Sep 2017 HY'!$3:$41,39,0) -> 0 | AM25: =+HLOOKUP(AM$4,'Sep 2017 HY'!$3:$41,39,0) -> 0 | AN25: =+HLOOKUP(AN$4,'Sep 2017 HY'!$3:$41,39,0) -> 0 | AO25: =+HLOOKUP(AO$4,'Sep 2017 HY'!$3:$41,39,0) -> 0 | AP25: =+HLOOKUP(AP$4,'Sep 2017 HY'!$3:$41,39,0) -> 0 | AQ25: =+HLOOKUP(AQ$4,'Sep 2017 HY'!$3:$41,39,0) -> 0 | ... AX25: =+HLOOKUP(AX$4,'Sep 2017 HY'!$3:$41,39,0) -> 0
C26: RW | D26: Weekly Dividend | E26: =+HLOOKUP(E$4,'Sep 2017 HY'!$3:$42,40,0) -> 0 | F26: =+HLOOKUP(F$4,'Sep 2017 HY'!$3:$42,40,0) -> 0 | G26: =+HLOOKUP(G$4,'Sep 2017 HY'!$3:$42,40,0) -> 0 | H26: =+HLOOKUP(H$4,'Sep 2017 HY'!$3:$42,40,0) -> 0 | I26: =+HLOOKUP(I$4,'Sep 2017 HY'!$3:$42,40,0) -> 0 | J26: =+HLOOKUP(J$4,'Sep 2017 HY'!$3:$42,40,0) -> 0 | K26: =+HLOOKUP(K$4,'Sep 2017 HY'!$3:$42,40,0) -> 0 | L26: =+HLOOKUP(L$4,'Sep 2017 HY'!$3:$42,40,0) -> 0 | ... W26: =+HLOOKUP(W$4,'Sep 2017 HY'!$3:$42,40,0) -> 0 | X26: =+'Sep 2017 HY'!X42 -> 0 | Y26: =+'Sep 2017 HY'!Y42 -> 0 | Z26: =+'Sep 2017 HY'!Z42 -> 0 | AA26: =+HLOOKUP(AA$4,'Sep 2017 HY'!$3:$42,40,0) -> 0 | AB26: =+'Sep 2017 HY'!AB42 -> 0 | AC26: =+'Sep 2017 HY'!AC42 -> 0 | AD26: =+'Sep 2017 HY'!AD42 -> 0 | AE26: =+'Sep 2017 HY'!AE42 -> 0 | AF26: =+'Sep 2017 HY'!AF42 -> 0 | AG26: =+'Sep 2017 HY'!AG42 -> 0 | AH26: =+'Sep 2017 HY'!AH42 -> 0 | AI26: =+'Sep 2017 HY'!AI42 -> 0 | AJ26: =+HLOOKUP(AJ$4,'Sep 2017 HY'!$3:$42,40,0) -> 0 | AK26: =+HLOOKUP(AK$4,'Sep 2017 HY'!$3:$42,40,0) -> 0 | AL26: =+HLOOKUP(AL$4,'Sep 2017 HY'!$3:$42,40,0) -> 0 | AM26: =+HLOOKUP(AM$4,'Sep 2017 HY'!$3:$42,40,0) -> 0 | AN26: =+HLOOKUP(AN$4,'Sep 2017 HY'!$3:$42,40,0) -> 0 | AO26: =+HLOOKUP(AO$4,'Sep 2017 HY'!$3:$42,40,0) -> 0 | AP26: =+HLOOKUP(AP$4,'Sep 2017 HY'!$3:$42,40,0) -> 0 | AQ26: =+HLOOKUP(AQ$4,'Sep 2017 HY'!$3:$42,40,0) -> 0 | ... AX26: =+HLOOKUP(AX$4,'Sep 2017 HY'!$3:$42,40,0) -> 0
C27: ZW | D27: Direct weekly Dividend | E27: =+HLOOKUP(E$4,'Sep 2017 HY'!$3:$43,41,0) -> 0 | F27: =+HLOOKUP(F$4,'Sep 2017 HY'!$3:$43,41,0) -> 0 | G27: =+HLOOKUP(G$4,'Sep 2017 HY'!$3:$43,41,0) -> 0 | H27: =+HLOOKUP(H$4,'Sep 2017 HY'!$3:$43,41,0) -> 0 | I27: =+HLOOKUP(I$4,'Sep 2017 HY'!$3:$43,41,0) -> 0 | J27: =+HLOOKUP(J$4,'Sep 2017 HY'!$3:$43,41,0) -> 0 | K27: =+HLOOKUP(K$4,'Sep 2017 HY'!$3:$43,41,0) -> 0 | L27: =+HLOOKUP(L$4,'Sep 2017 HY'!$3:$43,41,0) -> 0 | ... W27: =+HLOOKUP(W$4,'Sep 2017 HY'!$3:$43,41,0) -> 0 | X27: =+'Sep 2017 HY'!X43 -> 0 | Y27: =+'Sep 2017 HY'!Y43 -> 0 | Z27: =+'Sep 2017 HY'!Z43 -> 0 | AA27: =+HLOOKUP(AA$4,'Sep 2017 HY'!$3:$43,41,0) -> 0 | AB27: =+'Sep 2017 HY'!AB43 -> 0 | AC27: =+'Sep 2017 HY'!AC43 -> 0 | AD27: =+'Sep 2017 HY'!AD43 -> 0 | AE27: =+'Sep 2017 HY'!AE43 -> 0 | AF27: =+'Sep 2017 HY'!AF43 -> 0 | AG27: =+'Sep 2017 HY'!AG43 -> 0 | AH27: =+'Sep 2017 HY'!AH43 -> 0 | AI27: =+'Sep 2017 HY'!AI43 -> 0 | AJ27: =+HLOOKUP(AJ$4,'Sep 2017 HY'!$3:$43,41,0) -> 0 | AK27: =+HLOOKUP(AK$4,'Sep 2017 HY'!$3:$43,41,0) -> 0 | AL27: =+HLOOKUP(AL$4,'Sep 2017 HY'!$3:$43,41,0) -> 0 | AM27: =+HLOOKUP(AM$4,'Sep 2017 HY'!$3:$43,41,0) -> 0 | AN27: =+HLOOKUP(AN$4,'Sep 2017 HY'!$3:$43,41,0) -> 0 | AO27: =+HLOOKUP(AO$4,'Sep 2017 HY'!$3:$43,41,0) -> 0 | AP27: =+HLOOKUP(AP$4,'Sep 2017 HY'!$3:$43,41,0) -> 0 | AQ27: =+HLOOKUP(AQ$4,'Sep 2017 HY'!$3:$43,41,0) -> 0 | ... AX27: =+HLOOKUP(AX$4,'Sep 2017 HY'!$3:$43,41,0) -> 0
C30: 4.2 | D30: NAV at the end of the period
C31: RD | D31: Dividend | E31: =+IFERROR(VLOOKUP(E$4&$C31,'AMFI AUM 31 March 2018'!$A:$F,6,0),0) -> 17.1373 | F31: =+IFERROR(VLOOKUP(F$4&$C31,'AMFI AUM 31 March 2018'!$A:$F,6,0),0) -> 14.0805 | G31: =+IFERROR(VLOOKUP(G$4&$C31,'AMFI AUM 31 March 2018'!$A:$F,6,0),0) -> 14.1698 | H31: =+IFERROR(VLOOKUP(H$4&$C31,'AMFI AUM 31 March 2018'!$A:$F,6,0),0) -> 16.3664 | I31: =+IFERROR(VLOOKUP(I$4&$C31,'AMFI AUM 31 March 2018'!$A:$F,6,0),0) -> 17.3037 | J31: =+IFERROR(VLOOKUP(J$4&$C31,'AMFI AUM 31 March 2018'!$A:$F,6,0),0) -> 0 | K31: =+IFERROR(VLOOKUP(K$4&$C31,'AMFI AUM 31 March 2018'!$A:$F,6,0),0) -> 10.0906 | L31: =+IFERROR(VLOOKUP(L$4&$C31,'AMFI AUM 31 March 2018'!$A:$F,6,0),0) -> 10.5595 | ... W31: =+IFERROR(VLOOKUP(W$4&$C31,'AMFI AUM 31 March 2018'!$A:$F,6,0),0) -> 0 | X31: 0 | Y31: 0 | Z31: 0 | AA31: =+IFERROR(VLOOKUP(AA$4&$C31,'AMFI AUM 31 March 2018'!$A:$F,6,0),0) -> 10.5297 | AB31: 0 | AC31: 0 | AD31: 0 | AE31: 0 | AF31: 0 | AG31: 0 | AH31: 0 | AI31: 0 | AJ31: =+IFERROR(VLOOKUP(AJ$4&$C31,'AMFI AUM 31 March 2018'!$A:$F,6,0),0) -> 0 | AK31: =+IFERROR(VLOOKUP(AK$4&$C31,'AMFI AUM 31 March 2018'!$A:$F,6,0),0) -> 0 | AL31: =+IFERROR(VLOOKUP(AL$4&$C31,'AMFI AUM 31 March 2018'!$A:$F,6,0),0) -> 0 | AM31: =+IFERROR(VLOOKUP(AM$4&$C31,'AMFI AUM 31 March 2018'!$A:$F,6,0),0) -> 0 | AN31: =+IFERROR(VLOOKUP(AN$4&$C31,'AMFI AUM 31 March 2018'!$A:$F,6,0),0) -> 0 | AO31: =+IFERROR(VLOOKUP(AO$4&$C31,'AMFI AUM 31 March 2018'!$A:$F,6,0),0) -> 0 | AP31: =+IFERROR(VLOOKUP(AP$4&$C31,'AMFI AUM 31 March 2018'!$A:$F,6,0),0) -> 0 | AQ31: =+IFERROR(VLOOKUP(AQ$4&$C31,'AMFI AUM 31 March 2018'!$A:$F,6,0),0) -> 13.1798 | ... AX31: =+IFERROR(VLOOKUP(AX$4&$C31,'AMFI AUM 31 March 2018'!$A:$F,6,0),0) -> 0 | AZ31: 11224.922 | BA31: 0
C32: RG | D32: Growth | E32: =+IFERROR(VLOOKUP(E$4&$C32,'AMFI AUM 31 March 2018'!$A:$F,6,0),0) -> 0 | F32: =+IFERROR(VLOOKUP(F$4&$C32,'AMFI AUM 31 March 2018'!$A:$F,6,0),0) -> 93.9447 | G32: =+IFERROR(VLOOKUP(G$4&$C32,'AMFI AUM 31 March 2018'!$A:$F,6,0),0) -> 43.296 | H32: =+IFERROR(VLOOKUP(H$4&$C32,'AMFI AUM 31 March 2018'!$A:$F,6,0),0) -> 23.9441 | I32: =+IFERROR(VLOOKUP(I$4&$C32,'AMFI AUM 31 March 2018'!$A:$F,6,0),0) -> 62.2874 | J32: =+IFERROR(VLOOKUP(J$4&$C32,'AMFI AUM 31 March 2018'!$A:$F,6,0),0) -> 51.5606 | K32: =+IFERROR(VLOOKUP(K$4&$C32,'AMFI AUM 31 March 2018'!$A:$F,6,0),0) -> 46.0351 | L32: =+IFERROR(VLOOKUP(L$4&$C32,'AMFI AUM 31 March 2018'!$A:$F,6,0),0) -> 36.6334 | ... W32: =+IFERROR(VLOOKUP(W$4&$C32,'AMFI AUM 31 March 2018'!$A:$F,6,0),0) -> 0 | X32: 0 | Y32: 0 | Z32: 0 | AA32: =+IFERROR(VLOOKUP(AA$4&$C32,'AMFI AUM 31 March 2018'!$A:$F,6,0),0) -> 13.2017 | AB32: 0 | AC32: 0 | AD32: 0 | AE32: 0 | AF32: 0 | AG32: 0 | AH32: 0 | AI32: 0 | AJ32: =+IFERROR(VLOOKUP(AJ$4&$C32,'AMFI AUM 31 March 2018'!$A:$F,6,0),0) -> 0 | AK32: =+IFERROR(VLOOKUP(AK$4&$C32,'AMFI AUM 31 March 2018'!$A:$F,6,0),0) -> 0 | AL32: =+IFERROR(VLOOKUP(AL$4&$C32,'AMFI AUM 31 March 2018'!$A:$F,6,0),0) -> 0 | AM32: =+IFERROR(VLOOKUP(AM$4&$C32,'AMFI AUM 31 March 2018'!$A:$F,6,0),0) -> 0 | AN32: =+IFERROR(VLOOKUP(AN$4&$C32,'AMFI AUM 31 March 2018'!$A:$F,6,0),0) -> 0 | AO32: =+IFERROR(VLOOKUP(AO$4&$C32,'AMFI AUM 31 March 2018'!$A:$F,6,0),0) -> 16.9567 | AP32: =+IFERROR(VLOOKUP(AP$4&$C32,'AMFI AUM 31 March 2018'!$A:$F,6,0),0) -> 0 | AQ32: =+IFERROR(VLOOKUP(AQ$4&$C32,'AMFI AUM 31 March 2018'!$A:$F,6,0),0) -> 14.3496 | ... AX32: =+IFERROR(VLOOKUP(AX$4&$C32,'AMFI AUM 31 March 2018'!$A:$F,6,0),0) -> 106.9574
C33: ZD | D33: Direct Dividend | E33: =+IFERROR(VLOOKUP(E$4&$C33,'AMFI AUM 31 March 2018'!$A:$F,6,0),0) -> 17.7736 | F33: =+IFERROR(VLOOKUP(F$4&$C33,'AMFI AUM 31 March 2018'!$A:$F,6,0),0) -> 14.7565 | G33: =+IFERROR(VLOOKUP(G$4&$C33,'AMFI AUM 31 March 2018'!$A:$F,6,0),0) -> 17.2595 | H33: =+IFERROR(VLOOKUP(H$4&$C33,'AMFI AUM 31 March 2018'!$A:$F,6,0),0) -> 18.5016 | I33: =+IFERROR(VLOOKUP(I$4&$C33,'AMFI AUM 31 March 2018'!$A:$F,6,0),0) -> 18.2139 | J33: =+IFERROR(VLOOKUP(J$4&$C33,'AMFI AUM 31 March 2018'!$A:$F,6,0),0) -> 0 | K33: =+IFERROR(VLOOKUP(K$4&$C33,'AMFI AUM 31 March 2018'!$A:$F,6,0),0) -> 11.422 | L33: =+IFERROR(VLOOKUP(L$4&$C33,'AMFI AUM 31 March 2018'!$A:$F,6,0),0) -> 10.9291 | ... W33: =+IFERROR(VLOOKUP(W$4&$C33,'AMFI AUM 31 March 2018'!$A:$F,6,0),0) -> 0 | X33: 0 | Y33: 0 | Z33: 0 | AA33: =+IFERROR(VLOOKUP(AA$4&$C33,'AMFI AUM 31 March 2018'!$A:$F,6,0),0) -> 0 | AB33: 0 | AC33: 0 | AD33: 0 | AE33: 0 | AF33: 0 | AG33: 0 | AH33: 0 | AI33: 0 | AJ33: =+IFERROR(VLOOKUP(AJ$4&$C33,'AMFI AUM 31 March 2018'!$A:$F,6,0),0) -> 0 | AK33: =+IFERROR(VLOOKUP(AK$4&$C33,'AMFI AUM 31 March 2018'!$A:$F,6,0),0) -> 0 | AL33: =+IFERROR(VLOOKUP(AL$4&$C33,'AMFI AUM 31 March 2018'!$A:$F,6,0),0) -> 0 | AM33: =+IFERROR(VLOOKUP(AM$4&$C33,'AMFI AUM 31 March 2018'!$A:$F,6,0),0) -> 0 | AN33: =+IFERROR(VLOOKUP(AN$4&$C33,'AMFI AUM 31 March 2018'!$A:$F,6,0),0) -> 0 | AO33: =+IFERROR(VLOOKUP(AO$4&$C33,'AMFI AUM 31 March 2018'!$A:$F,6,0),0) -> 0 | AP33: =+IFERROR(VLOOKUP(AP$4&$C33,'AMFI AUM 31 March 2018'!$A:$F,6,0),0) -> 0 | AQ33: =+IFERROR(VLOOKUP(AQ$4&$C33,'AMFI AUM 31 March 2018'!$A:$F,6,0),0) -> 13.7019 | ... AX33: =+IFERROR(VLOOKUP(AX$4&$C33,'AMFI AUM 31 March 2018'!$A:$F,6,0),0) -> 0
C34: ZG | D34: Direct Growth | E34: =+IFERROR(VLOOKUP(E$4&$C34,'AMFI AUM 31 March 2018'!$A:$F,6,0),0) -> 0 | F34: =+IFERROR(VLOOKUP(F$4&$C34,'AMFI AUM 31 March 2018'!$A:$F,6,0),0) -> 98.2333 | G34: =+IFERROR(VLOOKUP(G$4&$C34,'AMFI AUM 31 March 2018'!$A:$F,6,0),0) -> 44.7555 | H34: =+IFERROR(VLOOKUP(H$4&$C34,'AMFI AUM 31 March 2018'!$A:$F,6,0),0) -> 25.0377 | I34: =+IFERROR(VLOOKUP(I$4&$C34,'AMFI AUM 31 March 2018'!$A:$F,6,0),0) -> 65.3216 | J34: =+IFERROR(VLOOKUP(J$4&$C34,'AMFI AUM 31 March 2018'!$A:$F,6,0),0) -> 53.4793 | K34: =+IFERROR(VLOOKUP(K$4&$C34,'AMFI AUM 31 March 2018'!$A:$F,6,0),0) -> 47.2845 | L34: =+IFERROR(VLOOKUP(L$4&$C34,'AMFI AUM 31 March 2018'!$A:$F,6,0),0) -> 38.2158 | ... W34: =+IFERROR(VLOOKUP(W$4&$C34,'AMFI AUM 31 March 2018'!$A:$F,6,0),0) -> 0 | X34: 0 | Y34: 0 | Z34: 0 | AA34: =+IFERROR(VLOOKUP(AA$4&$C34,'AMFI AUM 31 March 2018'!$A:$F,6,0),0) -> 13.481 | AB34: 0 | AC34: 0 | AD34: 0 | AE34: 0 | AF34: 0 | AG34: 0 | AH34: 0 | AI34: 0 | AJ34: =+IFERROR(VLOOKUP(AJ$4&$C34,'AMFI AUM 31 March 2018'!$A:$F,6,0),0) -> 0 | AK34: =+IFERROR(VLOOKUP(AK$4&$C34,'AMFI AUM 31 March 2018'!$A:$F,6,0),0) -> 0 | AL34: =+IFERROR(VLOOKUP(AL$4&$C34,'AMFI AUM 31 March 2018'!$A:$F,6,0),0) -> 0 | AM34: =+IFERROR(VLOOKUP(AM$4&$C34,'AMFI AUM 31 March 2018'!$A:$F,6,0),0) -> 0 | AN34: =+IFERROR(VLOOKUP(AN$4&$C34,'AMFI AUM 31 March 2018'!$A:$F,6,0),0) -> 0 | AO34: =+IFERROR(VLOOKUP(AO$4&$C34,'AMFI AUM 31 March 2018'!$A:$F,6,0),0) -> 0 | AP34: =+IFERROR(VLOOKUP(AP$4&$C34,'AMFI AUM 31 March 2018'!$A:$F,6,0),0) -> 0 | AQ34: =+IFERROR(VLOOKUP(AQ$4&$C34,'AMFI AUM 31 March 2018'!$A:$F,6,0),0) -> 14.8859 | ... AX34: =+IFERROR(VLOOKUP(AX$4&$C34,'AMFI AUM 31 March 2018'!$A:$F,6,0),0) -> 0
C35: RM | D35: Monthly Dividend | E35: =+IFERROR(VLOOKUP(E$4&$C35,'AMFI AUM 31 March 2018'!$A:$F,6,0),0) -> 0 | F35: =+IFERROR(VLOOKUP(F$4&$C35,'AMFI AUM 31 March 2018'!$A:$F,6,0),0) -> 0 | G35: =+IFERROR(VLOOKUP(G$4&$C35,'AMFI AUM 31 March 2018'!$A:$F,6,0),0) -> 0 | H35: =+IFERROR(VLOOKUP(H$4&$C35,'AMFI AUM 31 March 2018'!$A:$F,6,0),0) -> 0 | I35: =+IFERROR(VLOOKUP(I$4&$C35,'AMFI AUM 31 March 2018'!$A:$F,6,0),0) -> 0 | J35: =+IFERROR(VLOOKUP(J$4&$C35,'AMFI AUM 31 March 2018'!$A:$F,6,0),0) -> 10.4258 | K35: =+IFERROR(VLOOKUP(K$4&$C35,'AMFI AUM 31 March 2018'!$A:$F,6,0),0) -> 0 | L35: =+IFERROR(VLOOKUP(L$4&$C35,'AMFI AUM 31 March 2018'!$A:$F,6,0),0) -> 0 | ... W35: =+IFERROR(VLOOKUP(W$4&$C35,'AMFI AUM 31 March 2018'!$A:$F,6,0),0) -> 0 | X35: 0 | Y35: 0 | Z35: 0 | AA35: =+IFERROR(VLOOKUP(AA$4&$C35,'AMFI AUM 31 March 2018'!$A:$F,6,0),0) -> 0 | AB35: 0 | AC35: 0 | AD35: 0 | AE35: 0 | AF35: 0 | AG35: 0 | AH35: 0 | AI35: 0 | AJ35: =+IFERROR(VLOOKUP(AJ$4&$C35,'AMFI AUM 31 March 2018'!$A:$F,6,0),0) -> 0 | AK35: =+IFERROR(VLOOKUP(AK$4&$C35,'AMFI AUM 31 March 2018'!$A:$F,6,0),0) -> 0 | AL35: =+IFERROR(VLOOKUP(AL$4&$C35,'AMFI AUM 31 March 2018'!$A:$F,6,0),0) -> 0 | AM35: =+IFERROR(VLOOKUP(AM$4&$C35,'AMFI AUM 31 March 2018'!$A:$F,6,0),0) -> 0 | AN35: =+IFERROR(VLOOKUP(AN$4&$C35,'AMFI AUM 31 March 2018'!$A:$F,6,0),0) -> 0 | AO35: =+IFERROR(VLOOKUP(AO$4&$C35,'AMFI AUM 31 March 2018'!$A:$F,6,0),0) -> 0 | AP35: =+IFERROR(VLOOKUP(AP$4&$C35,'AMFI AUM 31 March 2018'!$A:$F,6,0),0) -> 0 | AQ35: =+IFERROR(VLOOKUP(AQ$4&$C35,'AMFI AUM 31 March 2018'!$A:$F,6,0),0) -> 0 | ... AX35: =+IFERROR(VLOOKUP(AX$4&$C35,'AMFI AUM 31 March 2018'!$A:$F,6,0),0) -> 0
C36: RQ | D36: Quarterly Dividend | E36: =+IFERROR(VLOOKUP(E$4&$C36,'AMFI AUM 31 March 2018'!$A:$F,6,0),0) -> 0 | F36: =+IFERROR(VLOOKUP(F$4&$C36,'AMFI AUM 31 March 2018'!$A:$F,6,0),0) -> 0 | G36: =+IFERROR(VLOOKUP(G$4&$C36,'AMFI AUM 31 March 2018'!$A:$F,6,0),0) -> 0 | H36: =+IFERROR(VLOOKUP(H$4&$C36,'AMFI AUM 31 March 2018'!$A:$F,6,0),0) -> 0 | I36: =+IFERROR(VLOOKUP(I$4&$C36,'AMFI AUM 31 March 2018'!$A:$F,6,0),0) -> 0 | J36: =+IFERROR(VLOOKUP(J$4&$C36,'AMFI AUM 31 March 2018'!$A:$F,6,0),0) -> 10.5706 | K36: =+IFERROR(VLOOKUP(K$4&$C36,'AMFI AUM 31 March 2018'!$A:$F,6,0),0) -> 0 | L36: =+IFERROR(VLOOKUP(L$4&$C36,'AMFI AUM 31 March 2018'!$A:$F,6,0),0) -> 0 | ... W36: =+IFERROR(VLOOKUP(W$4&$C36,'AMFI AUM 31 March 2018'!$A:$F,6,0),0) -> 0 | X36: 0 | Y36: 0 | Z36: 0 | AA36: =+IFERROR(VLOOKUP(AA$4&$C36,'AMFI AUM 31 March 2018'!$A:$F,6,0),0) -> 0 | AB36: 0 | AC36: 0 | AD36: 0 | AE36: 0 | AF36: 0 | AG36: 0 | AH36: 0 | AI36: 0 | AJ36: =+IFERROR(VLOOKUP(AJ$4&$C36,'AMFI AUM 31 March 2018'!$A:$F,6,0),0) -> 0 | AK36: =+IFERROR(VLOOKUP(AK$4&$C36,'AMFI AUM 31 March 2018'!$A:$F,6,0),0) -> 0 | AL36: =+IFERROR(VLOOKUP(AL$4&$C36,'AMFI AUM 31 March 2018'!$A:$F,6,0),0) -> 0 | AM36: =+IFERROR(VLOOKUP(AM$4&$C36,'AMFI AUM 31 March 2018'!$A:$F,6,0),0) -> 0 | AN36: =+IFERROR(VLOOKUP(AN$4&$C36,'AMFI AUM 31 March 2018'!$A:$F,6,0),0) -> 0 | AO36: =+IFERROR(VLOOKUP(AO$4&$C36,'AMFI AUM 31 March 2018'!$A:$F,6,0),0) -> 0 | AP36: =+IFERROR(VLOOKUP(AP$4&$C36,'AMFI AUM 31 March 2018'!$A:$F,6,0),0) -> 0 | AQ36: =+IFERROR(VLOOKUP(AQ$4&$C36,'AMFI AUM 31 March 2018'!$A:$F,6,0),0) -> 0 | ... AX36: =+IFERROR(VLOOKUP(AX$4&$C36,'AMFI AUM 31 March 2018'!$A:$F,6,0),0) -> 0
C37: RY | D37: Yearly Dividend | E37: =+IFERROR(VLOOKUP(E$4&$C37,'AMFI AUM 31 March 2018'!$A:$F,6,0),0) -> 0 | F37: =+IFERROR(VLOOKUP(F$4&$C37,'AMFI AUM 31 March 2018'!$A:$F,6,0),0) -> 0 | G37: =+IFERROR(VLOOKUP(G$4&$C37,'AMFI AUM 31 March 2018'!$A:$F,6,0),0) -> 0 | H37: =+IFERROR(VLOOKUP(H$4&$C37,'AMFI AUM 31 March 2018'!$A:$F,6,0),0) -> 0 | I37: =+IFERROR(VLOOKUP(I$4&$C37,'AMFI AUM 31 March 2018'!$A:$F,6,0),0) -> 0 | J37: =+IFERROR(VLOOKUP(J$4&$C37,'AMFI AUM 31 March 2018'!$A:$F,6,0),0) -> 11.1947 | K37: =+IFERROR(VLOOKUP(K$4&$C37,'AMFI AUM 31 March 2018'!$A:$F,6,0),0) -> 0 | L37: =+IFERROR(VLOOKUP(L$4&$C37,'AMFI AUM 31 March 2018'!$A:$F,6,0),0) -> 0 | ... W37: =+IFERROR(VLOOKUP(W$4&$C37,'AMFI AUM 31 March 2018'!$A:$F,6,0),0) -> 0 | X37: 0 | Y37: 0 | Z37: 0 | AA37: =+IFERROR(VLOOKUP(AA$4&$C37,'AMFI AUM 31 March 2018'!$A:$F,6,0),0) -> 0 | AB37: 0 | AC37: 0 | AD37: 0 | AE37: 0 | AF37: 0 | AG37: 0 | AH37: 0 | AI37: 0 | AJ37: =+IFERROR(VLOOKUP(AJ$4&$C37,'AMFI AUM 31 March 2018'!$A:$F,6,0),0) -> 0 | AK37: =+IFERROR(VLOOKUP(AK$4&$C37,'AMFI AUM 31 March 2018'!$A:$F,6,0),0) -> 0 | AL37: =+IFERROR(VLOOKUP(AL$4&$C37,'AMFI AUM 31 March 2018'!$A:$F,6,0),0) -> 0 | AM37: =+IFERROR(VLOOKUP(AM$4&$C37,'AMFI AUM 31 March 2018'!$A:$F,6,0),0) -> 0 | AN37: =+IFERROR(VLOOKUP(AN$4&$C37,'AMFI AUM 31 March 2018'!$A:$F,6,0),0) -> 0 | AO37: =+IFERROR(VLOOKUP(AO$4&$C37,'AMFI AUM 31 March 2018'!$A:$F,6,0),0) -> 0 | AP37: =+IFERROR(VLOOKUP(AP$4&$C37,'AMFI AUM 31 March 2018'!$A:$F,6,0),0) -> 0 | AQ37: =+IFERROR(VLOOKUP(AQ$4&$C37,'AMFI AUM 31 March 2018'!$A:$F,6,0),0) -> 0 | ... AX37: =+IFERROR(VLOOKUP(AX$4&$C37,'AMFI AUM 31 March 2018'!$A:$F,6,0),0) -> 0
C38: ZM | D38: Direct Monthly Dividend | E38: =+IFERROR(VLOOKUP(E$4&$C38,'AMFI AUM 31 March 2018'!$A:$F,6,0),0) -> 0 | F38: =+IFERROR(VLOOKUP(F$4&$C38,'AMFI AUM 31 March 2018'!$A:$F,6,0),0) -> 0 | G38: =+IFERROR(VLOOKUP(G$4&$C38,'AMFI AUM 31 March 2018'!$A:$F,6,0),0) -> 0 | H38: =+IFERROR(VLOOKUP(H$4&$C38,'AMFI AUM 31 March 2018'!$A:$F,6,0),0) -> 0 | I38: =+IFERROR(VLOOKUP(I$4&$C38,'AMFI AUM 31 March 2018'!$A:$F,6,0),0) -> 0 | J38: =+IFERROR(VLOOKUP(J$4&$C38,'AMFI AUM 31 March 2018'!$A:$F,6,0),0) -> 10.5393 | K38: =+IFERROR(VLOOKUP(K$4&$C38,'AMFI AUM 31 March 2018'!$A:$F,6,0),0) -> 0 | L38: =+IFERROR(VLOOKUP(L$4&$C38,'AMFI AUM 31 March 2018'!$A:$F,6,0),0) -> 0 | ... W38: =+IFERROR(VLOOKUP(W$4&$C38,'AMFI AUM 31 March 2018'!$A:$F,6,0),0) -> 0 | X38: 0 | Y38: 0 | Z38: 0 | AA38: =+IFERROR(VLOOKUP(AA$4&$C38,'AMFI AUM 31 March 2018'!$A:$F,6,0),0) -> 0 | AB38: 0 | AC38: 0 | AD38: 0 | AE38: 0 | AF38: 0 | AG38: 0 | AH38: 0 | AI38: 0 | AJ38: =+IFERROR(VLOOKUP(AJ$4&$C38,'AMFI AUM 31 March 2018'!$A:$F,6,0),0) -> 0 | AK38: =+IFERROR(VLOOKUP(AK$4&$C38,'AMFI AUM 31 March 2018'!$A:$F,6,0),0) -> 0 | AL38: =+IFERROR(VLOOKUP(AL$4&$C38,'AMFI AUM 31 March 2018'!$A:$F,6,0),0) -> 0 | AM38: =+IFERROR(VLOOKUP(AM$4&$C38,'AMFI AUM 31 March 2018'!$A:$F,6,0),0) -> 0 | AN38: =+IFERROR(VLOOKUP(AN$4&$C38,'AMFI AUM 31 March 2018'!$A:$F,6,0),0) -> 0 | AO38: =+IFERROR(VLOOKUP(AO$4&$C38,'AMFI AUM 31 March 2018'!$A:$F,6,0),0) -> 0 | AP38: =+IFERROR(VLOOKUP(AP$4&$C38,'AMFI AUM 31 March 2018'!$A:$F,6,0),0) -> 0 | AQ38: =+IFERROR(VLOOKUP(AQ$4&$C38,'AMFI AUM 31 March 2018'!$A:$F,6,0),0) -> 0 | ... AX38: =+IFERROR(VLOOKUP(AX$4&$C38,'AMFI AUM 31 March 2018'!$A:$F,6,0),0) -> 0
C39: ZQ | D39: Direct Quarterly Dividend | E39: =+IFERROR(VLOOKUP(E$4&$C39,'AMFI AUM 31 March 2018'!$A:$F,6,0),0) -> 0 | F39: =+IFERROR(VLOOKUP(F$4&$C39,'AMFI AUM 31 March 2018'!$A:$F,6,0),0) -> 0 | G39: =+IFERROR(VLOOKUP(G$4&$C39,'AMFI AUM 31 March 2018'!$A:$F,6,0),0) -> 0 | H39: =+IFERROR(VLOOKUP(H$4&$C39,'AMFI AUM 31 March 2018'!$A:$F,6,0),0) -> 0 | I39: =+IFERROR(VLOOKUP(I$4&$C39,'AMFI AUM 31 March 2018'!$A:$F,6,0),0) -> 0 | J39: =+IFERROR(VLOOKUP(J$4&$C39,'AMFI AUM 31 March 2018'!$A:$F,6,0),0) -> 11.0394 | K39: =+IFERROR(VLOOKUP(K$4&$C39,'AMFI AUM 31 March 2018'!$A:$F,6,0),0) -> 0 | L39: =+IFERROR(VLOOKUP(L$4&$C39,'AMFI AUM 31 March 2018'!$A:$F,6,0),0) -> 0 | ... W39: =+IFERROR(VLOOKUP(W$4&$C39,'AMFI AUM 31 March 2018'!$A:$F,6,0),0) -> 0 | X39: 0 | Y39: 0 | Z39: 0 | AA39: =+IFERROR(VLOOKUP(AA$4&$C39,'AMFI AUM 31 March 2018'!$A:$F,6,0),0) -> 0 | AB39: 0 | AC39: 0 | AD39: 0 | AE39: 0 | AF39: 0 | AG39: 0 | AH39: 0 | AI39: 0 | AJ39: =+IFERROR(VLOOKUP(AJ$4&$C39,'AMFI AUM 31 March 2018'!$A:$F,6,0),0) -> 0 | AK39: =+IFERROR(VLOOKUP(AK$4&$C39,'AMFI AUM 31 March 2018'!$A:$F,6,0),0) -> 0 | AL39: =+IFERROR(VLOOKUP(AL$4&$C39,'AMFI AUM 31 March 2018'!$A:$F,6,0),0) -> 0 | AM39: =+IFERROR(VLOOKUP(AM$4&$C39,'AMFI AUM 31 March 2018'!$A:$F,6,0),0) -> 0 | AN39: =+IFERROR(VLOOKUP(AN$4&$C39,'AMFI AUM 31 March 2018'!$A:$F,6,0),0) -> 0 | AO39: =+IFERROR(VLOOKUP(AO$4&$C39,'AMFI AUM 31 March 2018'!$A:$F,6,0),0) -> 0 | AP39: =+IFERROR(VLOOKUP(AP$4&$C39,'AMFI AUM 31 March 2018'!$A:$F,6,0),0) -> 0 | AQ39: =+IFERROR(VLOOKUP(AQ$4&$C39,'AMFI AUM 31 March 2018'!$A:$F,6,0),0) -> 0 | ... AX39: =+IFERROR(VLOOKUP(AX$4&$C39,'AMFI AUM 31 March 2018'!$A:$F,6,0),0) -> 0
C40: ZY | D40: Direct Yearly Dividend | E40: =+IFERROR(VLOOKUP(E$4&$C40,'AMFI AUM 31 March 2018'!$A:$F,6,0),0) -> 0 | F40: =+IFERROR(VLOOKUP(F$4&$C40,'AMFI AUM 31 March 2018'!$A:$F,6,0),0) -> 0 | G40: =+IFERROR(VLOOKUP(G$4&$C40,'AMFI AUM 31 March 2018'!$A:$F,6,0),0) -> 0 | H40: =+IFERROR(VLOOKUP(H$4&$C40,'AMFI AUM 31 March 2018'!$A:$F,6,0),0) -> 0 | I40: =+IFERROR(VLOOKUP(I$4&$C40,'AMFI AUM 31 March 2018'!$A:$F,6,0),0) -> 0 | J40: =+IFERROR(VLOOKUP(J$4&$C40,'AMFI AUM 31 March 2018'!$A:$F,6,0),0) -> 11.6033 | K40: =+IFERROR(VLOOKUP(K$4&$C40,'AMFI AUM 31 March 2018'!$A:$F,6,0),0) -> 0 | L40: =+IFERROR(VLOOKUP(L$4&$C40,'AMFI AUM 31 March 2018'!$A:$F,6,0),0) -> 0 | ... W40: =+IFERROR(VLOOKUP(W$4&$C40,'AMFI AUM 31 March 2018'!$A:$F,6,0),0) -> 0 | X40: 0 | Y40: 0 | Z40: 0 | AA40: =+IFERROR(VLOOKUP(AA$4&$C40,'AMFI AUM 31 March 2018'!$A:$F,6,0),0) -> 0 | AB40: 0 | AC40: 0 | AD40: 0 | AE40: 0 | AF40: 0 | AG40: 0 | AH40: 0 | AI40: 0 | AJ40: =+IFERROR(VLOOKUP(AJ$4&$C40,'AMFI AUM 31 March 2018'!$A:$F,6,0),0) -> 0 | AK40: =+IFERROR(VLOOKUP(AK$4&$C40,'AMFI AUM 31 March 2018'!$A:$F,6,0),0) -> 0 | AL40: =+IFERROR(VLOOKUP(AL$4&$C40,'AMFI AUM 31 March 2018'!$A:$F,6,0),0) -> 0 | AM40: =+IFERROR(VLOOKUP(AM$4&$C40,'AMFI AUM 31 March 2018'!$A:$F,6,0),0) -> 0 | AN40: =+IFERROR(VLOOKUP(AN$4&$C40,'AMFI AUM 31 March 2018'!$A:$F,6,0),0) -> 0 | AO40: =+IFERROR(VLOOKUP(AO$4&$C40,'AMFI AUM 31 March 2018'!$A:$F,6,0),0) -> 0 | AP40: =+IFERROR(VLOOKUP(AP$4&$C40,'AMFI AUM 31 March 2018'!$A:$F,6,0),0) -> 0 | AQ40: =+IFERROR(VLOOKUP(AQ$4&$C40,'AMFI AUM 31 March 2018'!$A:$F,6,0),0) -> 0 | ... AX40: =+IFERROR(VLOOKUP(AX$4&$C40,'AMFI AUM 31 March 2018'!$A:$F,6,0),0) -> 0
C41: PD | D41: PF Dividend | E41: =+IFERROR(VLOOKUP(E$4&$C41,'AMFI AUM 31 March 2018'!$A:$F,6,0),0) -> 0 | F41: =+IFERROR(VLOOKUP(F$4&$C41,'AMFI AUM 31 March 2018'!$A:$F,6,0),0) -> 0 | G41: =+IFERROR(VLOOKUP(G$4&$C41,'AMFI AUM 31 March 2018'!$A:$F,6,0),0) -> 0 | H41: =+IFERROR(VLOOKUP(H$4&$C41,'AMFI AUM 31 March 2018'!$A:$F,6,0),0) -> 0 | I41: =+IFERROR(VLOOKUP(I$4&$C41,'AMFI AUM 31 March 2018'!$A:$F,6,0),0) -> 0 | J41: =+IFERROR(VLOOKUP(J$4&$C41,'AMFI AUM 31 March 2018'!$A:$F,6,0),0) -> 0 | K41: =+IFERROR(VLOOKUP(K$4&$C41,'AMFI AUM 31 March 2018'!$A:$F,6,0),0) -> 0 | L41: =+IFERROR(VLOOKUP(L$4&$C41,'AMFI AUM 31 March 2018'!$A:$F,6,0),0) -> 13.6913 | ... W41: =+IFERROR(VLOOKUP(W$4&$C41,'AMFI AUM 31 March 2018'!$A:$F,6,0),0) -> 0 | X41: 0 | Y41: 0 | Z41: 0 | AA41: =+IFERROR(VLOOKUP(AA$4&$C41,'AMFI AUM 31 March 2018'!$A:$F,6,0),0) -> 0 | AB41: 0 | AC41: 0 | AD41: 0 | AE41: 0 | AF41: 0 | AG41: 0 | AH41: 0 | AI41: 0 | AJ41: =+IFERROR(VLOOKUP(AJ$4&$C41,'AMFI AUM 31 March 2018'!$A:$F,6,0),0) -> 0 | AK41: =+IFERROR(VLOOKUP(AK$4&$C41,'AMFI AUM 31 March 2018'!$A:$F,6,0),0) -> 0 | AL41: =+IFERROR(VLOOKUP(AL$4&$C41,'AMFI AUM 31 March 2018'!$A:$F,6,0),0) -> 0 | AM41: =+IFERROR(VLOOKUP(AM$4&$C41,'AMFI AUM 31 March 2018'!$A:$F,6,0),0) -> 0 | AN41: =+IFERROR(VLOOKUP(AN$4&$C41,'AMFI AUM 31 March 2018'!$A:$F,6,0),0) -> 0 | AO41: =+IFERROR(VLOOKUP(AO$4&$C41,'AMFI AUM 31 March 2018'!$A:$F,6,0),0) -> 0 | AP41: =+IFERROR(VLOOKUP(AP$4&$C41,'AMFI AUM 31 March 2018'!$A:$F,6,0),0) -> 0 | AQ41: =+IFERROR(VLOOKUP(AQ$4&$C41,'AMFI AUM 31 March 2018'!$A:$F,6,0),0) -> 0 | ... AX41: =+IFERROR(VLOOKUP(AX$4&$C41,'AMFI AUM 31 March 2018'!$A:$F,6,0),0) -> 0
